{"text_format":"1","workbook":"xlsx","n_sheets":9,"sheets":["Thermisch optimum","Grafieken","1-4 uur Profiel","1 uur Profiel","Brandstoffacturen","Elek. facturen","GD","Titels","Gegevens"],"not_rendered":{"charts":6,"images":1,"macros":1,"external_links":0,"defined_names":0,"comments":4,"pivot_tables":0},"unopened":[],"bounds":{"document_bytes":16777216,"sheet_cells":100000,"rows_first":2000,"rows_last":500,"rows_between":2000,"halvings":0,"cell_chars":16384,"cell_head_chars":4096},"cells_cut":0,"cells_raw":0,"read":"whole","date_system":"1900"}

{"sheet":"Thermisch optimum","index":0,"n_rows":698,"n_cols":20,"rows_kept":698,"cut":false,"hidden":false,"merged":[[5,5,5,13],[10,8,10,10],[24,1,24,3],[24,5,24,7],[15,11,15,19]]}
[]
[]
[]
[]
[null,null,null,null,null,null,null,null,null,"COGENoptitherm",null,"versie :","2020-08-13"]
[null,null,null,null,null,"Rekenblad voor de goede dimensionering van een WKK-installatie\nvolgens het Besluit van de Brusselse Hoofdstedelijke Regering van 17 december 2015 betreffende de promotie van groene elektriciteit en het Besluit van de Brusselse Hoofdstedelijke Regering van 26 november 2020 tot vaststelling van de exploitatievoorwaarden voor warmtekrachtkopeling installatie"]
[null,null,null,null,null,null,null,null,null,"  Voor het bepalen van het thermisch vermogensbereik om te komen tot een \"goede dimensionering » waarmee er aanspraak kan gemaakt worden op de vermenigvuldigingsfactor voor GSC (collectieve huisvesting)"]
[null,null,null,null,null,null,null,null,null,"  Voor het bepalen van de \"goede dimmenionering\" van het opgenomen vermogen voor de milieuvergunning (uitgezonderd collectieve huisvesting)"]
[null,null,null,null,null,null,null,null,null,"Een realisatie van de WKK specialist van de dienst Facilitator Duurzame Gebouwen van het Brussels Hoofdstedelijk Gewest"]
[]
[null,null,null,null,null,null,null,null,"… naam van het project …"]
[]
[null,null,null,null,null,"facilitator@leefmilieu.irisnet.be",null,null,null,null,null,null,"www.leefmilieubrussel.be"]
[]
[null,null,null,null,null,null,null,null,null,"In te vullen"]
[null,null,null,null,null,null,null,null,null,"Tussentijds resultaat",null,"RESULTAAT"]
[null,null,null,null,null,null,null,null,null,"Uiteindelijk resultaat"]
[null,"Seizoen rendement van de ketels :",null,null,null,null,0.8,null,null,null,null,"Opgelet: niet vergeten de berekening \"Uitvoeren\" "]
[]
[null,"Vermindering van de warmtevraag door toekomstige REG maatregelen :",null,null,null,null,0.3]
[]
[]
[6,"Keuze van het wekelijks warmtevraag profiel : "]
[null,null,null,null,null,null,null,null,null,"Maandelijkse brandstof "]
[null,"Gemeten profiel (eventueel) ",null,null,null,"Type profiel",null,null,null,"verbruik :"]
[null,null,null,"kW warmte",null,null,null,"kW warmte"]
[null,"Maandag","00:00:00",null,null,"Maandag","00:00:00",{"$f":"Gegevens!F31","v":74.175824175824189},"Jaar : "]
[null,null,"00:15:00",null,null,null,"00:15:00",{"$f":"Gegevens!F32","v":74.175824175824189}]
[null,null,"00:30:00",null,null,null,"00:30:00",{"$f":"Gegevens!F33","v":74.175824175824189},null,"kWu COW"]
[null,null,"00:45:00",null,null,null,"00:45:00",{"$f":"Gegevens!F34","v":74.175824175824189},"Januari :",150000]
[null,null,"01:00:00",null,null,null,"01:00:00",{"$f":"Gegevens!F35","v":80.919080919080912},"Februari :",150000]
[null,null,"01:15:00",null,null,null,"01:15:00",{"$f":"Gegevens!F36","v":80.919080919080912},"Maart :",150000]
[null,null,"01:30:00",null,null,null,"01:30:00",{"$f":"Gegevens!F37","v":80.919080919080912},"April :",100000]
[null,null,"01:45:00",null,null,null,"01:45:00",{"$f":"Gegevens!F38","v":80.919080919080912},"Mei :",100000]
[null,null,"02:00:00",null,null,null,"02:00:00",{"$f":"Gegevens!F39","v":84.290709290709302},"Juni :",80000]
[null,null,"02:15:00",null,null,null,"02:15:00",{"$f":"Gegevens!F40","v":84.290709290709302},"Juli :",80000]
[null,null,"02:30:00",null,null,null,"02:30:00",{"$f":"Gegevens!F41","v":84.290709290709302},"Augustus :",90000]
[null,null,"02:45:00",null,null,null,"02:45:00",{"$f":"Gegevens!F42","v":84.290709290709302},"September :",120000]
[null,null,"03:00:00",null,null,null,"03:00:00",{"$f":"Gegevens!F43","v":94.405594405594414},"Oktober :",150000]
[null,null,"03:15:00",null,null,null,"03:15:00",{"$f":"Gegevens!F44","v":94.405594405594414},"November :",150000]
[null,null,"03:30:00",null,null,null,"03:30:00",{"$f":"Gegevens!F45","v":94.405594405594414},"December :",150000,null,"Maximale warmteproductie door WKK (op vollast en zonder buffer) :",null,null,null,null,null,null,{"$f":"'1 uur Profiel'!G4","v":482.77749371358038},"kWh th."]
[null,null,"03:45:00",null,null,null,"03:45:00",{"$f":"Gegevens!F46","v":94.405594405594414},null,{"$f":"SUM(J30:J41)","v":1470000}]
[null,null,"04:00:00",null,null,null,"04:00:00",{"$f":"Gegevens!F47","v":138.23676323676324},null,null,null,"Thermisch vermogen voor de maximale productie :",null,null,null,null,null,null,{"$f":"'1 uur Profiel'!G8","v":241.38874685679019},"kW th."]
[null,null,"04:15:00",null,null,null,"04:15:00",{"$f":"Gegevens!F48","v":138.23676323676324}]
[null,null,"04:30:00",null,null,null,"04:30:00",{"$f":"Gegevens!F49","v":138.23676323676324},null,null,null,"Minimale warmteproductie voor een \"goede dimensionering\" :",null,null,null,null,null,null,{"$f":"90%*S41","v":434.49974434222236},"kWh th."]
[null,null,"04:45:00",null,null,null,"04:45:00",{"$f":"Gegevens!F50","v":138.23676323676324}]
[null,null,"05:00:00",null,null,null,"05:00:00",{"$f":"Gegevens!F51","v":165.20979020979024},null,null,null,"Thermisch vermogensbereik \"goede dimensionering\" voor GSC :",null,null,null,null,null,"Pmin = ",{"$f":"'1 uur Profiel'!G14","v":241.38874685679019},"kW th."]
[null,null,"05:15:00",null,null,null,"05:15:00",{"$f":"Gegevens!F52","v":165.20979020979024}]
[null,null,"05:30:00",null,null,null,"05:30:00",{"$f":"Gegevens!F53","v":165.20979020979024},null,null,null,null,null,null,null,null,null,"Pmax =",{"$f":"'1 uur Profiel'!G11","v":241.38874685679019},"kW th."]
[null,null,"05:45:00",null,null,null,"05:45:00",{"$f":"Gegevens!F54","v":165.20979020979024}]
[null,null,"06:00:00",null,null,null,"06:00:00",{"$f":"Gegevens!F55","v":168.5814185814186},null,null,null,"Bereik opgenomen vermogen voor een \"goede dimensionering\"  voor milieuvergunning :",null,null,null,null,null,"Pmin = ",{"$f":"S47/O53","v":431.05133367283958},"kW"]
[null,null,"06:15:00",null,null,null,"06:15:00",{"$f":"Gegevens!F56","v":168.5814185814186}]
[null,null,"06:30:00",null,null,null,"06:30:00",{"$f":"Gegevens!F57","v":168.5814185814186},null,null,null,null,null,"Rendement (standaard) :",0.56000000000000005,null,null,"Pmax =",{"$f":"S49/O53","v":431.05133367283958},"kW"]
[null,null,"06:45:00",null,null,null,"06:45:00",{"$f":"Gegevens!F58","v":168.5814185814186},null,null,null,null,null,"(eventueel aan te passen)"]
[null,null,"07:00:00",null,null,null,"07:00:00",{"$f":"Gegevens!F59","v":168.5814185814186}]
[null,null,"07:15:00",null,null,null,"07:15:00",{"$f":"Gegevens!F60","v":168.5814185814186}]
[null,null,"07:30:00",null,null,null,"07:30:00",{"$f":"Gegevens!F61","v":168.5814185814186}]
[null,null,"07:45:00",null,null,null,"07:45:00",{"$f":"Gegevens!F62","v":168.5814185814186}]
[null,null,"08:00:00",null,null,null,"08:00:00",{"$f":"Gegevens!F63","v":171.95304695304696}]
[null,null,"08:15:00",null,null,null,"08:15:00",{"$f":"Gegevens!F64","v":171.95304695304696}]
[null,null,"08:30:00",null,null,null,"08:30:00",{"$f":"Gegevens!F65","v":171.95304695304696}]
[null,null,"08:45:00",null,null,null,"08:45:00",{"$f":"Gegevens!F66","v":171.95304695304696}]
[null,null,"09:00:00",null,null,null,"09:00:00",{"$f":"Gegevens!F67","v":168.5814185814186}]
[null,null,"09:15:00",null,null,null,"09:15:00",{"$f":"Gegevens!F68","v":168.5814185814186}]
[null,null,"09:30:00",null,null,null,"09:30:00",{"$f":"Gegevens!F69","v":168.5814185814186}]
[null,null,"09:45:00",null,null,null,"09:45:00",{"$f":"Gegevens!F70","v":168.5814185814186}]
[null,null,"10:00:00",null,null,null,"10:00:00",{"$f":"Gegevens!F71","v":161.83816183816182}]
[null,null,"10:15:00",null,null,null,"10:15:00",{"$f":"Gegevens!F72","v":161.83816183816182}]
[null,null,"10:30:00",null,null,null,"10:30:00",{"$f":"Gegevens!F73","v":161.83816183816182}]
[null,null,"10:45:00",null,null,null,"10:45:00",{"$f":"Gegevens!F74","v":161.83816183816182}]
[null,null,"11:00:00",null,null,null,"11:00:00",{"$f":"Gegevens!F75","v":151.72327672327677}]
[null,null,"11:15:00",null,null,null,"11:15:00",{"$f":"Gegevens!F76","v":151.72327672327677}]
[null,null,"11:30:00",null,null,null,"11:30:00",{"$f":"Gegevens!F77","v":151.72327672327677}]
[null,null,"11:45:00",null,null,null,"11:45:00",{"$f":"Gegevens!F78","v":151.72327672327677}]
[null,null,"12:00:00",null,null,null,"12:00:00",{"$f":"Gegevens!F79","v":148.35164835164838}]
[null,null,"12:15:00",null,null,null,"12:15:00",{"$f":"Gegevens!F80","v":148.35164835164838}]
[null,null,"12:30:00",null,null,null,"12:30:00",{"$f":"Gegevens!F81","v":148.35164835164838}]
[null,null,"12:45:00",null,null,null,"12:45:00",{"$f":"Gegevens!F82","v":148.35164835164838}]
[null,null,"13:00:00",null,null,null,"13:00:00",{"$f":"Gegevens!F83","v":144.98001998002002}]
[null,null,"13:15:00",null,null,null,"13:15:00",{"$f":"Gegevens!F84","v":144.98001998002002}]
[null,null,"13:30:00",null,null,null,"13:30:00",{"$f":"Gegevens!F85","v":144.98001998002002}]
[null,null,"13:45:00",null,null,null,"13:45:00",{"$f":"Gegevens!F86","v":144.98001998002002}]
[null,null,"14:00:00",null,null,null,"14:00:00",{"$f":"Gegevens!F87","v":141.60839160839163}]
[null,null,"14:15:00",null,null,null,"14:15:00",{"$f":"Gegevens!F88","v":141.60839160839163}]
[null,null,"14:30:00",null,null,null,"14:30:00",{"$f":"Gegevens!F89","v":141.60839160839163}]
[null,null,"14:45:00",null,null,null,"14:45:00",{"$f":"Gegevens!F90","v":141.60839160839163}]
[null,null,"15:00:00",null,null,null,"15:00:00",{"$f":"Gegevens!F91","v":141.60839160839163}]
[null,null,"15:15:00",null,null,null,"15:15:00",{"$f":"Gegevens!F92","v":141.60839160839163}]
[null,null,"15:30:00",null,null,null,"15:30:00",{"$f":"Gegevens!F93","v":141.60839160839163}]
[null,null,"15:45:00",null,null,null,"15:45:00",{"$f":"Gegevens!F94","v":141.60839160839163}]
[null,null,"16:00:00",null,null,null,"16:00:00",{"$f":"Gegevens!F95","v":144.98001998002002}]
[null,null,"16:15:00",null,null,null,"16:15:00",{"$f":"Gegevens!F96","v":144.98001998002002}]
[null,null,"16:30:00",null,null,null,"16:30:00",{"$f":"Gegevens!F97","v":144.98001998002002}]
[null,null,"16:45:00",null,null,null,"16:45:00",{"$f":"Gegevens!F98","v":144.98001998002002}]
[null,null,"17:00:00",null,null,null,"17:00:00",{"$f":"Gegevens!F99","v":155.09490509490513}]
[null,null,"17:15:00",null,null,null,"17:15:00",{"$f":"Gegevens!F100","v":155.09490509490513}]
[null,null,"17:30:00",null,null,null,"17:30:00",{"$f":"Gegevens!F101","v":155.09490509490513}]
[null,null,"17:45:00",null,null,null,"17:45:00",{"$f":"Gegevens!F102","v":155.09490509490513}]
[null,null,"18:00:00",null,null,null,"18:00:00",{"$f":"Gegevens!F103","v":161.83816183816182}]
[null,null,"18:15:00",null,null,null,"18:15:00",{"$f":"Gegevens!F104","v":161.83816183816182}]
[null,null,"18:30:00",null,null,null,"18:30:00",{"$f":"Gegevens!F105","v":161.83816183816182}]
[null,null,"18:45:00",null,null,null,"18:45:00",{"$f":"Gegevens!F106","v":161.83816183816182}]
[null,null,"19:00:00",null,null,null,"19:00:00",{"$f":"Gegevens!F107","v":161.83816183816182}]
[null,null,"19:15:00",null,null,null,"19:15:00",{"$f":"Gegevens!F108","v":161.83816183816182}]
[null,null,"19:30:00",null,null,null,"19:30:00",{"$f":"Gegevens!F109","v":161.83816183816182}]
[null,null,"19:45:00",null,null,null,"19:45:00",{"$f":"Gegevens!F110","v":161.83816183816182}]
[null,null,"20:00:00",null,null,null,"20:00:00",{"$f":"Gegevens!F111","v":165.20979020979024}]
[null,null,"20:15:00",null,null,null,"20:15:00",{"$f":"Gegevens!F112","v":165.20979020979024}]
[null,null,"20:30:00",null,null,null,"20:30:00",{"$f":"Gegevens!F113","v":165.20979020979024}]
[null,null,"20:45:00",null,null,null,"20:45:00",{"$f":"Gegevens!F114","v":165.20979020979024}]
[null,null,"21:00:00",null,null,null,"21:00:00",{"$f":"Gegevens!F115","v":161.83816183816182}]
[null,null,"21:15:00",null,null,null,"21:15:00",{"$f":"Gegevens!F116","v":161.83816183816182}]
[null,null,"21:30:00",null,null,null,"21:30:00",{"$f":"Gegevens!F117","v":161.83816183816182}]
[null,null,"21:45:00",null,null,null,"21:45:00",{"$f":"Gegevens!F118","v":161.83816183816182}]
[null,null,"22:00:00",null,null,null,"22:00:00",{"$f":"Gegevens!F119","v":144.98001998002002}]
[null,null,"22:15:00",null,null,null,"22:15:00",{"$f":"Gegevens!F120","v":144.98001998002002}]
[null,null,"22:30:00",null,null,null,"22:30:00",{"$f":"Gegevens!F121","v":144.98001998002002}]
[null,null,"22:45:00",null,null,null,"22:45:00",{"$f":"Gegevens!F122","v":144.98001998002002}]
[null,null,"23:00:00",null,null,null,"23:00:00",{"$f":"Gegevens!F123","v":74.175824175824189}]
[null,null,"23:15:00",null,null,null,"23:15:00",{"$f":"Gegevens!F124","v":74.175824175824189}]
[null,null,"23:30:00",null,null,null,"23:30:00",{"$f":"Gegevens!F125","v":74.175824175824189}]
[null,null,"23:45:00",null,null,null,"23:45:00",{"$f":"Gegevens!F126","v":74.175824175824189}]
[null,"Dinsdag",1,null,null,"Dinsdag",1,{"$f":"Gegevens!F127","v":74.175824175824189}]
[null,null,1.0104166666666701,null,null,null,1.0104166666666701,{"$f":"Gegevens!F128","v":74.175824175824189}]
[null,null,1.0208333333333299,null,null,null,1.0208333333333299,{"$f":"Gegevens!F129","v":74.175824175824189}]
[null,null,1.03125,null,null,null,1.03125,{"$f":"Gegevens!F130","v":74.175824175824189}]
[null,null,1.0416666666666701,null,null,null,1.0416666666666701,{"$f":"Gegevens!F131","v":80.919080919080912}]
[null,null,1.0520833333333299,null,null,null,1.0520833333333299,{"$f":"Gegevens!F132","v":80.919080919080912}]
[null,null,1.0625,null,null,null,1.0625,{"$f":"Gegevens!F133","v":80.919080919080912}]
[null,null,1.0729166666666701,null,null,null,1.0729166666666701,{"$f":"Gegevens!F134","v":80.919080919080912}]
[null,null,1.0833333333333299,null,null,null,1.0833333333333299,{"$f":"Gegevens!F135","v":84.290709290709302}]
[null,null,1.09375,null,null,null,1.09375,{"$f":"Gegevens!F136","v":84.290709290709302}]
[null,null,1.1041666666666701,null,null,null,1.1041666666666701,{"$f":"Gegevens!F137","v":84.290709290709302}]
[null,null,1.1145833333333299,null,null,null,1.1145833333333299,{"$f":"Gegevens!F138","v":84.290709290709302}]
[null,null,1.125,null,null,null,1.125,{"$f":"Gegevens!F139","v":94.405594405594414}]
[null,null,1.1354166666666701,null,null,null,1.1354166666666701,{"$f":"Gegevens!F140","v":94.405594405594414}]
[null,null,1.1458333333333299,null,null,null,1.1458333333333299,{"$f":"Gegevens!F141","v":94.405594405594414}]
[null,null,1.15625,null,null,null,1.15625,{"$f":"Gegevens!F142","v":94.405594405594414}]
[null,null,1.1666666666666701,null,null,null,1.1666666666666701,{"$f":"Gegevens!F143","v":138.23676323676324}]
[null,null,1.1770833333333299,null,null,null,1.1770833333333299,{"$f":"Gegevens!F144","v":138.23676323676324}]
[null,null,1.1875,null,null,null,1.1875,{"$f":"Gegevens!F145","v":138.23676323676324}]
[null,null,1.1979166666666701,null,null,null,1.1979166666666701,{"$f":"Gegevens!F146","v":138.23676323676324}]
[null,null,1.2083333333333299,null,null,null,1.2083333333333299,{"$f":"Gegevens!F147","v":165.20979020979024}]
[null,null,1.21875,null,null,null,1.21875,{"$f":"Gegevens!F148","v":165.20979020979024}]
[null,null,1.2291666666666701,null,null,null,1.2291666666666701,{"$f":"Gegevens!F149","v":165.20979020979024}]
[null,null,1.2395833333333299,null,null,null,1.2395833333333299,{"$f":"Gegevens!F150","v":165.20979020979024}]
[null,null,1.25,null,null,null,1.25,{"$f":"Gegevens!F151","v":168.5814185814186}]
[null,null,1.2604166666666701,null,null,null,1.2604166666666701,{"$f":"Gegevens!F152","v":168.5814185814186}]
[null,null,1.2708333333333299,null,null,null,1.2708333333333299,{"$f":"Gegevens!F153","v":168.5814185814186}]
[null,null,1.28125,null,null,null,1.28125,{"$f":"Gegevens!F154","v":168.5814185814186}]
[null,null,1.2916666666666701,null,null,null,1.2916666666666701,{"$f":"Gegevens!F155","v":168.5814185814186}]
[null,null,1.3020833333333299,null,null,null,1.3020833333333299,{"$f":"Gegevens!F156","v":168.5814185814186}]
[null,null,1.3125,null,null,null,1.3125,{"$f":"Gegevens!F157","v":168.5814185814186}]
[null,null,1.3229166666666701,null,null,null,1.3229166666666701,{"$f":"Gegevens!F158","v":168.5814185814186}]
[null,null,1.3333333333333299,null,null,null,1.3333333333333299,{"$f":"Gegevens!F159","v":171.95304695304696}]
[null,null,1.34375,null,null,null,1.34375,{"$f":"Gegevens!F160","v":171.95304695304696}]
[null,null,1.3541666666666701,null,null,null,1.3541666666666701,{"$f":"Gegevens!F161","v":171.95304695304696}]
[null,null,1.3645833333333299,null,null,null,1.3645833333333299,{"$f":"Gegevens!F162","v":171.95304695304696}]
[null,null,1.375,null,null,null,1.375,{"$f":"Gegevens!F163","v":168.5814185814186}]
[null,null,1.3854166666666701,null,null,null,1.3854166666666701,{"$f":"Gegevens!F164","v":168.5814185814186}]
[null,null,1.3958333333333299,null,null,null,1.3958333333333299,{"$f":"Gegevens!F165","v":168.5814185814186}]
[null,null,1.40625,null,null,null,1.40625,{"$f":"Gegevens!F166","v":168.5814185814186}]
[null,null,1.4166666666666701,null,null,null,1.4166666666666701,{"$f":"Gegevens!F167","v":161.83816183816182}]
[null,null,1.4270833333333299,null,null,null,1.4270833333333299,{"$f":"Gegevens!F168","v":161.83816183816182}]
[null,null,1.4375,null,null,null,1.4375,{"$f":"Gegevens!F169","v":161.83816183816182}]
[null,null,1.4479166666666701,null,null,null,1.4479166666666701,{"$f":"Gegevens!F170","v":161.83816183816182}]
[null,null,1.4583333333333299,null,null,null,1.4583333333333299,{"$f":"Gegevens!F171","v":151.72327672327677}]
[null,null,1.46875,null,null,null,1.46875,{"$f":"Gegevens!F172","v":151.72327672327677}]
[null,null,1.4791666666666701,null,null,null,1.4791666666666701,{"$f":"Gegevens!F173","v":151.72327672327677}]
[null,null,1.4895833333333299,null,null,null,1.4895833333333299,{"$f":"Gegevens!F174","v":151.72327672327677}]
[null,null,1.5,null,null,null,1.5,{"$f":"Gegevens!F175","v":148.35164835164838}]
[null,null,1.5104166666666701,null,null,null,1.5104166666666701,{"$f":"Gegevens!F176","v":148.35164835164838}]
[null,null,1.5208333333333299,null,null,null,1.5208333333333299,{"$f":"Gegevens!F177","v":148.35164835164838}]
[null,null,1.53125,null,null,null,1.53125,{"$f":"Gegevens!F178","v":148.35164835164838}]
[null,null,1.5416666666666701,null,null,null,1.5416666666666701,{"$f":"Gegevens!F179","v":144.98001998002002}]
[null,null,1.5520833333333299,null,null,null,1.5520833333333299,{"$f":"Gegevens!F180","v":144.98001998002002}]
[null,null,1.5625,null,null,null,1.5625,{"$f":"Gegevens!F181","v":144.98001998002002}]
[null,null,1.5729166666666701,null,null,null,1.5729166666666701,{"$f":"Gegevens!F182","v":144.98001998002002}]
[null,null,1.5833333333333299,null,null,null,1.5833333333333299,{"$f":"Gegevens!F183","v":141.60839160839163}]
[null,null,1.59375,null,null,null,1.59375,{"$f":"Gegevens!F184","v":141.60839160839163}]
[null,null,1.6041666666666701,null,null,null,1.6041666666666701,{"$f":"Gegevens!F185","v":141.60839160839163}]
[null,null,1.6145833333333299,null,null,null,1.6145833333333299,{"$f":"Gegevens!F186","v":141.60839160839163}]
[null,null,1.625,null,null,null,1.625,{"$f":"Gegevens!F187","v":141.60839160839163}]
[null,null,1.6354166666666701,null,null,null,1.6354166666666701,{"$f":"Gegevens!F188","v":141.60839160839163}]
[null,null,1.6458333333333299,null,null,null,1.6458333333333299,{"$f":"Gegevens!F189","v":141.60839160839163}]
[null,null,1.65625,null,null,null,1.65625,{"$f":"Gegevens!F190","v":141.60839160839163}]
[null,null,1.6666666666666701,null,null,null,1.6666666666666701,{"$f":"Gegevens!F191","v":144.98001998002002}]
[null,null,1.6770833333333299,null,null,null,1.6770833333333299,{"$f":"Gegevens!F192","v":144.98001998002002}]
[null,null,1.6875,null,null,null,1.6875,{"$f":"Gegevens!F193","v":144.98001998002002}]
[null,null,1.6979166666666701,null,null,null,1.6979166666666701,{"$f":"Gegevens!F194","v":144.98001998002002}]
[null,null,1.7083333333333299,null,null,null,1.7083333333333299,{"$f":"Gegevens!F195","v":155.09490509490513}]
[null,null,1.71875,null,null,null,1.71875,{"$f":"Gegevens!F196","v":155.09490509490513}]
[null,null,1.7291666666666701,null,null,null,1.7291666666666701,{"$f":"Gegevens!F197","v":155.09490509490513}]
[null,null,1.7395833333333299,null,null,null,1.7395833333333299,{"$f":"Gegevens!F198","v":155.09490509490513}]
[null,null,1.75,null,null,null,1.75,{"$f":"Gegevens!F199","v":161.83816183816182}]
[null,null,1.7604166666666701,null,null,null,1.7604166666666701,{"$f":"Gegevens!F200","v":161.83816183816182}]
[null,null,1.7708333333333299,null,null,null,1.7708333333333299,{"$f":"Gegevens!F201","v":161.83816183816182}]
[null,null,1.78125,null,null,null,1.78125,{"$f":"Gegevens!F202","v":161.83816183816182}]
[null,null,1.7916666666666701,null,null,null,1.7916666666666701,{"$f":"Gegevens!F203","v":161.83816183816182}]
[null,null,1.8020833333333299,null,null,null,1.8020833333333299,{"$f":"Gegevens!F204","v":161.83816183816182}]
[null,null,1.8125,null,null,null,1.8125,{"$f":"Gegevens!F205","v":161.83816183816182}]
[null,null,1.8229166666666701,null,null,null,1.8229166666666701,{"$f":"Gegevens!F206","v":161.83816183816182}]
[null,null,1.8333333333333299,null,null,null,1.8333333333333299,{"$f":"Gegevens!F207","v":165.20979020979024}]
[null,null,1.84375,null,null,null,1.84375,{"$f":"Gegevens!F208","v":165.20979020979024}]
[null,null,1.8541666666666701,null,null,null,1.8541666666666701,{"$f":"Gegevens!F209","v":165.20979020979024}]
[null,null,1.8645833333333299,null,null,null,1.8645833333333299,{"$f":"Gegevens!F210","v":165.20979020979024}]
[null,null,1.875,null,null,null,1.875,{"$f":"Gegevens!F211","v":161.83816183816182}]
[null,null,1.8854166666666701,null,null,null,1.8854166666666701,{"$f":"Gegevens!F212","v":161.83816183816182}]
[null,null,1.8958333333333299,null,null,null,1.8958333333333299,{"$f":"Gegevens!F213","v":161.83816183816182}]
[null,null,1.90625,null,null,null,1.90625,{"$f":"Gegevens!F214","v":161.83816183816182}]
[null,null,1.9166666666666701,null,null,null,1.9166666666666701,{"$f":"Gegevens!F215","v":144.98001998002002}]
[null,null,1.9270833333333299,null,null,null,1.9270833333333299,{"$f":"Gegevens!F216","v":144.98001998002002}]
[null,null,1.9375,null,null,null,1.9375,{"$f":"Gegevens!F217","v":144.98001998002002}]
[null,null,1.9479166666666701,null,null,null,1.9479166666666701,{"$f":"Gegevens!F218","v":144.98001998002002}]
[null,null,1.9583333333333299,null,null,null,1.9583333333333299,{"$f":"Gegevens!F219","v":74.175824175824189}]
[null,null,1.96875,null,null,null,1.96875,{"$f":"Gegevens!F220","v":74.175824175824189}]
[null,null,1.9791666666666701,null,null,null,1.9791666666666701,{"$f":"Gegevens!F221","v":74.175824175824189}]
[null,null,1.9895833333333299,null,null,null,1.9895833333333299,{"$f":"Gegevens!F222","v":74.175824175824189}]
[null,"Woensdag",2,null,null,"Woensdag",2,{"$f":"Gegevens!F223","v":74.175824175824189}]
[null,null,2.0104166666666701,null,null,null,2.0104166666666701,{"$f":"Gegevens!F224","v":74.175824175824189}]
[null,null,2.0208333333333299,null,null,null,2.0208333333333299,{"$f":"Gegevens!F225","v":74.175824175824189}]
[null,null,2.03125,null,null,null,2.03125,{"$f":"Gegevens!F226","v":74.175824175824189}]
[null,null,2.0416666666666701,null,null,null,2.0416666666666701,{"$f":"Gegevens!F227","v":80.919080919080912}]
[null,null,2.0520833333333299,null,null,null,2.0520833333333299,{"$f":"Gegevens!F228","v":80.919080919080912}]
[null,null,2.0625,null,null,null,2.0625,{"$f":"Gegevens!F229","v":80.919080919080912}]
[null,null,2.0729166666666701,null,null,null,2.0729166666666701,{"$f":"Gegevens!F230","v":80.919080919080912}]
[null,null,2.0833333333333299,null,null,null,2.0833333333333299,{"$f":"Gegevens!F231","v":84.290709290709302}]
[null,null,2.09375,null,null,null,2.09375,{"$f":"Gegevens!F232","v":84.290709290709302}]
[null,null,2.1041666666666701,null,null,null,2.1041666666666701,{"$f":"Gegevens!F233","v":84.290709290709302}]
[null,null,2.1145833333333299,null,null,null,2.1145833333333299,{"$f":"Gegevens!F234","v":84.290709290709302}]
[null,null,2.125,null,null,null,2.125,{"$f":"Gegevens!F235","v":94.405594405594414}]
[null,null,2.1354166666666701,null,null,null,2.1354166666666701,{"$f":"Gegevens!F236","v":94.405594405594414}]
[null,null,2.1458333333333299,null,null,null,2.1458333333333299,{"$f":"Gegevens!F237","v":94.405594405594414}]
[null,null,2.15625,null,null,null,2.15625,{"$f":"Gegevens!F238","v":94.405594405594414}]
[null,null,2.1666666666666701,null,null,null,2.1666666666666701,{"$f":"Gegevens!F239","v":138.23676323676324}]
[null,null,2.1770833333333299,null,null,null,2.1770833333333299,{"$f":"Gegevens!F240","v":138.23676323676324}]
[null,null,2.1875,null,null,null,2.1875,{"$f":"Gegevens!F241","v":138.23676323676324}]
[null,null,2.1979166666666701,null,null,null,2.1979166666666701,{"$f":"Gegevens!F242","v":138.23676323676324}]
[null,null,2.2083333333333299,null,null,null,2.2083333333333299,{"$f":"Gegevens!F243","v":165.20979020979024}]
[null,null,2.21875,null,null,null,2.21875,{"$f":"Gegevens!F244","v":165.20979020979024}]
[null,null,2.2291666666666701,null,null,null,2.2291666666666701,{"$f":"Gegevens!F245","v":165.20979020979024}]
[null,null,2.2395833333333299,null,null,null,2.2395833333333299,{"$f":"Gegevens!F246","v":165.20979020979024}]
[null,null,2.25,null,null,null,2.25,{"$f":"Gegevens!F247","v":168.5814185814186}]
[null,null,2.2604166666666701,null,null,null,2.2604166666666701,{"$f":"Gegevens!F248","v":168.5814185814186}]
[null,null,2.2708333333333299,null,null,null,2.2708333333333299,{"$f":"Gegevens!F249","v":168.5814185814186}]
[null,null,2.28125,null,null,null,2.28125,{"$f":"Gegevens!F250","v":168.5814185814186}]
[null,null,2.2916666666666701,null,null,null,2.2916666666666701,{"$f":"Gegevens!F251","v":168.5814185814186}]
[null,null,2.3020833333333299,null,null,null,2.3020833333333299,{"$f":"Gegevens!F252","v":168.5814185814186}]
[null,null,2.3125,null,null,null,2.3125,{"$f":"Gegevens!F253","v":168.5814185814186}]
[null,null,2.3229166666666701,null,null,null,2.3229166666666701,{"$f":"Gegevens!F254","v":168.5814185814186}]
[null,null,2.3333333333333299,null,null,null,2.3333333333333299,{"$f":"Gegevens!F255","v":171.95304695304696}]
[null,null,2.34375,null,null,null,2.34375,{"$f":"Gegevens!F256","v":171.95304695304696}]
[null,null,2.3541666666666701,null,null,null,2.3541666666666701,{"$f":"Gegevens!F257","v":171.95304695304696}]
[null,null,2.3645833333333299,null,null,null,2.3645833333333299,{"$f":"Gegevens!F258","v":171.95304695304696}]
[null,null,2.375,null,null,null,2.375,{"$f":"Gegevens!F259","v":168.5814185814186}]
[null,null,2.3854166666666701,null,null,null,2.3854166666666701,{"$f":"Gegevens!F260","v":168.5814185814186}]
[null,null,2.3958333333333299,null,null,null,2.3958333333333299,{"$f":"Gegevens!F261","v":168.5814185814186}]
[null,null,2.40625,null,null,null,2.40625,{"$f":"Gegevens!F262","v":168.5814185814186}]
[null,null,2.4166666666666701,null,null,null,2.4166666666666701,{"$f":"Gegevens!F263","v":161.83816183816182}]
[null,null,2.4270833333333299,null,null,null,2.4270833333333299,{"$f":"Gegevens!F264","v":161.83816183816182}]
[null,null,2.4375,null,null,null,2.4375,{"$f":"Gegevens!F265","v":161.83816183816182}]
[null,null,2.4479166666666701,null,null,null,2.4479166666666701,{"$f":"Gegevens!F266","v":161.83816183816182}]
[null,null,2.4583333333333299,null,null,null,2.4583333333333299,{"$f":"Gegevens!F267","v":151.72327672327677}]
[null,null,2.46875,null,null,null,2.46875,{"$f":"Gegevens!F268","v":151.72327672327677}]
[null,null,2.4791666666666701,null,null,null,2.4791666666666701,{"$f":"Gegevens!F269","v":151.72327672327677}]
[null,null,2.4895833333333299,null,null,null,2.4895833333333299,{"$f":"Gegevens!F270","v":151.72327672327677}]
[null,null,2.5,null,null,null,2.5,{"$f":"Gegevens!F271","v":148.35164835164838}]
[null,null,2.5104166666666701,null,null,null,2.5104166666666701,{"$f":"Gegevens!F272","v":148.35164835164838}]
[null,null,2.5208333333333299,null,null,null,2.5208333333333299,{"$f":"Gegevens!F273","v":148.35164835164838}]
[null,null,2.53125,null,null,null,2.53125,{"$f":"Gegevens!F274","v":148.35164835164838}]
[null,null,2.5416666666666701,null,null,null,2.5416666666666701,{"$f":"Gegevens!F275","v":144.98001998002002}]
[null,null,2.5520833333333299,null,null,null,2.5520833333333299,{"$f":"Gegevens!F276","v":144.98001998002002}]
[null,null,2.5625,null,null,null,2.5625,{"$f":"Gegevens!F277","v":144.98001998002002}]
[null,null,2.5729166666666701,null,null,null,2.5729166666666701,{"$f":"Gegevens!F278","v":144.98001998002002}]
[null,null,2.5833333333333299,null,null,null,2.5833333333333299,{"$f":"Gegevens!F279","v":141.60839160839163}]
[null,null,2.59375,null,null,null,2.59375,{"$f":"Gegevens!F280","v":141.60839160839163}]
[null,null,2.6041666666666701,null,null,null,2.6041666666666701,{"$f":"Gegevens!F281","v":141.60839160839163}]
[null,null,2.6145833333333299,null,null,null,2.6145833333333299,{"$f":"Gegevens!F282","v":141.60839160839163}]
[null,null,2.625,null,null,null,2.625,{"$f":"Gegevens!F283","v":141.60839160839163}]
[null,null,2.6354166666666701,null,null,null,2.6354166666666701,{"$f":"Gegevens!F284","v":141.60839160839163}]
[null,null,2.6458333333333299,null,null,null,2.6458333333333299,{"$f":"Gegevens!F285","v":141.60839160839163}]
[null,null,2.65625,null,null,null,2.65625,{"$f":"Gegevens!F286","v":141.60839160839163}]
[null,null,2.6666666666666701,null,null,null,2.6666666666666701,{"$f":"Gegevens!F287","v":144.98001998002002}]
[null,null,2.6770833333333299,null,null,null,2.6770833333333299,{"$f":"Gegevens!F288","v":144.98001998002002}]
[null,null,2.6875,null,null,null,2.6875,{"$f":"Gegevens!F289","v":144.98001998002002}]
[null,null,2.6979166666666701,null,null,null,2.6979166666666701,{"$f":"Gegevens!F290","v":144.98001998002002}]
[null,null,2.7083333333333299,null,null,null,2.7083333333333299,{"$f":"Gegevens!F291","v":155.09490509490513}]
[null,null,2.71875,null,null,null,2.71875,{"$f":"Gegevens!F292","v":155.09490509490513}]
[null,null,2.7291666666666701,null,null,null,2.7291666666666701,{"$f":"Gegevens!F293","v":155.09490509490513}]
[null,null,2.7395833333333299,null,null,null,2.7395833333333299,{"$f":"Gegevens!F294","v":155.09490509490513}]
[null,null,2.75,null,null,null,2.75,{"$f":"Gegevens!F295","v":161.83816183816182}]
[null,null,2.7604166666666701,null,null,null,2.7604166666666701,{"$f":"Gegevens!F296","v":161.83816183816182}]
[null,null,2.7708333333333299,null,null,null,2.7708333333333299,{"$f":"Gegevens!F297","v":161.83816183816182}]
[null,null,2.78125,null,null,null,2.78125,{"$f":"Gegevens!F298","v":161.83816183816182}]
[null,null,2.7916666666666701,null,null,null,2.7916666666666701,{"$f":"Gegevens!F299","v":161.83816183816182}]
[null,null,2.8020833333333299,null,null,null,2.8020833333333299,{"$f":"Gegevens!F300","v":161.83816183816182}]
[null,null,2.8125,null,null,null,2.8125,{"$f":"Gegevens!F301","v":161.83816183816182}]
[null,null,2.8229166666666701,null,null,null,2.8229166666666701,{"$f":"Gegevens!F302","v":161.83816183816182}]
[null,null,2.8333333333333299,null,null,null,2.8333333333333299,{"$f":"Gegevens!F303","v":165.20979020979024}]
[null,null,2.84375,null,null,null,2.84375,{"$f":"Gegevens!F304","v":165.20979020979024}]
[null,null,2.8541666666666701,null,null,null,2.8541666666666701,{"$f":"Gegevens!F305","v":165.20979020979024}]
[null,null,2.8645833333333299,null,null,null,2.8645833333333299,{"$f":"Gegevens!F306","v":165.20979020979024}]
[null,null,2.875,null,null,null,2.875,{"$f":"Gegevens!F307","v":161.83816183816182}]
[null,null,2.8854166666666701,null,null,null,2.8854166666666701,{"$f":"Gegevens!F308","v":161.83816183816182}]
[null,null,2.8958333333333299,null,null,null,2.8958333333333299,{"$f":"Gegevens!F309","v":161.83816183816182}]
[null,null,2.90625,null,null,null,2.90625,{"$f":"Gegevens!F310","v":161.83816183816182}]
[null,null,2.9166666666666701,null,null,null,2.9166666666666701,{"$f":"Gegevens!F311","v":144.98001998002002}]
[null,null,2.9270833333333299,null,null,null,2.9270833333333299,{"$f":"Gegevens!F312","v":144.98001998002002}]
[null,null,2.9375,null,null,null,2.9375,{"$f":"Gegevens!F313","v":144.98001998002002}]
[null,null,2.9479166666666701,null,null,null,2.9479166666666701,{"$f":"Gegevens!F314","v":144.98001998002002}]
[null,null,2.9583333333333299,null,null,null,2.9583333333333299,{"$f":"Gegevens!F315","v":74.175824175824189}]
[null,null,2.96875,null,null,null,2.96875,{"$f":"Gegevens!F316","v":74.175824175824189}]
[null,null,2.9791666666666701,null,null,null,2.9791666666666701,{"$f":"Gegevens!F317","v":74.175824175824189}]
[null,null,2.9895833333333299,null,null,null,2.9895833333333299,{"$f":"Gegevens!F318","v":74.175824175824189}]
[null,"Donderdag",3,null,null,"Donderdag",3,{"$f":"Gegevens!F319","v":74.175824175824189}]
[null,null,3.0104166666666701,null,null,null,3.0104166666666701,{"$f":"Gegevens!F320","v":74.175824175824189}]
[null,null,3.0208333333333299,null,null,null,3.0208333333333299,{"$f":"Gegevens!F321","v":74.175824175824189}]
[null,null,3.03125,null,null,null,3.03125,{"$f":"Gegevens!F322","v":74.175824175824189}]
[null,null,3.0416666666666701,null,null,null,3.0416666666666701,{"$f":"Gegevens!F323","v":80.919080919080912}]
[null,null,3.0520833333333299,null,null,null,3.0520833333333299,{"$f":"Gegevens!F324","v":80.919080919080912}]
[null,null,3.0625,null,null,null,3.0625,{"$f":"Gegevens!F325","v":80.919080919080912}]
[null,null,3.0729166666666701,null,null,null,3.0729166666666701,{"$f":"Gegevens!F326","v":80.919080919080912}]
[null,null,3.0833333333333299,null,null,null,3.0833333333333299,{"$f":"Gegevens!F327","v":84.290709290709302}]
[null,null,3.09375,null,null,null,3.09375,{"$f":"Gegevens!F328","v":84.290709290709302}]
[null,null,3.1041666666666701,null,null,null,3.1041666666666701,{"$f":"Gegevens!F329","v":84.290709290709302}]
[null,null,3.1145833333333299,null,null,null,3.1145833333333299,{"$f":"Gegevens!F330","v":84.290709290709302}]
[null,null,3.125,null,null,null,3.125,{"$f":"Gegevens!F331","v":94.405594405594414}]
[null,null,3.1354166666666701,null,null,null,3.1354166666666701,{"$f":"Gegevens!F332","v":94.405594405594414}]
[null,null,3.1458333333333299,null,null,null,3.1458333333333299,{"$f":"Gegevens!F333","v":94.405594405594414}]
[null,null,3.15625,null,null,null,3.15625,{"$f":"Gegevens!F334","v":94.405594405594414}]
[null,null,3.1666666666666701,null,null,null,3.1666666666666701,{"$f":"Gegevens!F335","v":138.23676323676324}]
[null,null,3.1770833333333299,null,null,null,3.1770833333333299,{"$f":"Gegevens!F336","v":138.23676323676324}]
[null,null,3.1875,null,null,null,3.1875,{"$f":"Gegevens!F337","v":138.23676323676324}]
[null,null,3.1979166666666701,null,null,null,3.1979166666666701,{"$f":"Gegevens!F338","v":138.23676323676324}]
[null,null,3.2083333333333299,null,null,null,3.2083333333333299,{"$f":"Gegevens!F339","v":165.20979020979024}]
[null,null,3.21875,null,null,null,3.21875,{"$f":"Gegevens!F340","v":165.20979020979024}]
[null,null,3.2291666666666701,null,null,null,3.2291666666666701,{"$f":"Gegevens!F341","v":165.20979020979024}]
[null,null,3.2395833333333299,null,null,null,3.2395833333333299,{"$f":"Gegevens!F342","v":165.20979020979024}]
[null,null,3.25,null,null,null,3.25,{"$f":"Gegevens!F343","v":168.5814185814186}]
[null,null,3.2604166666666701,null,null,null,3.2604166666666701,{"$f":"Gegevens!F344","v":168.5814185814186}]
[null,null,3.2708333333333299,null,null,null,3.2708333333333299,{"$f":"Gegevens!F345","v":168.5814185814186}]
[null,null,3.28125,null,null,null,3.28125,{"$f":"Gegevens!F346","v":168.5814185814186}]
[null,null,3.2916666666666701,null,null,null,3.2916666666666701,{"$f":"Gegevens!F347","v":168.5814185814186}]
[null,null,3.3020833333333299,null,null,null,3.3020833333333299,{"$f":"Gegevens!F348","v":168.5814185814186}]
[null,null,3.3125,null,null,null,3.3125,{"$f":"Gegevens!F349","v":168.5814185814186}]
[null,null,3.3229166666666701,null,null,null,3.3229166666666701,{"$f":"Gegevens!F350","v":168.5814185814186}]
[null,null,3.3333333333333299,null,null,null,3.3333333333333299,{"$f":"Gegevens!F351","v":171.95304695304696}]
[null,null,3.34375,null,null,null,3.34375,{"$f":"Gegevens!F352","v":171.95304695304696}]
[null,null,3.3541666666666701,null,null,null,3.3541666666666701,{"$f":"Gegevens!F353","v":171.95304695304696}]
[null,null,3.3645833333333299,null,null,null,3.3645833333333299,{"$f":"Gegevens!F354","v":171.95304695304696}]
[null,null,3.375,null,null,null,3.375,{"$f":"Gegevens!F355","v":168.5814185814186}]
[null,null,3.3854166666666701,null,null,null,3.3854166666666701,{"$f":"Gegevens!F356","v":168.5814185814186}]
[null,null,3.3958333333333299,null,null,null,3.3958333333333299,{"$f":"Gegevens!F357","v":168.5814185814186}]
[null,null,3.40625,null,null,null,3.40625,{"$f":"Gegevens!F358","v":168.5814185814186}]
[null,null,3.4166666666666701,null,null,null,3.4166666666666701,{"$f":"Gegevens!F359","v":161.83816183816182}]
[null,null,3.4270833333333299,null,null,null,3.4270833333333299,{"$f":"Gegevens!F360","v":161.83816183816182}]
[null,null,3.4375,null,null,null,3.4375,{"$f":"Gegevens!F361","v":161.83816183816182}]
[null,null,3.4479166666666701,null,null,null,3.4479166666666701,{"$f":"Gegevens!F362","v":161.83816183816182}]
[null,null,3.4583333333333299,null,null,null,3.4583333333333299,{"$f":"Gegevens!F363","v":151.72327672327677}]
[null,null,3.46875,null,null,null,3.46875,{"$f":"Gegevens!F364","v":151.72327672327677}]
[null,null,3.4791666666666701,null,null,null,3.4791666666666701,{"$f":"Gegevens!F365","v":151.72327672327677}]
[null,null,3.4895833333333299,null,null,null,3.4895833333333299,{"$f":"Gegevens!F366","v":151.72327672327677}]
[null,null,3.5,null,null,null,3.5,{"$f":"Gegevens!F367","v":148.35164835164838}]
[null,null,3.5104166666666701,null,null,null,3.5104166666666701,{"$f":"Gegevens!F368","v":148.35164835164838}]
[null,null,3.5208333333333299,null,null,null,3.5208333333333299,{"$f":"Gegevens!F369","v":148.35164835164838}]
[null,null,3.53125,null,null,null,3.53125,{"$f":"Gegevens!F370","v":148.35164835164838}]
[null,null,3.5416666666666701,null,null,null,3.5416666666666701,{"$f":"Gegevens!F371","v":144.98001998002002}]
[null,null,3.5520833333333299,null,null,null,3.5520833333333299,{"$f":"Gegevens!F372","v":144.98001998002002}]
[null,null,3.5625,null,null,null,3.5625,{"$f":"Gegevens!F373","v":144.98001998002002}]
[null,null,3.5729166666666701,null,null,null,3.5729166666666701,{"$f":"Gegevens!F374","v":144.98001998002002}]
[null,null,3.5833333333333299,null,null,null,3.5833333333333299,{"$f":"Gegevens!F375","v":141.60839160839163}]
[null,null,3.59375,null,null,null,3.59375,{"$f":"Gegevens!F376","v":141.60839160839163}]
[null,null,3.6041666666666701,null,null,null,3.6041666666666701,{"$f":"Gegevens!F377","v":141.60839160839163}]
[null,null,3.6145833333333299,null,null,null,3.6145833333333299,{"$f":"Gegevens!F378","v":141.60839160839163}]
[null,null,3.625,null,null,null,3.625,{"$f":"Gegevens!F379","v":141.60839160839163}]
[null,null,3.6354166666666701,null,null,null,3.6354166666666701,{"$f":"Gegevens!F380","v":141.60839160839163}]
[null,null,3.6458333333333299,null,null,null,3.6458333333333299,{"$f":"Gegevens!F381","v":141.60839160839163}]
[null,null,3.65625,null,null,null,3.65625,{"$f":"Gegevens!F382","v":141.60839160839163}]
[null,null,3.6666666666666701,null,null,null,3.6666666666666701,{"$f":"Gegevens!F383","v":144.98001998002002}]
[null,null,3.6770833333333299,null,null,null,3.6770833333333299,{"$f":"Gegevens!F384","v":144.98001998002002}]
[null,null,3.6875,null,null,null,3.6875,{"$f":"Gegevens!F385","v":144.98001998002002}]
[null,null,3.6979166666666701,null,null,null,3.6979166666666701,{"$f":"Gegevens!F386","v":144.98001998002002}]
[null,null,3.7083333333333299,null,null,null,3.7083333333333299,{"$f":"Gegevens!F387","v":155.09490509490513}]
[null,null,3.71875,null,null,null,3.71875,{"$f":"Gegevens!F388","v":155.09490509490513}]
[null,null,3.7291666666666701,null,null,null,3.7291666666666701,{"$f":"Gegevens!F389","v":155.09490509490513}]
[null,null,3.7395833333333299,null,null,null,3.7395833333333299,{"$f":"Gegevens!F390","v":155.09490509490513}]
[null,null,3.75,null,null,null,3.75,{"$f":"Gegevens!F391","v":161.83816183816182}]
[null,null,3.7604166666666701,null,null,null,3.7604166666666701,{"$f":"Gegevens!F392","v":161.83816183816182}]
[null,null,3.7708333333333299,null,null,null,3.7708333333333299,{"$f":"Gegevens!F393","v":161.83816183816182}]
[null,null,3.78125,null,null,null,3.78125,{"$f":"Gegevens!F394","v":161.83816183816182}]
[null,null,3.7916666666666701,null,null,null,3.7916666666666701,{"$f":"Gegevens!F395","v":161.83816183816182}]
[null,null,3.8020833333333299,null,null,null,3.8020833333333299,{"$f":"Gegevens!F396","v":161.83816183816182}]
[null,null,3.8125,null,null,null,3.8125,{"$f":"Gegevens!F397","v":161.83816183816182}]
[null,null,3.8229166666666701,null,null,null,3.8229166666666701,{"$f":"Gegevens!F398","v":161.83816183816182}]
[null,null,3.8333333333333299,null,null,null,3.8333333333333299,{"$f":"Gegevens!F399","v":165.20979020979024}]
[null,null,3.84375,null,null,null,3.84375,{"$f":"Gegevens!F400","v":165.20979020979024}]
[null,null,3.8541666666666701,null,null,null,3.8541666666666701,{"$f":"Gegevens!F401","v":165.20979020979024}]
[null,null,3.8645833333333299,null,null,null,3.8645833333333299,{"$f":"Gegevens!F402","v":165.20979020979024}]
[null,null,3.875,null,null,null,3.875,{"$f":"Gegevens!F403","v":161.83816183816182}]
[null,null,3.8854166666666701,null,null,null,3.8854166666666701,{"$f":"Gegevens!F404","v":161.83816183816182}]
[null,null,3.8958333333333299,null,null,null,3.8958333333333299,{"$f":"Gegevens!F405","v":161.83816183816182}]
[null,null,3.90625,null,null,null,3.90625,{"$f":"Gegevens!F406","v":161.83816183816182}]
[null,null,3.9166666666666701,null,null,null,3.9166666666666701,{"$f":"Gegevens!F407","v":144.98001998002002}]
[null,null,3.9270833333333299,null,null,null,3.9270833333333299,{"$f":"Gegevens!F408","v":144.98001998002002}]
[null,null,3.9375,null,null,null,3.9375,{"$f":"Gegevens!F409","v":144.98001998002002}]
[null,null,3.9479166666666701,null,null,null,3.9479166666666701,{"$f":"Gegevens!F410","v":144.98001998002002}]
[null,null,3.9583333333333299,null,null,null,3.9583333333333299,{"$f":"Gegevens!F411","v":74.175824175824189}]
[null,null,3.96875,null,null,null,3.96875,{"$f":"Gegevens!F412","v":74.175824175824189}]
[null,null,3.9791666666666701,null,null,null,3.9791666666666701,{"$f":"Gegevens!F413","v":74.175824175824189}]
[null,null,3.9895833333333299,null,null,null,3.9895833333333299,{"$f":"Gegevens!F414","v":74.175824175824189}]
[null,"Vrijdag",4,null,null,"Vrijdag",4,{"$f":"Gegevens!F415","v":74.175824175824189}]
[null,null,4.0104166666666696,null,null,null,4.0104166666666696,{"$f":"Gegevens!F416","v":74.175824175824189}]
[null,null,4.0208333333333304,null,null,null,4.0208333333333304,{"$f":"Gegevens!F417","v":74.175824175824189}]
[null,null,4.03125,null,null,null,4.03125,{"$f":"Gegevens!F418","v":74.175824175824189}]
[null,null,4.0416666666666696,null,null,null,4.0416666666666696,{"$f":"Gegevens!F419","v":80.919080919080912}]
[null,null,4.0520833333333304,null,null,null,4.0520833333333304,{"$f":"Gegevens!F420","v":80.919080919080912}]
[null,null,4.0625,null,null,null,4.0625,{"$f":"Gegevens!F421","v":80.919080919080912}]
[null,null,4.0729166666666696,null,null,null,4.0729166666666696,{"$f":"Gegevens!F422","v":80.919080919080912}]
[null,null,4.0833333333333304,null,null,null,4.0833333333333304,{"$f":"Gegevens!F423","v":84.290709290709302}]
[null,null,4.09375,null,null,null,4.09375,{"$f":"Gegevens!F424","v":84.290709290709302}]
[null,null,4.1041666666666696,null,null,null,4.1041666666666696,{"$f":"Gegevens!F425","v":84.290709290709302}]
[null,null,4.1145833333333304,null,null,null,4.1145833333333304,{"$f":"Gegevens!F426","v":84.290709290709302}]
[null,null,4.125,null,null,null,4.125,{"$f":"Gegevens!F427","v":94.405594405594414}]
[null,null,4.1354166666666696,null,null,null,4.1354166666666696,{"$f":"Gegevens!F428","v":94.405594405594414}]
[null,null,4.1458333333333304,null,null,null,4.1458333333333304,{"$f":"Gegevens!F429","v":94.405594405594414}]
[null,null,4.15625,null,null,null,4.15625,{"$f":"Gegevens!F430","v":94.405594405594414}]
[null,null,4.1666666666666696,null,null,null,4.1666666666666696,{"$f":"Gegevens!F431","v":138.23676323676324}]
[null,null,4.1770833333333304,null,null,null,4.1770833333333304,{"$f":"Gegevens!F432","v":138.23676323676324}]
[null,null,4.1875,null,null,null,4.1875,{"$f":"Gegevens!F433","v":138.23676323676324}]
[null,null,4.1979166666666696,null,null,null,4.1979166666666696,{"$f":"Gegevens!F434","v":138.23676323676324}]
[null,null,4.2083333333333304,null,null,null,4.2083333333333304,{"$f":"Gegevens!F435","v":165.20979020979024}]
[null,null,4.21875,null,null,null,4.21875,{"$f":"Gegevens!F436","v":165.20979020979024}]
[null,null,4.2291666666666696,null,null,null,4.2291666666666696,{"$f":"Gegevens!F437","v":165.20979020979024}]
[null,null,4.2395833333333304,null,null,null,4.2395833333333304,{"$f":"Gegevens!F438","v":165.20979020979024}]
[null,null,4.25,null,null,null,4.25,{"$f":"Gegevens!F439","v":168.5814185814186}]
[null,null,4.2604166666666696,null,null,null,4.2604166666666696,{"$f":"Gegevens!F440","v":168.5814185814186}]
[null,null,4.2708333333333304,null,null,null,4.2708333333333304,{"$f":"Gegevens!F441","v":168.5814185814186}]
[null,null,4.28125,null,null,null,4.28125,{"$f":"Gegevens!F442","v":168.5814185814186}]
[null,null,4.2916666666666696,null,null,null,4.2916666666666696,{"$f":"Gegevens!F443","v":168.5814185814186}]
[null,null,4.3020833333333304,null,null,null,4.3020833333333304,{"$f":"Gegevens!F444","v":168.5814185814186}]
[null,null,4.3125,null,null,null,4.3125,{"$f":"Gegevens!F445","v":168.5814185814186}]
[null,null,4.3229166666666696,null,null,null,4.3229166666666696,{"$f":"Gegevens!F446","v":168.5814185814186}]
[null,null,4.3333333333333304,null,null,null,4.3333333333333304,{"$f":"Gegevens!F447","v":171.95304695304696}]
[null,null,4.34375,null,null,null,4.34375,{"$f":"Gegevens!F448","v":171.95304695304696}]
[null,null,4.3541666666666696,null,null,null,4.3541666666666696,{"$f":"Gegevens!F449","v":171.95304695304696}]
[null,null,4.3645833333333304,null,null,null,4.3645833333333304,{"$f":"Gegevens!F450","v":171.95304695304696}]
[null,null,4.375,null,null,null,4.375,{"$f":"Gegevens!F451","v":168.5814185814186}]
[null,null,4.3854166666666696,null,null,null,4.3854166666666696,{"$f":"Gegevens!F452","v":168.5814185814186}]
[null,null,4.3958333333333304,null,null,null,4.3958333333333304,{"$f":"Gegevens!F453","v":168.5814185814186}]
[null,null,4.40625,null,null,null,4.40625,{"$f":"Gegevens!F454","v":168.5814185814186}]
[null,null,4.4166666666666696,null,null,null,4.4166666666666696,{"$f":"Gegevens!F455","v":161.83816183816182}]
[null,null,4.4270833333333304,null,null,null,4.4270833333333304,{"$f":"Gegevens!F456","v":161.83816183816182}]
[null,null,4.4375,null,null,null,4.4375,{"$f":"Gegevens!F457","v":161.83816183816182}]
[null,null,4.4479166666666696,null,null,null,4.4479166666666696,{"$f":"Gegevens!F458","v":161.83816183816182}]
[null,null,4.4583333333333304,null,null,null,4.4583333333333304,{"$f":"Gegevens!F459","v":151.72327672327677}]
[null,null,4.46875,null,null,null,4.46875,{"$f":"Gegevens!F460","v":151.72327672327677}]
[null,null,4.4791666666666696,null,null,null,4.4791666666666696,{"$f":"Gegevens!F461","v":151.72327672327677}]
[null,null,4.4895833333333304,null,null,null,4.4895833333333304,{"$f":"Gegevens!F462","v":151.72327672327677}]
[null,null,4.5,null,null,null,4.5,{"$f":"Gegevens!F463","v":148.35164835164838}]
[null,null,4.5104166666666696,null,null,null,4.5104166666666696,{"$f":"Gegevens!F464","v":148.35164835164838}]
[null,null,4.5208333333333304,null,null,null,4.5208333333333304,{"$f":"Gegevens!F465","v":148.35164835164838}]
[null,null,4.53125,null,null,null,4.53125,{"$f":"Gegevens!F466","v":148.35164835164838}]
[null,null,4.5416666666666696,null,null,null,4.5416666666666696,{"$f":"Gegevens!F467","v":144.98001998002002}]
[null,null,4.5520833333333304,null,null,null,4.5520833333333304,{"$f":"Gegevens!F468","v":144.98001998002002}]
[null,null,4.5625,null,null,null,4.5625,{"$f":"Gegevens!F469","v":144.98001998002002}]
[null,null,4.5729166666666696,null,null,null,4.5729166666666696,{"$f":"Gegevens!F470","v":144.98001998002002}]
[null,null,4.5833333333333304,null,null,null,4.5833333333333304,{"$f":"Gegevens!F471","v":141.60839160839163}]
[null,null,4.59375,null,null,null,4.59375,{"$f":"Gegevens!F472","v":141.60839160839163}]
[null,null,4.6041666666666696,null,null,null,4.6041666666666696,{"$f":"Gegevens!F473","v":141.60839160839163}]
[null,null,4.6145833333333304,null,null,null,4.6145833333333304,{"$f":"Gegevens!F474","v":141.60839160839163}]
[null,null,4.625,null,null,null,4.625,{"$f":"Gegevens!F475","v":141.60839160839163}]
[null,null,4.6354166666666696,null,null,null,4.6354166666666696,{"$f":"Gegevens!F476","v":141.60839160839163}]
[null,null,4.6458333333333304,null,null,null,4.6458333333333304,{"$f":"Gegevens!F477","v":141.60839160839163}]
[null,null,4.65625,null,null,null,4.65625,{"$f":"Gegevens!F478","v":141.60839160839163}]
[null,null,4.6666666666666696,null,null,null,4.6666666666666696,{"$f":"Gegevens!F479","v":144.98001998002002}]
[null,null,4.6770833333333304,null,null,null,4.6770833333333304,{"$f":"Gegevens!F480","v":144.98001998002002}]
[null,null,4.6875,null,null,null,4.6875,{"$f":"Gegevens!F481","v":144.98001998002002}]
[null,null,4.6979166666666696,null,null,null,4.6979166666666696,{"$f":"Gegevens!F482","v":144.98001998002002}]
[null,null,4.7083333333333304,null,null,null,4.7083333333333304,{"$f":"Gegevens!F483","v":155.09490509490513}]
[null,null,4.71875,null,null,null,4.71875,{"$f":"Gegevens!F484","v":155.09490509490513}]
[null,null,4.7291666666666696,null,null,null,4.7291666666666696,{"$f":"Gegevens!F485","v":155.09490509490513}]
[null,null,4.7395833333333304,null,null,null,4.7395833333333304,{"$f":"Gegevens!F486","v":155.09490509490513}]
[null,null,4.75,null,null,null,4.75,{"$f":"Gegevens!F487","v":161.83816183816182}]
[null,null,4.7604166666666696,null,null,null,4.7604166666666696,{"$f":"Gegevens!F488","v":161.83816183816182}]
[null,null,4.7708333333333304,null,null,null,4.7708333333333304,{"$f":"Gegevens!F489","v":161.83816183816182}]
[null,null,4.78125,null,null,null,4.78125,{"$f":"Gegevens!F490","v":161.83816183816182}]
[null,null,4.7916666666666696,null,null,null,4.7916666666666696,{"$f":"Gegevens!F491","v":161.83816183816182}]
[null,null,4.8020833333333304,null,null,null,4.8020833333333304,{"$f":"Gegevens!F492","v":161.83816183816182}]
[null,null,4.8125,null,null,null,4.8125,{"$f":"Gegevens!F493","v":161.83816183816182}]
[null,null,4.8229166666666696,null,null,null,4.8229166666666696,{"$f":"Gegevens!F494","v":161.83816183816182}]
[null,null,4.8333333333333304,null,null,null,4.8333333333333304,{"$f":"Gegevens!F495","v":165.20979020979024}]
[null,null,4.84375,null,null,null,4.84375,{"$f":"Gegevens!F496","v":165.20979020979024}]
[null,null,4.8541666666666696,null,null,null,4.8541666666666696,{"$f":"Gegevens!F497","v":165.20979020979024}]
[null,null,4.8645833333333304,null,null,null,4.8645833333333304,{"$f":"Gegevens!F498","v":165.20979020979024}]
[null,null,4.875,null,null,null,4.875,{"$f":"Gegevens!F499","v":161.83816183816182}]
[null,null,4.8854166666666696,null,null,null,4.8854166666666696,{"$f":"Gegevens!F500","v":161.83816183816182}]
[null,null,4.8958333333333304,null,null,null,4.8958333333333304,{"$f":"Gegevens!F501","v":161.83816183816182}]
[null,null,4.90625,null,null,null,4.90625,{"$f":"Gegevens!F502","v":161.83816183816182}]
[null,null,4.9166666666666696,null,null,null,4.9166666666666696,{"$f":"Gegevens!F503","v":144.98001998002002}]
[null,null,4.9270833333333304,null,null,null,4.9270833333333304,{"$f":"Gegevens!F504","v":144.98001998002002}]
[null,null,4.9375,null,null,null,4.9375,{"$f":"Gegevens!F505","v":144.98001998002002}]
[null,null,4.9479166666666696,null,null,null,4.9479166666666696,{"$f":"Gegevens!F506","v":144.98001998002002}]
[null,null,4.9583333333333304,null,null,null,4.9583333333333304,{"$f":"Gegevens!F507","v":74.175824175824189}]
[null,null,4.96875,null,null,null,4.96875,{"$f":"Gegevens!F508","v":74.175824175824189}]
[null,null,4.9791666666666696,null,null,null,4.9791666666666696,{"$f":"Gegevens!F509","v":74.175824175824189}]
[null,null,4.9895833333333304,null,null,null,4.9895833333333304,{"$f":"Gegevens!F510","v":74.175824175824189}]
[null,"Zaterdag",5,null,null,"Zaterdag",5,{"$f":"Gegevens!F511","v":89.285714285714306}]
[null,null,5.0104166666666696,null,null,null,5.0104166666666696,{"$f":"Gegevens!F512","v":89.285714285714306}]
[null,null,5.0208333333333304,null,null,null,5.0208333333333304,{"$f":"Gegevens!F513","v":89.285714285714306}]
[null,null,5.03125,null,null,null,5.03125,{"$f":"Gegevens!F514","v":89.285714285714306}]
[null,null,5.0416666666666696,null,null,null,5.0416666666666696,{"$f":"Gegevens!F515","v":97.402597402597408}]
[null,null,5.0520833333333304,null,null,null,5.0520833333333304,{"$f":"Gegevens!F516","v":97.402597402597408}]
[null,null,5.0625,null,null,null,5.0625,{"$f":"Gegevens!F517","v":97.402597402597408}]
[null,null,5.0729166666666696,null,null,null,5.0729166666666696,{"$f":"Gegevens!F518","v":97.402597402597408}]
[null,null,5.0833333333333304,null,null,null,5.0833333333333304,{"$f":"Gegevens!F519","v":101.46103896103898}]
[null,null,5.09375,null,null,null,5.09375,{"$f":"Gegevens!F520","v":101.46103896103898}]
[null,null,5.1041666666666696,null,null,null,5.1041666666666696,{"$f":"Gegevens!F521","v":101.46103896103898}]
[null,null,5.1145833333333304,null,null,null,5.1145833333333304,{"$f":"Gegevens!F522","v":101.46103896103898}]
[null,null,5.125,null,null,null,5.125,{"$f":"Gegevens!F523","v":113.63636363636365}]
[null,null,5.1354166666666696,null,null,null,5.1354166666666696,{"$f":"Gegevens!F524","v":113.63636363636365}]
[null,null,5.1458333333333304,null,null,null,5.1458333333333304,{"$f":"Gegevens!F525","v":113.63636363636365}]
[null,null,5.15625,null,null,null,5.15625,{"$f":"Gegevens!F526","v":113.63636363636365}]
[null,null,5.1666666666666696,null,null,null,5.1666666666666696,{"$f":"Gegevens!F527","v":166.39610389610388}]
[null,null,5.1770833333333304,null,null,null,5.1770833333333304,{"$f":"Gegevens!F528","v":166.39610389610388}]
[null,null,5.1875,null,null,null,5.1875,{"$f":"Gegevens!F529","v":166.39610389610388}]
[null,null,5.1979166666666696,null,null,null,5.1979166666666696,{"$f":"Gegevens!F530","v":166.39610389610388}]
[null,null,5.2083333333333304,null,null,null,5.2083333333333304,{"$f":"Gegevens!F531","v":198.86363636363637}]
[null,null,5.21875,null,null,null,5.21875,{"$f":"Gegevens!F532","v":198.86363636363637}]
[null,null,5.2291666666666696,null,null,null,5.2291666666666696,{"$f":"Gegevens!F533","v":198.86363636363637}]
[null,null,5.2395833333333304,null,null,null,5.2395833333333304,{"$f":"Gegevens!F534","v":198.86363636363637}]
[null,null,5.25,null,null,null,5.25,{"$f":"Gegevens!F535","v":202.92207792207796}]
[null,null,5.2604166666666696,null,null,null,5.2604166666666696,{"$f":"Gegevens!F536","v":202.92207792207796}]
[null,null,5.2708333333333304,null,null,null,5.2708333333333304,{"$f":"Gegevens!F537","v":202.92207792207796}]
[null,null,5.28125,null,null,null,5.28125,{"$f":"Gegevens!F538","v":202.92207792207796}]
[null,null,5.2916666666666696,null,null,null,5.2916666666666696,{"$f":"Gegevens!F539","v":202.92207792207796}]
[null,null,5.3020833333333304,null,null,null,5.3020833333333304,{"$f":"Gegevens!F540","v":202.92207792207796}]
[null,null,5.3125,null,null,null,5.3125,{"$f":"Gegevens!F541","v":202.92207792207796}]
[null,null,5.3229166666666696,null,null,null,5.3229166666666696,{"$f":"Gegevens!F542","v":202.92207792207796}]
[null,null,5.3333333333333304,null,null,null,5.3333333333333304,{"$f":"Gegevens!F543","v":206.98051948051946}]
[null,null,5.34375,null,null,null,5.34375,{"$f":"Gegevens!F544","v":206.98051948051946}]
[null,null,5.3541666666666696,null,null,null,5.3541666666666696,{"$f":"Gegevens!F545","v":206.98051948051946}]
[null,null,5.3645833333333304,null,null,null,5.3645833333333304,{"$f":"Gegevens!F546","v":206.98051948051946}]
[null,null,5.375,null,null,null,5.375,{"$f":"Gegevens!F547","v":202.92207792207796}]
[null,null,5.3854166666666696,null,null,null,5.3854166666666696,{"$f":"Gegevens!F548","v":202.92207792207796}]
[null,null,5.3958333333333304,null,null,null,5.3958333333333304,{"$f":"Gegevens!F549","v":202.92207792207796}]
[null,null,5.40625,null,null,null,5.40625,{"$f":"Gegevens!F550","v":202.92207792207796}]
[null,null,5.4166666666666696,null,null,null,5.4166666666666696,{"$f":"Gegevens!F551","v":194.80519480519482}]
[null,null,5.4270833333333304,null,null,null,5.4270833333333304,{"$f":"Gegevens!F552","v":194.80519480519482}]
[null,null,5.4375,null,null,null,5.4375,{"$f":"Gegevens!F553","v":194.80519480519482}]
[null,null,5.4479166666666696,null,null,null,5.4479166666666696,{"$f":"Gegevens!F554","v":194.80519480519482}]
[null,null,5.4583333333333304,null,null,null,5.4583333333333304,{"$f":"Gegevens!F555","v":182.6298701298702}]
[null,null,5.46875,null,null,null,5.46875,{"$f":"Gegevens!F556","v":182.6298701298702}]
[null,null,5.4791666666666696,null,null,null,5.4791666666666696,{"$f":"Gegevens!F557","v":182.6298701298702}]
[null,null,5.4895833333333304,null,null,null,5.4895833333333304,{"$f":"Gegevens!F558","v":182.6298701298702}]
[null,null,5.5,null,null,null,5.5,{"$f":"Gegevens!F559","v":178.57142857142861}]
[null,null,5.5104166666666696,null,null,null,5.5104166666666696,{"$f":"Gegevens!F560","v":178.57142857142861}]
[null,null,5.5208333333333304,null,null,null,5.5208333333333304,{"$f":"Gegevens!F561","v":178.57142857142861}]
[null,null,5.53125,null,null,null,5.53125,{"$f":"Gegevens!F562","v":178.57142857142861}]
[null,null,5.5416666666666696,null,null,null,5.5416666666666696,{"$f":"Gegevens!F563","v":174.51298701298705}]
[null,null,5.5520833333333304,null,null,null,5.5520833333333304,{"$f":"Gegevens!F564","v":174.51298701298705}]
[null,null,5.5625,null,null,null,5.5625,{"$f":"Gegevens!F565","v":174.51298701298705}]
[null,null,5.5729166666666696,null,null,null,5.5729166666666696,{"$f":"Gegevens!F566","v":174.51298701298705}]
[null,null,5.5833333333333304,null,null,null,5.5833333333333304,{"$f":"Gegevens!F567","v":170.45454545454552}]
[null,null,5.59375,null,null,null,5.59375,{"$f":"Gegevens!F568","v":170.45454545454552}]
[null,null,5.6041666666666696,null,null,null,5.6041666666666696,{"$f":"Gegevens!F569","v":170.45454545454552}]
[null,null,5.6145833333333304,null,null,null,5.6145833333333304,{"$f":"Gegevens!F570","v":170.45454545454552}]
[null,null,5.625,null,null,null,5.625,{"$f":"Gegevens!F571","v":170.45454545454552}]
[null,null,5.6354166666666696,null,null,null,5.6354166666666696,{"$f":"Gegevens!F572","v":170.45454545454552}]
[null,null,5.6458333333333304,null,null,null,5.6458333333333304,{"$f":"Gegevens!F573","v":170.45454545454552}]
[null,null,5.65625,null,null,null,5.65625,{"$f":"Gegevens!F574","v":170.45454545454552}]
[null,null,5.6666666666666696,null,null,null,5.6666666666666696,{"$f":"Gegevens!F575","v":174.51298701298705}]
[null,null,5.6770833333333304,null,null,null,5.6770833333333304,{"$f":"Gegevens!F576","v":174.51298701298705}]
[null,null,5.6875,null,null,null,5.6875,{"$f":"Gegevens!F577","v":174.51298701298705}]
[null,null,5.6979166666666696,null,null,null,5.6979166666666696,{"$f":"Gegevens!F578","v":174.51298701298705}]
[null,null,5.7083333333333304,null,null,null,5.7083333333333304,{"$f":"Gegevens!F579","v":186.68831168831173}]
[null,null,5.71875,null,null,null,5.71875,{"$f":"Gegevens!F580","v":186.68831168831173}]
[null,null,5.7291666666666696,null,null,null,5.7291666666666696,{"$f":"Gegevens!F581","v":186.68831168831173}]
[null,null,5.7395833333333304,null,null,null,5.7395833333333304,{"$f":"Gegevens!F582","v":186.68831168831173}]
[null,null,5.75,null,null,null,5.75,{"$f":"Gegevens!F583","v":194.80519480519482}]
[null,null,5.7604166666666696,null,null,null,5.7604166666666696,{"$f":"Gegevens!F584","v":194.80519480519482}]
[null,null,5.7708333333333304,null,null,null,5.7708333333333304,{"$f":"Gegevens!F585","v":194.80519480519482}]
[null,null,5.78125,null,null,null,5.78125,{"$f":"Gegevens!F586","v":194.80519480519482}]
[null,null,5.7916666666666696,null,null,null,5.7916666666666696,{"$f":"Gegevens!F587","v":194.80519480519482}]
[null,null,5.8020833333333304,null,null,null,5.8020833333333304,{"$f":"Gegevens!F588","v":194.80519480519482}]
[null,null,5.8125,null,null,null,5.8125,{"$f":"Gegevens!F589","v":194.80519480519482}]
[null,null,5.8229166666666696,null,null,null,5.8229166666666696,{"$f":"Gegevens!F590","v":194.80519480519482}]
[null,null,5.8333333333333304,null,null,null,5.8333333333333304,{"$f":"Gegevens!F591","v":198.86363636363637}]
[null,null,5.84375,null,null,null,5.84375,{"$f":"Gegevens!F592","v":198.86363636363637}]
[null,null,5.8541666666666696,null,null,null,5.8541666666666696,{"$f":"Gegevens!F593","v":198.86363636363637}]
[null,null,5.8645833333333304,null,null,null,5.8645833333333304,{"$f":"Gegevens!F594","v":198.86363636363637}]
[null,null,5.875,null,null,null,5.875,{"$f":"Gegevens!F595","v":194.80519480519482}]
[null,null,5.8854166666666696,null,null,null,5.8854166666666696,{"$f":"Gegevens!F596","v":194.80519480519482}]
[null,null,5.8958333333333304,null,null,null,5.8958333333333304,{"$f":"Gegevens!F597","v":194.80519480519482}]
[null,null,5.90625,null,null,null,5.90625,{"$f":"Gegevens!F598","v":194.80519480519482}]
[null,null,5.9166666666666696,null,null,null,5.9166666666666696,{"$f":"Gegevens!F599","v":174.51298701298705}]
[null,null,5.9270833333333304,null,null,null,5.9270833333333304,{"$f":"Gegevens!F600","v":174.51298701298705}]
[null,null,5.9375,null,null,null,5.9375,{"$f":"Gegevens!F601","v":174.51298701298705}]
[null,null,5.9479166666666696,null,null,null,5.9479166666666696,{"$f":"Gegevens!F602","v":174.51298701298705}]
[null,null,5.9583333333333304,null,null,null,5.9583333333333304,{"$f":"Gegevens!F603","v":89.285714285714306}]
[null,null,5.96875,null,null,null,5.96875,{"$f":"Gegevens!F604","v":89.285714285714306}]
[null,null,5.9791666666666696,null,null,null,5.9791666666666696,{"$f":"Gegevens!F605","v":89.285714285714306}]
[null,null,5.9895833333333304,null,null,null,5.9895833333333304,{"$f":"Gegevens!F606","v":89.285714285714306}]
[null,"Zondag",6,null,null,"Zondag",6,{"$f":"Gegevens!F607","v":89.285714285714306}]
[null,null,6.0104166666666696,null,null,null,6.0104166666666696,{"$f":"Gegevens!F608","v":89.285714285714306}]
[null,null,6.0208333333333304,null,null,null,6.0208333333333304,{"$f":"Gegevens!F609","v":89.285714285714306}]
[null,null,6.03125,null,null,null,6.03125,{"$f":"Gegevens!F610","v":89.285714285714306}]
[null,null,6.0416666666666696,null,null,null,6.0416666666666696,{"$f":"Gegevens!F611","v":97.402597402597408}]
[null,null,6.0520833333333304,null,null,null,6.0520833333333304,{"$f":"Gegevens!F612","v":97.402597402597408}]
[null,null,6.0625,null,null,null,6.0625,{"$f":"Gegevens!F613","v":97.402597402597408}]
[null,null,6.0729166666666696,null,null,null,6.0729166666666696,{"$f":"Gegevens!F614","v":97.402597402597408}]
[null,null,6.0833333333333304,null,null,null,6.0833333333333304,{"$f":"Gegevens!F615","v":101.46103896103898}]
[null,null,6.09375,null,null,null,6.09375,{"$f":"Gegevens!F616","v":101.46103896103898}]
[null,null,6.1041666666666696,null,null,null,6.1041666666666696,{"$f":"Gegevens!F617","v":101.46103896103898}]
[null,null,6.1145833333333304,null,null,null,6.1145833333333304,{"$f":"Gegevens!F618","v":101.46103896103898}]
[null,null,6.125,null,null,null,6.125,{"$f":"Gegevens!F619","v":113.63636363636365}]
[null,null,6.1354166666666696,null,null,null,6.1354166666666696,{"$f":"Gegevens!F620","v":113.63636363636365}]
[null,null,6.1458333333333304,null,null,null,6.1458333333333304,{"$f":"Gegevens!F621","v":113.63636363636365}]
[null,null,6.15625,null,null,null,6.15625,{"$f":"Gegevens!F622","v":113.63636363636365}]
[null,null,6.1666666666666696,null,null,null,6.1666666666666696,{"$f":"Gegevens!F623","v":166.39610389610388}]
[null,null,6.1770833333333304,null,null,null,6.1770833333333304,{"$f":"Gegevens!F624","v":166.39610389610388}]
[null,null,6.1875,null,null,null,6.1875,{"$f":"Gegevens!F625","v":166.39610389610388}]
[null,null,6.1979166666666696,null,null,null,6.1979166666666696,{"$f":"Gegevens!F626","v":166.39610389610388}]
[null,null,6.2083333333333304,null,null,null,6.2083333333333304,{"$f":"Gegevens!F627","v":198.86363636363637}]
[null,null,6.21875,null,null,null,6.21875,{"$f":"Gegevens!F628","v":198.86363636363637}]
[null,null,6.2291666666666696,null,null,null,6.2291666666666696,{"$f":"Gegevens!F629","v":198.86363636363637}]
[null,null,6.2395833333333304,null,null,null,6.2395833333333304,{"$f":"Gegevens!F630","v":198.86363636363637}]
[null,null,6.25,null,null,null,6.25,{"$f":"Gegevens!F631","v":202.92207792207796}]
[null,null,6.2604166666666696,null,null,null,6.2604166666666696,{"$f":"Gegevens!F632","v":202.92207792207796}]
[null,null,6.2708333333333304,null,null,null,6.2708333333333304,{"$f":"Gegevens!F633","v":202.92207792207796}]
[null,null,6.28125,null,null,null,6.28125,{"$f":"Gegevens!F634","v":202.92207792207796}]
[null,null,6.2916666666666696,null,null,null,6.2916666666666696,{"$f":"Gegevens!F635","v":202.92207792207796}]
[null,null,6.3020833333333304,null,null,null,6.3020833333333304,{"$f":"Gegevens!F636","v":202.92207792207796}]
[null,null,6.3125,null,null,null,6.3125,{"$f":"Gegevens!F637","v":202.92207792207796}]
[null,null,6.3229166666666696,null,null,null,6.3229166666666696,{"$f":"Gegevens!F638","v":202.92207792207796}]
[null,null,6.3333333333333304,null,null,null,6.3333333333333304,{"$f":"Gegevens!F639","v":206.98051948051946}]
[null,null,6.34375,null,null,null,6.34375,{"$f":"Gegevens!F640","v":206.98051948051946}]
[null,null,6.3541666666666696,null,null,null,6.3541666666666696,{"$f":"Gegevens!F641","v":206.98051948051946}]
[null,null,6.3645833333333304,null,null,null,6.3645833333333304,{"$f":"Gegevens!F642","v":206.98051948051946}]
[null,null,6.375,null,null,null,6.375,{"$f":"Gegevens!F643","v":202.92207792207796}]
[null,null,6.3854166666666696,null,null,null,6.3854166666666696,{"$f":"Gegevens!F644","v":202.92207792207796}]
[null,null,6.3958333333333304,null,null,null,6.3958333333333304,{"$f":"Gegevens!F645","v":202.92207792207796}]
[null,null,6.40625,null,null,null,6.40625,{"$f":"Gegevens!F646","v":202.92207792207796}]
[null,null,6.4166666666666696,null,null,null,6.4166666666666696,{"$f":"Gegevens!F647","v":194.80519480519482}]
[null,null,6.4270833333333304,null,null,null,6.4270833333333304,{"$f":"Gegevens!F648","v":194.80519480519482}]
[null,null,6.4375,null,null,null,6.4375,{"$f":"Gegevens!F649","v":194.80519480519482}]
[null,null,6.4479166666666696,null,null,null,6.4479166666666696,{"$f":"Gegevens!F650","v":194.80519480519482}]
[null,null,6.4583333333333304,null,null,null,6.4583333333333304,{"$f":"Gegevens!F651","v":182.6298701298702}]
[null,null,6.46875,null,null,null,6.46875,{"$f":"Gegevens!F652","v":182.6298701298702}]
[null,null,6.4791666666666696,null,null,null,6.4791666666666696,{"$f":"Gegevens!F653","v":182.6298701298702}]
[null,null,6.4895833333333304,null,null,null,6.4895833333333304,{"$f":"Gegevens!F654","v":182.6298701298702}]
[null,null,6.5,null,null,null,6.5,{"$f":"Gegevens!F655","v":178.57142857142861}]
[null,null,6.5104166666666696,null,null,null,6.5104166666666696,{"$f":"Gegevens!F656","v":178.57142857142861}]
[null,null,6.5208333333333304,null,null,null,6.5208333333333304,{"$f":"Gegevens!F657","v":178.57142857142861}]
[null,null,6.53125,null,null,null,6.53125,{"$f":"Gegevens!F658","v":178.57142857142861}]
[null,null,6.5416666666666696,null,null,null,6.5416666666666696,{"$f":"Gegevens!F659","v":174.51298701298705}]
[null,null,6.5520833333333304,null,null,null,6.5520833333333304,{"$f":"Gegevens!F660","v":174.51298701298705}]
[null,null,6.5625,null,null,null,6.5625,{"$f":"Gegevens!F661","v":174.51298701298705}]
[null,null,6.5729166666666696,null,null,null,6.5729166666666696,{"$f":"Gegevens!F662","v":174.51298701298705}]
[null,null,6.5833333333333304,null,null,null,6.5833333333333304,{"$f":"Gegevens!F663","v":170.45454545454552}]
[null,null,6.59375,null,null,null,6.59375,{"$f":"Gegevens!F664","v":170.45454545454552}]
[null,null,6.6041666666666696,null,null,null,6.6041666666666696,{"$f":"Gegevens!F665","v":170.45454545454552}]
[null,null,6.6145833333333304,null,null,null,6.6145833333333304,{"$f":"Gegevens!F666","v":170.45454545454552}]
[null,null,6.625,null,null,null,6.625,{"$f":"Gegevens!F667","v":170.45454545454552}]
[null,null,6.6354166666666696,null,null,null,6.6354166666666696,{"$f":"Gegevens!F668","v":170.45454545454552}]
[null,null,6.6458333333333304,null,null,null,6.6458333333333304,{"$f":"Gegevens!F669","v":170.45454545454552}]
[null,null,6.65625,null,null,null,6.65625,{"$f":"Gegevens!F670","v":170.45454545454552}]
[null,null,6.6666666666666696,null,null,null,6.6666666666666696,{"$f":"Gegevens!F671","v":174.51298701298705}]
[null,null,6.6770833333333304,null,null,null,6.6770833333333304,{"$f":"Gegevens!F672","v":174.51298701298705}]
[null,null,6.6875,null,null,null,6.6875,{"$f":"Gegevens!F673","v":174.51298701298705}]
[null,null,6.6979166666666696,null,null,null,6.6979166666666696,{"$f":"Gegevens!F674","v":174.51298701298705}]
[null,null,6.7083333333333304,null,null,null,6.7083333333333304,{"$f":"Gegevens!F675","v":186.68831168831173}]
[null,null,6.71875,null,null,null,6.71875,{"$f":"Gegevens!F676","v":186.68831168831173}]
[null,null,6.7291666666666696,null,null,null,6.7291666666666696,{"$f":"Gegevens!F677","v":186.68831168831173}]
[null,null,6.7395833333333304,null,null,null,6.7395833333333304,{"$f":"Gegevens!F678","v":186.68831168831173}]
[null,null,6.75,null,null,null,6.75,{"$f":"Gegevens!F679","v":194.80519480519482}]
[null,null,6.7604166666666696,null,null,null,6.7604166666666696,{"$f":"Gegevens!F680","v":194.80519480519482}]
[null,null,6.7708333333333304,null,null,null,6.7708333333333304,{"$f":"Gegevens!F681","v":194.80519480519482}]
[null,null,6.78125,null,null,null,6.78125,{"$f":"Gegevens!F682","v":194.80519480519482}]
[null,null,6.7916666666666696,null,null,null,6.7916666666666696,{"$f":"Gegevens!F683","v":194.80519480519482}]
[null,null,6.8020833333333304,null,null,null,6.8020833333333304,{"$f":"Gegevens!F684","v":194.80519480519482}]
[null,null,6.8125,null,null,null,6.8125,{"$f":"Gegevens!F685","v":194.80519480519482}]
[null,null,6.8229166666666696,null,null,null,6.8229166666666696,{"$f":"Gegevens!F686","v":194.80519480519482}]
[null,null,6.8333333333333304,null,null,null,6.8333333333333304,{"$f":"Gegevens!F687","v":198.86363636363637}]
[null,null,6.84375,null,null,null,6.84375,{"$f":"Gegevens!F688","v":198.86363636363637}]
[null,null,6.8541666666666696,null,null,null,6.8541666666666696,{"$f":"Gegevens!F689","v":198.86363636363637}]
[null,null,6.8645833333333304,null,null,null,6.8645833333333304,{"$f":"Gegevens!F690","v":198.86363636363637}]
[null,null,6.875,null,null,null,6.875,{"$f":"Gegevens!F691","v":194.80519480519482}]
[null,null,6.8854166666666696,null,null,null,6.8854166666666696,{"$f":"Gegevens!F692","v":194.80519480519482}]
[null,null,6.8958333333333304,null,null,null,6.8958333333333304,{"$f":"Gegevens!F693","v":194.80519480519482}]
[null,null,6.90625,null,null,null,6.90625,{"$f":"Gegevens!F694","v":194.80519480519482}]
[null,null,6.9166666666666696,null,null,null,6.9166666666666696,{"$f":"Gegevens!F695","v":174.51298701298705}]
[null,null,6.9270833333333304,null,null,null,6.9270833333333304,{"$f":"Gegevens!F696","v":174.51298701298705}]
[null,null,6.9375,null,null,null,6.9375,{"$f":"Gegevens!F697","v":174.51298701298705}]
[null,null,6.9479166666666696,null,null,null,6.9479166666666696,{"$f":"Gegevens!F698","v":174.51298701298705}]
[null,null,6.9583333333333304,null,null,null,6.9583333333333304,{"$f":"Gegevens!F699","v":89.285714285714306}]
[null,null,6.96875,null,null,null,6.96875,{"$f":"Gegevens!F700","v":89.285714285714306}]
[null,null,6.9791666666666696,null,null,null,6.9791666666666696,{"$f":"Gegevens!F701","v":89.285714285714306}]
[null,null,6.9895833333333304,null,null,null,6.9895833333333304,{"$f":"Gegevens!F702","v":89.285714285714306}]

{"sheet":"Grafieken","index":1,"n_rows":67,"n_cols":1,"rows_kept":67,"cut":false,"hidden":false,"merged":[]}
[]
[{"$f":"\"Geëxtrapoleerd thermisch profiel - \"&Gegevens!$C$15&\"\"","v":"Geëxtrapoleerd thermisch profiel - … naam van het project …"}]
[]
[]
[]
[]
[]
[]
[]
[]
[]
[]
[]
[]
[]
[]
[]
[]
[]
[]
[]
[]
[]
[{"$f":"\"Wekelijks thermisch profiel - \"&Gegevens!$C$15","v":"Wekelijks thermisch profiel - … naam van het project …"}]
[]
[]
[]
[]
[]
[]
[]
[]
[]
[]
[]
[]
[]
[]
[]
[]
[]
[]
[]
[]
[]
[{"$f":"\"Energiehandtekening - \"&Gegevens!C15&\" \"","v":"Energiehandtekening - … naam van het project … "}]
[]
[]
[]
[]
[]
[]
[]
[]
[]
[]
[]
[]
[]
[]
[]
[]
[]
[]
[]
[]
[{"$f":"\"Brandstofverbruik - \"&Gegevens!$C$15","v":"Brandstofverbruik - … naam van het project …"}]

{"sheet":"1-4 uur Profiel","index":2,"n_rows":5,"n_cols":15,"rows_kept":5,"cut":false,"hidden":false,"merged":[]}
[null,null,"Opgelet : Dit blad niet gebruiken !",null,null,null,"warmte",null,"elektriciteit",null,null,null,null,null,1]
["datum","verlof","maand - jaar","dag - maand","dag - week","n° 1/4 u","warmteprofiel","factor","elek. Profiel","normale uren","factor"]
[null,null,null,null,1]
[{"$f":"\"1/01/\"&INDEX(Titels!B2:B9,Gegevens!B19)&\" 0:00\"","v":"1/01/2019 0:00"},{"$f":"IF(OR(AND(D4=1,C4=1),AND(D4=Titels!$O$12,C4=Titels!$P$12),AND(D4=1,C4=5),AND(D4=Titels!$O$14,C4=Titels!$P$14),AND(D4=Titels!$O$15,C4=Titels!$P$15),AND(D4=21,C4=7),AND(D4=15,C4=8),AND(D4=1,C4=11),AND(D4=11,C4=11),AND(D4=25,C4=12)),1,0)","v":1},{"$f":"MONTH(A4)","v":1},{"$f":"DAY(A4)","v":1},{"$f":"WEEKDAY(A4,2)","v":2},{"$f":"IF(E4=E3,F3+1,1)","v":1},{"$f":"MAX(0,H4*IF(B4=1,INDEX(Gegevens!$O$31:$O$126,F4),INDEX(Gegevens!$F$31:$F$702,E4*96-96+F4)))","v":51.997693132284432},{"$f":"1+INDEX(GD!$B$109:$M$139,D4,C4)","v":0.58237416308158552},{"$f":"IF($O$1=1,N4,K4*IF(B4=1,INDEX(Gegevens!$N$31:$N$126,F4),INDEX(Gegevens!$E$31:$E$702,(E4-1)*96+F4)))","v":0},{"$f":"IF(AND(E4<=5,B4=0,F4>Gegevens!$U$19*4,F4<=(Gegevens!$U$19+15)*4),1,2)","v":2},{"$f":"INDEX('Elek. facturen'!$L$4:$M$15,C4,J4)","v":{"$error":"#DIV/0!"}}]
[{"$f":"A4+1/96","v":"2019-01-01T00:15:00"},{"$f":"IF(OR(AND(D5=1,C5=1),AND(D5=Titels!$O$12,C5=Titels!$P$12),AND(D5=1,C5=5),AND(D5=Titels!$O$14,C5=Titels!$P$14),AND(D5=Titels!$O$15,C5=Titels!$P$15),AND(D5=21,C5=7),AND(D5=15,C5=8),AND(D5=1,C5=11),AND(D5=11,C5=11),AND(D5=25,C5=12)),1,0)","v":1},{"$f":"MONTH(A5)","v":1},{"$f":"DAY(A5)","v":1},{"$f":"WEEKDAY(A5,2)","v":2},{"$f":"IF(E5=E4,F4+1,1)","v":2},{"$f":"MAX(0,H5*IF(B5=1,INDEX(Gegevens!$O$31:$O$126,F5),INDEX(Gegevens!$F$31:$F$702,E5*96-96+F5)))","v":51.997693132284432},{"$f":"1+INDEX(GD!$B$109:$M$139,D5,C5)","v":0.58237416308158552},{"$f":"IF($O$1=1,N5,K5*IF(B5=1,INDEX(Gegevens!$N$31:$N$126,F5),INDEX(Gegevens!$E$31:$E$702,(E5-1)*96+F5)))","v":0},{"$f":"IF(AND(E5<=5,B5=0,F5>Gegevens!$U$19*4,F5<=(Gegevens!$U$19+15)*4),1,2)","v":2},{"$f":"INDEX('Elek. facturen'!$L$4:$M$15,C5,J5)","v":{"$error":"#DIV/0!"}}]

{"sheet":"1 uur Profiel","index":3,"n_rows":8761,"n_cols":12,"rows_kept":8761,"cut":false,"hidden":false,"merged":[]}
["datum",null,"elek. Profiel","warmte profiel",null,"som kWu elec","som kWu gas","Bemasting Decr","therm prod","Prod Min","Prod vd correcte dimens.","Vermogen correct gedim."]
[{"$f":"'1-4 uur Profiel'!A4","v":"1/01/2019 0:00"},1,{"$f":"AVERAGE(INDEX('1-4 uur Profiel'!$I$4:$I$35139,(B2-1)*4+1),INDEX('1-4 uur Profiel'!$I$4:$I$35139,(B2-1)*4+2),INDEX('1-4 uur Profiel'!$I$4:$I$35139,(B2-1)*4+3),INDEX('1-4 uur Profiel'!$I$4:$I$35139,(B2-1)*4+4))","v":0},{"$f":"AVERAGE(INDEX('1-4 uur Profiel'!$G$4:$G$35139,(B2-1)*4+1),INDEX('1-4 uur Profiel'!$G$4:$G$35139,(B2-1)*4+2),INDEX('1-4 uur Profiel'!$G$4:$G$35139,(B2-1)*4+3),INDEX('1-4 uur Profiel'!$G$4:$G$35139,(B2-1)*4+4))","v":51.997693132284432},"januari",{"$f":"SUM(C2:C8785)","v":{"$error":"#DIV/0!"}},{"$f":"SUM(D2:D8785)","v":{"$error":"#DIV/0!"}},241.42424666942722,{"$f":"B2*H2","v":241.42424666942722},{"$f":"$G$5","v":434.49974434222236},{"$f":"IF(I2>=J2,I2,0)","v":0},{"$f":"IF(K2=0,\"\",H2)","v":""}]
[{"$f":"A2+1/24","v":"2019-01-01T01:00:00"},2,{"$f":"AVERAGE(INDEX('1-4 uur Profiel'!$I$4:$I$35139,(B3-1)*4+1),INDEX('1-4 uur Profiel'!$I$4:$I$35139,(B3-1)*4+2),INDEX('1-4 uur Profiel'!$I$4:$I$35139,(B3-1)*4+3),INDEX('1-4 uur Profiel'!$I$4:$I$35139,(B3-1)*4+4))","v":{"$error":"#DIV/0!"}},{"$f":"AVERAGE(INDEX('1-4 uur Profiel'!$G$4:$G$35139,(B3-1)*4+1),INDEX('1-4 uur Profiel'!$G$4:$G$35139,(B3-1)*4+2),INDEX('1-4 uur Profiel'!$G$4:$G$35139,(B3-1)*4+3),INDEX('1-4 uur Profiel'!$G$4:$G$35139,(B3-1)*4+4))","v":{"$error":"#DIV/0!"}},"januari",null,null,241.38874685679019,{"$f":"B3*H3","v":482.77749371358038},{"$f":"$G$5","v":434.49974434222236},{"$f":"IF(I3>=J3,I3,0)","v":482.77749371358038},{"$f":"IF(K3=0,\"\",H3)","v":241.38874685679019}]
[null,null,null,null,"januari","Max th prod",{"$f":"MAX(I2:I8785)","v":482.77749371358038}]
[null,null,null,null,"januari","90% Max Prod th",{"$f":"90%*G4","v":434.49974434222236}]
[null,null,null,null,"januari"]
[null,null,null,null,"januari","Num van MAX",{"$f":"MATCH(G4,I2:I8785,0)","v":2}]
[null,null,null,null,"januari","Vermogen van  MAX",{"$f":"INDEX(H2:H8785,G7)","v":241.38874685679019}]
[null,null,null,null,"januari"]
[null,null,null,null,"januari"]
[null,null,null,null,"januari","Vermogen max",{"$f":"MAX(L1:L8785)","v":241.38874685679019}]
[null,null,null,null,"januari"]
[null,null,null,null,"januari"]
[null,null,null,null,"januari","Vermogen min",{"$f":"MIN(L2:L8785)","v":241.38874685679019}]
[null,null,null,null,"januari"]
[null,null,null,null,"januari","Opgelet : Dit blad niet gebruiken !"]
[null,null,null,null,"januari"]
[null,null,null,null,"januari"]
[null,null,null,null,"januari"]
[null,null,null,null,"januari"]
[null,null,null,null,"januari"]
[null,null,null,null,"januari"]
[null,null,null,null,"januari"]
[null,null,null,null,"januari"]
[null,null,null,null,"januari"]
[null,null,null,null,"januari"]
[null,null,null,null,"januari"]
[null,null,null,null,"januari"]
[null,null,null,null,"januari"]
[null,null,null,null,"januari"]
[null,null,null,null,"januari"]
[null,null,null,null,"januari"]
[null,null,null,null,"januari"]
[null,null,null,null,"januari"]
[null,null,null,null,"januari"]
[null,null,null,null,"januari"]
[null,null,null,null,"januari"]
[null,null,null,null,"januari"]
[null,null,null,null,"januari"]
[null,null,null,null,"januari"]
[null,null,null,null,"januari"]
[null,null,null,null,"januari"]
[null,null,null,null,"januari"]
[null,null,null,null,"januari"]
[null,null,null,null,"januari"]
[null,null,null,null,"januari"]
[null,null,null,null,"januari"]
[null,null,null,null,"januari"]
[null,null,null,null,"januari"]
[null,null,null,null,"januari"]
[null,null,null,null,"januari"]
[null,null,null,null,"januari"]
[null,null,null,null,"januari"]
[null,null,null,null,"januari"]
[null,null,null,null,"januari"]
[null,null,null,null,"januari"]
[null,null,null,null,"januari"]
[null,null,null,null,"januari"]
[null,null,null,null,"januari"]
[null,null,null,null,"januari"]
[null,null,null,null,"januari"]
[null,null,null,null,"januari"]
[null,null,null,null,"januari"]
[null,null,null,null,"januari"]
[null,null,null,null,"januari"]
[null,null,null,null,"januari"]
[null,null,null,null,"januari"]
[null,null,null,null,"januari"]
[null,null,null,null,"januari"]
[null,null,null,null,"januari"]
[null,null,null,null,"januari"]
[null,null,null,null,"januari"]
[null,null,null,null,"januari"]
[null,null,null,null,"januari"]
[null,null,null,null,"januari"]
[null,null,null,null,"januari"]
[null,null,null,null,"januari"]
[null,null,null,null,"januari"]
[null,null,null,null,"januari"]
[null,null,null,null,"januari"]
[null,null,null,null,"januari"]
[null,null,null,null,"januari"]
[null,null,null,null,"januari"]
[null,null,null,null,"januari"]
[null,null,null,null,"januari"]
[null,null,null,null,"januari"]
[null,null,null,null,"januari"]
[null,null,null,null,"januari"]
[null,null,null,null,"januari"]
[null,null,null,null,"januari"]
[null,null,null,null,"januari"]
[null,null,null,null,"januari"]
[null,null,null,null,"januari"]
[null,null,null,null,"januari"]
[null,null,null,null,"januari"]
[null,null,null,null,"januari"]
[null,null,null,null,"januari"]
[null,null,null,null,"januari"]
[null,null,null,null,"januari"]
[null,null,null,null,"januari"]
[null,null,null,null,"januari"]
[null,null,null,null,"januari"]
[null,null,null,null,"januari"]
[null,null,null,null,"januari"]
[null,null,null,null,"januari"]
[null,null,null,null,"januari"]
[null,null,null,null,"januari"]
[null,null,null,null,"januari"]
[null,null,null,null,"januari"]
[null,null,null,null,"januari"]
[null,null,null,null,"januari"]
[null,null,null,null,"januari"]
[null,null,null,null,"januari"]
[null,null,null,null,"januari"]
[null,null,null,null,"januari"]
[null,null,null,null,"januari"]
[null,null,null,null,"januari"]
[null,null,null,null,"januari"]
[null,null,null,null,"januari"]
[null,null,null,null,"januari"]
[null,null,null,null,"januari"]
[null,null,null,null,"januari"]
[null,null,null,null,"januari"]
[null,null,null,null,"januari"]
[null,null,null,null,"januari"]
[null,null,null,null,"januari"]
[null,null,null,null,"januari"]
[null,null,null,null,"januari"]
[null,null,null,null,"januari"]
[null,null,null,null,"januari"]
[null,null,null,null,"januari"]
[null,null,null,null,"januari"]
[null,null,null,null,"januari"]
[null,null,null,null,"januari"]
[null,null,null,null,"januari"]
[null,null,null,null,"januari"]
[null,null,null,null,"januari"]
[null,null,null,null,"januari"]
[null,null,null,null,"januari"]
[null,null,null,null,"januari"]
[null,null,null,null,"januari"]
[null,null,null,null,"januari"]
[null,null,null,null,"januari"]
[null,null,null,null,"januari"]
[null,null,null,null,"januari"]
[null,null,null,null,"januari"]
[null,null,null,null,"januari"]
[null,null,null,null,"januari"]
[null,null,null,null,"januari"]
[null,null,null,null,"januari"]
[null,null,null,null,"januari"]
[null,null,null,null,"januari"]
[null,null,null,null,"januari"]
[null,null,null,null,"januari"]
[null,null,null,null,"januari"]
[null,null,null,null,"januari"]
[null,null,null,null,"januari"]
[null,null,null,null,"januari"]
[null,null,null,null,"januari"]
[null,null,null,null,"januari"]
[null,null,null,null,"januari"]
[null,null,null,null,"januari"]
[null,null,null,null,"januari"]
[null,null,null,null,"januari"]
[null,null,null,null,"januari"]
[null,null,null,null,"januari"]
[null,null,null,null,"januari"]
[null,null,null,null,"januari"]
[null,null,null,null,"januari"]
[null,null,null,null,"januari"]
[null,null,null,null,"januari"]
[null,null,null,null,"januari"]
[null,null,null,null,"januari"]
[null,null,null,null,"januari"]
[null,null,null,null,"januari"]
[null,null,null,null,"januari"]
[null,null,null,null,"januari"]
[null,null,null,null,"januari"]
[null,null,null,null,"januari"]
[null,null,null,null,"januari"]
[null,null,null,null,"januari"]
[null,null,null,null,"januari"]
[null,null,null,null,"januari"]
[null,null,null,null,"januari"]
[null,null,null,null,"januari"]
[null,null,null,null,"januari"]
[null,null,null,null,"januari"]
[null,null,null,null,"januari"]
[null,null,null,null,"januari"]
[null,null,null,null,"januari"]
[null,null,null,null,"januari"]
[null,null,null,null,"januari"]
[null,null,null,null,"januari"]
[null,null,null,null,"januari"]
[null,null,null,null,"januari"]
[null,null,null,null,"januari"]
[null,null,null,null,"januari"]
[null,null,null,null,"januari"]
[null,null,null,null,"januari"]
[null,null,null,null,"januari"]
[null,null,null,null,"januari"]
[null,null,null,null,"januari"]
[null,null,null,null,"januari"]
[null,null,null,null,"januari"]
[null,null,null,null,"januari"]
[null,null,null,null,"januari"]
[null,null,null,null,"januari"]
[null,null,null,null,"januari"]
[null,null,null,null,"januari"]
[null,null,null,null,"januari"]
[null,null,null,null,"januari"]
[null,null,null,null,"januari"]
[null,null,null,null,"januari"]
[null,null,null,null,"januari"]
[null,null,null,null,"januari"]
[null,null,null,null,"januari"]
[null,null,null,null,"januari"]
[null,null,null,null,"januari"]
[null,null,null,null,"januari"]
[null,null,null,null,"januari"]
[null,null,null,null,"januari"]
[null,null,null,null,"januari"]
[null,null,null,null,"januari"]
[null,null,null,null,"januari"]
[null,null,null,null,"januari"]
[null,null,null,null,"januari"]
[null,null,null,null,"januari"]
[null,null,null,null,"januari"]
[null,null,null,null,"januari"]
[null,null,null,null,"januari"]
[null,null,null,null,"januari"]
[null,null,null,null,"januari"]
[null,null,null,null,"januari"]
[null,null,null,null,"januari"]
[null,null,null,null,"januari"]
[null,null,null,null,"januari"]
[null,null,null,null,"januari"]
[null,null,null,null,"januari"]
[null,null,null,null,"januari"]
[null,null,null,null,"januari"]
[null,null,null,null,"januari"]
[null,null,null,null,"januari"]
[null,null,null,null,"januari"]
[null,null,null,null,"januari"]
[null,null,null,null,"januari"]
[null,null,null,null,"januari"]
[null,null,null,null,"januari"]
[null,null,null,null,"januari"]
[null,null,null,null,"januari"]
[null,null,null,null,"januari"]
[null,null,null,null,"januari"]
[null,null,null,null,"januari"]
[null,null,null,null,"januari"]
[null,null,null,null,"januari"]
[null,null,null,null,"januari"]
[null,null,null,null,"januari"]
[null,null,null,null,"januari"]
[null,null,null,null,"januari"]
[null,null,null,null,"januari"]
[null,null,null,null,"januari"]
[null,null,null,null,"januari"]
[null,null,null,null,"januari"]
[null,null,null,null,"januari"]
[null,null,null,null,"januari"]
[null,null,null,null,"januari"]
[null,null,null,null,"januari"]
[null,null,null,null,"januari"]
[null,null,null,null,"januari"]
[null,null,null,null,"januari"]
[null,null,null,null,"januari"]
[null,null,null,null,"januari"]
[null,null,null,null,"januari"]
[null,null,null,null,"januari"]
[null,null,null,null,"januari"]
[null,null,null,null,"januari"]
[null,null,null,null,"januari"]
[null,null,null,null,"januari"]
[null,null,null,null,"januari"]
[null,null,null,null,"januari"]
[null,null,null,null,"januari"]
[null,null,null,null,"januari"]
[null,null,null,null,"januari"]
[null,null,null,null,"januari"]
[null,null,null,null,"januari"]
[null,null,null,null,"januari"]
[null,null,null,null,"januari"]
[null,null,null,null,"januari"]
[null,null,null,null,"januari"]
[null,null,null,null,"januari"]
[null,null,null,null,"januari"]
[null,null,null,null,"januari"]
[null,null,null,null,"januari"]
[null,null,null,null,"januari"]
[null,null,null,null,"januari"]
[null,null,null,null,"januari"]
[null,null,null,null,"januari"]
[null,null,null,null,"januari"]
[null,null,null,null,"januari"]
[null,null,null,null,"januari"]
[null,null,null,null,"januari"]
[null,null,null,null,"januari"]
[null,null,null,null,"januari"]
[null,null,null,null,"januari"]
[null,null,null,null,"januari"]
[null,null,null,null,"januari"]
[null,null,null,null,"januari"]
[null,null,null,null,"januari"]
[null,null,null,null,"januari"]
[null,null,null,null,"januari"]
[null,null,null,null,"januari"]
[null,null,null,null,"januari"]
[null,null,null,null,"januari"]
[null,null,null,null,"januari"]
[null,null,null,null,"januari"]
[null,null,null,null,"januari"]
[null,null,null,null,"januari"]
[null,null,null,null,"januari"]
[null,null,null,null,"januari"]
[null,null,null,null,"januari"]
[null,null,null,null,"januari"]
[null,null,null,null,"januari"]
[null,null,null,null,"januari"]
[null,null,null,null,"januari"]
[null,null,null,null,"januari"]
[null,null,null,null,"januari"]
[null,null,null,null,"januari"]
[null,null,null,null,"januari"]
[null,null,null,null,"januari"]
[null,null,null,null,"januari"]
[null,null,null,null,"januari"]
[null,null,null,null,"januari"]
[null,null,null,null,"januari"]
[null,null,null,null,"januari"]
[null,null,null,null,"januari"]
[null,null,null,null,"januari"]
[null,null,null,null,"januari"]
[null,null,null,null,"januari"]
[null,null,null,null,"januari"]
[null,null,null,null,"januari"]
[null,null,null,null,"januari"]
[null,null,null,null,"januari"]
[null,null,null,null,"januari"]
[null,null,null,null,"januari"]
[null,null,null,null,"januari"]
[null,null,null,null,"januari"]
[null,null,null,null,"januari"]
[null,null,null,null,"januari"]
[null,null,null,null,"januari"]
[null,null,null,null,"januari"]
[null,null,null,null,"januari"]
[null,null,null,null,"januari"]
[null,null,null,null,"januari"]
[null,null,null,null,"januari"]
[null,null,null,null,"januari"]
[null,null,null,null,"januari"]
[null,null,null,null,"januari"]
[null,null,null,null,"januari"]
[null,null,null,null,"januari"]
[null,null,null,null,"januari"]
[null,null,null,null,"januari"]
[null,null,null,null,"januari"]
[null,null,null,null,"januari"]
[null,null,null,null,"januari"]
[null,null,null,null,"januari"]
[null,null,null,null,"januari"]
[null,null,null,null,"januari"]
[null,null,null,null,"januari"]
[null,null,null,null,"januari"]
[null,null,null,null,"januari"]
[null,null,null,null,"januari"]
[null,null,null,null,"januari"]
[null,null,null,null,"januari"]
[null,null,null,null,"januari"]
[null,null,null,null,"januari"]
[null,null,null,null,"januari"]
[null,null,null,null,"januari"]
[null,null,null,null,"januari"]
[null,null,null,null,"januari"]
[null,null,null,null,"januari"]
[null,null,null,null,"januari"]
[null,null,null,null,"januari"]
[null,null,null,null,"januari"]
[null,null,null,null,"januari"]
[null,null,null,null,"januari"]
[null,null,null,null,"januari"]
[null,null,null,null,"januari"]
[null,null,null,null,"januari"]
[null,null,null,null,"januari"]
[null,null,null,null,"januari"]
[null,null,null,null,"januari"]
[null,null,null,null,"januari"]
[null,null,null,null,"januari"]
[null,null,null,null,"januari"]
[null,null,null,null,"januari"]
[null,null,null,null,"januari"]
[null,null,null,null,"januari"]
[null,null,null,null,"januari"]
[null,null,null,null,"januari"]
[null,null,null,null,"januari"]
[null,null,null,null,"januari"]
[null,null,null,null,"januari"]
[null,null,null,null,"januari"]
[null,null,null,null,"januari"]
[null,null,null,null,"januari"]
[null,null,null,null,"januari"]
[null,null,null,null,"januari"]
[null,null,null,null,"januari"]
[null,null,null,null,"januari"]
[null,null,null,null,"januari"]
[null,null,null,null,"januari"]
[null,null,null,null,"januari"]
[null,null,null,null,"januari"]
[null,null,null,null,"januari"]
[null,null,null,null,"januari"]
[null,null,null,null,"januari"]
[null,null,null,null,"januari"]
[null,null,null,null,"januari"]
[null,null,null,null,"januari"]
[null,null,null,null,"januari"]
[null,null,null,null,"januari"]
[null,null,null,null,"januari"]
[null,null,null,null,"januari"]
[null,null,null,null,"januari"]
[null,null,null,null,"januari"]
[null,null,null,null,"januari"]
[null,null,null,null,"januari"]
[null,null,null,null,"januari"]
[null,null,null,null,"januari"]
[null,null,null,null,"januari"]
[null,null,null,null,"januari"]
[null,null,null,null,"januari"]
[null,null,null,null,"januari"]
[null,null,null,null,"januari"]
[null,null,null,null,"januari"]
[null,null,null,null,"januari"]
[null,null,null,null,"januari"]
[null,null,null,null,"januari"]
[null,null,null,null,"januari"]
[null,null,null,null,"januari"]
[null,null,null,null,"januari"]
[null,null,null,null,"januari"]
[null,null,null,null,"januari"]
[null,null,null,null,"januari"]
[null,null,null,null,"januari"]
[null,null,null,null,"januari"]
[null,null,null,null,"januari"]
[null,null,null,null,"januari"]
[null,null,null,null,"januari"]
[null,null,null,null,"januari"]
[null,null,null,null,"januari"]
[null,null,null,null,"januari"]
[null,null,null,null,"januari"]
[null,null,null,null,"januari"]
[null,null,null,null,"januari"]
[null,null,null,null,"januari"]
[null,null,null,null,"januari"]
[null,null,null,null,"januari"]
[null,null,null,null,"januari"]
[null,null,null,null,"januari"]
[null,null,null,null,"januari"]
[null,null,null,null,"januari"]
[null,null,null,null,"januari"]
[null,null,null,null,"januari"]
[null,null,null,null,"januari"]
[null,null,null,null,"januari"]
[null,null,null,null,"januari"]
[null,null,null,null,"januari"]
[null,null,null,null,"januari"]
[null,null,null,null,"januari"]
[null,null,null,null,"januari"]
[null,null,null,null,"januari"]
[null,null,null,null,"januari"]
[null,null,null,null,"januari"]
[null,null,null,null,"januari"]
[null,null,null,null,"januari"]
[null,null,null,null,"januari"]
[null,null,null,null,"januari"]
[null,null,null,null,"januari"]
[null,null,null,null,"januari"]
[null,null,null,null,"januari"]
[null,null,null,null,"januari"]
[null,null,null,null,"januari"]
[null,null,null,null,"januari"]
[null,null,null,null,"januari"]
[null,null,null,null,"januari"]
[null,null,null,null,"januari"]
[null,null,null,null,"januari"]
[null,null,null,null,"januari"]
[null,null,null,null,"januari"]
[null,null,null,null,"januari"]
[null,null,null,null,"januari"]
[null,null,null,null,"januari"]
[null,null,null,null,"januari"]
[null,null,null,null,"januari"]
[null,null,null,null,"januari"]
[null,null,null,null,"januari"]
[null,null,null,null,"januari"]
[null,null,null,null,"januari"]
[null,null,null,null,"januari"]
[null,null,null,null,"januari"]
[null,null,null,null,"januari"]
[null,null,null,null,"januari"]
[null,null,null,null,"januari"]
[null,null,null,null,"januari"]
[null,null,null,null,"januari"]
[null,null,null,null,"januari"]
[null,null,null,null,"januari"]
[null,null,null,null,"januari"]
[null,null,null,null,"januari"]
[null,null,null,null,"januari"]
[null,null,null,null,"januari"]
[null,null,null,null,"januari"]
[null,null,null,null,"januari"]
[null,null,null,null,"januari"]
[null,null,null,null,"januari"]
[null,null,null,null,"januari"]
[null,null,null,null,"januari"]
[null,null,null,null,"januari"]
[null,null,null,null,"januari"]
[null,null,null,null,"januari"]
[null,null,null,null,"januari"]
[null,null,null,null,"januari"]
[null,null,null,null,"januari"]
[null,null,null,null,"januari"]
[null,null,null,null,"januari"]
[null,null,null,null,"januari"]
[null,null,null,null,"januari"]
[null,null,null,null,"januari"]
[null,null,null,null,"januari"]
[null,null,null,null,"januari"]
[null,null,null,null,"januari"]
[null,null,null,null,"januari"]
[null,null,null,null,"januari"]
[null,null,null,null,"januari"]
[null,null,null,null,"januari"]
[null,null,null,null,"januari"]
[null,null,null,null,"januari"]
[null,null,null,null,"januari"]
[null,null,null,null,"januari"]
[null,null,null,null,"januari"]
[null,null,null,null,"januari"]
[null,null,null,null,"januari"]
[null,null,null,null,"januari"]
[null,null,null,null,"januari"]
[null,null,null,null,"januari"]
[null,null,null,null,"januari"]
[null,null,null,null,"januari"]
[null,null,null,null,"januari"]
[null,null,null,null,"januari"]
[null,null,null,null,"januari"]
[null,null,null,null,"januari"]
[null,null,null,null,"januari"]
[null,null,null,null,"januari"]
[null,null,null,null,"januari"]
[null,null,null,null,"januari"]
[null,null,null,null,"januari"]
[null,null,null,null,"januari"]
[null,null,null,null,"januari"]
[null,null,null,null,"januari"]
[null,null,null,null,"januari"]
[null,null,null,null,"januari"]
[null,null,null,null,"januari"]
[null,null,null,null,"januari"]
[null,null,null,null,"januari"]
[null,null,null,null,"januari"]
[null,null,null,null,"januari"]
[null,null,null,null,"januari"]
[null,null,null,null,"januari"]
[null,null,null,null,"januari"]
[null,null,null,null,"januari"]
[null,null,null,null,"januari"]
[null,null,null,null,"januari"]
[null,null,null,null,"januari"]
[null,null,null,null,"januari"]
[null,null,null,null,"januari"]
[null,null,null,null,"januari"]
[null,null,null,null,"januari"]
[null,null,null,null,"januari"]
[null,null,null,null,"januari"]
[null,null,null,null,"januari"]
[null,null,null,null,"januari"]
[null,null,null,null,"januari"]
[null,null,null,null,"januari"]
[null,null,null,null,"januari"]
[null,null,null,null,"januari"]
[null,null,null,null,"januari"]
[null,null,null,null,"januari"]
[null,null,null,null,"januari"]
[null,null,null,null,"januari"]
[null,null,null,null,"januari"]
[null,null,null,null,"januari"]
[null,null,null,null,"januari"]
[null,null,null,null,"januari"]
[null,null,null,null,"januari"]
[null,null,null,null,"januari"]
[null,null,null,null,"januari"]
[null,null,null,null,"januari"]
[null,null,null,null,"januari"]
[null,null,null,null,"januari"]
[null,null,null,null,"januari"]
[null,null,null,null,"januari"]
[null,null,null,null,"januari"]
[null,null,null,null,"januari"]
[null,null,null,null,"januari"]
[null,null,null,null,"januari"]
[null,null,null,null,"januari"]
[null,null,null,null,"januari"]
[null,null,null,null,"januari"]
[null,null,null,null,"januari"]
[null,null,null,null,"januari"]
[null,null,null,null,"januari"]
[null,null,null,null,"januari"]
[null,null,null,null,"januari"]
[null,null,null,null,"januari"]
[null,null,null,null,"januari"]
[null,null,null,null,"januari"]
[null,null,null,null,"januari"]
[null,null,null,null,"januari"]
[null,null,null,null,"januari"]
[null,null,null,null,"januari"]
[null,null,null,null,"januari"]
[null,null,null,null,"januari"]
[null,null,null,null,"januari"]
[null,null,null,null,"januari"]
[null,null,null,null,"januari"]
[null,null,null,null,"januari"]
[null,null,null,null,"januari"]
[null,null,null,null,"januari"]
[null,null,null,null,"januari"]
[null,null,null,null,"januari"]
[null,null,null,null,"januari"]
[null,null,null,null,"januari"]
[null,null,null,null,"januari"]
[null,null,null,null,"januari"]
[null,null,null,null,"januari"]
[null,null,null,null,"januari"]
[null,null,null,null,"januari"]
[null,null,null,null,"januari"]
[null,null,null,null,"januari"]
[null,null,null,null,"januari"]
[null,null,null,null,"januari"]
[null,null,null,null,"januari"]
[null,null,null,null,"januari"]
[null,null,null,null,"januari"]
[null,null,null,null,"januari"]
[null,null,null,null,"januari"]
[null,null,null,null,"januari"]
[null,null,null,null,"januari"]
[null,null,null,null,"januari"]
[null,null,null,null,"januari"]
[null,null,null,null,"januari"]
[null,null,null,null,"januari"]
[null,null,null,null,"januari"]
[null,null,null,null,"januari"]
[null,null,null,null,"januari"]
[null,null,null,null,"januari"]
[null,null,null,null,"januari"]
[null,null,null,null,"januari"]
[null,null,null,null,"januari"]
[null,null,null,null,"januari"]
[null,null,null,null,"januari"]
[null,null,null,null,"januari"]
[null,null,null,null,"januari"]
[null,null,null,null,"januari"]
[null,null,null,null,"januari"]
[null,null,null,null,"januari"]
[null,null,null,null,"januari"]
[null,null,null,null,"januari"]
[null,null,null,null,"januari"]
[null,null,null,null,"januari"]
[null,null,null,null,"januari"]
[null,null,null,null,"januari"]
[null,null,null,null,"januari"]
[null,null,null,null,"januari"]
[null,null,null,null,"januari"]
[null,null,null,null,"januari"]
[null,null,null,null,"januari"]
[null,null,null,null,"januari"]
[null,null,null,null,"januari"]
[null,null,null,null,"januari"]
[null,null,null,null,"januari"]
[null,null,null,null,"januari"]
[null,null,null,null,"januari"]
[null,null,null,null,"januari"]
[null,null,null,null,"januari"]
[null,null,null,null,"januari"]
[null,null,null,null,"januari"]
[null,null,null,null,"januari"]
[null,null,null,null,"januari"]
[null,null,null,null,"januari"]
[null,null,null,null,"januari"]
[null,null,null,null,"januari"]
[null,null,null,null,"januari"]
[null,null,null,null,"januari"]
[null,null,null,null,"januari"]
[null,null,null,null,"januari"]
[null,null,null,null,"januari"]
[null,null,null,null,"februari"]
[null,null,null,null,"februari"]
[null,null,null,null,"februari"]
[null,null,null,null,"februari"]
[null,null,null,null,"februari"]
[null,null,null,null,"februari"]
[null,null,null,null,"februari"]
[null,null,null,null,"februari"]
[null,null,null,null,"februari"]
[null,null,null,null,"februari"]
[null,null,null,null,"februari"]
[null,null,null,null,"februari"]
[null,null,null,null,"februari"]
[null,null,null,null,"februari"]
[null,null,null,null,"februari"]
[null,null,null,null,"februari"]
[null,null,null,null,"februari"]
[null,null,null,null,"februari"]
[null,null,null,null,"februari"]
[null,null,null,null,"februari"]
[null,null,null,null,"februari"]
[null,null,null,null,"februari"]
[null,null,null,null,"februari"]
[null,null,null,null,"februari"]
[null,null,null,null,"februari"]
[null,null,null,null,"februari"]
[null,null,null,null,"februari"]
[null,null,null,null,"februari"]
[null,null,null,null,"februari"]
[null,null,null,null,"februari"]
[null,null,null,null,"februari"]
[null,null,null,null,"februari"]
[null,null,null,null,"februari"]
[null,null,null,null,"februari"]
[null,null,null,null,"februari"]
[null,null,null,null,"februari"]
[null,null,null,null,"februari"]
[null,null,null,null,"februari"]
[null,null,null,null,"februari"]
[null,null,null,null,"februari"]
[null,null,null,null,"februari"]
[null,null,null,null,"februari"]
[null,null,null,null,"februari"]
[null,null,null,null,"februari"]
[null,null,null,null,"februari"]
[null,null,null,null,"februari"]
[null,null,null,null,"februari"]
[null,null,null,null,"februari"]
[null,null,null,null,"februari"]
[null,null,null,null,"februari"]
[null,null,null,null,"februari"]
[null,null,null,null,"februari"]
[null,null,null,null,"februari"]
[null,null,null,null,"februari"]
[null,null,null,null,"februari"]
[null,null,null,null,"februari"]
[null,null,null,null,"februari"]
[null,null,null,null,"februari"]
[null,null,null,null,"februari"]
[null,null,null,null,"februari"]
[null,null,null,null,"februari"]
[null,null,null,null,"februari"]
[null,null,null,null,"februari"]
[null,null,null,null,"februari"]
[null,null,null,null,"februari"]
[null,null,null,null,"februari"]
[null,null,null,null,"februari"]
[null,null,null,null,"februari"]
[null,null,null,null,"februari"]
[null,null,null,null,"februari"]
[null,null,null,null,"februari"]
[null,null,null,null,"februari"]
[null,null,null,null,"februari"]
[null,null,null,null,"februari"]
[null,null,null,null,"februari"]
[null,null,null,null,"februari"]
[null,null,null,null,"februari"]
[null,null,null,null,"februari"]
[null,null,null,null,"februari"]
[null,null,null,null,"februari"]
[null,null,null,null,"februari"]
[null,null,null,null,"februari"]
[null,null,null,null,"februari"]
[null,null,null,null,"februari"]
[null,null,null,null,"februari"]
[null,null,null,null,"februari"]
[null,null,null,null,"februari"]
[null,null,null,null,"februari"]
[null,null,null,null,"februari"]
[null,null,null,null,"februari"]
[null,null,null,null,"februari"]
[null,null,null,null,"februari"]
[null,null,null,null,"februari"]
[null,null,null,null,"februari"]
[null,null,null,null,"februari"]
[null,null,null,null,"februari"]
[null,null,null,null,"februari"]
[null,null,null,null,"februari"]
[null,null,null,null,"februari"]
[null,null,null,null,"februari"]
[null,null,null,null,"februari"]
[null,null,null,null,"februari"]
[null,null,null,null,"februari"]
[null,null,null,null,"februari"]
[null,null,null,null,"februari"]
[null,null,null,null,"februari"]
[null,null,null,null,"februari"]
[null,null,null,null,"februari"]
[null,null,null,null,"februari"]
[null,null,null,null,"februari"]
[null,null,null,null,"februari"]
[null,null,null,null,"februari"]
[null,null,null,null,"februari"]
[null,null,null,null,"februari"]
[null,null,null,null,"februari"]
[null,null,null,null,"februari"]
[null,null,null,null,"februari"]
[null,null,null,null,"februari"]
[null,null,null,null,"februari"]
[null,null,null,null,"februari"]
[null,null,null,null,"februari"]
[null,null,null,null,"februari"]
[null,null,null,null,"februari"]
[null,null,null,null,"februari"]
[null,null,null,null,"februari"]
[null,null,null,null,"februari"]
[null,null,null,null,"februari"]
[null,null,null,null,"februari"]
[null,null,null,null,"februari"]
[null,null,null,null,"februari"]
[null,null,null,null,"februari"]
[null,null,null,null,"februari"]
[null,null,null,null,"februari"]
[null,null,null,null,"februari"]
[null,null,null,null,"februari"]
[null,null,null,null,"februari"]
[null,null,null,null,"februari"]
[null,null,null,null,"februari"]
[null,null,null,null,"februari"]
[null,null,null,null,"februari"]
[null,null,null,null,"februari"]
[null,null,null,null,"februari"]
[null,null,null,null,"februari"]
[null,null,null,null,"februari"]
[null,null,null,null,"februari"]
[null,null,null,null,"februari"]
[null,null,null,null,"februari"]
[null,null,null,null,"februari"]
[null,null,null,null,"februari"]
[null,null,null,null,"februari"]
[null,null,null,null,"februari"]
[null,null,null,null,"februari"]
[null,null,null,null,"februari"]
[null,null,null,null,"februari"]
[null,null,null,null,"februari"]
[null,null,null,null,"februari"]
[null,null,null,null,"februari"]
[null,null,null,null,"februari"]
[null,null,null,null,"februari"]
[null,null,null,null,"februari"]
[null,null,null,null,"februari"]
[null,null,null,null,"februari"]
[null,null,null,null,"februari"]
[null,null,null,null,"februari"]
[null,null,null,null,"februari"]
[null,null,null,null,"februari"]
[null,null,null,null,"februari"]
[null,null,null,null,"februari"]
[null,null,null,null,"februari"]
[null,null,null,null,"februari"]
[null,null,null,null,"februari"]
[null,null,null,null,"februari"]
[null,null,null,null,"februari"]
[null,null,null,null,"februari"]
[null,null,null,null,"februari"]
[null,null,null,null,"februari"]
[null,null,null,null,"februari"]
[null,null,null,null,"februari"]
[null,null,null,null,"februari"]
[null,null,null,null,"februari"]
[null,null,null,null,"februari"]
[null,null,null,null,"februari"]
[null,null,null,null,"februari"]
[null,null,null,null,"februari"]
[null,null,null,null,"februari"]
[null,null,null,null,"februari"]
[null,null,null,null,"februari"]
[null,null,null,null,"februari"]
[null,null,null,null,"februari"]
[null,null,null,null,"februari"]
[null,null,null,null,"februari"]
[null,null,null,null,"februari"]
[null,null,null,null,"februari"]
[null,null,null,null,"februari"]
[null,null,null,null,"februari"]
[null,null,null,null,"februari"]
[null,null,null,null,"februari"]
[null,null,null,null,"februari"]
[null,null,null,null,"februari"]
[null,null,null,null,"februari"]
[null,null,null,null,"februari"]
[null,null,null,null,"februari"]
[null,null,null,null,"februari"]
[null,null,null,null,"februari"]
[null,null,null,null,"februari"]
[null,null,null,null,"februari"]
[null,null,null,null,"februari"]
[null,null,null,null,"februari"]
[null,null,null,null,"februari"]
[null,null,null,null,"februari"]
[null,null,null,null,"februari"]
[null,null,null,null,"februari"]
[null,null,null,null,"februari"]
[null,null,null,null,"februari"]
[null,null,null,null,"februari"]
[null,null,null,null,"februari"]
[null,null,null,null,"februari"]
[null,null,null,null,"februari"]
[null,null,null,null,"februari"]
[null,null,null,null,"februari"]
[null,null,null,null,"februari"]
[null,null,null,null,"februari"]
[null,null,null,null,"februari"]
[null,null,null,null,"februari"]
[null,null,null,null,"februari"]
[null,null,null,null,"februari"]
[null,null,null,null,"februari"]
[null,null,null,null,"februari"]
[null,null,null,null,"februari"]
[null,null,null,null,"februari"]
[null,null,null,null,"februari"]
[null,null,null,null,"februari"]
[null,null,null,null,"februari"]
[null,null,null,null,"februari"]
[null,null,null,null,"februari"]
[null,null,null,null,"februari"]
[null,null,null,null,"februari"]
[null,null,null,null,"februari"]
[null,null,null,null,"februari"]
[null,null,null,null,"februari"]
[null,null,null,null,"februari"]
[null,null,null,null,"februari"]
[null,null,null,null,"februari"]
[null,null,null,null,"februari"]
[null,null,null,null,"februari"]
[null,null,null,null,"februari"]
[null,null,null,null,"februari"]
[null,null,null,null,"februari"]
[null,null,null,null,"februari"]
[null,null,null,null,"februari"]
[null,null,null,null,"februari"]
[null,null,null,null,"februari"]
[null,null,null,null,"februari"]
[null,null,null,null,"februari"]
[null,null,null,null,"februari"]
[null,null,null,null,"februari"]
[null,null,null,null,"februari"]
[null,null,null,null,"februari"]
[null,null,null,null,"februari"]
[null,null,null,null,"februari"]
[null,null,null,null,"februari"]
[null,null,null,null,"februari"]
[null,null,null,null,"februari"]
[null,null,null,null,"februari"]
[null,null,null,null,"februari"]
[null,null,null,null,"februari"]
[null,null,null,null,"februari"]
[null,null,null,null,"februari"]
[null,null,null,null,"februari"]
[null,null,null,null,"februari"]
[null,null,null,null,"februari"]
[null,null,null,null,"februari"]
[null,null,null,null,"februari"]
[null,null,null,null,"februari"]
[null,null,null,null,"februari"]
[null,null,null,null,"februari"]
[null,null,null,null,"februari"]
[null,null,null,null,"februari"]
[null,null,null,null,"februari"]
[null,null,null,null,"februari"]
[null,null,null,null,"februari"]
[null,null,null,null,"februari"]
[null,null,null,null,"februari"]
[null,null,null,null,"februari"]
[null,null,null,null,"februari"]
[null,null,null,null,"februari"]
[null,null,null,null,"februari"]
[null,null,null,null,"februari"]
[null,null,null,null,"februari"]
[null,null,null,null,"februari"]
[null,null,null,null,"februari"]
[null,null,null,null,"februari"]
[null,null,null,null,"februari"]
[null,null,null,null,"februari"]
[null,null,null,null,"februari"]
[null,null,null,null,"februari"]
[null,null,null,null,"februari"]
[null,null,null,null,"februari"]
[null,null,null,null,"februari"]
[null,null,null,null,"februari"]
[null,null,null,null,"februari"]
[null,null,null,null,"februari"]
[null,null,null,null,"februari"]
[null,null,null,null,"februari"]
[null,null,null,null,"februari"]
[null,null,null,null,"februari"]
[null,null,null,null,"februari"]
[null,null,null,null,"februari"]
[null,null,null,null,"februari"]
[null,null,null,null,"februari"]
[null,null,null,null,"februari"]
[null,null,null,null,"februari"]
[null,null,null,null,"februari"]
[null,null,null,null,"februari"]
[null,null,null,null,"februari"]
[null,null,null,null,"februari"]
[null,null,null,null,"februari"]
[null,null,null,null,"februari"]
[null,null,null,null,"februari"]
[null,null,null,null,"februari"]
[null,null,null,null,"februari"]
[null,null,null,null,"februari"]
[null,null,null,null,"februari"]
[null,null,null,null,"februari"]
[null,null,null,null,"februari"]
[null,null,null,null,"februari"]
[null,null,null,null,"februari"]
[null,null,null,null,"februari"]
[null,null,null,null,"februari"]
[null,null,null,null,"februari"]
[null,null,null,null,"februari"]
[null,null,null,null,"februari"]
[null,null,null,null,"februari"]
[null,null,null,null,"februari"]
[null,null,null,null,"februari"]
[null,null,null,null,"februari"]
[null,null,null,null,"februari"]
[null,null,null,null,"februari"]
[null,null,null,null,"februari"]
[null,null,null,null,"februari"]
[null,null,null,null,"februari"]
[null,null,null,null,"februari"]
[null,null,null,null,"februari"]
[null,null,null,null,"februari"]
[null,null,null,null,"februari"]
[null,null,null,null,"februari"]
[null,null,null,null,"februari"]
[null,null,null,null,"februari"]
[null,null,null,null,"februari"]
[null,null,null,null,"februari"]
[null,null,null,null,"februari"]
[null,null,null,null,"februari"]
[null,null,null,null,"februari"]
[null,null,null,null,"februari"]
[null,null,null,null,"februari"]
[null,null,null,null,"februari"]
[null,null,null,null,"februari"]
[null,null,null,null,"februari"]
[null,null,null,null,"februari"]
[null,null,null,null,"februari"]
[null,null,null,null,"februari"]
[null,null,null,null,"februari"]
[null,null,null,null,"februari"]
[null,null,null,null,"februari"]
[null,null,null,null,"februari"]
[null,null,null,null,"februari"]
[null,null,null,null,"februari"]
[null,null,null,null,"februari"]
[null,null,null,null,"februari"]
[null,null,null,null,"februari"]
[null,null,null,null,"februari"]
[null,null,null,null,"februari"]
[null,null,null,null,"februari"]
[null,null,null,null,"februari"]
[null,null,null,null,"februari"]
[null,null,null,null,"februari"]
[null,null,null,null,"februari"]
[null,null,null,null,"februari"]
[null,null,null,null,"februari"]
[null,null,null,null,"februari"]
[null,null,null,null,"februari"]
[null,null,null,null,"februari"]
[null,null,null,null,"februari"]
[null,null,null,null,"februari"]
[null,null,null,null,"februari"]
[null,null,null,null,"februari"]
[null,null,null,null,"februari"]
[null,null,null,null,"februari"]
[null,null,null,null,"februari"]
[null,null,null,null,"februari"]
[null,null,null,null,"februari"]
[null,null,null,null,"februari"]
[null,null,null,null,"februari"]
[null,null,null,null,"februari"]
[null,null,null,null,"februari"]
[null,null,null,null,"februari"]
[null,null,null,null,"februari"]
[null,null,null,null,"februari"]
[null,null,null,null,"februari"]
[null,null,null,null,"februari"]
[null,null,null,null,"februari"]
[null,null,null,null,"februari"]
[null,null,null,null,"februari"]
[null,null,null,null,"februari"]
[null,null,null,null,"februari"]
[null,null,null,null,"februari"]
[null,null,null,null,"februari"]
[null,null,null,null,"februari"]
[null,null,null,null,"februari"]
[null,null,null,null,"februari"]
[null,null,null,null,"februari"]
[null,null,null,null,"februari"]
[null,null,null,null,"februari"]
[null,null,null,null,"februari"]
[null,null,null,null,"februari"]
[null,null,null,null,"februari"]
[null,null,null,null,"februari"]
[null,null,null,null,"februari"]
[null,null,null,null,"februari"]
[null,null,null,null,"februari"]
[null,null,null,null,"februari"]
[null,null,null,null,"februari"]
[null,null,null,null,"februari"]
[null,null,null,null,"februari"]
[null,null,null,null,"februari"]
[null,null,null,null,"februari"]
[null,null,null,null,"februari"]
[null,null,null,null,"februari"]
[null,null,null,null,"februari"]
[null,null,null,null,"februari"]
[null,null,null,null,"februari"]
[null,null,null,null,"februari"]
[null,null,null,null,"februari"]
[null,null,null,null,"februari"]
[null,null,null,null,"februari"]
[null,null,null,null,"februari"]
[null,null,null,null,"februari"]
[null,null,null,null,"februari"]
[null,null,null,null,"februari"]
[null,null,null,null,"februari"]
[null,null,null,null,"februari"]
[null,null,null,null,"februari"]
[null,null,null,null,"februari"]
[null,null,null,null,"februari"]
[null,null,null,null,"februari"]
[null,null,null,null,"februari"]
[null,null,null,null,"februari"]
[null,null,null,null,"februari"]
[null,null,null,null,"februari"]
[null,null,null,null,"februari"]
[null,null,null,null,"februari"]
[null,null,null,null,"februari"]
[null,null,null,null,"februari"]
[null,null,null,null,"februari"]
[null,null,null,null,"februari"]
[null,null,null,null,"februari"]
[null,null,null,null,"februari"]
[null,null,null,null,"februari"]
[null,null,null,null,"februari"]
[null,null,null,null,"februari"]
[null,null,null,null,"februari"]
[null,null,null,null,"februari"]
[null,null,null,null,"februari"]
[null,null,null,null,"februari"]
[null,null,null,null,"februari"]
[null,null,null,null,"februari"]
[null,null,null,null,"februari"]
[null,null,null,null,"februari"]
[null,null,null,null,"februari"]
[null,null,null,null,"februari"]
[null,null,null,null,"februari"]
[null,null,null,null,"februari"]
[null,null,null,null,"februari"]
[null,null,null,null,"februari"]
[null,null,null,null,"februari"]
[null,null,null,null,"februari"]
[null,null,null,null,"februari"]
[null,null,null,null,"februari"]
[null,null,null,null,"februari"]
[null,null,null,null,"februari"]
[null,null,null,null,"februari"]
[null,null,null,null,"februari"]
[null,null,null,null,"februari"]
[null,null,null,null,"februari"]
[null,null,null,null,"februari"]
[null,null,null,null,"februari"]
[null,null,null,null,"februari"]
[null,null,null,null,"februari"]
[null,null,null,null,"februari"]
[null,null,null,null,"februari"]
[null,null,null,null,"februari"]
[null,null,null,null,"februari"]
[null,null,null,null,"februari"]
[null,null,null,null,"februari"]
[null,null,null,null,"februari"]
[null,null,null,null,"februari"]
[null,null,null,null,"februari"]
[null,null,null,null,"februari"]
[null,null,null,null,"februari"]
[null,null,null,null,"februari"]
[null,null,null,null,"februari"]
[null,null,null,null,"februari"]
[null,null,null,null,"februari"]
[null,null,null,null,"februari"]
[null,null,null,null,"februari"]
[null,null,null,null,"februari"]
[null,null,null,null,"februari"]
[null,null,null,null,"februari"]
[null,null,null,null,"februari"]
[null,null,null,null,"februari"]
[null,null,null,null,"februari"]
[null,null,null,null,"februari"]
[null,null,null,null,"februari"]
[null,null,null,null,"februari"]
[null,null,null,null,"februari"]
[null,null,null,null,"februari"]
[null,null,null,null,"februari"]
[null,null,null,null,"februari"]
[null,null,null,null,"februari"]
[null,null,null,null,"februari"]
[null,null,null,null,"februari"]
[null,null,null,null,"februari"]
[null,null,null,null,"februari"]
[null,null,null,null,"februari"]
[null,null,null,null,"februari"]
[null,null,null,null,"februari"]
[null,null,null,null,"februari"]
[null,null,null,null,"februari"]
[null,null,null,null,"februari"]
[null,null,null,null,"februari"]
[null,null,null,null,"februari"]
[null,null,null,null,"februari"]
[null,null,null,null,"februari"]
[null,null,null,null,"februari"]
[null,null,null,null,"februari"]
[null,null,null,null,"februari"]
[null,null,null,null,"februari"]
[null,null,null,null,"februari"]
[null,null,null,null,"februari"]
[null,null,null,null,"februari"]
[null,null,null,null,"februari"]
[null,null,null,null,"februari"]
[null,null,null,null,"februari"]
[null,null,null,null,"februari"]
[null,null,null,null,"februari"]
[null,null,null,null,"februari"]
[null,null,null,null,"februari"]
[null,null,null,null,"februari"]
[null,null,null,null,"februari"]
[null,null,null,null,"februari"]
[null,null,null,null,"februari"]
[null,null,null,null,"februari"]
[null,null,null,null,"februari"]
[null,null,null,null,"februari"]
[null,null,null,null,"februari"]
[null,null,null,null,"februari"]
[null,null,null,null,"februari"]
[null,null,null,null,"februari"]
[null,null,null,null,"februari"]
[null,null,null,null,"februari"]
[null,null,null,null,"februari"]
[null,null,null,null,"februari"]
[null,null,null,null,"februari"]
[null,null,null,null,"februari"]
[null,null,null,null,"februari"]
[null,null,null,null,"februari"]
[null,null,null,null,"februari"]
[null,null,null,null,"februari"]
[null,null,null,null,"februari"]
[null,null,null,null,"februari"]
[null,null,null,null,"februari"]
[null,null,null,null,"februari"]
[null,null,null,null,"februari"]
[null,null,null,null,"februari"]
[null,null,null,null,"februari"]
[null,null,null,null,"februari"]
[null,null,null,null,"februari"]
[null,null,null,null,"februari"]
[null,null,null,null,"februari"]
[null,null,null,null,"februari"]
[null,null,null,null,"februari"]
[null,null,null,null,"februari"]
[null,null,null,null,"februari"]
[null,null,null,null,"februari"]
[null,null,null,null,"februari"]
[null,null,null,null,"februari"]
[null,null,null,null,"februari"]
[null,null,null,null,"februari"]
[null,null,null,null,"februari"]
[null,null,null,null,"februari"]
[null,null,null,null,"februari"]
[null,null,null,null,"februari"]
[null,null,null,null,"februari"]
[null,null,null,null,"februari"]
[null,null,null,null,"februari"]
[null,null,null,null,"februari"]
[null,null,null,null,"februari"]
[null,null,null,null,"februari"]
[null,null,null,null,"februari"]
[null,null,null,null,"februari"]
[null,null,null,null,"februari"]
[null,null,null,null,"februari"]
[null,null,null,null,"februari"]
[null,null,null,null,"februari"]
[null,null,null,null,"februari"]
[null,null,null,null,"februari"]
[null,null,null,null,"februari"]
[null,null,null,null,"februari"]
[null,null,null,null,"februari"]
[null,null,null,null,"februari"]
[null,null,null,null,"februari"]
[null,null,null,null,"februari"]
[null,null,null,null,"februari"]
[null,null,null,null,"februari"]
[null,null,null,null,"februari"]
[null,null,null,null,"februari"]
[null,null,null,null,"februari"]
[null,null,null,null,"februari"]
[null,null,null,null,"februari"]
[null,null,null,null,"februari"]
[null,null,null,null,"februari"]
[null,null,null,null,"februari"]
[null,null,null,null,"februari"]
[null,null,null,null,"februari"]
[null,null,null,null,"februari"]
[null,null,null,null,"februari"]
[null,null,null,null,"februari"]
[null,null,null,null,"februari"]
[null,null,null,null,"februari"]
[null,null,null,null,"februari"]
[null,null,null,null,"februari"]
[null,null,null,null,"februari"]
[null,null,null,null,"februari"]
[null,null,null,null,"februari"]
[null,null,null,null,"februari"]
[null,null,null,null,"februari"]
[null,null,null,null,"februari"]
[null,null,null,null,"februari"]
[null,null,null,null,"februari"]
[null,null,null,null,"februari"]
[null,null,null,null,"februari"]
[null,null,null,null,"februari"]
[null,null,null,null,"februari"]
[null,null,null,null,"februari"]
[null,null,null,null,"februari"]
[null,null,null,null,"februari"]
[null,null,null,null,"februari"]
[null,null,null,null,"februari"]
[null,null,null,null,"februari"]
[null,null,null,null,"februari"]
[null,null,null,null,"februari"]
[null,null,null,null,"februari"]
[null,null,null,null,"februari"]
[null,null,null,null,"februari"]
[null,null,null,null,"februari"]
[null,null,null,null,"februari"]
[null,null,null,null,"februari"]
[null,null,null,null,"februari"]
[null,null,null,null,"februari"]
[null,null,null,null,"februari"]
[null,null,null,null,"februari"]
[null,null,null,null,"februari"]
[null,null,null,null,"februari"]
[null,null,null,null,"februari"]
[null,null,null,null,"februari"]
[null,null,null,null,"februari"]
[null,null,null,null,"februari"]
[null,null,null,null,"februari"]
[null,null,null,null,"februari"]
[null,null,null,null,"februari"]
[null,null,null,null,"februari"]
[null,null,null,null,"februari"]
[null,null,null,null,"februari"]
[null,null,null,null,"februari"]
[null,null,null,null,"februari"]
[null,null,null,null,"februari"]
[null,null,null,null,"februari"]
[null,null,null,null,"februari"]
[null,null,null,null,"februari"]
[null,null,null,null,"februari"]
[null,null,null,null,"februari"]
[null,null,null,null,"februari"]
[null,null,null,null,"februari"]
[null,null,null,null,"februari"]
[null,null,null,null,"februari"]
[null,null,null,null,"februari"]
[null,null,null,null,"februari"]
[null,null,null,null,"februari"]
[null,null,null,null,"februari"]
[null,null,null,null,"februari"]
[null,null,null,null,"februari"]
[null,null,null,null,"februari"]
[null,null,null,null,"februari"]
[null,null,null,null,"februari"]
[null,null,null,null,"februari"]
[null,null,null,null,"februari"]
[null,null,null,null,"februari"]
[null,null,null,null,"februari"]
[null,null,null,null,"februari"]
[null,null,null,null,"februari"]
[null,null,null,null,"februari"]
[null,null,null,null,"februari"]
[null,null,null,null,"februari"]
[null,null,null,null,"februari"]
[null,null,null,null,"februari"]
[null,null,null,null,"februari"]
[null,null,null,null,"februari"]
[null,null,null,null,"februari"]
[null,null,null,null,"februari"]
[null,null,null,null,"februari"]
[null,null,null,null,"februari"]
[null,null,null,null,"februari"]
[null,null,null,null,"februari"]
[null,null,null,null,"februari"]
[null,null,null,null,"februari"]
[null,null,null,null,"februari"]
[null,null,null,null,"februari"]
[null,null,null,null,"februari"]
[null,null,null,null,"februari"]
[null,null,null,null,"februari"]
[null,null,null,null,"maart"]
[null,null,null,null,"maart"]
[null,null,null,null,"maart"]
[null,null,null,null,"maart"]
[null,null,null,null,"maart"]
[null,null,null,null,"maart"]
[null,null,null,null,"maart"]
[null,null,null,null,"maart"]
[null,null,null,null,"maart"]
[null,null,null,null,"maart"]
[null,null,null,null,"maart"]
[null,null,null,null,"maart"]
[null,null,null,null,"maart"]
[null,null,null,null,"maart"]
[null,null,null,null,"maart"]
[null,null,null,null,"maart"]
[null,null,null,null,"maart"]
[null,null,null,null,"maart"]
[null,null,null,null,"maart"]
[null,null,null,null,"maart"]
[null,null,null,null,"maart"]
[null,null,null,null,"maart"]
[null,null,null,null,"maart"]
[null,null,null,null,"maart"]
[null,null,null,null,"maart"]
[null,null,null,null,"maart"]
[null,null,null,null,"maart"]
[null,null,null,null,"maart"]
[null,null,null,null,"maart"]
[null,null,null,null,"maart"]
[null,null,null,null,"maart"]
[null,null,null,null,"maart"]
[null,null,null,null,"maart"]
[null,null,null,null,"maart"]
[null,null,null,null,"maart"]
[null,null,null,null,"maart"]
[null,null,null,null,"maart"]
[null,null,null,null,"maart"]
[null,null,null,null,"maart"]
[null,null,null,null,"maart"]
[null,null,null,null,"maart"]
[null,null,null,null,"maart"]
[null,null,null,null,"maart"]
[null,null,null,null,"maart"]
[null,null,null,null,"maart"]
[null,null,null,null,"maart"]
[null,null,null,null,"maart"]
[null,null,null,null,"maart"]
[null,null,null,null,"maart"]
[null,null,null,null,"maart"]
[null,null,null,null,"maart"]
[null,null,null,null,"maart"]
[null,null,null,null,"maart"]
[null,null,null,null,"maart"]
[null,null,null,null,"maart"]
[null,null,null,null,"maart"]
[null,null,null,null,"maart"]
[null,null,null,null,"maart"]
[null,null,null,null,"maart"]
[null,null,null,null,"maart"]
[null,null,null,null,"maart"]
[null,null,null,null,"maart"]
[null,null,null,null,"maart"]
[null,null,null,null,"maart"]
[null,null,null,null,"maart"]
[null,null,null,null,"maart"]
[null,null,null,null,"maart"]
[null,null,null,null,"maart"]
[null,null,null,null,"maart"]
[null,null,null,null,"maart"]
[null,null,null,null,"maart"]
[null,null,null,null,"maart"]
[null,null,null,null,"maart"]
[null,null,null,null,"maart"]
[null,null,null,null,"maart"]
[null,null,null,null,"maart"]
[null,null,null,null,"maart"]
[null,null,null,null,"maart"]
[null,null,null,null,"maart"]
[null,null,null,null,"maart"]
[null,null,null,null,"maart"]
[null,null,null,null,"maart"]
[null,null,null,null,"maart"]
[null,null,null,null,"maart"]
[null,null,null,null,"maart"]
[null,null,null,null,"maart"]
[null,null,null,null,"maart"]
[null,null,null,null,"maart"]
[null,null,null,null,"maart"]
[null,null,null,null,"maart"]
[null,null,null,null,"maart"]
[null,null,null,null,"maart"]
[null,null,null,null,"maart"]
[null,null,null,null,"maart"]
[null,null,null,null,"maart"]
[null,null,null,null,"maart"]
[null,null,null,null,"maart"]
[null,null,null,null,"maart"]
[null,null,null,null,"maart"]
[null,null,null,null,"maart"]
[null,null,null,null,"maart"]
[null,null,null,null,"maart"]
[null,null,null,null,"maart"]
[null,null,null,null,"maart"]
[null,null,null,null,"maart"]
[null,null,null,null,"maart"]
[null,null,null,null,"maart"]
[null,null,null,null,"maart"]
[null,null,null,null,"maart"]
[null,null,null,null,"maart"]
[null,null,null,null,"maart"]
[null,null,null,null,"maart"]
[null,null,null,null,"maart"]
[null,null,null,null,"maart"]
[null,null,null,null,"maart"]
[null,null,null,null,"maart"]
[null,null,null,null,"maart"]
[null,null,null,null,"maart"]
[null,null,null,null,"maart"]
[null,null,null,null,"maart"]
[null,null,null,null,"maart"]
[null,null,null,null,"maart"]
[null,null,null,null,"maart"]
[null,null,null,null,"maart"]
[null,null,null,null,"maart"]
[null,null,null,null,"maart"]
[null,null,null,null,"maart"]
[null,null,null,null,"maart"]
[null,null,null,null,"maart"]
[null,null,null,null,"maart"]
[null,null,null,null,"maart"]
[null,null,null,null,"maart"]
[null,null,null,null,"maart"]
[null,null,null,null,"maart"]
[null,null,null,null,"maart"]
[null,null,null,null,"maart"]
[null,null,null,null,"maart"]
[null,null,null,null,"maart"]
[null,null,null,null,"maart"]
[null,null,null,null,"maart"]
[null,null,null,null,"maart"]
[null,null,null,null,"maart"]
[null,null,null,null,"maart"]
[null,null,null,null,"maart"]
[null,null,null,null,"maart"]
[null,null,null,null,"maart"]
[null,null,null,null,"maart"]
[null,null,null,null,"maart"]
[null,null,null,null,"maart"]
[null,null,null,null,"maart"]
[null,null,null,null,"maart"]
[null,null,null,null,"maart"]
[null,null,null,null,"maart"]
[null,null,null,null,"maart"]
[null,null,null,null,"maart"]
[null,null,null,null,"maart"]
[null,null,null,null,"maart"]
[null,null,null,null,"maart"]
[null,null,null,null,"maart"]
[null,null,null,null,"maart"]
[null,null,null,null,"maart"]
[null,null,null,null,"maart"]
[null,null,null,null,"maart"]
[null,null,null,null,"maart"]
[null,null,null,null,"maart"]
[null,null,null,null,"maart"]
[null,null,null,null,"maart"]
[null,null,null,null,"maart"]
[null,null,null,null,"maart"]
[null,null,null,null,"maart"]
[null,null,null,null,"maart"]
[null,null,null,null,"maart"]
[null,null,null,null,"maart"]
[null,null,null,null,"maart"]
[null,null,null,null,"maart"]
[null,null,null,null,"maart"]
[null,null,null,null,"maart"]
[null,null,null,null,"maart"]
[null,null,null,null,"maart"]
[null,null,null,null,"maart"]
[null,null,null,null,"maart"]
[null,null,null,null,"maart"]
[null,null,null,null,"maart"]
[null,null,null,null,"maart"]
[null,null,null,null,"maart"]
[null,null,null,null,"maart"]
[null,null,null,null,"maart"]
[null,null,null,null,"maart"]
[null,null,null,null,"maart"]
[null,null,null,null,"maart"]
[null,null,null,null,"maart"]
[null,null,null,null,"maart"]
[null,null,null,null,"maart"]
[null,null,null,null,"maart"]
[null,null,null,null,"maart"]
[null,null,null,null,"maart"]
[null,null,null,null,"maart"]
[null,null,null,null,"maart"]
[null,null,null,null,"maart"]
[null,null,null,null,"maart"]
[null,null,null,null,"maart"]
[null,null,null,null,"maart"]
[null,null,null,null,"maart"]
[null,null,null,null,"maart"]
[null,null,null,null,"maart"]
[null,null,null,null,"maart"]
[null,null,null,null,"maart"]
[null,null,null,null,"maart"]
[null,null,null,null,"maart"]
[null,null,null,null,"maart"]
[null,null,null,null,"maart"]
[null,null,null,null,"maart"]
[null,null,null,null,"maart"]
[null,null,null,null,"maart"]
[null,null,null,null,"maart"]
[null,null,null,null,"maart"]
[null,null,null,null,"maart"]
[null,null,null,null,"maart"]
[null,null,null,null,"maart"]
[null,null,null,null,"maart"]
[null,null,null,null,"maart"]
[null,null,null,null,"maart"]
[null,null,null,null,"maart"]
[null,null,null,null,"maart"]
[null,null,null,null,"maart"]
[null,null,null,null,"maart"]
[null,null,null,null,"maart"]
[null,null,null,null,"maart"]
[null,null,null,null,"maart"]
[null,null,null,null,"maart"]
[null,null,null,null,"maart"]
[null,null,null,null,"maart"]
[null,null,null,null,"maart"]
[null,null,null,null,"maart"]
[null,null,null,null,"maart"]
[null,null,null,null,"maart"]
[null,null,null,null,"maart"]
[null,null,null,null,"maart"]
[null,null,null,null,"maart"]
[null,null,null,null,"maart"]
[null,null,null,null,"maart"]
[null,null,null,null,"maart"]
[null,null,null,null,"maart"]
[null,null,null,null,"maart"]
[null,null,null,null,"maart"]
[null,null,null,null,"maart"]
[null,null,null,null,"maart"]
[null,null,null,null,"maart"]
[null,null,null,null,"maart"]
[null,null,null,null,"maart"]
[null,null,null,null,"maart"]
[null,null,null,null,"maart"]
[null,null,null,null,"maart"]
[null,null,null,null,"maart"]
[null,null,null,null,"maart"]
[null,null,null,null,"maart"]
[null,null,null,null,"maart"]
[null,null,null,null,"maart"]
[null,null,null,null,"maart"]
[null,null,null,null,"maart"]
[null,null,null,null,"maart"]
[null,null,null,null,"maart"]
[null,null,null,null,"maart"]
[null,null,null,null,"maart"]
[null,null,null,null,"maart"]
[null,null,null,null,"maart"]
[null,null,null,null,"maart"]
[null,null,null,null,"maart"]
[null,null,null,null,"maart"]
[null,null,null,null,"maart"]
[null,null,null,null,"maart"]
[null,null,null,null,"maart"]
[null,null,null,null,"maart"]
[null,null,null,null,"maart"]
[null,null,null,null,"maart"]
[null,null,null,null,"maart"]
[null,null,null,null,"maart"]
[null,null,null,null,"maart"]
[null,null,null,null,"maart"]
[null,null,null,null,"maart"]
[null,null,null,null,"maart"]
[null,null,null,null,"maart"]
[null,null,null,null,"maart"]
[null,null,null,null,"maart"]
[null,null,null,null,"maart"]
[null,null,null,null,"maart"]
[null,null,null,null,"maart"]
[null,null,null,null,"maart"]
[null,null,null,null,"maart"]
[null,null,null,null,"maart"]
[null,null,null,null,"maart"]
[null,null,null,null,"maart"]
[null,null,null,null,"maart"]
[null,null,null,null,"maart"]
[null,null,null,null,"maart"]
[null,null,null,null,"maart"]
[null,null,null,null,"maart"]
[null,null,null,null,"maart"]
[null,null,null,null,"maart"]
[null,null,null,null,"maart"]
[null,null,null,null,"maart"]
[null,null,null,null,"maart"]
[null,null,null,null,"maart"]
[null,null,null,null,"maart"]
[null,null,null,null,"maart"]
[null,null,null,null,"maart"]
[null,null,null,null,"maart"]
[null,null,null,null,"maart"]
[null,null,null,null,"maart"]
[null,null,null,null,"maart"]
[null,null,null,null,"maart"]
[null,null,null,null,"maart"]
[null,null,null,null,"maart"]
[null,null,null,null,"maart"]
[null,null,null,null,"maart"]
[null,null,null,null,"maart"]
[null,null,null,null,"maart"]
[null,null,null,null,"maart"]
[null,null,null,null,"maart"]
[null,null,null,null,"maart"]
[null,null,null,null,"maart"]
[null,null,null,null,"maart"]
[null,null,null,null,"maart"]
[null,null,null,null,"maart"]
[null,null,null,null,"maart"]
[null,null,null,null,"maart"]
[null,null,null,null,"maart"]
[null,null,null,null,"maart"]
[null,null,null,null,"maart"]
[null,null,null,null,"maart"]
[null,null,null,null,"maart"]
[null,null,null,null,"maart"]
[null,null,null,null,"maart"]
[null,null,null,null,"maart"]
[null,null,null,null,"maart"]
[null,null,null,null,"maart"]
[null,null,null,null,"maart"]
[null,null,null,null,"maart"]
[null,null,null,null,"maart"]
[null,null,null,null,"maart"]
[null,null,null,null,"maart"]
[null,null,null,null,"maart"]
[null,null,null,null,"maart"]
[null,null,null,null,"maart"]
[null,null,null,null,"maart"]
[null,null,null,null,"maart"]
[null,null,null,null,"maart"]
[null,null,null,null,"maart"]
[null,null,null,null,"maart"]
[null,null,null,null,"maart"]
[null,null,null,null,"maart"]
[null,null,null,null,"maart"]
[null,null,null,null,"maart"]
[null,null,null,null,"maart"]
[null,null,null,null,"maart"]
[null,null,null,null,"maart"]
[null,null,null,null,"maart"]
[null,null,null,null,"maart"]
[null,null,null,null,"maart"]
[null,null,null,null,"maart"]
[null,null,null,null,"maart"]
[null,null,null,null,"maart"]
[null,null,null,null,"maart"]
[null,null,null,null,"maart"]
[null,null,null,null,"maart"]
[null,null,null,null,"maart"]
[null,null,null,null,"maart"]
[null,null,null,null,"maart"]
[null,null,null,null,"maart"]
[null,null,null,null,"maart"]
[null,null,null,null,"maart"]
[null,null,null,null,"maart"]
[null,null,null,null,"maart"]
[null,null,null,null,"maart"]
[null,null,null,null,"maart"]
[null,null,null,null,"maart"]
[null,null,null,null,"maart"]
[null,null,null,null,"maart"]
[null,null,null,null,"maart"]
[null,null,null,null,"maart"]
[null,null,null,null,"maart"]
[null,null,null,null,"maart"]
[null,null,null,null,"maart"]
[null,null,null,null,"maart"]
[null,null,null,null,"maart"]
[null,null,null,null,"maart"]
[null,null,null,null,"maart"]
[null,null,null,null,"maart"]
[null,null,null,null,"maart"]
[null,null,null,null,"maart"]
[null,null,null,null,"maart"]
[null,null,null,null,"maart"]
[null,null,null,null,"maart"]
[null,null,null,null,"maart"]
[null,null,null,null,"maart"]
[null,null,null,null,"maart"]
[null,null,null,null,"maart"]
[null,null,null,null,"maart"]
[null,null,null,null,"maart"]
[null,null,null,null,"maart"]
[null,null,null,null,"maart"]
[null,null,null,null,"maart"]
[null,null,null,null,"maart"]
[null,null,null,null,"maart"]
[null,null,null,null,"maart"]
[null,null,null,null,"maart"]
[null,null,null,null,"maart"]
[null,null,null,null,"maart"]
[null,null,null,null,"maart"]
[null,null,null,null,"maart"]
[null,null,null,null,"maart"]
[null,null,null,null,"maart"]
[null,null,null,null,"maart"]
[null,null,null,null,"maart"]
[null,null,null,null,"maart"]
[null,null,null,null,"maart"]
[null,null,null,null,"maart"]
[null,null,null,null,"maart"]
[null,null,null,null,"maart"]
[null,null,null,null,"maart"]
[null,null,null,null,"maart"]
[null,null,null,null,"maart"]
[null,null,null,null,"maart"]
[null,null,null,null,"maart"]
[null,null,null,null,"maart"]
[null,null,null,null,"maart"]
[null,null,null,null,"maart"]
[null,null,null,null,"maart"]
[null,null,null,null,"maart"]
[null,null,null,null,"maart"]
[null,null,null,null,"maart"]
[null,null,null,null,"maart"]
[null,null,null,null,"maart"]
[null,null,null,null,"maart"]
[null,null,null,null,"maart"]
[null,null,null,null,"maart"]
[null,null,null,null,"maart"]
[null,null,null,null,"maart"]
[null,null,null,null,"maart"]
[null,null,null,null,"maart"]
[null,null,null,null,"maart"]
[null,null,null,null,"maart"]
[null,null,null,null,"maart"]
[null,null,null,null,"maart"]
[null,null,null,null,"maart"]
[null,null,null,null,"maart"]
[null,null,null,null,"maart"]
[null,null,null,null,"maart"]
[null,null,null,null,"maart"]
[null,null,null,null,"maart"]
[null,null,null,null,"maart"]
[null,null,null,null,"maart"]
[null,null,null,null,"maart"]
[null,null,null,null,"maart"]
[null,null,null,null,"maart"]
[null,null,null,null,"maart"]
[null,null,null,null,"maart"]
[null,null,null,null,"maart"]
[null,null,null,null,"maart"]
[null,null,null,null,"maart"]
[null,null,null,null,"maart"]
[null,null,null,null,"maart"]
[null,null,null,null,"maart"]
[null,null,null,null,"maart"]
[null,null,null,null,"maart"]
[null,null,null,null,"maart"]
[null,null,null,null,"maart"]
[null,null,null,null,"maart"]
[null,null,null,null,"maart"]
[null,null,null,null,"maart"]
[null,null,null,null,"maart"]
[null,null,null,null,"maart"]
[null,null,null,null,"maart"]
[null,null,null,null,"maart"]
[null,null,null,null,"maart"]
[null,null,null,null,"maart"]
[null,null,null,null,"maart"]
[null,null,null,null,"maart"]
[null,null,null,null,"maart"]
[null,null,null,null,"maart"]
[null,null,null,null,"maart"]
[null,null,null,null,"maart"]
[null,null,null,null,"maart"]
[null,null,null,null,"maart"]
[null,null,null,null,"maart"]
[null,null,null,null,"maart"]
[null,null,null,null,"maart"]
[null,null,null,null,"maart"]
[null,null,null,null,"maart"]
[null,null,null,null,"maart"]
[null,null,null,null,"maart"]
[null,null,null,null,"maart"]
[null,null,null,null,"maart"]
[null,null,null,null,"maart"]
[null,null,null,null,"maart"]
[null,null,null,null,"maart"]
[null,null,null,null,"maart"]
[null,null,null,null,"maart"]
[null,null,null,null,"maart"]
[null,null,null,null,"maart"]
[null,null,null,null,"maart"]
[null,null,null,null,"maart"]
[null,null,null,null,"maart"]
[null,null,null,null,"maart"]
[null,null,null,null,"maart"]
[null,null,null,null,"maart"]
[null,null,null,null,"maart"]
[null,null,null,null,"maart"]
[null,null,null,null,"maart"]
[null,null,null,null,"maart"]
[null,null,null,null,"maart"]
[null,null,null,null,"maart"]
[null,null,null,null,"maart"]
[null,null,null,null,"maart"]
[null,null,null,null,"maart"]
[null,null,null,null,"maart"]
[null,null,null,null,"maart"]
[null,null,null,null,"maart"]
[null,null,null,null,"maart"]
[null,null,null,null,"maart"]
[null,null,null,null,"maart"]
[null,null,null,null,"maart"]
[null,null,null,null,"maart"]
[null,null,null,null,"maart"]
[null,null,null,null,"maart"]
[null,null,null,null,"maart"]
[null,null,null,null,"maart"]
[null,null,null,null,"maart"]
[null,null,null,null,"maart"]
[null,null,null,null,"maart"]
[null,null,null,null,"maart"]
[null,null,null,null,"maart"]
[null,null,null,null,"maart"]
[null,null,null,null,"maart"]
[null,null,null,null,"maart"]
[null,null,null,null,"maart"]
[null,null,null,null,"maart"]
[null,null,null,null,"maart"]
[null,null,null,null,"maart"]
[null,null,null,null,"maart"]
[null,null,null,null,"maart"]
[null,null,null,null,"maart"]
[null,null,null,null,"maart"]
[null,null,null,null,"maart"]
[null,null,null,null,"maart"]
[null,null,null,null,"maart"]
[null,null,null,null,"maart"]
[null,null,null,null,"maart"]
[null,null,null,null,"maart"]
[null,null,null,null,"maart"]
[null,null,null,null,"maart"]
[null,null,null,null,"maart"]
[null,null,null,null,"maart"]
[null,null,null,null,"maart"]
[null,null,null,null,"maart"]
[null,null,null,null,"maart"]
[null,null,null,null,"maart"]
[null,null,null,null,"maart"]
[null,null,null,null,"maart"]
[null,null,null,null,"maart"]
[null,null,null,null,"maart"]
[null,null,null,null,"maart"]
[null,null,null,null,"maart"]
[null,null,null,null,"maart"]
[null,null,null,null,"maart"]
[null,null,null,null,"maart"]
[null,null,null,null,"maart"]
[null,null,null,null,"maart"]
[null,null,null,null,"maart"]
[null,null,null,null,"maart"]
[null,null,null,null,"maart"]
[null,null,null,null,"maart"]
[null,null,null,null,"maart"]
[null,null,null,null,"maart"]
[null,null,null,null,"maart"]
[null,null,null,null,"maart"]
[null,null,null,null,"maart"]
[null,null,null,null,"maart"]
[null,null,null,null,"maart"]
[null,null,null,null,"maart"]
[null,null,null,null,"maart"]
[null,null,null,null,"maart"]
[null,null,null,null,"maart"]
[null,null,null,null,"maart"]
[null,null,null,null,"maart"]
[null,null,null,null,"maart"]
[null,null,null,null,"maart"]
[null,null,null,null,"maart"]
[null,null,null,null,"maart"]
[null,null,null,null,"maart"]
[null,null,null,null,"maart"]
[null,null,null,null,"maart"]
[null,null,null,null,"maart"]
[null,null,null,null,"maart"]
[null,null,null,null,"maart"]
[null,null,null,null,"maart"]
[null,null,null,null,"maart"]
[null,null,null,null,"maart"]
[null,null,null,null,"maart"]
[null,null,null,null,"maart"]
[null,null,null,null,"maart"]
[null,null,null,null,"maart"]
[null,null,null,null,"maart"]
[null,null,null,null,"maart"]
[null,null,null,null,"maart"]
[null,null,null,null,"maart"]
[null,null,null,null,"maart"]
[null,null,null,null,"maart"]
[null,null,null,null,"maart"]
[null,null,null,null,"maart"]
[null,null,null,null,"maart"]
[null,null,null,null,"maart"]
[null,null,null,null,"maart"]
[null,null,null,null,"maart"]
[null,null,null,null,"maart"]
[null,null,null,null,"maart"]
[null,null,null,null,"maart"]
[null,null,null,null,"maart"]
[null,null,null,null,"maart"]
[null,null,null,null,"maart"]
[null,null,null,null,"maart"]
[null,null,null,null,"maart"]
[null,null,null,null,"maart"]
[null,null,null,null,"maart"]
[null,null,null,null,"maart"]
[null,null,null,null,"maart"]
[null,null,null,null,"maart"]
[null,null,null,null,"maart"]
[null,null,null,null,"maart"]
[null,null,null,null,"maart"]
[null,null,null,null,"maart"]
[null,null,null,null,"maart"]
[null,null,null,null,"maart"]
[null,null,null,null,"maart"]
[null,null,null,null,"maart"]
[null,null,null,null,"maart"]
[null,null,null,null,"maart"]
[null,null,null,null,"maart"]
[null,null,null,null,"maart"]
[null,null,null,null,"maart"]
[null,null,null,null,"maart"]
[null,null,null,null,"maart"]
[null,null,null,null,"maart"]
[null,null,null,null,"maart"]
[null,null,null,null,"maart"]
[null,null,null,null,"maart"]
[null,null,null,null,"maart"]
[null,null,null,null,"maart"]
[null,null,null,null,"maart"]
[null,null,null,null,"maart"]
[null,null,null,null,"maart"]
[null,null,null,null,"maart"]
[null,null,null,null,"maart"]
[null,null,null,null,"maart"]
[null,null,null,null,"maart"]
[null,null,null,null,"maart"]
[null,null,null,null,"maart"]
[null,null,null,null,"maart"]
[null,null,null,null,"maart"]
[null,null,null,null,"maart"]
[null,null,null,null,"maart"]
[null,null,null,null,"maart"]
[null,null,null,null,"maart"]
[null,null,null,null,"maart"]
[null,null,null,null,"maart"]
[null,null,null,null,"maart"]
[null,null,null,null,"maart"]
[null,null,null,null,"maart"]
[null,null,null,null,"maart"]
[null,null,null,null,"maart"]
[null,null,null,null,"maart"]
[null,null,null,null,"maart"]
[null,null,null,null,"maart"]
[null,null,null,null,"maart"]
[null,null,null,null,"maart"]
[null,null,null,null,"maart"]
[null,null,null,null,"maart"]
[null,null,null,null,"maart"]
[null,null,null,null,"maart"]
[null,null,null,null,"maart"]
[null,null,null,null,"maart"]
[null,null,null,null,"maart"]
[null,null,null,null,"maart"]
[null,null,null,null,"maart"]
[null,null,null,null,"maart"]
[null,null,null,null,"maart"]
[null,null,null,null,"maart"]
[null,null,null,null,"maart"]
[null,null,null,null,"maart"]
[null,null,null,null,"maart"]
[null,null,null,null,"maart"]
[null,null,null,null,"maart"]
[null,null,null,null,"maart"]
[null,null,null,null,"maart"]
[null,null,null,null,"maart"]
[null,null,null,null,"maart"]
[null,null,null,null,"maart"]
[null,null,null,null,"maart"]
[null,null,null,null,"maart"]
[null,null,null,null,"maart"]
[null,null,null,null,"maart"]
[null,null,null,null,"maart"]
[null,null,null,null,"maart"]
[null,null,null,null,"maart"]
[null,null,null,null,"maart"]
[null,null,null,null,"maart"]
[null,null,null,null,"maart"]
[null,null,null,null,"maart"]
[null,null,null,null,"maart"]
[null,null,null,null,"maart"]
[null,null,null,null,"maart"]
[null,null,null,null,"maart"]
[null,null,null,null,"maart"]
[null,null,null,null,"maart"]
[null,null,null,null,"maart"]
[null,null,null,null,"maart"]
[null,null,null,null,"maart"]
[null,null,null,null,"maart"]
[null,null,null,null,"maart"]
[null,null,null,null,"maart"]
[null,null,null,null,"maart"]
[null,null,null,null,"maart"]
[null,null,null,null,"maart"]
[null,null,null,null,"maart"]
[null,null,null,null,"maart"]
[null,null,null,null,"maart"]
[null,null,null,null,"maart"]
[null,null,null,null,"maart"]
[null,null,null,null,"maart"]
[null,null,null,null,"maart"]
[null,null,null,null,"maart"]
[null,null,null,null,"maart"]
[null,null,null,null,"maart"]
[null,null,null,null,"maart"]
[null,null,null,null,"maart"]
[null,null,null,null,"maart"]
[null,null,null,null,"maart"]
[null,null,null,null,"maart"]
[null,null,null,null,"maart"]
[null,null,null,null,"maart"]
[null,null,null,null,"maart"]
[null,null,null,null,"maart"]
[null,null,null,null,"maart"]
[null,null,null,null,"maart"]
[null,null,null,null,"april"]
[null,null,null,null,"april"]
[null,null,null,null,"april"]
[null,null,null,null,"april"]
[null,null,null,null,"april"]
[null,null,null,null,"april"]
[null,null,null,null,"april"]
[null,null,null,null,"april"]
[null,null,null,null,"april"]
[null,null,null,null,"april"]
[null,null,null,null,"april"]
[null,null,null,null,"april"]
[null,null,null,null,"april"]
[null,null,null,null,"april"]
[null,null,null,null,"april"]
[null,null,null,null,"april"]
[null,null,null,null,"april"]
[null,null,null,null,"april"]
[null,null,null,null,"april"]
[null,null,null,null,"april"]
[null,null,null,null,"april"]
[null,null,null,null,"april"]
[null,null,null,null,"april"]
[null,null,null,null,"april"]
[null,null,null,null,"april"]
[null,null,null,null,"april"]
[null,null,null,null,"april"]
[null,null,null,null,"april"]
[null,null,null,null,"april"]
[null,null,null,null,"april"]
[null,null,null,null,"april"]
[null,null,null,null,"april"]
[null,null,null,null,"april"]
[null,null,null,null,"april"]
[null,null,null,null,"april"]
[null,null,null,null,"april"]
[null,null,null,null,"april"]
[null,null,null,null,"april"]
[null,null,null,null,"april"]
[null,null,null,null,"april"]
[null,null,null,null,"april"]
[null,null,null,null,"april"]
[null,null,null,null,"april"]
[null,null,null,null,"april"]
[null,null,null,null,"april"]
[null,null,null,null,"april"]
[null,null,null,null,"april"]
[null,null,null,null,"april"]
[null,null,null,null,"april"]
[null,null,null,null,"april"]
[null,null,null,null,"april"]
[null,null,null,null,"april"]
[null,null,null,null,"april"]
[null,null,null,null,"april"]
[null,null,null,null,"april"]
[null,null,null,null,"april"]
[null,null,null,null,"april"]
[null,null,null,null,"april"]
[null,null,null,null,"april"]
[null,null,null,null,"april"]
[null,null,null,null,"april"]
[null,null,null,null,"april"]
[null,null,null,null,"april"]
[null,null,null,null,"april"]
[null,null,null,null,"april"]
[null,null,null,null,"april"]
[null,null,null,null,"april"]
[null,null,null,null,"april"]
[null,null,null,null,"april"]
[null,null,null,null,"april"]
[null,null,null,null,"april"]
[null,null,null,null,"april"]
[null,null,null,null,"april"]
[null,null,null,null,"april"]
[null,null,null,null,"april"]
[null,null,null,null,"april"]
[null,null,null,null,"april"]
[null,null,null,null,"april"]
[null,null,null,null,"april"]
[null,null,null,null,"april"]
[null,null,null,null,"april"]
[null,null,null,null,"april"]
[null,null,null,null,"april"]
[null,null,null,null,"april"]
[null,null,null,null,"april"]
[null,null,null,null,"april"]
[null,null,null,null,"april"]
[null,null,null,null,"april"]
[null,null,null,null,"april"]
[null,null,null,null,"april"]
[null,null,null,null,"april"]
[null,null,null,null,"april"]
[null,null,null,null,"april"]
[null,null,null,null,"april"]
[null,null,null,null,"april"]
[null,null,null,null,"april"]
[null,null,null,null,"april"]
[null,null,null,null,"april"]
[null,null,null,null,"april"]
[null,null,null,null,"april"]
[null,null,null,null,"april"]
[null,null,null,null,"april"]
[null,null,null,null,"april"]
[null,null,null,null,"april"]
[null,null,null,null,"april"]
[null,null,null,null,"april"]
[null,null,null,null,"april"]
[null,null,null,null,"april"]
[null,null,null,null,"april"]
[null,null,null,null,"april"]
[null,null,null,null,"april"]
[null,null,null,null,"april"]
[null,null,null,null,"april"]
[null,null,null,null,"april"]
[null,null,null,null,"april"]
[null,null,null,null,"april"]
[null,null,null,null,"april"]
[null,null,null,null,"april"]
[null,null,null,null,"april"]
[null,null,null,null,"april"]
[null,null,null,null,"april"]
[null,null,null,null,"april"]
[null,null,null,null,"april"]
[null,null,null,null,"april"]
[null,null,null,null,"april"]
[null,null,null,null,"april"]
[null,null,null,null,"april"]
[null,null,null,null,"april"]
[null,null,null,null,"april"]
[null,null,null,null,"april"]
[null,null,null,null,"april"]
[null,null,null,null,"april"]
[null,null,null,null,"april"]
[null,null,null,null,"april"]
[null,null,null,null,"april"]
[null,null,null,null,"april"]
[null,null,null,null,"april"]
[null,null,null,null,"april"]
[null,null,null,null,"april"]
[null,null,null,null,"april"]
[null,null,null,null,"april"]
[null,null,null,null,"april"]
[null,null,null,null,"april"]
[null,null,null,null,"april"]
[null,null,null,null,"april"]
[null,null,null,null,"april"]
[null,null,null,null,"april"]
[null,null,null,null,"april"]
[null,null,null,null,"april"]
[null,null,null,null,"april"]
[null,null,null,null,"april"]
[null,null,null,null,"april"]
[null,null,null,null,"april"]
[null,null,null,null,"april"]
[null,null,null,null,"april"]
[null,null,null,null,"april"]
[null,null,null,null,"april"]
[null,null,null,null,"april"]
[null,null,null,null,"april"]
[null,null,null,null,"april"]
[null,null,null,null,"april"]
[null,null,null,null,"april"]
[null,null,null,null,"april"]
[null,null,null,null,"april"]
[null,null,null,null,"april"]
[null,null,null,null,"april"]
[null,null,null,null,"april"]
[null,null,null,null,"april"]
[null,null,null,null,"april"]
[null,null,null,null,"april"]
[null,null,null,null,"april"]
[null,null,null,null,"april"]
[null,null,null,null,"april"]
[null,null,null,null,"april"]
[null,null,null,null,"april"]
[null,null,null,null,"april"]
[null,null,null,null,"april"]
[null,null,null,null,"april"]
[null,null,null,null,"april"]
[null,null,null,null,"april"]
[null,null,null,null,"april"]
[null,null,null,null,"april"]
[null,null,null,null,"april"]
[null,null,null,null,"april"]
[null,null,null,null,"april"]
[null,null,null,null,"april"]
[null,null,null,null,"april"]
[null,null,null,null,"april"]
[null,null,null,null,"april"]
[null,null,null,null,"april"]
[null,null,null,null,"april"]
[null,null,null,null,"april"]
[null,null,null,null,"april"]
[null,null,null,null,"april"]
[null,null,null,null,"april"]
[null,null,null,null,"april"]
[null,null,null,null,"april"]
[null,null,null,null,"april"]
[null,null,null,null,"april"]
[null,null,null,null,"april"]
[null,null,null,null,"april"]
[null,null,null,null,"april"]
[null,null,null,null,"april"]
[null,null,null,null,"april"]
[null,null,null,null,"april"]
[null,null,null,null,"april"]
[null,null,null,null,"april"]
[null,null,null,null,"april"]
[null,null,null,null,"april"]
[null,null,null,null,"april"]
[null,null,null,null,"april"]
[null,null,null,null,"april"]
[null,null,null,null,"april"]
[null,null,null,null,"april"]
[null,null,null,null,"april"]
[null,null,null,null,"april"]
[null,null,null,null,"april"]
[null,null,null,null,"april"]
[null,null,null,null,"april"]
[null,null,null,null,"april"]
[null,null,null,null,"april"]
[null,null,null,null,"april"]
[null,null,null,null,"april"]
[null,null,null,null,"april"]
[null,null,null,null,"april"]
[null,null,null,null,"april"]
[null,null,null,null,"april"]
[null,null,null,null,"april"]
[null,null,null,null,"april"]
[null,null,null,null,"april"]
[null,null,null,null,"april"]
[null,null,null,null,"april"]
[null,null,null,null,"april"]
[null,null,null,null,"april"]
[null,null,null,null,"april"]
[null,null,null,null,"april"]
[null,null,null,null,"april"]
[null,null,null,null,"april"]
[null,null,null,null,"april"]
[null,null,null,null,"april"]
[null,null,null,null,"april"]
[null,null,null,null,"april"]
[null,null,null,null,"april"]
[null,null,null,null,"april"]
[null,null,null,null,"april"]
[null,null,null,null,"april"]
[null,null,null,null,"april"]
[null,null,null,null,"april"]
[null,null,null,null,"april"]
[null,null,null,null,"april"]
[null,null,null,null,"april"]
[null,null,null,null,"april"]
[null,null,null,null,"april"]
[null,null,null,null,"april"]
[null,null,null,null,"april"]
[null,null,null,null,"april"]
[null,null,null,null,"april"]
[null,null,null,null,"april"]
[null,null,null,null,"april"]
[null,null,null,null,"april"]
[null,null,null,null,"april"]
[null,null,null,null,"april"]
[null,null,null,null,"april"]
[null,null,null,null,"april"]
[null,null,null,null,"april"]
[null,null,null,null,"april"]
[null,null,null,null,"april"]
[null,null,null,null,"april"]
[null,null,null,null,"april"]
[null,null,null,null,"april"]
[null,null,null,null,"april"]
[null,null,null,null,"april"]
[null,null,null,null,"april"]
[null,null,null,null,"april"]
[null,null,null,null,"april"]
[null,null,null,null,"april"]
[null,null,null,null,"april"]
[null,null,null,null,"april"]
[null,null,null,null,"april"]
[null,null,null,null,"april"]
[null,null,null,null,"april"]
[null,null,null,null,"april"]
[null,null,null,null,"april"]
[null,null,null,null,"april"]
[null,null,null,null,"april"]
[null,null,null,null,"april"]
[null,null,null,null,"april"]
[null,null,null,null,"april"]
[null,null,null,null,"april"]
[null,null,null,null,"april"]
[null,null,null,null,"april"]
[null,null,null,null,"april"]
[null,null,null,null,"april"]
[null,null,null,null,"april"]
[null,null,null,null,"april"]
[null,null,null,null,"april"]
[null,null,null,null,"april"]
[null,null,null,null,"april"]
[null,null,null,null,"april"]
[null,null,null,null,"april"]
[null,null,null,null,"april"]
[null,null,null,null,"april"]
[null,null,null,null,"april"]
[null,null,null,null,"april"]
[null,null,null,null,"april"]
[null,null,null,null,"april"]
[null,null,null,null,"april"]
[null,null,null,null,"april"]
[null,null,null,null,"april"]
[null,null,null,null,"april"]
[null,null,null,null,"april"]
[null,null,null,null,"april"]
[null,null,null,null,"april"]
[null,null,null,null,"april"]
[null,null,null,null,"april"]
[null,null,null,null,"april"]
[null,null,null,null,"april"]
[null,null,null,null,"april"]
[null,null,null,null,"april"]
[null,null,null,null,"april"]
[null,null,null,null,"april"]
[null,null,null,null,"april"]
[null,null,null,null,"april"]
[null,null,null,null,"april"]
[null,null,null,null,"april"]
[null,null,null,null,"april"]
[null,null,null,null,"april"]
[null,null,null,null,"april"]
[null,null,null,null,"april"]
[null,null,null,null,"april"]
[null,null,null,null,"april"]
[null,null,null,null,"april"]
[null,null,null,null,"april"]
[null,null,null,null,"april"]
[null,null,null,null,"april"]
[null,null,null,null,"april"]
[null,null,null,null,"april"]
[null,null,null,null,"april"]
[null,null,null,null,"april"]
[null,null,null,null,"april"]
[null,null,null,null,"april"]
[null,null,null,null,"april"]
[null,null,null,null,"april"]
[null,null,null,null,"april"]
[null,null,null,null,"april"]
[null,null,null,null,"april"]
[null,null,null,null,"april"]
[null,null,null,null,"april"]
[null,null,null,null,"april"]
[null,null,null,null,"april"]
[null,null,null,null,"april"]
[null,null,null,null,"april"]
[null,null,null,null,"april"]
[null,null,null,null,"april"]
[null,null,null,null,"april"]
[null,null,null,null,"april"]
[null,null,null,null,"april"]
[null,null,null,null,"april"]
[null,null,null,null,"april"]
[null,null,null,null,"april"]
[null,null,null,null,"april"]
[null,null,null,null,"april"]
[null,null,null,null,"april"]
[null,null,null,null,"april"]
[null,null,null,null,"april"]
[null,null,null,null,"april"]
[null,null,null,null,"april"]
[null,null,null,null,"april"]
[null,null,null,null,"april"]
[null,null,null,null,"april"]
[null,null,null,null,"april"]
[null,null,null,null,"april"]
[null,null,null,null,"april"]
[null,null,null,null,"april"]
[null,null,null,null,"april"]
[null,null,null,null,"april"]
[null,null,null,null,"april"]
[null,null,null,null,"april"]
[null,null,null,null,"april"]
[null,null,null,null,"april"]
[null,null,null,null,"april"]
[null,null,null,null,"april"]
[null,null,null,null,"april"]
[null,null,null,null,"april"]
[null,null,null,null,"april"]
[null,null,null,null,"april"]
[null,null,null,null,"april"]
[null,null,null,null,"april"]
[null,null,null,null,"april"]
[null,null,null,null,"april"]
[null,null,null,null,"april"]
[null,null,null,null,"april"]
[null,null,null,null,"april"]
[null,null,null,null,"april"]
[null,null,null,null,"april"]
[null,null,null,null,"april"]
[null,null,null,null,"april"]
[null,null,null,null,"april"]
[null,null,null,null,"april"]
[null,null,null,null,"april"]
[null,null,null,null,"april"]
[null,null,null,null,"april"]
[null,null,null,null,"april"]
[null,null,null,null,"april"]
[null,null,null,null,"april"]
[null,null,null,null,"april"]
[null,null,null,null,"april"]
[null,null,null,null,"april"]
[null,null,null,null,"april"]
[null,null,null,null,"april"]
[null,null,null,null,"april"]
[null,null,null,null,"april"]
[null,null,null,null,"april"]
[null,null,null,null,"april"]
[null,null,null,null,"april"]
[null,null,null,null,"april"]
[null,null,null,null,"april"]
[null,null,null,null,"april"]
[null,null,null,null,"april"]
[null,null,null,null,"april"]
[null,null,null,null,"april"]
[null,null,null,null,"april"]
[null,null,null,null,"april"]
[null,null,null,null,"april"]
[null,null,null,null,"april"]
[null,null,null,null,"april"]
[null,null,null,null,"april"]
[null,null,null,null,"april"]
[null,null,null,null,"april"]
[null,null,null,null,"april"]
[null,null,null,null,"april"]
[null,null,null,null,"april"]
[null,null,null,null,"april"]
[null,null,null,null,"april"]
[null,null,null,null,"april"]
[null,null,null,null,"april"]
[null,null,null,null,"april"]
[null,null,null,null,"april"]
[null,null,null,null,"april"]
[null,null,null,null,"april"]
[null,null,null,null,"april"]
[null,null,null,null,"april"]
[null,null,null,null,"april"]
[null,null,null,null,"april"]
[null,null,null,null,"april"]
[null,null,null,null,"april"]
[null,null,null,null,"april"]
[null,null,null,null,"april"]
[null,null,null,null,"april"]
[null,null,null,null,"april"]
[null,null,null,null,"april"]
[null,null,null,null,"april"]
[null,null,null,null,"april"]
[null,null,null,null,"april"]
[null,null,null,null,"april"]
[null,null,null,null,"april"]
[null,null,null,null,"april"]
[null,null,null,null,"april"]
[null,null,null,null,"april"]
[null,null,null,null,"april"]
[null,null,null,null,"april"]
[null,null,null,null,"april"]
[null,null,null,null,"april"]
[null,null,null,null,"april"]
[null,null,null,null,"april"]
[null,null,null,null,"april"]
[null,null,null,null,"april"]
[null,null,null,null,"april"]
[null,null,null,null,"april"]
[null,null,null,null,"april"]
[null,null,null,null,"april"]
[null,null,null,null,"april"]
[null,null,null,null,"april"]
[null,null,null,null,"april"]
[null,null,null,null,"april"]
[null,null,null,null,"april"]
[null,null,null,null,"april"]
[null,null,null,null,"april"]
[null,null,null,null,"april"]
[null,null,null,null,"april"]
[null,null,null,null,"april"]
[null,null,null,null,"april"]
[null,null,null,null,"april"]
[null,null,null,null,"april"]
[null,null,null,null,"april"]
[null,null,null,null,"april"]
[null,null,null,null,"april"]
[null,null,null,null,"april"]
[null,null,null,null,"april"]
[null,null,null,null,"april"]
[null,null,null,null,"april"]
[null,null,null,null,"april"]
[null,null,null,null,"april"]
[null,null,null,null,"april"]
[null,null,null,null,"april"]
[null,null,null,null,"april"]
[null,null,null,null,"april"]
[null,null,null,null,"april"]
[null,null,null,null,"april"]
[null,null,null,null,"april"]
[null,null,null,null,"april"]
[null,null,null,null,"april"]
[null,null,null,null,"april"]
[null,null,null,null,"april"]
[null,null,null,null,"april"]
[null,null,null,null,"april"]
[null,null,null,null,"april"]
[null,null,null,null,"april"]
[null,null,null,null,"april"]
[null,null,null,null,"april"]
[null,null,null,null,"april"]
[null,null,null,null,"april"]
[null,null,null,null,"april"]
[null,null,null,null,"april"]
[null,null,null,null,"april"]
[null,null,null,null,"april"]
[null,null,null,null,"april"]
[null,null,null,null,"april"]
[null,null,null,null,"april"]
[null,null,null,null,"april"]
[null,null,null,null,"april"]
[null,null,null,null,"april"]
[null,null,null,null,"april"]
[null,null,null,null,"april"]
[null,null,null,null,"april"]
[null,null,null,null,"april"]
[null,null,null,null,"april"]
[null,null,null,null,"april"]
[null,null,null,null,"april"]
[null,null,null,null,"april"]
[null,null,null,null,"april"]
[null,null,null,null,"april"]
[null,null,null,null,"april"]
[null,null,null,null,"april"]
[null,null,null,null,"april"]
[null,null,null,null,"april"]
[null,null,null,null,"april"]
[null,null,null,null,"april"]
[null,null,null,null,"april"]
[null,null,null,null,"april"]
[null,null,null,null,"april"]
[null,null,null,null,"april"]
[null,null,null,null,"april"]
[null,null,null,null,"april"]
[null,null,null,null,"april"]
[null,null,null,null,"april"]
[null,null,null,null,"april"]
[null,null,null,null,"april"]
[null,null,null,null,"april"]
[null,null,null,null,"april"]
[null,null,null,null,"april"]
[null,null,null,null,"april"]
[null,null,null,null,"april"]
[null,null,null,null,"april"]
[null,null,null,null,"april"]
[null,null,null,null,"april"]
[null,null,null,null,"april"]
[null,null,null,null,"april"]
[null,null,null,null,"april"]
[null,null,null,null,"april"]
[null,null,null,null,"april"]
[null,null,null,null,"april"]
[null,null,null,null,"april"]
[null,null,null,null,"april"]
[null,null,null,null,"april"]
[null,null,null,null,"april"]
[null,null,null,null,"april"]
[null,null,null,null,"april"]
[null,null,null,null,"april"]
[null,null,null,null,"april"]
[null,null,null,null,"april"]
[null,null,null,null,"april"]
[null,null,null,null,"april"]
[null,null,null,null,"april"]
[null,null,null,null,"april"]
[null,null,null,null,"april"]
[null,null,null,null,"april"]
[null,null,null,null,"april"]
[null,null,null,null,"april"]
[null,null,null,null,"april"]
[null,null,null,null,"april"]
[null,null,null,null,"april"]
[null,null,null,null,"april"]
[null,null,null,null,"april"]
[null,null,null,null,"april"]
[null,null,null,null,"april"]
[null,null,null,null,"april"]
[null,null,null,null,"april"]
[null,null,null,null,"april"]
[null,null,null,null,"april"]
[null,null,null,null,"april"]
[null,null,null,null,"april"]
[null,null,null,null,"april"]
[null,null,null,null,"april"]
[null,null,null,null,"april"]
[null,null,null,null,"april"]
[null,null,null,null,"april"]
[null,null,null,null,"april"]
[null,null,null,null,"april"]
[null,null,null,null,"april"]
[null,null,null,null,"april"]
[null,null,null,null,"april"]
[null,null,null,null,"april"]
[null,null,null,null,"april"]
[null,null,null,null,"april"]
[null,null,null,null,"april"]
[null,null,null,null,"april"]
[null,null,null,null,"april"]
[null,null,null,null,"april"]
[null,null,null,null,"april"]
[null,null,null,null,"april"]
[null,null,null,null,"april"]
[null,null,null,null,"april"]
[null,null,null,null,"april"]
[null,null,null,null,"april"]
[null,null,null,null,"april"]
[null,null,null,null,"april"]
[null,null,null,null,"april"]
[null,null,null,null,"april"]
[null,null,null,null,"april"]
[null,null,null,null,"april"]
[null,null,null,null,"april"]
[null,null,null,null,"april"]
[null,null,null,null,"april"]
[null,null,null,null,"april"]
[null,null,null,null,"april"]
[null,null,null,null,"april"]
[null,null,null,null,"april"]
[null,null,null,null,"april"]
[null,null,null,null,"april"]
[null,null,null,null,"april"]
[null,null,null,null,"april"]
[null,null,null,null,"april"]
[null,null,null,null,"april"]
[null,null,null,null,"april"]
[null,null,null,null,"april"]
[null,null,null,null,"april"]
[null,null,null,null,"april"]
[null,null,null,null,"april"]
[null,null,null,null,"april"]
[null,null,null,null,"april"]
[null,null,null,null,"april"]
[null,null,null,null,"april"]
[null,null,null,null,"april"]
[null,null,null,null,"april"]
[null,null,null,null,"april"]
[null,null,null,null,"april"]
[null,null,null,null,"april"]
[null,null,null,null,"april"]
[null,null,null,null,"april"]
[null,null,null,null,"april"]
[null,null,null,null,"april"]
[null,null,null,null,"april"]
[null,null,null,null,"april"]
[null,null,null,null,"april"]
[null,null,null,null,"april"]
[null,null,null,null,"april"]
[null,null,null,null,"april"]
[null,null,null,null,"april"]
[null,null,null,null,"april"]
[null,null,null,null,"april"]
[null,null,null,null,"april"]
[null,null,null,null,"april"]
[null,null,null,null,"april"]
[null,null,null,null,"april"]
[null,null,null,null,"april"]
[null,null,null,null,"april"]
[null,null,null,null,"april"]
[null,null,null,null,"april"]
[null,null,null,null,"april"]
[null,null,null,null,"april"]
[null,null,null,null,"april"]
[null,null,null,null,"april"]
[null,null,null,null,"april"]
[null,null,null,null,"april"]
[null,null,null,null,"april"]
[null,null,null,null,"april"]
[null,null,null,null,"april"]
[null,null,null,null,"april"]
[null,null,null,null,"april"]
[null,null,null,null,"april"]
[null,null,null,null,"april"]
[null,null,null,null,"april"]
[null,null,null,null,"april"]
[null,null,null,null,"april"]
[null,null,null,null,"april"]
[null,null,null,null,"april"]
[null,null,null,null,"april"]
[null,null,null,null,"april"]
[null,null,null,null,"april"]
[null,null,null,null,"april"]
[null,null,null,null,"april"]
[null,null,null,null,"april"]
[null,null,null,null,"april"]
[null,null,null,null,"april"]
[null,null,null,null,"april"]
[null,null,null,null,"april"]
[null,null,null,null,"april"]
[null,null,null,null,"april"]
[null,null,null,null,"april"]
[null,null,null,null,"april"]
[null,null,null,null,"april"]
[null,null,null,null,"april"]
[null,null,null,null,"april"]
[null,null,null,null,"april"]
[null,null,null,null,"april"]
[null,null,null,null,"april"]
[null,null,null,null,"april"]
[null,null,null,null,"april"]
[null,null,null,null,"april"]
[null,null,null,null,"april"]
[null,null,null,null,"april"]
[null,null,null,null,"april"]
[null,null,null,null,"april"]
[null,null,null,null,"april"]
[null,null,null,null,"april"]
[null,null,null,null,"april"]
[null,null,null,null,"april"]
[null,null,null,null,"april"]
[null,null,null,null,"april"]
[null,null,null,null,"mei"]
[null,null,null,null,"mei"]
[null,null,null,null,"mei"]
[null,null,null,null,"mei"]
[null,null,null,null,"mei"]
[null,null,null,null,"mei"]
[null,null,null,null,"mei"]
[null,null,null,null,"mei"]
[null,null,null,null,"mei"]
[null,null,null,null,"mei"]
[null,null,null,null,"mei"]
[null,null,null,null,"mei"]
[null,null,null,null,"mei"]
[null,null,null,null,"mei"]
[null,null,null,null,"mei"]
[null,null,null,null,"mei"]
[null,null,null,null,"mei"]
[null,null,null,null,"mei"]
[null,null,null,null,"mei"]
[null,null,null,null,"mei"]
[null,null,null,null,"mei"]
[null,null,null,null,"mei"]
[null,null,null,null,"mei"]
[null,null,null,null,"mei"]
[null,null,null,null,"mei"]
[null,null,null,null,"mei"]
[null,null,null,null,"mei"]
[null,null,null,null,"mei"]
[null,null,null,null,"mei"]
[null,null,null,null,"mei"]
[null,null,null,null,"mei"]
[null,null,null,null,"mei"]
[null,null,null,null,"mei"]
[null,null,null,null,"mei"]
[null,null,null,null,"mei"]
[null,null,null,null,"mei"]
[null,null,null,null,"mei"]
[null,null,null,null,"mei"]
[null,null,null,null,"mei"]
[null,null,null,null,"mei"]
[null,null,null,null,"mei"]
[null,null,null,null,"mei"]
[null,null,null,null,"mei"]
[null,null,null,null,"mei"]
[null,null,null,null,"mei"]
[null,null,null,null,"mei"]
[null,null,null,null,"mei"]
[null,null,null,null,"mei"]
[null,null,null,null,"mei"]
[null,null,null,null,"mei"]
[null,null,null,null,"mei"]
[null,null,null,null,"mei"]
[null,null,null,null,"mei"]
[null,null,null,null,"mei"]
[null,null,null,null,"mei"]
[null,null,null,null,"mei"]
[null,null,null,null,"mei"]
[null,null,null,null,"mei"]
[null,null,null,null,"mei"]
[null,null,null,null,"mei"]
[null,null,null,null,"mei"]
[null,null,null,null,"mei"]
[null,null,null,null,"mei"]
[null,null,null,null,"mei"]
[null,null,null,null,"mei"]
[null,null,null,null,"mei"]
[null,null,null,null,"mei"]
[null,null,null,null,"mei"]
[null,null,null,null,"mei"]
[null,null,null,null,"mei"]
[null,null,null,null,"mei"]
[null,null,null,null,"mei"]
[null,null,null,null,"mei"]
[null,null,null,null,"mei"]
[null,null,null,null,"mei"]
[null,null,null,null,"mei"]
[null,null,null,null,"mei"]
[null,null,null,null,"mei"]
[null,null,null,null,"mei"]
[null,null,null,null,"mei"]
[null,null,null,null,"mei"]
[null,null,null,null,"mei"]
[null,null,null,null,"mei"]
[null,null,null,null,"mei"]
[null,null,null,null,"mei"]
[null,null,null,null,"mei"]
[null,null,null,null,"mei"]
[null,null,null,null,"mei"]
[null,null,null,null,"mei"]
[null,null,null,null,"mei"]
[null,null,null,null,"mei"]
[null,null,null,null,"mei"]
[null,null,null,null,"mei"]
[null,null,null,null,"mei"]
[null,null,null,null,"mei"]
[null,null,null,null,"mei"]
[null,null,null,null,"mei"]
[null,null,null,null,"mei"]
[null,null,null,null,"mei"]
[null,null,null,null,"mei"]
[null,null,null,null,"mei"]
[null,null,null,null,"mei"]
[null,null,null,null,"mei"]
[null,null,null,null,"mei"]
[null,null,null,null,"mei"]
[null,null,null,null,"mei"]
[null,null,null,null,"mei"]
[null,null,null,null,"mei"]
[null,null,null,null,"mei"]
[null,null,null,null,"mei"]
[null,null,null,null,"mei"]
[null,null,null,null,"mei"]
[null,null,null,null,"mei"]
[null,null,null,null,"mei"]
[null,null,null,null,"mei"]
[null,null,null,null,"mei"]
[null,null,null,null,"mei"]
[null,null,null,null,"mei"]
[null,null,null,null,"mei"]
[null,null,null,null,"mei"]
[null,null,null,null,"mei"]
[null,null,null,null,"mei"]
[null,null,null,null,"mei"]
[null,null,null,null,"mei"]
[null,null,null,null,"mei"]
[null,null,null,null,"mei"]
[null,null,null,null,"mei"]
[null,null,null,null,"mei"]
[null,null,null,null,"mei"]
[null,null,null,null,"mei"]
[null,null,null,null,"mei"]
[null,null,null,null,"mei"]
[null,null,null,null,"mei"]
[null,null,null,null,"mei"]
[null,null,null,null,"mei"]
[null,null,null,null,"mei"]
[null,null,null,null,"mei"]
[null,null,null,null,"mei"]
[null,null,null,null,"mei"]
[null,null,null,null,"mei"]
[null,null,null,null,"mei"]
[null,null,null,null,"mei"]
[null,null,null,null,"mei"]
[null,null,null,null,"mei"]
[null,null,null,null,"mei"]
[null,null,null,null,"mei"]
[null,null,null,null,"mei"]
[null,null,null,null,"mei"]
[null,null,null,null,"mei"]
[null,null,null,null,"mei"]
[null,null,null,null,"mei"]
[null,null,null,null,"mei"]
[null,null,null,null,"mei"]
[null,null,null,null,"mei"]
[null,null,null,null,"mei"]
[null,null,null,null,"mei"]
[null,null,null,null,"mei"]
[null,null,null,null,"mei"]
[null,null,null,null,"mei"]
[null,null,null,null,"mei"]
[null,null,null,null,"mei"]
[null,null,null,null,"mei"]
[null,null,null,null,"mei"]
[null,null,null,null,"mei"]
[null,null,null,null,"mei"]
[null,null,null,null,"mei"]
[null,null,null,null,"mei"]
[null,null,null,null,"mei"]
[null,null,null,null,"mei"]
[null,null,null,null,"mei"]
[null,null,null,null,"mei"]
[null,null,null,null,"mei"]
[null,null,null,null,"mei"]
[null,null,null,null,"mei"]
[null,null,null,null,"mei"]
[null,null,null,null,"mei"]
[null,null,null,null,"mei"]
[null,null,null,null,"mei"]
[null,null,null,null,"mei"]
[null,null,null,null,"mei"]
[null,null,null,null,"mei"]
[null,null,null,null,"mei"]
[null,null,null,null,"mei"]
[null,null,null,null,"mei"]
[null,null,null,null,"mei"]
[null,null,null,null,"mei"]
[null,null,null,null,"mei"]
[null,null,null,null,"mei"]
[null,null,null,null,"mei"]
[null,null,null,null,"mei"]
[null,null,null,null,"mei"]
[null,null,null,null,"mei"]
[null,null,null,null,"mei"]
[null,null,null,null,"mei"]
[null,null,null,null,"mei"]
[null,null,null,null,"mei"]
[null,null,null,null,"mei"]
[null,null,null,null,"mei"]
[null,null,null,null,"mei"]
[null,null,null,null,"mei"]
[null,null,null,null,"mei"]
[null,null,null,null,"mei"]
[null,null,null,null,"mei"]
[null,null,null,null,"mei"]
[null,null,null,null,"mei"]
[null,null,null,null,"mei"]
[null,null,null,null,"mei"]
[null,null,null,null,"mei"]
[null,null,null,null,"mei"]
[null,null,null,null,"mei"]
[null,null,null,null,"mei"]
[null,null,null,null,"mei"]
[null,null,null,null,"mei"]
[null,null,null,null,"mei"]
[null,null,null,null,"mei"]
[null,null,null,null,"mei"]
[null,null,null,null,"mei"]
[null,null,null,null,"mei"]
[null,null,null,null,"mei"]
[null,null,null,null,"mei"]
[null,null,null,null,"mei"]
[null,null,null,null,"mei"]
[null,null,null,null,"mei"]
[null,null,null,null,"mei"]
[null,null,null,null,"mei"]
[null,null,null,null,"mei"]
[null,null,null,null,"mei"]
[null,null,null,null,"mei"]
[null,null,null,null,"mei"]
[null,null,null,null,"mei"]
[null,null,null,null,"mei"]
[null,null,null,null,"mei"]
[null,null,null,null,"mei"]
[null,null,null,null,"mei"]
[null,null,null,null,"mei"]
[null,null,null,null,"mei"]
[null,null,null,null,"mei"]
[null,null,null,null,"mei"]
[null,null,null,null,"mei"]
[null,null,null,null,"mei"]
[null,null,null,null,"mei"]
[null,null,null,null,"mei"]
[null,null,null,null,"mei"]
[null,null,null,null,"mei"]
[null,null,null,null,"mei"]
[null,null,null,null,"mei"]
[null,null,null,null,"mei"]
[null,null,null,null,"mei"]
[null,null,null,null,"mei"]
[null,null,null,null,"mei"]
[null,null,null,null,"mei"]
[null,null,null,null,"mei"]
[null,null,null,null,"mei"]
[null,null,null,null,"mei"]
[null,null,null,null,"mei"]
[null,null,null,null,"mei"]
[null,null,null,null,"mei"]
[null,null,null,null,"mei"]
[null,null,null,null,"mei"]
[null,null,null,null,"mei"]
[null,null,null,null,"mei"]
[null,null,null,null,"mei"]
[null,null,null,null,"mei"]
[null,null,null,null,"mei"]
[null,null,null,null,"mei"]
[null,null,null,null,"mei"]
[null,null,null,null,"mei"]
[null,null,null,null,"mei"]
[null,null,null,null,"mei"]
[null,null,null,null,"mei"]
[null,null,null,null,"mei"]
[null,null,null,null,"mei"]
[null,null,null,null,"mei"]
[null,null,null,null,"mei"]
[null,null,null,null,"mei"]
[null,null,null,null,"mei"]
[null,null,null,null,"mei"]
[null,null,null,null,"mei"]
[null,null,null,null,"mei"]
[null,null,null,null,"mei"]
[null,null,null,null,"mei"]
[null,null,null,null,"mei"]
[null,null,null,null,"mei"]
[null,null,null,null,"mei"]
[null,null,null,null,"mei"]
[null,null,null,null,"mei"]
[null,null,null,null,"mei"]
[null,null,null,null,"mei"]
[null,null,null,null,"mei"]
[null,null,null,null,"mei"]
[null,null,null,null,"mei"]
[null,null,null,null,"mei"]
[null,null,null,null,"mei"]
[null,null,null,null,"mei"]
[null,null,null,null,"mei"]
[null,null,null,null,"mei"]
[null,null,null,null,"mei"]
[null,null,null,null,"mei"]
[null,null,null,null,"mei"]
[null,null,null,null,"mei"]
[null,null,null,null,"mei"]
[null,null,null,null,"mei"]
[null,null,null,null,"mei"]
[null,null,null,null,"mei"]
[null,null,null,null,"mei"]
[null,null,null,null,"mei"]
[null,null,null,null,"mei"]
[null,null,null,null,"mei"]
[null,null,null,null,"mei"]
[null,null,null,null,"mei"]
[null,null,null,null,"mei"]
[null,null,null,null,"mei"]
[null,null,null,null,"mei"]
[null,null,null,null,"mei"]
[null,null,null,null,"mei"]
[null,null,null,null,"mei"]
[null,null,null,null,"mei"]
[null,null,null,null,"mei"]
[null,null,null,null,"mei"]
[null,null,null,null,"mei"]
[null,null,null,null,"mei"]
[null,null,null,null,"mei"]
[null,null,null,null,"mei"]
[null,null,null,null,"mei"]
[null,null,null,null,"mei"]
[null,null,null,null,"mei"]
[null,null,null,null,"mei"]
[null,null,null,null,"mei"]
[null,null,null,null,"mei"]
[null,null,null,null,"mei"]
[null,null,null,null,"mei"]
[null,null,null,null,"mei"]
[null,null,null,null,"mei"]
[null,null,null,null,"mei"]
[null,null,null,null,"mei"]
[null,null,null,null,"mei"]
[null,null,null,null,"mei"]
[null,null,null,null,"mei"]
[null,null,null,null,"mei"]
[null,null,null,null,"mei"]
[null,null,null,null,"mei"]
[null,null,null,null,"mei"]
[null,null,null,null,"mei"]
[null,null,null,null,"mei"]
[null,null,null,null,"mei"]
[null,null,null,null,"mei"]
[null,null,null,null,"mei"]
[null,null,null,null,"mei"]
[null,null,null,null,"mei"]
[null,null,null,null,"mei"]
[null,null,null,null,"mei"]
[null,null,null,null,"mei"]
[null,null,null,null,"mei"]
[null,null,null,null,"mei"]
[null,null,null,null,"mei"]
[null,null,null,null,"mei"]
[null,null,null,null,"mei"]
[null,null,null,null,"mei"]
[null,null,null,null,"mei"]
[null,null,null,null,"mei"]
[null,null,null,null,"mei"]
[null,null,null,null,"mei"]
[null,null,null,null,"mei"]
[null,null,null,null,"mei"]
[null,null,null,null,"mei"]
[null,null,null,null,"mei"]
[null,null,null,null,"mei"]
[null,null,null,null,"mei"]
[null,null,null,null,"mei"]
[null,null,null,null,"mei"]
[null,null,null,null,"mei"]
[null,null,null,null,"mei"]
[null,null,null,null,"mei"]
[null,null,null,null,"mei"]
[null,null,null,null,"mei"]
[null,null,null,null,"mei"]
[null,null,null,null,"mei"]
[null,null,null,null,"mei"]
[null,null,null,null,"mei"]
[null,null,null,null,"mei"]
[null,null,null,null,"mei"]
[null,null,null,null,"mei"]
[null,null,null,null,"mei"]
[null,null,null,null,"mei"]
[null,null,null,null,"mei"]
[null,null,null,null,"mei"]
[null,null,null,null,"mei"]
[null,null,null,null,"mei"]
[null,null,null,null,"mei"]
[null,null,null,null,"mei"]
[null,null,null,null,"mei"]
[null,null,null,null,"mei"]
[null,null,null,null,"mei"]
[null,null,null,null,"mei"]
[null,null,null,null,"mei"]
[null,null,null,null,"mei"]
[null,null,null,null,"mei"]
[null,null,null,null,"mei"]
[null,null,null,null,"mei"]
[null,null,null,null,"mei"]
[null,null,null,null,"mei"]
[null,null,null,null,"mei"]
[null,null,null,null,"mei"]
[null,null,null,null,"mei"]
[null,null,null,null,"mei"]
[null,null,null,null,"mei"]
[null,null,null,null,"mei"]
[null,null,null,null,"mei"]
[null,null,null,null,"mei"]
[null,null,null,null,"mei"]
[null,null,null,null,"mei"]
[null,null,null,null,"mei"]
[null,null,null,null,"mei"]
[null,null,null,null,"mei"]
[null,null,null,null,"mei"]
[null,null,null,null,"mei"]
[null,null,null,null,"mei"]
[null,null,null,null,"mei"]
[null,null,null,null,"mei"]
[null,null,null,null,"mei"]
[null,null,null,null,"mei"]
[null,null,null,null,"mei"]
[null,null,null,null,"mei"]
[null,null,null,null,"mei"]
[null,null,null,null,"mei"]
[null,null,null,null,"mei"]
[null,null,null,null,"mei"]
[null,null,null,null,"mei"]
[null,null,null,null,"mei"]
[null,null,null,null,"mei"]
[null,null,null,null,"mei"]
[null,null,null,null,"mei"]
[null,null,null,null,"mei"]
[null,null,null,null,"mei"]
[null,null,null,null,"mei"]
[null,null,null,null,"mei"]
[null,null,null,null,"mei"]
[null,null,null,null,"mei"]
[null,null,null,null,"mei"]
[null,null,null,null,"mei"]
[null,null,null,null,"mei"]
[null,null,null,null,"mei"]
[null,null,null,null,"mei"]
[null,null,null,null,"mei"]
[null,null,null,null,"mei"]
[null,null,null,null,"mei"]
[null,null,null,null,"mei"]
[null,null,null,null,"mei"]
[null,null,null,null,"mei"]
[null,null,null,null,"mei"]
[null,null,null,null,"mei"]
[null,null,null,null,"mei"]
[null,null,null,null,"mei"]
[null,null,null,null,"mei"]
[null,null,null,null,"mei"]
[null,null,null,null,"mei"]
[null,null,null,null,"mei"]
[null,null,null,null,"mei"]
[null,null,null,null,"mei"]
[null,null,null,null,"mei"]
[null,null,null,null,"mei"]
[null,null,null,null,"mei"]
[null,null,null,null,"mei"]
[null,null,null,null,"mei"]
[null,null,null,null,"mei"]
[null,null,null,null,"mei"]
[null,null,null,null,"mei"]
[null,null,null,null,"mei"]
[null,null,null,null,"mei"]
[null,null,null,null,"mei"]
[null,null,null,null,"mei"]
[null,null,null,null,"mei"]
[null,null,null,null,"mei"]
[null,null,null,null,"mei"]
[null,null,null,null,"mei"]
[null,null,null,null,"mei"]
[null,null,null,null,"mei"]
[null,null,null,null,"mei"]
[null,null,null,null,"mei"]
[null,null,null,null,"mei"]
[null,null,null,null,"mei"]
[null,null,null,null,"mei"]
[null,null,null,null,"mei"]
[null,null,null,null,"mei"]
[null,null,null,null,"mei"]
[null,null,null,null,"mei"]
[null,null,null,null,"mei"]
[null,null,null,null,"mei"]
[null,null,null,null,"mei"]
[null,null,null,null,"mei"]
[null,null,null,null,"mei"]
[null,null,null,null,"mei"]
[null,null,null,null,"mei"]
[null,null,null,null,"mei"]
[null,null,null,null,"mei"]
[null,null,null,null,"mei"]
[null,null,null,null,"mei"]
[null,null,null,null,"mei"]
[null,null,null,null,"mei"]
[null,null,null,null,"mei"]
[null,null,null,null,"mei"]
[null,null,null,null,"mei"]
[null,null,null,null,"mei"]
[null,null,null,null,"mei"]
[null,null,null,null,"mei"]
[null,null,null,null,"mei"]
[null,null,null,null,"mei"]
[null,null,null,null,"mei"]
[null,null,null,null,"mei"]
[null,null,null,null,"mei"]
[null,null,null,null,"mei"]
[null,null,null,null,"mei"]
[null,null,null,null,"mei"]
[null,null,null,null,"mei"]
[null,null,null,null,"mei"]
[null,null,null,null,"mei"]
[null,null,null,null,"mei"]
[null,null,null,null,"mei"]
[null,null,null,null,"mei"]
[null,null,null,null,"mei"]
[null,null,null,null,"mei"]
[null,null,null,null,"mei"]
[null,null,null,null,"mei"]
[null,null,null,null,"mei"]
[null,null,null,null,"mei"]
[null,null,null,null,"mei"]
[null,null,null,null,"mei"]
[null,null,null,null,"mei"]
[null,null,null,null,"mei"]
[null,null,null,null,"mei"]
[null,null,null,null,"mei"]
[null,null,null,null,"mei"]
[null,null,null,null,"mei"]
[null,null,null,null,"mei"]
[null,null,null,null,"mei"]
[null,null,null,null,"mei"]
[null,null,null,null,"mei"]
[null,null,null,null,"mei"]
[null,null,null,null,"mei"]
[null,null,null,null,"mei"]
[null,null,null,null,"mei"]
[null,null,null,null,"mei"]
[null,null,null,null,"mei"]
[null,null,null,null,"mei"]
[null,null,null,null,"mei"]
[null,null,null,null,"mei"]
[null,null,null,null,"mei"]
[null,null,null,null,"mei"]
[null,null,null,null,"mei"]
[null,null,null,null,"mei"]
[null,null,null,null,"mei"]
[null,null,null,null,"mei"]
[null,null,null,null,"mei"]
[null,null,null,null,"mei"]
[null,null,null,null,"mei"]
[null,null,null,null,"mei"]
[null,null,null,null,"mei"]
[null,null,null,null,"mei"]
[null,null,null,null,"mei"]
[null,null,null,null,"mei"]
[null,null,null,null,"mei"]
[null,null,null,null,"mei"]
[null,null,null,null,"mei"]
[null,null,null,null,"mei"]
[null,null,null,null,"mei"]
[null,null,null,null,"mei"]
[null,null,null,null,"mei"]
[null,null,null,null,"mei"]
[null,null,null,null,"mei"]
[null,null,null,null,"mei"]
[null,null,null,null,"mei"]
[null,null,null,null,"mei"]
[null,null,null,null,"mei"]
[null,null,null,null,"mei"]
[null,null,null,null,"mei"]
[null,null,null,null,"mei"]
[null,null,null,null,"mei"]
[null,null,null,null,"mei"]
[null,null,null,null,"mei"]
[null,null,null,null,"mei"]
[null,null,null,null,"mei"]
[null,null,null,null,"mei"]
[null,null,null,null,"mei"]
[null,null,null,null,"mei"]
[null,null,null,null,"mei"]
[null,null,null,null,"mei"]
[null,null,null,null,"mei"]
[null,null,null,null,"mei"]
[null,null,null,null,"mei"]
[null,null,null,null,"mei"]
[null,null,null,null,"mei"]
[null,null,null,null,"mei"]
[null,null,null,null,"mei"]
[null,null,null,null,"mei"]
[null,null,null,null,"mei"]
[null,null,null,null,"mei"]
[null,null,null,null,"mei"]
[null,null,null,null,"mei"]
[null,null,null,null,"mei"]
[null,null,null,null,"mei"]
[null,null,null,null,"mei"]
[null,null,null,null,"mei"]
[null,null,null,null,"mei"]
[null,null,null,null,"mei"]
[null,null,null,null,"mei"]
[null,null,null,null,"mei"]
[null,null,null,null,"mei"]
[null,null,null,null,"mei"]
[null,null,null,null,"mei"]
[null,null,null,null,"mei"]
[null,null,null,null,"mei"]
[null,null,null,null,"mei"]
[null,null,null,null,"mei"]
[null,null,null,null,"mei"]
[null,null,null,null,"mei"]
[null,null,null,null,"mei"]
[null,null,null,null,"mei"]
[null,null,null,null,"mei"]
[null,null,null,null,"mei"]
[null,null,null,null,"mei"]
[null,null,null,null,"mei"]
[null,null,null,null,"mei"]
[null,null,null,null,"mei"]
[null,null,null,null,"mei"]
[null,null,null,null,"mei"]
[null,null,null,null,"mei"]
[null,null,null,null,"mei"]
[null,null,null,null,"mei"]
[null,null,null,null,"mei"]
[null,null,null,null,"mei"]
[null,null,null,null,"mei"]
[null,null,null,null,"mei"]
[null,null,null,null,"mei"]
[null,null,null,null,"mei"]
[null,null,null,null,"mei"]
[null,null,null,null,"mei"]
[null,null,null,null,"mei"]
[null,null,null,null,"mei"]
[null,null,null,null,"mei"]
[null,null,null,null,"mei"]
[null,null,null,null,"mei"]
[null,null,null,null,"mei"]
[null,null,null,null,"mei"]
[null,null,null,null,"mei"]
[null,null,null,null,"mei"]
[null,null,null,null,"mei"]
[null,null,null,null,"mei"]
[null,null,null,null,"mei"]
[null,null,null,null,"mei"]
[null,null,null,null,"mei"]
[null,null,null,null,"mei"]
[null,null,null,null,"mei"]
[null,null,null,null,"mei"]
[null,null,null,null,"mei"]
[null,null,null,null,"mei"]
[null,null,null,null,"mei"]
[null,null,null,null,"mei"]
[null,null,null,null,"mei"]
[null,null,null,null,"mei"]
[null,null,null,null,"mei"]
[null,null,null,null,"mei"]
[null,null,null,null,"mei"]
[null,null,null,null,"mei"]
[null,null,null,null,"mei"]
[null,null,null,null,"mei"]
[null,null,null,null,"mei"]
[null,null,null,null,"mei"]
[null,null,null,null,"mei"]
[null,null,null,null,"mei"]
[null,null,null,null,"mei"]
[null,null,null,null,"mei"]
[null,null,null,null,"mei"]
[null,null,null,null,"mei"]
[null,null,null,null,"mei"]
[null,null,null,null,"mei"]
[null,null,null,null,"mei"]
[null,null,null,null,"mei"]
[null,null,null,null,"mei"]
[null,null,null,null,"mei"]
[null,null,null,null,"mei"]
[null,null,null,null,"mei"]
[null,null,null,null,"mei"]
[null,null,null,null,"mei"]
[null,null,null,null,"mei"]
[null,null,null,null,"mei"]
[null,null,null,null,"mei"]
[null,null,null,null,"mei"]
[null,null,null,null,"mei"]
[null,null,null,null,"mei"]
[null,null,null,null,"mei"]
[null,null,null,null,"mei"]
[null,null,null,null,"mei"]
[null,null,null,null,"mei"]
[null,null,null,null,"mei"]
[null,null,null,null,"mei"]
[null,null,null,null,"mei"]
[null,null,null,null,"mei"]
[null,null,null,null,"mei"]
[null,null,null,null,"mei"]
[null,null,null,null,"mei"]
[null,null,null,null,"mei"]
[null,null,null,null,"mei"]
[null,null,null,null,"mei"]
[null,null,null,null,"mei"]
[null,null,null,null,"mei"]
[null,null,null,null,"mei"]
[null,null,null,null,"mei"]
[null,null,null,null,"mei"]
[null,null,null,null,"mei"]
[null,null,null,null,"mei"]
[null,null,null,null,"mei"]
[null,null,null,null,"mei"]
[null,null,null,null,"mei"]
[null,null,null,null,"mei"]
[null,null,null,null,"mei"]
[null,null,null,null,"mei"]
[null,null,null,null,"mei"]
[null,null,null,null,"mei"]
[null,null,null,null,"mei"]
[null,null,null,null,"mei"]
[null,null,null,null,"mei"]
[null,null,null,null,"mei"]
[null,null,null,null,"mei"]
[null,null,null,null,"mei"]
[null,null,null,null,"mei"]
[null,null,null,null,"mei"]
[null,null,null,null,"mei"]
[null,null,null,null,"mei"]
[null,null,null,null,"mei"]
[null,null,null,null,"mei"]
[null,null,null,null,"mei"]
[null,null,null,null,"mei"]
[null,null,null,null,"mei"]
[null,null,null,null,"mei"]
[null,null,null,null,"mei"]
[null,null,null,null,"mei"]
[null,null,null,null,"mei"]
[null,null,null,null,"mei"]
[null,null,null,null,"mei"]
[null,null,null,null,"mei"]
[null,null,null,null,"mei"]
[null,null,null,null,"mei"]
[null,null,null,null,"mei"]
[null,null,null,null,"mei"]
[null,null,null,null,"juni"]
[null,null,null,null,"juni"]
[null,null,null,null,"juni"]
[null,null,null,null,"juni"]
[null,null,null,null,"juni"]
[null,null,null,null,"juni"]
[null,null,null,null,"juni"]
[null,null,null,null,"juni"]
[null,null,null,null,"juni"]
[null,null,null,null,"juni"]
[null,null,null,null,"juni"]
[null,null,null,null,"juni"]
[null,null,null,null,"juni"]
[null,null,null,null,"juni"]
[null,null,null,null,"juni"]
[null,null,null,null,"juni"]
[null,null,null,null,"juni"]
[null,null,null,null,"juni"]
[null,null,null,null,"juni"]
[null,null,null,null,"juni"]
[null,null,null,null,"juni"]
[null,null,null,null,"juni"]
[null,null,null,null,"juni"]
[null,null,null,null,"juni"]
[null,null,null,null,"juni"]
[null,null,null,null,"juni"]
[null,null,null,null,"juni"]
[null,null,null,null,"juni"]
[null,null,null,null,"juni"]
[null,null,null,null,"juni"]
[null,null,null,null,"juni"]
[null,null,null,null,"juni"]
[null,null,null,null,"juni"]
[null,null,null,null,"juni"]
[null,null,null,null,"juni"]
[null,null,null,null,"juni"]
[null,null,null,null,"juni"]
[null,null,null,null,"juni"]
[null,null,null,null,"juni"]
[null,null,null,null,"juni"]
[null,null,null,null,"juni"]
[null,null,null,null,"juni"]
[null,null,null,null,"juni"]
[null,null,null,null,"juni"]
[null,null,null,null,"juni"]
[null,null,null,null,"juni"]
[null,null,null,null,"juni"]
[null,null,null,null,"juni"]
[null,null,null,null,"juni"]
[null,null,null,null,"juni"]
[null,null,null,null,"juni"]
[null,null,null,null,"juni"]
[null,null,null,null,"juni"]
[null,null,null,null,"juni"]
[null,null,null,null,"juni"]
[null,null,null,null,"juni"]
[null,null,null,null,"juni"]
[null,null,null,null,"juni"]
[null,null,null,null,"juni"]
[null,null,null,null,"juni"]
[null,null,null,null,"juni"]
[null,null,null,null,"juni"]
[null,null,null,null,"juni"]
[null,null,null,null,"juni"]
[null,null,null,null,"juni"]
[null,null,null,null,"juni"]
[null,null,null,null,"juni"]
[null,null,null,null,"juni"]
[null,null,null,null,"juni"]
[null,null,null,null,"juni"]
[null,null,null,null,"juni"]
[null,null,null,null,"juni"]
[null,null,null,null,"juni"]
[null,null,null,null,"juni"]
[null,null,null,null,"juni"]
[null,null,null,null,"juni"]
[null,null,null,null,"juni"]
[null,null,null,null,"juni"]
[null,null,null,null,"juni"]
[null,null,null,null,"juni"]
[null,null,null,null,"juni"]
[null,null,null,null,"juni"]
[null,null,null,null,"juni"]
[null,null,null,null,"juni"]
[null,null,null,null,"juni"]
[null,null,null,null,"juni"]
[null,null,null,null,"juni"]
[null,null,null,null,"juni"]
[null,null,null,null,"juni"]
[null,null,null,null,"juni"]
[null,null,null,null,"juni"]
[null,null,null,null,"juni"]
[null,null,null,null,"juni"]
[null,null,null,null,"juni"]
[null,null,null,null,"juni"]
[null,null,null,null,"juni"]
[null,null,null,null,"juni"]
[null,null,null,null,"juni"]
[null,null,null,null,"juni"]
[null,null,null,null,"juni"]
[null,null,null,null,"juni"]
[null,null,null,null,"juni"]
[null,null,null,null,"juni"]
[null,null,null,null,"juni"]
[null,null,null,null,"juni"]
[null,null,null,null,"juni"]
[null,null,null,null,"juni"]
[null,null,null,null,"juni"]
[null,null,null,null,"juni"]
[null,null,null,null,"juni"]
[null,null,null,null,"juni"]
[null,null,null,null,"juni"]
[null,null,null,null,"juni"]
[null,null,null,null,"juni"]
[null,null,null,null,"juni"]
[null,null,null,null,"juni"]
[null,null,null,null,"juni"]
[null,null,null,null,"juni"]
[null,null,null,null,"juni"]
[null,null,null,null,"juni"]
[null,null,null,null,"juni"]
[null,null,null,null,"juni"]
[null,null,null,null,"juni"]
[null,null,null,null,"juni"]
[null,null,null,null,"juni"]
[null,null,null,null,"juni"]
[null,null,null,null,"juni"]
[null,null,null,null,"juni"]
[null,null,null,null,"juni"]
[null,null,null,null,"juni"]
[null,null,null,null,"juni"]
[null,null,null,null,"juni"]
[null,null,null,null,"juni"]
[null,null,null,null,"juni"]
[null,null,null,null,"juni"]
[null,null,null,null,"juni"]
[null,null,null,null,"juni"]
[null,null,null,null,"juni"]
[null,null,null,null,"juni"]
[null,null,null,null,"juni"]
[null,null,null,null,"juni"]
[null,null,null,null,"juni"]
[null,null,null,null,"juni"]
[null,null,null,null,"juni"]
[null,null,null,null,"juni"]
[null,null,null,null,"juni"]
[null,null,null,null,"juni"]
[null,null,null,null,"juni"]
[null,null,null,null,"juni"]
[null,null,null,null,"juni"]
[null,null,null,null,"juni"]
[null,null,null,null,"juni"]
[null,null,null,null,"juni"]
[null,null,null,null,"juni"]
[null,null,null,null,"juni"]
[null,null,null,null,"juni"]
[null,null,null,null,"juni"]
[null,null,null,null,"juni"]
[null,null,null,null,"juni"]
[null,null,null,null,"juni"]
[null,null,null,null,"juni"]
[null,null,null,null,"juni"]
[null,null,null,null,"juni"]
[null,null,null,null,"juni"]
[null,null,null,null,"juni"]
[null,null,null,null,"juni"]
[null,null,null,null,"juni"]
[null,null,null,null,"juni"]
[null,null,null,null,"juni"]
[null,null,null,null,"juni"]
[null,null,null,null,"juni"]
[null,null,null,null,"juni"]
[null,null,null,null,"juni"]
[null,null,null,null,"juni"]
[null,null,null,null,"juni"]
[null,null,null,null,"juni"]
[null,null,null,null,"juni"]
[null,null,null,null,"juni"]
[null,null,null,null,"juni"]
[null,null,null,null,"juni"]
[null,null,null,null,"juni"]
[null,null,null,null,"juni"]
[null,null,null,null,"juni"]
[null,null,null,null,"juni"]
[null,null,null,null,"juni"]
[null,null,null,null,"juni"]
[null,null,null,null,"juni"]
[null,null,null,null,"juni"]
[null,null,null,null,"juni"]
[null,null,null,null,"juni"]
[null,null,null,null,"juni"]
[null,null,null,null,"juni"]
[null,null,null,null,"juni"]
[null,null,null,null,"juni"]
[null,null,null,null,"juni"]
[null,null,null,null,"juni"]
[null,null,null,null,"juni"]
[null,null,null,null,"juni"]
[null,null,null,null,"juni"]
[null,null,null,null,"juni"]
[null,null,null,null,"juni"]
[null,null,null,null,"juni"]
[null,null,null,null,"juni"]
[null,null,null,null,"juni"]
[null,null,null,null,"juni"]
[null,null,null,null,"juni"]
[null,null,null,null,"juni"]
[null,null,null,null,"juni"]
[null,null,null,null,"juni"]
[null,null,null,null,"juni"]
[null,null,null,null,"juni"]
[null,null,null,null,"juni"]
[null,null,null,null,"juni"]
[null,null,null,null,"juni"]
[null,null,null,null,"juni"]
[null,null,null,null,"juni"]
[null,null,null,null,"juni"]
[null,null,null,null,"juni"]
[null,null,null,null,"juni"]
[null,null,null,null,"juni"]
[null,null,null,null,"juni"]
[null,null,null,null,"juni"]
[null,null,null,null,"juni"]
[null,null,null,null,"juni"]
[null,null,null,null,"juni"]
[null,null,null,null,"juni"]
[null,null,null,null,"juni"]
[null,null,null,null,"juni"]
[null,null,null,null,"juni"]
[null,null,null,null,"juni"]
[null,null,null,null,"juni"]
[null,null,null,null,"juni"]
[null,null,null,null,"juni"]
[null,null,null,null,"juni"]
[null,null,null,null,"juni"]
[null,null,null,null,"juni"]
[null,null,null,null,"juni"]
[null,null,null,null,"juni"]
[null,null,null,null,"juni"]
[null,null,null,null,"juni"]
[null,null,null,null,"juni"]
[null,null,null,null,"juni"]
[null,null,null,null,"juni"]
[null,null,null,null,"juni"]
[null,null,null,null,"juni"]
[null,null,null,null,"juni"]
[null,null,null,null,"juni"]
[null,null,null,null,"juni"]
[null,null,null,null,"juni"]
[null,null,null,null,"juni"]
[null,null,null,null,"juni"]
[null,null,null,null,"juni"]
[null,null,null,null,"juni"]
[null,null,null,null,"juni"]
[null,null,null,null,"juni"]
[null,null,null,null,"juni"]
[null,null,null,null,"juni"]
[null,null,null,null,"juni"]
[null,null,null,null,"juni"]
[null,null,null,null,"juni"]
[null,null,null,null,"juni"]
[null,null,null,null,"juni"]
[null,null,null,null,"juni"]
[null,null,null,null,"juni"]
[null,null,null,null,"juni"]
[null,null,null,null,"juni"]
[null,null,null,null,"juni"]
[null,null,null,null,"juni"]
[null,null,null,null,"juni"]
[null,null,null,null,"juni"]
[null,null,null,null,"juni"]
[null,null,null,null,"juni"]
[null,null,null,null,"juni"]
[null,null,null,null,"juni"]
[null,null,null,null,"juni"]
[null,null,null,null,"juni"]
[null,null,null,null,"juni"]
[null,null,null,null,"juni"]
[null,null,null,null,"juni"]
[null,null,null,null,"juni"]
[null,null,null,null,"juni"]
[null,null,null,null,"juni"]
[null,null,null,null,"juni"]
[null,null,null,null,"juni"]
[null,null,null,null,"juni"]
[null,null,null,null,"juni"]
[null,null,null,null,"juni"]
[null,null,null,null,"juni"]
[null,null,null,null,"juni"]
[null,null,null,null,"juni"]
[null,null,null,null,"juni"]
[null,null,null,null,"juni"]
[null,null,null,null,"juni"]
[null,null,null,null,"juni"]
[null,null,null,null,"juni"]
[null,null,null,null,"juni"]
[null,null,null,null,"juni"]
[null,null,null,null,"juni"]
[null,null,null,null,"juni"]
[null,null,null,null,"juni"]
[null,null,null,null,"juni"]
[null,null,null,null,"juni"]
[null,null,null,null,"juni"]
[null,null,null,null,"juni"]
[null,null,null,null,"juni"]
[null,null,null,null,"juni"]
[null,null,null,null,"juni"]
[null,null,null,null,"juni"]
[null,null,null,null,"juni"]
[null,null,null,null,"juni"]
[null,null,null,null,"juni"]
[null,null,null,null,"juni"]
[null,null,null,null,"juni"]
[null,null,null,null,"juni"]
[null,null,null,null,"juni"]
[null,null,null,null,"juni"]
[null,null,null,null,"juni"]
[null,null,null,null,"juni"]
[null,null,null,null,"juni"]
[null,null,null,null,"juni"]
[null,null,null,null,"juni"]
[null,null,null,null,"juni"]
[null,null,null,null,"juni"]
[null,null,null,null,"juni"]
[null,null,null,null,"juni"]
[null,null,null,null,"juni"]
[null,null,null,null,"juni"]
[null,null,null,null,"juni"]
[null,null,null,null,"juni"]
[null,null,null,null,"juni"]
[null,null,null,null,"juni"]
[null,null,null,null,"juni"]
[null,null,null,null,"juni"]
[null,null,null,null,"juni"]
[null,null,null,null,"juni"]
[null,null,null,null,"juni"]
[null,null,null,null,"juni"]
[null,null,null,null,"juni"]
[null,null,null,null,"juni"]
[null,null,null,null,"juni"]
[null,null,null,null,"juni"]
[null,null,null,null,"juni"]
[null,null,null,null,"juni"]
[null,null,null,null,"juni"]
[null,null,null,null,"juni"]
[null,null,null,null,"juni"]
[null,null,null,null,"juni"]
[null,null,null,null,"juni"]
[null,null,null,null,"juni"]
[null,null,null,null,"juni"]
[null,null,null,null,"juni"]
[null,null,null,null,"juni"]
[null,null,null,null,"juni"]
[null,null,null,null,"juni"]
[null,null,null,null,"juni"]
[null,null,null,null,"juni"]
[null,null,null,null,"juni"]
[null,null,null,null,"juni"]
[null,null,null,null,"juni"]
[null,null,null,null,"juni"]
[null,null,null,null,"juni"]
[null,null,null,null,"juni"]
[null,null,null,null,"juni"]
[null,null,null,null,"juni"]
[null,null,null,null,"juni"]
[null,null,null,null,"juni"]
[null,null,null,null,"juni"]
[null,null,null,null,"juni"]
[null,null,null,null,"juni"]
[null,null,null,null,"juni"]
[null,null,null,null,"juni"]
[null,null,null,null,"juni"]
[null,null,null,null,"juni"]
[null,null,null,null,"juni"]
[null,null,null,null,"juni"]
[null,null,null,null,"juni"]
[null,null,null,null,"juni"]
[null,null,null,null,"juni"]
[null,null,null,null,"juni"]
[null,null,null,null,"juni"]
[null,null,null,null,"juni"]
[null,null,null,null,"juni"]
[null,null,null,null,"juni"]
[null,null,null,null,"juni"]
[null,null,null,null,"juni"]
[null,null,null,null,"juni"]
[null,null,null,null,"juni"]
[null,null,null,null,"juni"]
[null,null,null,null,"juni"]
[null,null,null,null,"juni"]
[null,null,null,null,"juni"]
[null,null,null,null,"juni"]
[null,null,null,null,"juni"]
[null,null,null,null,"juni"]
[null,null,null,null,"juni"]
[null,null,null,null,"juni"]
[null,null,null,null,"juni"]
[null,null,null,null,"juni"]
[null,null,null,null,"juni"]
[null,null,null,null,"juni"]
[null,null,null,null,"juni"]
[null,null,null,null,"juni"]
[null,null,null,null,"juni"]
[null,null,null,null,"juni"]
[null,null,null,null,"juni"]
[null,null,null,null,"juni"]
[null,null,null,null,"juni"]
[null,null,null,null,"juni"]
[null,null,null,null,"juni"]
[null,null,null,null,"juni"]
[null,null,null,null,"juni"]
[null,null,null,null,"juni"]
[null,null,null,null,"juni"]
[null,null,null,null,"juni"]
[null,null,null,null,"juni"]
[null,null,null,null,"juni"]
[null,null,null,null,"juni"]
[null,null,null,null,"juni"]
[null,null,null,null,"juni"]
[null,null,null,null,"juni"]
[null,null,null,null,"juni"]
[null,null,null,null,"juni"]
[null,null,null,null,"juni"]
[null,null,null,null,"juni"]
[null,null,null,null,"juni"]
[null,null,null,null,"juni"]
[null,null,null,null,"juni"]
[null,null,null,null,"juni"]
[null,null,null,null,"juni"]
[null,null,null,null,"juni"]
[null,null,null,null,"juni"]
[null,null,null,null,"juni"]
[null,null,null,null,"juni"]
[null,null,null,null,"juni"]
[null,null,null,null,"juni"]
[null,null,null,null,"juni"]
[null,null,null,null,"juni"]
[null,null,null,null,"juni"]
[null,null,null,null,"juni"]
[null,null,null,null,"juni"]
[null,null,null,null,"juni"]
[null,null,null,null,"juni"]
[null,null,null,null,"juni"]
[null,null,null,null,"juni"]
[null,null,null,null,"juni"]
[null,null,null,null,"juni"]
[null,null,null,null,"juni"]
[null,null,null,null,"juni"]
[null,null,null,null,"juni"]
[null,null,null,null,"juni"]
[null,null,null,null,"juni"]
[null,null,null,null,"juni"]
[null,null,null,null,"juni"]
[null,null,null,null,"juni"]
[null,null,null,null,"juni"]
[null,null,null,null,"juni"]
[null,null,null,null,"juni"]
[null,null,null,null,"juni"]
[null,null,null,null,"juni"]
[null,null,null,null,"juni"]
[null,null,null,null,"juni"]
[null,null,null,null,"juni"]
[null,null,null,null,"juni"]
[null,null,null,null,"juni"]
[null,null,null,null,"juni"]
[null,null,null,null,"juni"]
[null,null,null,null,"juni"]
[null,null,null,null,"juni"]
[null,null,null,null,"juni"]
[null,null,null,null,"juni"]
[null,null,null,null,"juni"]
[null,null,null,null,"juni"]
[null,null,null,null,"juni"]
[null,null,null,null,"juni"]
[null,null,null,null,"juni"]
[null,null,null,null,"juni"]
[null,null,null,null,"juni"]
[null,null,null,null,"juni"]
[null,null,null,null,"juni"]
[null,null,null,null,"juni"]
[null,null,null,null,"juni"]
[null,null,null,null,"juni"]
[null,null,null,null,"juni"]
[null,null,null,null,"juni"]
[null,null,null,null,"juni"]
[null,null,null,null,"juni"]
[null,null,null,null,"juni"]
[null,null,null,null,"juni"]
[null,null,null,null,"juni"]
[null,null,null,null,"juni"]
[null,null,null,null,"juni"]
[null,null,null,null,"juni"]
[null,null,null,null,"juni"]
[null,null,null,null,"juni"]
[null,null,null,null,"juni"]
[null,null,null,null,"juni"]
[null,null,null,null,"juni"]
[null,null,null,null,"juni"]
[null,null,null,null,"juni"]
[null,null,null,null,"juni"]
[null,null,null,null,"juni"]
[null,null,null,null,"juni"]
[null,null,null,null,"juni"]
[null,null,null,null,"juni"]
[null,null,null,null,"juni"]
[null,null,null,null,"juni"]
[null,null,null,null,"juni"]
[null,null,null,null,"juni"]
[null,null,null,null,"juni"]
[null,null,null,null,"juni"]
[null,null,null,null,"juni"]
[null,null,null,null,"juni"]
[null,null,null,null,"juni"]
[null,null,null,null,"juni"]
[null,null,null,null,"juni"]
[null,null,null,null,"juni"]
[null,null,null,null,"juni"]
[null,null,null,null,"juni"]
[null,null,null,null,"juni"]
[null,null,null,null,"juni"]
[null,null,null,null,"juni"]
[null,null,null,null,"juni"]
[null,null,null,null,"juni"]
[null,null,null,null,"juni"]
[null,null,null,null,"juni"]
[null,null,null,null,"juni"]
[null,null,null,null,"juni"]
[null,null,null,null,"juni"]
[null,null,null,null,"juni"]
[null,null,null,null,"juni"]
[null,null,null,null,"juni"]
[null,null,null,null,"juni"]
[null,null,null,null,"juni"]
[null,null,null,null,"juni"]
[null,null,null,null,"juni"]
[null,null,null,null,"juni"]
[null,null,null,null,"juni"]
[null,null,null,null,"juni"]
[null,null,null,null,"juni"]
[null,null,null,null,"juni"]
[null,null,null,null,"juni"]
[null,null,null,null,"juni"]
[null,null,null,null,"juni"]
[null,null,null,null,"juni"]
[null,null,null,null,"juni"]
[null,null,null,null,"juni"]
[null,null,null,null,"juni"]
[null,null,null,null,"juni"]
[null,null,null,null,"juni"]
[null,null,null,null,"juni"]
[null,null,null,null,"juni"]
[null,null,null,null,"juni"]
[null,null,null,null,"juni"]
[null,null,null,null,"juni"]
[null,null,null,null,"juni"]
[null,null,null,null,"juni"]
[null,null,null,null,"juni"]
[null,null,null,null,"juni"]
[null,null,null,null,"juni"]
[null,null,null,null,"juni"]
[null,null,null,null,"juni"]
[null,null,null,null,"juni"]
[null,null,null,null,"juni"]
[null,null,null,null,"juni"]
[null,null,null,null,"juni"]
[null,null,null,null,"juni"]
[null,null,null,null,"juni"]
[null,null,null,null,"juni"]
[null,null,null,null,"juni"]
[null,null,null,null,"juni"]
[null,null,null,null,"juni"]
[null,null,null,null,"juni"]
[null,null,null,null,"juni"]
[null,null,null,null,"juni"]
[null,null,null,null,"juni"]
[null,null,null,null,"juni"]
[null,null,null,null,"juni"]
[null,null,null,null,"juni"]
[null,null,null,null,"juni"]
[null,null,null,null,"juni"]
[null,null,null,null,"juni"]
[null,null,null,null,"juni"]
[null,null,null,null,"juni"]
[null,null,null,null,"juni"]
[null,null,null,null,"juni"]
[null,null,null,null,"juni"]
[null,null,null,null,"juni"]
[null,null,null,null,"juni"]
[null,null,null,null,"juni"]
[null,null,null,null,"juni"]
[null,null,null,null,"juni"]
[null,null,null,null,"juni"]
[null,null,null,null,"juni"]
[null,null,null,null,"juni"]
[null,null,null,null,"juni"]
[null,null,null,null,"juni"]
[null,null,null,null,"juni"]
[null,null,null,null,"juni"]
[null,null,null,null,"juni"]
[null,null,null,null,"juni"]
[null,null,null,null,"juni"]
[null,null,null,null,"juni"]
[null,null,null,null,"juni"]
[null,null,null,null,"juni"]
[null,null,null,null,"juni"]
[null,null,null,null,"juni"]
[null,null,null,null,"juni"]
[null,null,null,null,"juni"]
[null,null,null,null,"juni"]
[null,null,null,null,"juni"]
[null,null,null,null,"juni"]
[null,null,null,null,"juni"]
[null,null,null,null,"juni"]
[null,null,null,null,"juni"]
[null,null,null,null,"juni"]
[null,null,null,null,"juni"]
[null,null,null,null,"juni"]
[null,null,null,null,"juni"]
[null,null,null,null,"juni"]
[null,null,null,null,"juni"]
[null,null,null,null,"juni"]
[null,null,null,null,"juni"]
[null,null,null,null,"juni"]
[null,null,null,null,"juni"]
[null,null,null,null,"juni"]
[null,null,null,null,"juni"]
[null,null,null,null,"juni"]
[null,null,null,null,"juni"]
[null,null,null,null,"juni"]
[null,null,null,null,"juni"]
[null,null,null,null,"juni"]
[null,null,null,null,"juni"]
[null,null,null,null,"juni"]
[null,null,null,null,"juni"]
[null,null,null,null,"juni"]
[null,null,null,null,"juni"]
[null,null,null,null,"juni"]
[null,null,null,null,"juni"]
[null,null,null,null,"juni"]
[null,null,null,null,"juni"]
[null,null,null,null,"juni"]
[null,null,null,null,"juni"]
[null,null,null,null,"juni"]
[null,null,null,null,"juni"]
[null,null,null,null,"juni"]
[null,null,null,null,"juni"]
[null,null,null,null,"juni"]
[null,null,null,null,"juni"]
[null,null,null,null,"juni"]
[null,null,null,null,"juni"]
[null,null,null,null,"juni"]
[null,null,null,null,"juni"]
[null,null,null,null,"juni"]
[null,null,null,null,"juni"]
[null,null,null,null,"juni"]
[null,null,null,null,"juni"]
[null,null,null,null,"juni"]
[null,null,null,null,"juni"]
[null,null,null,null,"juni"]
[null,null,null,null,"juni"]
[null,null,null,null,"juni"]
[null,null,null,null,"juni"]
[null,null,null,null,"juni"]
[null,null,null,null,"juni"]
[null,null,null,null,"juni"]
[null,null,null,null,"juni"]
[null,null,null,null,"juni"]
[null,null,null,null,"juni"]
[null,null,null,null,"juni"]
[null,null,null,null,"juni"]
[null,null,null,null,"juni"]
[null,null,null,null,"juni"]
[null,null,null,null,"juni"]
[null,null,null,null,"juni"]
[null,null,null,null,"juni"]
[null,null,null,null,"juni"]
[null,null,null,null,"juni"]
[null,null,null,null,"juni"]
[null,null,null,null,"juni"]
[null,null,null,null,"juni"]
[null,null,null,null,"juni"]
[null,null,null,null,"juni"]
[null,null,null,null,"juni"]
[null,null,null,null,"juni"]
[null,null,null,null,"juni"]
[null,null,null,null,"juni"]
[null,null,null,null,"juni"]
[null,null,null,null,"juni"]
[null,null,null,null,"juni"]
[null,null,null,null,"juni"]
[null,null,null,null,"juni"]
[null,null,null,null,"juni"]
[null,null,null,null,"juni"]
[null,null,null,null,"juni"]
[null,null,null,null,"juni"]
[null,null,null,null,"juni"]
[null,null,null,null,"juni"]
[null,null,null,null,"juni"]
[null,null,null,null,"juni"]
[null,null,null,null,"juni"]
[null,null,null,null,"juni"]
[null,null,null,null,"juni"]
[null,null,null,null,"juni"]
[null,null,null,null,"juni"]
[null,null,null,null,"juni"]
[null,null,null,null,"juni"]
[null,null,null,null,"juni"]
[null,null,null,null,"juni"]
[null,null,null,null,"juni"]
[null,null,null,null,"juni"]
[null,null,null,null,"juni"]
[null,null,null,null,"juni"]
[null,null,null,null,"juni"]
[null,null,null,null,"juni"]
[null,null,null,null,"juni"]
[null,null,null,null,"juni"]
[null,null,null,null,"juni"]
[null,null,null,null,"juni"]
[null,null,null,null,"juni"]
[null,null,null,null,"juni"]
[null,null,null,null,"juli"]
[null,null,null,null,"juli"]
[null,null,null,null,"juli"]
[null,null,null,null,"juli"]
[null,null,null,null,"juli"]
[null,null,null,null,"juli"]
[null,null,null,null,"juli"]
[null,null,null,null,"juli"]
[null,null,null,null,"juli"]
[null,null,null,null,"juli"]
[null,null,null,null,"juli"]
[null,null,null,null,"juli"]
[null,null,null,null,"juli"]
[null,null,null,null,"juli"]
[null,null,null,null,"juli"]
[null,null,null,null,"juli"]
[null,null,null,null,"juli"]
[null,null,null,null,"juli"]
[null,null,null,null,"juli"]
[null,null,null,null,"juli"]
[null,null,null,null,"juli"]
[null,null,null,null,"juli"]
[null,null,null,null,"juli"]
[null,null,null,null,"juli"]
[null,null,null,null,"juli"]
[null,null,null,null,"juli"]
[null,null,null,null,"juli"]
[null,null,null,null,"juli"]
[null,null,null,null,"juli"]
[null,null,null,null,"juli"]
[null,null,null,null,"juli"]
[null,null,null,null,"juli"]
[null,null,null,null,"juli"]
[null,null,null,null,"juli"]
[null,null,null,null,"juli"]
[null,null,null,null,"juli"]
[null,null,null,null,"juli"]
[null,null,null,null,"juli"]
[null,null,null,null,"juli"]
[null,null,null,null,"juli"]
[null,null,null,null,"juli"]
[null,null,null,null,"juli"]
[null,null,null,null,"juli"]
[null,null,null,null,"juli"]
[null,null,null,null,"juli"]
[null,null,null,null,"juli"]
[null,null,null,null,"juli"]
[null,null,null,null,"juli"]
[null,null,null,null,"juli"]
[null,null,null,null,"juli"]
[null,null,null,null,"juli"]
[null,null,null,null,"juli"]
[null,null,null,null,"juli"]
[null,null,null,null,"juli"]
[null,null,null,null,"juli"]
[null,null,null,null,"juli"]
[null,null,null,null,"juli"]
[null,null,null,null,"juli"]
[null,null,null,null,"juli"]
[null,null,null,null,"juli"]
[null,null,null,null,"juli"]
[null,null,null,null,"juli"]
[null,null,null,null,"juli"]
[null,null,null,null,"juli"]
[null,null,null,null,"juli"]
[null,null,null,null,"juli"]
[null,null,null,null,"juli"]
[null,null,null,null,"juli"]
[null,null,null,null,"juli"]
[null,null,null,null,"juli"]
[null,null,null,null,"juli"]
[null,null,null,null,"juli"]
[null,null,null,null,"juli"]
[null,null,null,null,"juli"]
[null,null,null,null,"juli"]
[null,null,null,null,"juli"]
[null,null,null,null,"juli"]
[null,null,null,null,"juli"]
[null,null,null,null,"juli"]
[null,null,null,null,"juli"]
[null,null,null,null,"juli"]
[null,null,null,null,"juli"]
[null,null,null,null,"juli"]
[null,null,null,null,"juli"]
[null,null,null,null,"juli"]
[null,null,null,null,"juli"]
[null,null,null,null,"juli"]
[null,null,null,null,"juli"]
[null,null,null,null,"juli"]
[null,null,null,null,"juli"]
[null,null,null,null,"juli"]
[null,null,null,null,"juli"]
[null,null,null,null,"juli"]
[null,null,null,null,"juli"]
[null,null,null,null,"juli"]
[null,null,null,null,"juli"]
[null,null,null,null,"juli"]
[null,null,null,null,"juli"]
[null,null,null,null,"juli"]
[null,null,null,null,"juli"]
[null,null,null,null,"juli"]
[null,null,null,null,"juli"]
[null,null,null,null,"juli"]
[null,null,null,null,"juli"]
[null,null,null,null,"juli"]
[null,null,null,null,"juli"]
[null,null,null,null,"juli"]
[null,null,null,null,"juli"]
[null,null,null,null,"juli"]
[null,null,null,null,"juli"]
[null,null,null,null,"juli"]
[null,null,null,null,"juli"]
[null,null,null,null,"juli"]
[null,null,null,null,"juli"]
[null,null,null,null,"juli"]
[null,null,null,null,"juli"]
[null,null,null,null,"juli"]
[null,null,null,null,"juli"]
[null,null,null,null,"juli"]
[null,null,null,null,"juli"]
[null,null,null,null,"juli"]
[null,null,null,null,"juli"]
[null,null,null,null,"juli"]
[null,null,null,null,"juli"]
[null,null,null,null,"juli"]
[null,null,null,null,"juli"]
[null,null,null,null,"juli"]
[null,null,null,null,"juli"]
[null,null,null,null,"juli"]
[null,null,null,null,"juli"]
[null,null,null,null,"juli"]
[null,null,null,null,"juli"]
[null,null,null,null,"juli"]
[null,null,null,null,"juli"]
[null,null,null,null,"juli"]
[null,null,null,null,"juli"]
[null,null,null,null,"juli"]
[null,null,null,null,"juli"]
[null,null,null,null,"juli"]
[null,null,null,null,"juli"]
[null,null,null,null,"juli"]
[null,null,null,null,"juli"]
[null,null,null,null,"juli"]
[null,null,null,null,"juli"]
[null,null,null,null,"juli"]
[null,null,null,null,"juli"]
[null,null,null,null,"juli"]
[null,null,null,null,"juli"]
[null,null,null,null,"juli"]
[null,null,null,null,"juli"]
[null,null,null,null,"juli"]
[null,null,null,null,"juli"]
[null,null,null,null,"juli"]
[null,null,null,null,"juli"]
[null,null,null,null,"juli"]
[null,null,null,null,"juli"]
[null,null,null,null,"juli"]
[null,null,null,null,"juli"]
[null,null,null,null,"juli"]
[null,null,null,null,"juli"]
[null,null,null,null,"juli"]
[null,null,null,null,"juli"]
[null,null,null,null,"juli"]
[null,null,null,null,"juli"]
[null,null,null,null,"juli"]
[null,null,null,null,"juli"]
[null,null,null,null,"juli"]
[null,null,null,null,"juli"]
[null,null,null,null,"juli"]
[null,null,null,null,"juli"]
[null,null,null,null,"juli"]
[null,null,null,null,"juli"]
[null,null,null,null,"juli"]
[null,null,null,null,"juli"]
[null,null,null,null,"juli"]
[null,null,null,null,"juli"]
[null,null,null,null,"juli"]
[null,null,null,null,"juli"]
[null,null,null,null,"juli"]
[null,null,null,null,"juli"]
[null,null,null,null,"juli"]
[null,null,null,null,"juli"]
[null,null,null,null,"juli"]
[null,null,null,null,"juli"]
[null,null,null,null,"juli"]
[null,null,null,null,"juli"]
[null,null,null,null,"juli"]
[null,null,null,null,"juli"]
[null,null,null,null,"juli"]
[null,null,null,null,"juli"]
[null,null,null,null,"juli"]
[null,null,null,null,"juli"]
[null,null,null,null,"juli"]
[null,null,null,null,"juli"]
[null,null,null,null,"juli"]
[null,null,null,null,"juli"]
[null,null,null,null,"juli"]
[null,null,null,null,"juli"]
[null,null,null,null,"juli"]
[null,null,null,null,"juli"]
[null,null,null,null,"juli"]
[null,null,null,null,"juli"]
[null,null,null,null,"juli"]
[null,null,null,null,"juli"]
[null,null,null,null,"juli"]
[null,null,null,null,"juli"]
[null,null,null,null,"juli"]
[null,null,null,null,"juli"]
[null,null,null,null,"juli"]
[null,null,null,null,"juli"]
[null,null,null,null,"juli"]
[null,null,null,null,"juli"]
[null,null,null,null,"juli"]
[null,null,null,null,"juli"]
[null,null,null,null,"juli"]
[null,null,null,null,"juli"]
[null,null,null,null,"juli"]
[null,null,null,null,"juli"]
[null,null,null,null,"juli"]
[null,null,null,null,"juli"]
[null,null,null,null,"juli"]
[null,null,null,null,"juli"]
[null,null,null,null,"juli"]
[null,null,null,null,"juli"]
[null,null,null,null,"juli"]
[null,null,null,null,"juli"]
[null,null,null,null,"juli"]
[null,null,null,null,"juli"]
[null,null,null,null,"juli"]
[null,null,null,null,"juli"]
[null,null,null,null,"juli"]
[null,null,null,null,"juli"]
[null,null,null,null,"juli"]
[null,null,null,null,"juli"]
[null,null,null,null,"juli"]
[null,null,null,null,"juli"]
[null,null,null,null,"juli"]
[null,null,null,null,"juli"]
[null,null,null,null,"juli"]
[null,null,null,null,"juli"]
[null,null,null,null,"juli"]
[null,null,null,null,"juli"]
[null,null,null,null,"juli"]
[null,null,null,null,"juli"]
[null,null,null,null,"juli"]
[null,null,null,null,"juli"]
[null,null,null,null,"juli"]
[null,null,null,null,"juli"]
[null,null,null,null,"juli"]
[null,null,null,null,"juli"]
[null,null,null,null,"juli"]
[null,null,null,null,"juli"]
[null,null,null,null,"juli"]
[null,null,null,null,"juli"]
[null,null,null,null,"juli"]
[null,null,null,null,"juli"]
[null,null,null,null,"juli"]
[null,null,null,null,"juli"]
[null,null,null,null,"juli"]
[null,null,null,null,"juli"]
[null,null,null,null,"juli"]
[null,null,null,null,"juli"]
[null,null,null,null,"juli"]
[null,null,null,null,"juli"]
[null,null,null,null,"juli"]
[null,null,null,null,"juli"]
[null,null,null,null,"juli"]
[null,null,null,null,"juli"]
[null,null,null,null,"juli"]
[null,null,null,null,"juli"]
[null,null,null,null,"juli"]
[null,null,null,null,"juli"]
[null,null,null,null,"juli"]
[null,null,null,null,"juli"]
[null,null,null,null,"juli"]
[null,null,null,null,"juli"]
[null,null,null,null,"juli"]
[null,null,null,null,"juli"]
[null,null,null,null,"juli"]
[null,null,null,null,"juli"]
[null,null,null,null,"juli"]
[null,null,null,null,"juli"]
[null,null,null,null,"juli"]
[null,null,null,null,"juli"]
[null,null,null,null,"juli"]
[null,null,null,null,"juli"]
[null,null,null,null,"juli"]
[null,null,null,null,"juli"]
[null,null,null,null,"juli"]
[null,null,null,null,"juli"]
[null,null,null,null,"juli"]
[null,null,null,null,"juli"]
[null,null,null,null,"juli"]
[null,null,null,null,"juli"]
[null,null,null,null,"juli"]
[null,null,null,null,"juli"]
[null,null,null,null,"juli"]
[null,null,null,null,"juli"]
[null,null,null,null,"juli"]
[null,null,null,null,"juli"]
[null,null,null,null,"juli"]
[null,null,null,null,"juli"]
[null,null,null,null,"juli"]
[null,null,null,null,"juli"]
[null,null,null,null,"juli"]
[null,null,null,null,"juli"]
[null,null,null,null,"juli"]
[null,null,null,null,"juli"]
[null,null,null,null,"juli"]
[null,null,null,null,"juli"]
[null,null,null,null,"juli"]
[null,null,null,null,"juli"]
[null,null,null,null,"juli"]
[null,null,null,null,"juli"]
[null,null,null,null,"juli"]
[null,null,null,null,"juli"]
[null,null,null,null,"juli"]
[null,null,null,null,"juli"]
[null,null,null,null,"juli"]
[null,null,null,null,"juli"]
[null,null,null,null,"juli"]
[null,null,null,null,"juli"]
[null,null,null,null,"juli"]
[null,null,null,null,"juli"]
[null,null,null,null,"juli"]
[null,null,null,null,"juli"]
[null,null,null,null,"juli"]
[null,null,null,null,"juli"]
[null,null,null,null,"juli"]
[null,null,null,null,"juli"]
[null,null,null,null,"juli"]
[null,null,null,null,"juli"]
[null,null,null,null,"juli"]
[null,null,null,null,"juli"]
[null,null,null,null,"juli"]
[null,null,null,null,"juli"]
[null,null,null,null,"juli"]
[null,null,null,null,"juli"]
[null,null,null,null,"juli"]
[null,null,null,null,"juli"]
[null,null,null,null,"juli"]
[null,null,null,null,"juli"]
[null,null,null,null,"juli"]
[null,null,null,null,"juli"]
[null,null,null,null,"juli"]
[null,null,null,null,"juli"]
[null,null,null,null,"juli"]
[null,null,null,null,"juli"]
[null,null,null,null,"juli"]
[null,null,null,null,"juli"]
[null,null,null,null,"juli"]
[null,null,null,null,"juli"]
[null,null,null,null,"juli"]
[null,null,null,null,"juli"]
[null,null,null,null,"juli"]
[null,null,null,null,"juli"]
[null,null,null,null,"juli"]
[null,null,null,null,"juli"]
[null,null,null,null,"juli"]
[null,null,null,null,"juli"]
[null,null,null,null,"juli"]
[null,null,null,null,"juli"]
[null,null,null,null,"juli"]
[null,null,null,null,"juli"]
[null,null,null,null,"juli"]
[null,null,null,null,"juli"]
[null,null,null,null,"juli"]
[null,null,null,null,"juli"]
[null,null,null,null,"juli"]
[null,null,null,null,"juli"]
[null,null,null,null,"juli"]
[null,null,null,null,"juli"]
[null,null,null,null,"juli"]
[null,null,null,null,"juli"]
[null,null,null,null,"juli"]
[null,null,null,null,"juli"]
[null,null,null,null,"juli"]
[null,null,null,null,"juli"]
[null,null,null,null,"juli"]
[null,null,null,null,"juli"]
[null,null,null,null,"juli"]
[null,null,null,null,"juli"]
[null,null,null,null,"juli"]
[null,null,null,null,"juli"]
[null,null,null,null,"juli"]
[null,null,null,null,"juli"]
[null,null,null,null,"juli"]
[null,null,null,null,"juli"]
[null,null,null,null,"juli"]
[null,null,null,null,"juli"]
[null,null,null,null,"juli"]
[null,null,null,null,"juli"]
[null,null,null,null,"juli"]
[null,null,null,null,"juli"]
[null,null,null,null,"juli"]
[null,null,null,null,"juli"]
[null,null,null,null,"juli"]
[null,null,null,null,"juli"]
[null,null,null,null,"juli"]
[null,null,null,null,"juli"]
[null,null,null,null,"juli"]
[null,null,null,null,"juli"]
[null,null,null,null,"juli"]
[null,null,null,null,"juli"]
[null,null,null,null,"juli"]
[null,null,null,null,"juli"]
[null,null,null,null,"juli"]
[null,null,null,null,"juli"]
[null,null,null,null,"juli"]
[null,null,null,null,"juli"]
[null,null,null,null,"juli"]
[null,null,null,null,"juli"]
[null,null,null,null,"juli"]
[null,null,null,null,"juli"]
[null,null,null,null,"juli"]
[null,null,null,null,"juli"]
[null,null,null,null,"juli"]
[null,null,null,null,"juli"]
[null,null,null,null,"juli"]
[null,null,null,null,"juli"]
[null,null,null,null,"juli"]
[null,null,null,null,"juli"]
[null,null,null,null,"juli"]
[null,null,null,null,"juli"]
[null,null,null,null,"juli"]
[null,null,null,null,"juli"]
[null,null,null,null,"juli"]
[null,null,null,null,"juli"]
[null,null,null,null,"juli"]
[null,null,null,null,"juli"]
[null,null,null,null,"juli"]
[null,null,null,null,"juli"]
[null,null,null,null,"juli"]
[null,null,null,null,"juli"]
[null,null,null,null,"juli"]
[null,null,null,null,"juli"]
[null,null,null,null,"juli"]
[null,null,null,null,"juli"]
[null,null,null,null,"juli"]
[null,null,null,null,"juli"]
[null,null,null,null,"juli"]
[null,null,null,null,"juli"]
[null,null,null,null,"juli"]
[null,null,null,null,"juli"]
[null,null,null,null,"juli"]
[null,null,null,null,"juli"]
[null,null,null,null,"juli"]
[null,null,null,null,"juli"]
[null,null,null,null,"juli"]
[null,null,null,null,"juli"]
[null,null,null,null,"juli"]
[null,null,null,null,"juli"]
[null,null,null,null,"juli"]
[null,null,null,null,"juli"]
[null,null,null,null,"juli"]
[null,null,null,null,"juli"]
[null,null,null,null,"juli"]
[null,null,null,null,"juli"]
[null,null,null,null,"juli"]
[null,null,null,null,"juli"]
[null,null,null,null,"juli"]
[null,null,null,null,"juli"]
[null,null,null,null,"juli"]
[null,null,null,null,"juli"]
[null,null,null,null,"juli"]
[null,null,null,null,"juli"]
[null,null,null,null,"juli"]
[null,null,null,null,"juli"]
[null,null,null,null,"juli"]
[null,null,null,null,"juli"]
[null,null,null,null,"juli"]
[null,null,null,null,"juli"]
[null,null,null,null,"juli"]
[null,null,null,null,"juli"]
[null,null,null,null,"juli"]
[null,null,null,null,"juli"]
[null,null,null,null,"juli"]
[null,null,null,null,"juli"]
[null,null,null,null,"juli"]
[null,null,null,null,"juli"]
[null,null,null,null,"juli"]
[null,null,null,null,"juli"]
[null,null,null,null,"juli"]
[null,null,null,null,"juli"]
[null,null,null,null,"juli"]
[null,null,null,null,"juli"]
[null,null,null,null,"juli"]
[null,null,null,null,"juli"]
[null,null,null,null,"juli"]
[null,null,null,null,"juli"]
[null,null,null,null,"juli"]
[null,null,null,null,"juli"]
[null,null,null,null,"juli"]
[null,null,null,null,"juli"]
[null,null,null,null,"juli"]
[null,null,null,null,"juli"]
[null,null,null,null,"juli"]
[null,null,null,null,"juli"]
[null,null,null,null,"juli"]
[null,null,null,null,"juli"]
[null,null,null,null,"juli"]
[null,null,null,null,"juli"]
[null,null,null,null,"juli"]
[null,null,null,null,"juli"]
[null,null,null,null,"juli"]
[null,null,null,null,"juli"]
[null,null,null,null,"juli"]
[null,null,null,null,"juli"]
[null,null,null,null,"juli"]
[null,null,null,null,"juli"]
[null,null,null,null,"juli"]
[null,null,null,null,"juli"]
[null,null,null,null,"juli"]
[null,null,null,null,"juli"]
[null,null,null,null,"juli"]
[null,null,null,null,"juli"]
[null,null,null,null,"juli"]
[null,null,null,null,"juli"]
[null,null,null,null,"juli"]
[null,null,null,null,"juli"]
[null,null,null,null,"juli"]
[null,null,null,null,"juli"]
[null,null,null,null,"juli"]
[null,null,null,null,"juli"]
[null,null,null,null,"juli"]
[null,null,null,null,"juli"]
[null,null,null,null,"juli"]
[null,null,null,null,"juli"]
[null,null,null,null,"juli"]
[null,null,null,null,"juli"]
[null,null,null,null,"juli"]
[null,null,null,null,"juli"]
[null,null,null,null,"juli"]
[null,null,null,null,"juli"]
[null,null,null,null,"juli"]
[null,null,null,null,"juli"]
[null,null,null,null,"juli"]
[null,null,null,null,"juli"]
[null,null,null,null,"juli"]
[null,null,null,null,"juli"]
[null,null,null,null,"juli"]
[null,null,null,null,"juli"]
[null,null,null,null,"juli"]
[null,null,null,null,"juli"]
[null,null,null,null,"juli"]
[null,null,null,null,"juli"]
[null,null,null,null,"juli"]
[null,null,null,null,"juli"]
[null,null,null,null,"juli"]
[null,null,null,null,"juli"]
[null,null,null,null,"juli"]
[null,null,null,null,"juli"]
[null,null,null,null,"juli"]
[null,null,null,null,"juli"]
[null,null,null,null,"juli"]
[null,null,null,null,"juli"]
[null,null,null,null,"juli"]
[null,null,null,null,"juli"]
[null,null,null,null,"juli"]
[null,null,null,null,"juli"]
[null,null,null,null,"juli"]
[null,null,null,null,"juli"]
[null,null,null,null,"juli"]
[null,null,null,null,"juli"]
[null,null,null,null,"juli"]
[null,null,null,null,"juli"]
[null,null,null,null,"juli"]
[null,null,null,null,"juli"]
[null,null,null,null,"juli"]
[null,null,null,null,"juli"]
[null,null,null,null,"juli"]
[null,null,null,null,"juli"]
[null,null,null,null,"juli"]
[null,null,null,null,"juli"]
[null,null,null,null,"juli"]
[null,null,null,null,"juli"]
[null,null,null,null,"juli"]
[null,null,null,null,"juli"]
[null,null,null,null,"juli"]
[null,null,null,null,"juli"]
[null,null,null,null,"juli"]
[null,null,null,null,"juli"]
[null,null,null,null,"juli"]
[null,null,null,null,"juli"]
[null,null,null,null,"juli"]
[null,null,null,null,"juli"]
[null,null,null,null,"juli"]
[null,null,null,null,"juli"]
[null,null,null,null,"juli"]
[null,null,null,null,"juli"]
[null,null,null,null,"juli"]
[null,null,null,null,"juli"]
[null,null,null,null,"juli"]
[null,null,null,null,"juli"]
[null,null,null,null,"juli"]
[null,null,null,null,"juli"]
[null,null,null,null,"juli"]
[null,null,null,null,"juli"]
[null,null,null,null,"juli"]
[null,null,null,null,"juli"]
[null,null,null,null,"juli"]
[null,null,null,null,"juli"]
[null,null,null,null,"juli"]
[null,null,null,null,"juli"]
[null,null,null,null,"juli"]
[null,null,null,null,"juli"]
[null,null,null,null,"juli"]
[null,null,null,null,"juli"]
[null,null,null,null,"juli"]
[null,null,null,null,"juli"]
[null,null,null,null,"juli"]
[null,null,null,null,"juli"]
[null,null,null,null,"juli"]
[null,null,null,null,"juli"]
[null,null,null,null,"juli"]
[null,null,null,null,"juli"]
[null,null,null,null,"juli"]
[null,null,null,null,"juli"]
[null,null,null,null,"juli"]
[null,null,null,null,"juli"]
[null,null,null,null,"juli"]
[null,null,null,null,"juli"]
[null,null,null,null,"juli"]
[null,null,null,null,"juli"]
[null,null,null,null,"juli"]
[null,null,null,null,"juli"]
[null,null,null,null,"juli"]
[null,null,null,null,"juli"]
[null,null,null,null,"juli"]
[null,null,null,null,"juli"]
[null,null,null,null,"juli"]
[null,null,null,null,"juli"]
[null,null,null,null,"juli"]
[null,null,null,null,"juli"]
[null,null,null,null,"juli"]
[null,null,null,null,"juli"]
[null,null,null,null,"juli"]
[null,null,null,null,"juli"]
[null,null,null,null,"juli"]
[null,null,null,null,"juli"]
[null,null,null,null,"juli"]
[null,null,null,null,"juli"]
[null,null,null,null,"juli"]
[null,null,null,null,"juli"]
[null,null,null,null,"juli"]
[null,null,null,null,"juli"]
[null,null,null,null,"juli"]
[null,null,null,null,"juli"]
[null,null,null,null,"juli"]
[null,null,null,null,"juli"]
[null,null,null,null,"juli"]
[null,null,null,null,"juli"]
[null,null,null,null,"juli"]
[null,null,null,null,"juli"]
[null,null,null,null,"juli"]
[null,null,null,null,"juli"]
[null,null,null,null,"juli"]
[null,null,null,null,"juli"]
[null,null,null,null,"juli"]
[null,null,null,null,"juli"]
[null,null,null,null,"juli"]
[null,null,null,null,"juli"]
[null,null,null,null,"juli"]
[null,null,null,null,"juli"]
[null,null,null,null,"juli"]
[null,null,null,null,"juli"]
[null,null,null,null,"juli"]
[null,null,null,null,"juli"]
[null,null,null,null,"juli"]
[null,null,null,null,"juli"]
[null,null,null,null,"juli"]
[null,null,null,null,"juli"]
[null,null,null,null,"juli"]
[null,null,null,null,"juli"]
[null,null,null,null,"juli"]
[null,null,null,null,"juli"]
[null,null,null,null,"juli"]
[null,null,null,null,"juli"]
[null,null,null,null,"juli"]
[null,null,null,null,"juli"]
[null,null,null,null,"juli"]
[null,null,null,null,"juli"]
[null,null,null,null,"juli"]
[null,null,null,null,"juli"]
[null,null,null,null,"juli"]
[null,null,null,null,"juli"]
[null,null,null,null,"juli"]
[null,null,null,null,"juli"]
[null,null,null,null,"juli"]
[null,null,null,null,"juli"]
[null,null,null,null,"juli"]
[null,null,null,null,"juli"]
[null,null,null,null,"juli"]
[null,null,null,null,"juli"]
[null,null,null,null,"juli"]
[null,null,null,null,"juli"]
[null,null,null,null,"juli"]
[null,null,null,null,"juli"]
[null,null,null,null,"juli"]
[null,null,null,null,"juli"]
[null,null,null,null,"juli"]
[null,null,null,null,"juli"]
[null,null,null,null,"juli"]
[null,null,null,null,"juli"]
[null,null,null,null,"juli"]
[null,null,null,null,"juli"]
[null,null,null,null,"juli"]
[null,null,null,null,"juli"]
[null,null,null,null,"juli"]
[null,null,null,null,"juli"]
[null,null,null,null,"juli"]
[null,null,null,null,"juli"]
[null,null,null,null,"juli"]
[null,null,null,null,"juli"]
[null,null,null,null,"juli"]
[null,null,null,null,"juli"]
[null,null,null,null,"juli"]
[null,null,null,null,"juli"]
[null,null,null,null,"juli"]
[null,null,null,null,"juli"]
[null,null,null,null,"juli"]
[null,null,null,null,"juli"]
[null,null,null,null,"juli"]
[null,null,null,null,"juli"]
[null,null,null,null,"juli"]
[null,null,null,null,"juli"]
[null,null,null,null,"juli"]
[null,null,null,null,"juli"]
[null,null,null,null,"juli"]
[null,null,null,null,"juli"]
[null,null,null,null,"juli"]
[null,null,null,null,"juli"]
[null,null,null,null,"juli"]
[null,null,null,null,"juli"]
[null,null,null,null,"juli"]
[null,null,null,null,"juli"]
[null,null,null,null,"juli"]
[null,null,null,null,"juli"]
[null,null,null,null,"juli"]
[null,null,null,null,"juli"]
[null,null,null,null,"juli"]
[null,null,null,null,"juli"]
[null,null,null,null,"juli"]
[null,null,null,null,"juli"]
[null,null,null,null,"augustus"]
[null,null,null,null,"augustus"]
[null,null,null,null,"augustus"]
[null,null,null,null,"augustus"]
[null,null,null,null,"augustus"]
[null,null,null,null,"augustus"]
[null,null,null,null,"augustus"]
[null,null,null,null,"augustus"]
[null,null,null,null,"augustus"]
[null,null,null,null,"augustus"]
[null,null,null,null,"augustus"]
[null,null,null,null,"augustus"]
[null,null,null,null,"augustus"]
[null,null,null,null,"augustus"]
[null,null,null,null,"augustus"]
[null,null,null,null,"augustus"]
[null,null,null,null,"augustus"]
[null,null,null,null,"augustus"]
[null,null,null,null,"augustus"]
[null,null,null,null,"augustus"]
[null,null,null,null,"augustus"]
[null,null,null,null,"augustus"]
[null,null,null,null,"augustus"]
[null,null,null,null,"augustus"]
[null,null,null,null,"augustus"]
[null,null,null,null,"augustus"]
[null,null,null,null,"augustus"]
[null,null,null,null,"augustus"]
[null,null,null,null,"augustus"]
[null,null,null,null,"augustus"]
[null,null,null,null,"augustus"]
[null,null,null,null,"augustus"]
[null,null,null,null,"augustus"]
[null,null,null,null,"augustus"]
[null,null,null,null,"augustus"]
[null,null,null,null,"augustus"]
[null,null,null,null,"augustus"]
[null,null,null,null,"augustus"]
[null,null,null,null,"augustus"]
[null,null,null,null,"augustus"]
[null,null,null,null,"augustus"]
[null,null,null,null,"augustus"]
[null,null,null,null,"augustus"]
[null,null,null,null,"augustus"]
[null,null,null,null,"augustus"]
[null,null,null,null,"augustus"]
[null,null,null,null,"augustus"]
[null,null,null,null,"augustus"]
[null,null,null,null,"augustus"]
[null,null,null,null,"augustus"]
[null,null,null,null,"augustus"]
[null,null,null,null,"augustus"]
[null,null,null,null,"augustus"]
[null,null,null,null,"augustus"]
[null,null,null,null,"augustus"]
[null,null,null,null,"augustus"]
[null,null,null,null,"augustus"]
[null,null,null,null,"augustus"]
[null,null,null,null,"augustus"]
[null,null,null,null,"augustus"]
[null,null,null,null,"augustus"]
[null,null,null,null,"augustus"]
[null,null,null,null,"augustus"]
[null,null,null,null,"augustus"]
[null,null,null,null,"augustus"]
[null,null,null,null,"augustus"]
[null,null,null,null,"augustus"]
[null,null,null,null,"augustus"]
[null,null,null,null,"augustus"]
[null,null,null,null,"augustus"]
[null,null,null,null,"augustus"]
[null,null,null,null,"augustus"]
[null,null,null,null,"augustus"]
[null,null,null,null,"augustus"]
[null,null,null,null,"augustus"]
[null,null,null,null,"augustus"]
[null,null,null,null,"augustus"]
[null,null,null,null,"augustus"]
[null,null,null,null,"augustus"]
[null,null,null,null,"augustus"]
[null,null,null,null,"augustus"]
[null,null,null,null,"augustus"]
[null,null,null,null,"augustus"]
[null,null,null,null,"augustus"]
[null,null,null,null,"augustus"]
[null,null,null,null,"augustus"]
[null,null,null,null,"augustus"]
[null,null,null,null,"augustus"]
[null,null,null,null,"augustus"]
[null,null,null,null,"augustus"]
[null,null,null,null,"augustus"]
[null,null,null,null,"augustus"]
[null,null,null,null,"augustus"]
[null,null,null,null,"augustus"]
[null,null,null,null,"augustus"]
[null,null,null,null,"augustus"]
[null,null,null,null,"augustus"]
[null,null,null,null,"augustus"]
[null,null,null,null,"augustus"]
[null,null,null,null,"augustus"]
[null,null,null,null,"augustus"]
[null,null,null,null,"augustus"]
[null,null,null,null,"augustus"]
[null,null,null,null,"augustus"]
[null,null,null,null,"augustus"]
[null,null,null,null,"augustus"]
[null,null,null,null,"augustus"]
[null,null,null,null,"augustus"]
[null,null,null,null,"augustus"]
[null,null,null,null,"augustus"]
[null,null,null,null,"augustus"]
[null,null,null,null,"augustus"]
[null,null,null,null,"augustus"]
[null,null,null,null,"augustus"]
[null,null,null,null,"augustus"]
[null,null,null,null,"augustus"]
[null,null,null,null,"augustus"]
[null,null,null,null,"augustus"]
[null,null,null,null,"augustus"]
[null,null,null,null,"augustus"]
[null,null,null,null,"augustus"]
[null,null,null,null,"augustus"]
[null,null,null,null,"augustus"]
[null,null,null,null,"augustus"]
[null,null,null,null,"augustus"]
[null,null,null,null,"augustus"]
[null,null,null,null,"augustus"]
[null,null,null,null,"augustus"]
[null,null,null,null,"augustus"]
[null,null,null,null,"augustus"]
[null,null,null,null,"augustus"]
[null,null,null,null,"augustus"]
[null,null,null,null,"augustus"]
[null,null,null,null,"augustus"]
[null,null,null,null,"augustus"]
[null,null,null,null,"augustus"]
[null,null,null,null,"augustus"]
[null,null,null,null,"augustus"]
[null,null,null,null,"augustus"]
[null,null,null,null,"augustus"]
[null,null,null,null,"augustus"]
[null,null,null,null,"augustus"]
[null,null,null,null,"augustus"]
[null,null,null,null,"augustus"]
[null,null,null,null,"augustus"]
[null,null,null,null,"augustus"]
[null,null,null,null,"augustus"]
[null,null,null,null,"augustus"]
[null,null,null,null,"augustus"]
[null,null,null,null,"augustus"]
[null,null,null,null,"augustus"]
[null,null,null,null,"augustus"]
[null,null,null,null,"augustus"]
[null,null,null,null,"augustus"]
[null,null,null,null,"augustus"]
[null,null,null,null,"augustus"]
[null,null,null,null,"augustus"]
[null,null,null,null,"augustus"]
[null,null,null,null,"augustus"]
[null,null,null,null,"augustus"]
[null,null,null,null,"augustus"]
[null,null,null,null,"augustus"]
[null,null,null,null,"augustus"]
[null,null,null,null,"augustus"]
[null,null,null,null,"augustus"]
[null,null,null,null,"augustus"]
[null,null,null,null,"augustus"]
[null,null,null,null,"augustus"]
[null,null,null,null,"augustus"]
[null,null,null,null,"augustus"]
[null,null,null,null,"augustus"]
[null,null,null,null,"augustus"]
[null,null,null,null,"augustus"]
[null,null,null,null,"augustus"]
[null,null,null,null,"augustus"]
[null,null,null,null,"augustus"]
[null,null,null,null,"augustus"]
[null,null,null,null,"augustus"]
[null,null,null,null,"augustus"]
[null,null,null,null,"augustus"]
[null,null,null,null,"augustus"]
[null,null,null,null,"augustus"]
[null,null,null,null,"augustus"]
[null,null,null,null,"augustus"]
[null,null,null,null,"augustus"]
[null,null,null,null,"augustus"]
[null,null,null,null,"augustus"]
[null,null,null,null,"augustus"]
[null,null,null,null,"augustus"]
[null,null,null,null,"augustus"]
[null,null,null,null,"augustus"]
[null,null,null,null,"augustus"]
[null,null,null,null,"augustus"]
[null,null,null,null,"augustus"]
[null,null,null,null,"augustus"]
[null,null,null,null,"augustus"]
[null,null,null,null,"augustus"]
[null,null,null,null,"augustus"]
[null,null,null,null,"augustus"]
[null,null,null,null,"augustus"]
[null,null,null,null,"augustus"]
[null,null,null,null,"augustus"]
[null,null,null,null,"augustus"]
[null,null,null,null,"augustus"]
[null,null,null,null,"augustus"]
[null,null,null,null,"augustus"]
[null,null,null,null,"augustus"]
[null,null,null,null,"augustus"]
[null,null,null,null,"augustus"]
[null,null,null,null,"augustus"]
[null,null,null,null,"augustus"]
[null,null,null,null,"augustus"]
[null,null,null,null,"augustus"]
[null,null,null,null,"augustus"]
[null,null,null,null,"augustus"]
[null,null,null,null,"augustus"]
[null,null,null,null,"augustus"]
[null,null,null,null,"augustus"]
[null,null,null,null,"augustus"]
[null,null,null,null,"augustus"]
[null,null,null,null,"augustus"]
[null,null,null,null,"augustus"]
[null,null,null,null,"augustus"]
[null,null,null,null,"augustus"]
[null,null,null,null,"augustus"]
[null,null,null,null,"augustus"]
[null,null,null,null,"augustus"]
[null,null,null,null,"augustus"]
[null,null,null,null,"augustus"]
[null,null,null,null,"augustus"]
[null,null,null,null,"augustus"]
[null,null,null,null,"augustus"]
[null,null,null,null,"augustus"]
[null,null,null,null,"augustus"]
[null,null,null,null,"augustus"]
[null,null,null,null,"augustus"]
[null,null,null,null,"augustus"]
[null,null,null,null,"augustus"]
[null,null,null,null,"augustus"]
[null,null,null,null,"augustus"]
[null,null,null,null,"augustus"]
[null,null,null,null,"augustus"]
[null,null,null,null,"augustus"]
[null,null,null,null,"augustus"]
[null,null,null,null,"augustus"]
[null,null,null,null,"augustus"]
[null,null,null,null,"augustus"]
[null,null,null,null,"augustus"]
[null,null,null,null,"augustus"]
[null,null,null,null,"augustus"]
[null,null,null,null,"augustus"]
[null,null,null,null,"augustus"]
[null,null,null,null,"augustus"]
[null,null,null,null,"augustus"]
[null,null,null,null,"augustus"]
[null,null,null,null,"augustus"]
[null,null,null,null,"augustus"]
[null,null,null,null,"augustus"]
[null,null,null,null,"augustus"]
[null,null,null,null,"augustus"]
[null,null,null,null,"augustus"]
[null,null,null,null,"augustus"]
[null,null,null,null,"augustus"]
[null,null,null,null,"augustus"]
[null,null,null,null,"augustus"]
[null,null,null,null,"augustus"]
[null,null,null,null,"augustus"]
[null,null,null,null,"augustus"]
[null,null,null,null,"augustus"]
[null,null,null,null,"augustus"]
[null,null,null,null,"augustus"]
[null,null,null,null,"augustus"]
[null,null,null,null,"augustus"]
[null,null,null,null,"augustus"]
[null,null,null,null,"augustus"]
[null,null,null,null,"augustus"]
[null,null,null,null,"augustus"]
[null,null,null,null,"augustus"]
[null,null,null,null,"augustus"]
[null,null,null,null,"augustus"]
[null,null,null,null,"augustus"]
[null,null,null,null,"augustus"]
[null,null,null,null,"augustus"]
[null,null,null,null,"augustus"]
[null,null,null,null,"augustus"]
[null,null,null,null,"augustus"]
[null,null,null,null,"augustus"]
[null,null,null,null,"augustus"]
[null,null,null,null,"augustus"]
[null,null,null,null,"augustus"]
[null,null,null,null,"augustus"]
[null,null,null,null,"augustus"]
[null,null,null,null,"augustus"]
[null,null,null,null,"augustus"]
[null,null,null,null,"augustus"]
[null,null,null,null,"augustus"]
[null,null,null,null,"augustus"]
[null,null,null,null,"augustus"]
[null,null,null,null,"augustus"]
[null,null,null,null,"augustus"]
[null,null,null,null,"augustus"]
[null,null,null,null,"augustus"]
[null,null,null,null,"augustus"]
[null,null,null,null,"augustus"]
[null,null,null,null,"augustus"]
[null,null,null,null,"augustus"]
[null,null,null,null,"augustus"]
[null,null,null,null,"augustus"]
[null,null,null,null,"augustus"]
[null,null,null,null,"augustus"]
[null,null,null,null,"augustus"]
[null,null,null,null,"augustus"]
[null,null,null,null,"augustus"]
[null,null,null,null,"augustus"]
[null,null,null,null,"augustus"]
[null,null,null,null,"augustus"]
[null,null,null,null,"augustus"]
[null,null,null,null,"augustus"]
[null,null,null,null,"augustus"]
[null,null,null,null,"augustus"]
[null,null,null,null,"augustus"]
[null,null,null,null,"augustus"]
[null,null,null,null,"augustus"]
[null,null,null,null,"augustus"]
[null,null,null,null,"augustus"]
[null,null,null,null,"augustus"]
[null,null,null,null,"augustus"]
[null,null,null,null,"augustus"]
[null,null,null,null,"augustus"]
[null,null,null,null,"augustus"]
[null,null,null,null,"augustus"]
[null,null,null,null,"augustus"]
[null,null,null,null,"augustus"]
[null,null,null,null,"augustus"]
[null,null,null,null,"augustus"]
[null,null,null,null,"augustus"]
[null,null,null,null,"augustus"]
[null,null,null,null,"augustus"]
[null,null,null,null,"augustus"]
[null,null,null,null,"augustus"]
[null,null,null,null,"augustus"]
[null,null,null,null,"augustus"]
[null,null,null,null,"augustus"]
[null,null,null,null,"augustus"]
[null,null,null,null,"augustus"]
[null,null,null,null,"augustus"]
[null,null,null,null,"augustus"]
[null,null,null,null,"augustus"]
[null,null,null,null,"augustus"]
[null,null,null,null,"augustus"]
[null,null,null,null,"augustus"]
[null,null,null,null,"augustus"]
[null,null,null,null,"augustus"]
[null,null,null,null,"augustus"]
[null,null,null,null,"augustus"]
[null,null,null,null,"augustus"]
[null,null,null,null,"augustus"]
[null,null,null,null,"augustus"]
[null,null,null,null,"augustus"]
[null,null,null,null,"augustus"]
[null,null,null,null,"augustus"]
[null,null,null,null,"augustus"]
[null,null,null,null,"augustus"]
[null,null,null,null,"augustus"]
[null,null,null,null,"augustus"]
[null,null,null,null,"augustus"]
[null,null,null,null,"augustus"]
[null,null,null,null,"augustus"]
[null,null,null,null,"augustus"]
[null,null,null,null,"augustus"]
[null,null,null,null,"augustus"]
[null,null,null,null,"augustus"]
[null,null,null,null,"augustus"]
[null,null,null,null,"augustus"]
[null,null,null,null,"augustus"]
[null,null,null,null,"augustus"]
[null,null,null,null,"augustus"]
[null,null,null,null,"augustus"]
[null,null,null,null,"augustus"]
[null,null,null,null,"augustus"]
[null,null,null,null,"augustus"]
[null,null,null,null,"augustus"]
[null,null,null,null,"augustus"]
[null,null,null,null,"augustus"]
[null,null,null,null,"augustus"]
[null,null,null,null,"augustus"]
[null,null,null,null,"augustus"]
[null,null,null,null,"augustus"]
[null,null,null,null,"augustus"]
[null,null,null,null,"augustus"]
[null,null,null,null,"augustus"]
[null,null,null,null,"augustus"]
[null,null,null,null,"augustus"]
[null,null,null,null,"augustus"]
[null,null,null,null,"augustus"]
[null,null,null,null,"augustus"]
[null,null,null,null,"augustus"]
[null,null,null,null,"augustus"]
[null,null,null,null,"augustus"]
[null,null,null,null,"augustus"]
[null,null,null,null,"augustus"]
[null,null,null,null,"augustus"]
[null,null,null,null,"augustus"]
[null,null,null,null,"augustus"]
[null,null,null,null,"augustus"]
[null,null,null,null,"augustus"]
[null,null,null,null,"augustus"]
[null,null,null,null,"augustus"]
[null,null,null,null,"augustus"]
[null,null,null,null,"augustus"]
[null,null,null,null,"augustus"]
[null,null,null,null,"augustus"]
[null,null,null,null,"augustus"]
[null,null,null,null,"augustus"]
[null,null,null,null,"augustus"]
[null,null,null,null,"augustus"]
[null,null,null,null,"augustus"]
[null,null,null,null,"augustus"]
[null,null,null,null,"augustus"]
[null,null,null,null,"augustus"]
[null,null,null,null,"augustus"]
[null,null,null,null,"augustus"]
[null,null,null,null,"augustus"]
[null,null,null,null,"augustus"]
[null,null,null,null,"augustus"]
[null,null,null,null,"augustus"]
[null,null,null,null,"augustus"]
[null,null,null,null,"augustus"]
[null,null,null,null,"augustus"]
[null,null,null,null,"augustus"]
[null,null,null,null,"augustus"]
[null,null,null,null,"augustus"]
[null,null,null,null,"augustus"]
[null,null,null,null,"augustus"]
[null,null,null,null,"augustus"]
[null,null,null,null,"augustus"]
[null,null,null,null,"augustus"]
[null,null,null,null,"augustus"]
[null,null,null,null,"augustus"]
[null,null,null,null,"augustus"]
[null,null,null,null,"augustus"]
[null,null,null,null,"augustus"]
[null,null,null,null,"augustus"]
[null,null,null,null,"augustus"]
[null,null,null,null,"augustus"]
[null,null,null,null,"augustus"]
[null,null,null,null,"augustus"]
[null,null,null,null,"augustus"]
[null,null,null,null,"augustus"]
[null,null,null,null,"augustus"]
[null,null,null,null,"augustus"]
[null,null,null,null,"augustus"]
[null,null,null,null,"augustus"]
[null,null,null,null,"augustus"]
[null,null,null,null,"augustus"]
[null,null,null,null,"augustus"]
[null,null,null,null,"augustus"]
[null,null,null,null,"augustus"]
[null,null,null,null,"augustus"]
[null,null,null,null,"augustus"]
[null,null,null,null,"augustus"]
[null,null,null,null,"augustus"]
[null,null,null,null,"augustus"]
[null,null,null,null,"augustus"]
[null,null,null,null,"augustus"]
[null,null,null,null,"augustus"]
[null,null,null,null,"augustus"]
[null,null,null,null,"augustus"]
[null,null,null,null,"augustus"]
[null,null,null,null,"augustus"]
[null,null,null,null,"augustus"]
[null,null,null,null,"augustus"]
[null,null,null,null,"augustus"]
[null,null,null,null,"augustus"]
[null,null,null,null,"augustus"]
[null,null,null,null,"augustus"]
[null,null,null,null,"augustus"]
[null,null,null,null,"augustus"]
[null,null,null,null,"augustus"]
[null,null,null,null,"augustus"]
[null,null,null,null,"augustus"]
[null,null,null,null,"augustus"]
[null,null,null,null,"augustus"]
[null,null,null,null,"augustus"]
[null,null,null,null,"augustus"]
[null,null,null,null,"augustus"]
[null,null,null,null,"augustus"]
[null,null,null,null,"augustus"]
[null,null,null,null,"augustus"]
[null,null,null,null,"augustus"]
[null,null,null,null,"augustus"]
[null,null,null,null,"augustus"]
[null,null,null,null,"augustus"]
[null,null,null,null,"augustus"]
[null,null,null,null,"augustus"]
[null,null,null,null,"augustus"]
[null,null,null,null,"augustus"]
[null,null,null,null,"augustus"]
[null,null,null,null,"augustus"]
[null,null,null,null,"augustus"]
[null,null,null,null,"augustus"]
[null,null,null,null,"augustus"]
[null,null,null,null,"augustus"]
[null,null,null,null,"augustus"]
[null,null,null,null,"augustus"]
[null,null,null,null,"augustus"]
[null,null,null,null,"augustus"]
[null,null,null,null,"augustus"]
[null,null,null,null,"augustus"]
[null,null,null,null,"augustus"]
[null,null,null,null,"augustus"]
[null,null,null,null,"augustus"]
[null,null,null,null,"augustus"]
[null,null,null,null,"augustus"]
[null,null,null,null,"augustus"]
[null,null,null,null,"augustus"]
[null,null,null,null,"augustus"]
[null,null,null,null,"augustus"]
[null,null,null,null,"augustus"]
[null,null,null,null,"augustus"]
[null,null,null,null,"augustus"]
[null,null,null,null,"augustus"]
[null,null,null,null,"augustus"]
[null,null,null,null,"augustus"]
[null,null,null,null,"augustus"]
[null,null,null,null,"augustus"]
[null,null,null,null,"augustus"]
[null,null,null,null,"augustus"]
[null,null,null,null,"augustus"]
[null,null,null,null,"augustus"]
[null,null,null,null,"augustus"]
[null,null,null,null,"augustus"]
[null,null,null,null,"augustus"]
[null,null,null,null,"augustus"]
[null,null,null,null,"augustus"]
[null,null,null,null,"augustus"]
[null,null,null,null,"augustus"]
[null,null,null,null,"augustus"]
[null,null,null,null,"augustus"]
[null,null,null,null,"augustus"]
[null,null,null,null,"augustus"]
[null,null,null,null,"augustus"]
[null,null,null,null,"augustus"]
[null,null,null,null,"augustus"]
[null,null,null,null,"augustus"]
[null,null,null,null,"augustus"]
[null,null,null,null,"augustus"]
[null,null,null,null,"augustus"]
[null,null,null,null,"augustus"]
[null,null,null,null,"augustus"]
[null,null,null,null,"augustus"]
[null,null,null,null,"augustus"]
[null,null,null,null,"augustus"]
[null,null,null,null,"augustus"]
[null,null,null,null,"augustus"]
[null,null,null,null,"augustus"]
[null,null,null,null,"augustus"]
[null,null,null,null,"augustus"]
[null,null,null,null,"augustus"]
[null,null,null,null,"augustus"]
[null,null,null,null,"augustus"]
[null,null,null,null,"augustus"]
[null,null,null,null,"augustus"]
[null,null,null,null,"augustus"]
[null,null,null,null,"augustus"]
[null,null,null,null,"augustus"]
[null,null,null,null,"augustus"]
[null,null,null,null,"augustus"]
[null,null,null,null,"augustus"]
[null,null,null,null,"augustus"]
[null,null,null,null,"augustus"]
[null,null,null,null,"augustus"]
[null,null,null,null,"augustus"]
[null,null,null,null,"augustus"]
[null,null,null,null,"augustus"]
[null,null,null,null,"augustus"]
[null,null,null,null,"augustus"]
[null,null,null,null,"augustus"]
[null,null,null,null,"augustus"]
[null,null,null,null,"augustus"]
[null,null,null,null,"augustus"]
[null,null,null,null,"augustus"]
[null,null,null,null,"augustus"]
[null,null,null,null,"augustus"]
[null,null,null,null,"augustus"]
[null,null,null,null,"augustus"]
[null,null,null,null,"augustus"]
[null,null,null,null,"augustus"]
[null,null,null,null,"augustus"]
[null,null,null,null,"augustus"]
[null,null,null,null,"augustus"]
[null,null,null,null,"augustus"]
[null,null,null,null,"augustus"]
[null,null,null,null,"augustus"]
[null,null,null,null,"augustus"]
[null,null,null,null,"augustus"]
[null,null,null,null,"augustus"]
[null,null,null,null,"augustus"]
[null,null,null,null,"augustus"]
[null,null,null,null,"augustus"]
[null,null,null,null,"augustus"]
[null,null,null,null,"augustus"]
[null,null,null,null,"augustus"]
[null,null,null,null,"augustus"]
[null,null,null,null,"augustus"]
[null,null,null,null,"augustus"]
[null,null,null,null,"augustus"]
[null,null,null,null,"augustus"]
[null,null,null,null,"augustus"]
[null,null,null,null,"augustus"]
[null,null,null,null,"augustus"]
[null,null,null,null,"augustus"]
[null,null,null,null,"augustus"]
[null,null,null,null,"augustus"]
[null,null,null,null,"augustus"]
[null,null,null,null,"augustus"]
[null,null,null,null,"augustus"]
[null,null,null,null,"augustus"]
[null,null,null,null,"augustus"]
[null,null,null,null,"augustus"]
[null,null,null,null,"augustus"]
[null,null,null,null,"augustus"]
[null,null,null,null,"augustus"]
[null,null,null,null,"augustus"]
[null,null,null,null,"augustus"]
[null,null,null,null,"augustus"]
[null,null,null,null,"augustus"]
[null,null,null,null,"augustus"]
[null,null,null,null,"augustus"]
[null,null,null,null,"augustus"]
[null,null,null,null,"augustus"]
[null,null,null,null,"augustus"]
[null,null,null,null,"augustus"]
[null,null,null,null,"augustus"]
[null,null,null,null,"augustus"]
[null,null,null,null,"augustus"]
[null,null,null,null,"augustus"]
[null,null,null,null,"augustus"]
[null,null,null,null,"augustus"]
[null,null,null,null,"augustus"]
[null,null,null,null,"augustus"]
[null,null,null,null,"augustus"]
[null,null,null,null,"augustus"]
[null,null,null,null,"augustus"]
[null,null,null,null,"augustus"]
[null,null,null,null,"augustus"]
[null,null,null,null,"augustus"]
[null,null,null,null,"augustus"]
[null,null,null,null,"augustus"]
[null,null,null,null,"augustus"]
[null,null,null,null,"augustus"]
[null,null,null,null,"augustus"]
[null,null,null,null,"augustus"]
[null,null,null,null,"augustus"]
[null,null,null,null,"augustus"]
[null,null,null,null,"augustus"]
[null,null,null,null,"augustus"]
[null,null,null,null,"augustus"]
[null,null,null,null,"augustus"]
[null,null,null,null,"augustus"]
[null,null,null,null,"augustus"]
[null,null,null,null,"augustus"]
[null,null,null,null,"augustus"]
[null,null,null,null,"augustus"]
[null,null,null,null,"augustus"]
[null,null,null,null,"augustus"]
[null,null,null,null,"augustus"]
[null,null,null,null,"augustus"]
[null,null,null,null,"augustus"]
[null,null,null,null,"augustus"]
[null,null,null,null,"augustus"]
[null,null,null,null,"augustus"]
[null,null,null,null,"augustus"]
[null,null,null,null,"augustus"]
[null,null,null,null,"augustus"]
[null,null,null,null,"augustus"]
[null,null,null,null,"augustus"]
[null,null,null,null,"augustus"]
[null,null,null,null,"augustus"]
[null,null,null,null,"augustus"]
[null,null,null,null,"augustus"]
[null,null,null,null,"augustus"]
[null,null,null,null,"augustus"]
[null,null,null,null,"augustus"]
[null,null,null,null,"augustus"]
[null,null,null,null,"augustus"]
[null,null,null,null,"augustus"]
[null,null,null,null,"augustus"]
[null,null,null,null,"augustus"]
[null,null,null,null,"augustus"]
[null,null,null,null,"augustus"]
[null,null,null,null,"augustus"]
[null,null,null,null,"augustus"]
[null,null,null,null,"augustus"]
[null,null,null,null,"augustus"]
[null,null,null,null,"augustus"]
[null,null,null,null,"augustus"]
[null,null,null,null,"augustus"]
[null,null,null,null,"augustus"]
[null,null,null,null,"augustus"]
[null,null,null,null,"augustus"]
[null,null,null,null,"augustus"]
[null,null,null,null,"augustus"]
[null,null,null,null,"augustus"]
[null,null,null,null,"augustus"]
[null,null,null,null,"augustus"]
[null,null,null,null,"augustus"]
[null,null,null,null,"augustus"]
[null,null,null,null,"augustus"]
[null,null,null,null,"augustus"]
[null,null,null,null,"augustus"]
[null,null,null,null,"augustus"]
[null,null,null,null,"augustus"]
[null,null,null,null,"augustus"]
[null,null,null,null,"augustus"]
[null,null,null,null,"augustus"]
[null,null,null,null,"augustus"]
[null,null,null,null,"augustus"]
[null,null,null,null,"augustus"]
[null,null,null,null,"augustus"]
[null,null,null,null,"augustus"]
[null,null,null,null,"augustus"]
[null,null,null,null,"augustus"]
[null,null,null,null,"augustus"]
[null,null,null,null,"augustus"]
[null,null,null,null,"augustus"]
[null,null,null,null,"augustus"]
[null,null,null,null,"augustus"]
[null,null,null,null,"augustus"]
[null,null,null,null,"augustus"]
[null,null,null,null,"augustus"]
[null,null,null,null,"augustus"]
[null,null,null,null,"augustus"]
[null,null,null,null,"augustus"]
[null,null,null,null,"augustus"]
[null,null,null,null,"augustus"]
[null,null,null,null,"augustus"]
[null,null,null,null,"augustus"]
[null,null,null,null,"augustus"]
[null,null,null,null,"augustus"]
[null,null,null,null,"augustus"]
[null,null,null,null,"augustus"]
[null,null,null,null,"augustus"]
[null,null,null,null,"augustus"]
[null,null,null,null,"september"]
[null,null,null,null,"september"]
[null,null,null,null,"september"]
[null,null,null,null,"september"]
[null,null,null,null,"september"]
[null,null,null,null,"september"]
[null,null,null,null,"september"]
[null,null,null,null,"september"]
[null,null,null,null,"september"]
[null,null,null,null,"september"]
[null,null,null,null,"september"]
[null,null,null,null,"september"]
[null,null,null,null,"september"]
[null,null,null,null,"september"]
[null,null,null,null,"september"]
[null,null,null,null,"september"]
[null,null,null,null,"september"]
[null,null,null,null,"september"]
[null,null,null,null,"september"]
[null,null,null,null,"september"]
[null,null,null,null,"september"]
[null,null,null,null,"september"]
[null,null,null,null,"september"]
[null,null,null,null,"september"]
[null,null,null,null,"september"]
[null,null,null,null,"september"]
[null,null,null,null,"september"]
[null,null,null,null,"september"]
[null,null,null,null,"september"]
[null,null,null,null,"september"]
[null,null,null,null,"september"]
[null,null,null,null,"september"]
[null,null,null,null,"september"]
[null,null,null,null,"september"]
[null,null,null,null,"september"]
[null,null,null,null,"september"]
[null,null,null,null,"september"]
[null,null,null,null,"september"]
[null,null,null,null,"september"]
[null,null,null,null,"september"]
[null,null,null,null,"september"]
[null,null,null,null,"september"]
[null,null,null,null,"september"]
[null,null,null,null,"september"]
[null,null,null,null,"september"]
[null,null,null,null,"september"]
[null,null,null,null,"september"]
[null,null,null,null,"september"]
[null,null,null,null,"september"]
[null,null,null,null,"september"]
[null,null,null,null,"september"]
[null,null,null,null,"september"]
[null,null,null,null,"september"]
[null,null,null,null,"september"]
[null,null,null,null,"september"]
[null,null,null,null,"september"]
[null,null,null,null,"september"]
[null,null,null,null,"september"]
[null,null,null,null,"september"]
[null,null,null,null,"september"]
[null,null,null,null,"september"]
[null,null,null,null,"september"]
[null,null,null,null,"september"]
[null,null,null,null,"september"]
[null,null,null,null,"september"]
[null,null,null,null,"september"]
[null,null,null,null,"september"]
[null,null,null,null,"september"]
[null,null,null,null,"september"]
[null,null,null,null,"september"]
[null,null,null,null,"september"]
[null,null,null,null,"september"]
[null,null,null,null,"september"]
[null,null,null,null,"september"]
[null,null,null,null,"september"]
[null,null,null,null,"september"]
[null,null,null,null,"september"]
[null,null,null,null,"september"]
[null,null,null,null,"september"]
[null,null,null,null,"september"]
[null,null,null,null,"september"]
[null,null,null,null,"september"]
[null,null,null,null,"september"]
[null,null,null,null,"september"]
[null,null,null,null,"september"]
[null,null,null,null,"september"]
[null,null,null,null,"september"]
[null,null,null,null,"september"]
[null,null,null,null,"september"]
[null,null,null,null,"september"]
[null,null,null,null,"september"]
[null,null,null,null,"september"]
[null,null,null,null,"september"]
[null,null,null,null,"september"]
[null,null,null,null,"september"]
[null,null,null,null,"september"]
[null,null,null,null,"september"]
[null,null,null,null,"september"]
[null,null,null,null,"september"]
[null,null,null,null,"september"]
[null,null,null,null,"september"]
[null,null,null,null,"september"]
[null,null,null,null,"september"]
[null,null,null,null,"september"]
[null,null,null,null,"september"]
[null,null,null,null,"september"]
[null,null,null,null,"september"]
[null,null,null,null,"september"]
[null,null,null,null,"september"]
[null,null,null,null,"september"]
[null,null,null,null,"september"]
[null,null,null,null,"september"]
[null,null,null,null,"september"]
[null,null,null,null,"september"]
[null,null,null,null,"september"]
[null,null,null,null,"september"]
[null,null,null,null,"september"]
[null,null,null,null,"september"]
[null,null,null,null,"september"]
[null,null,null,null,"september"]
[null,null,null,null,"september"]
[null,null,null,null,"september"]
[null,null,null,null,"september"]
[null,null,null,null,"september"]
[null,null,null,null,"september"]
[null,null,null,null,"september"]
[null,null,null,null,"september"]
[null,null,null,null,"september"]
[null,null,null,null,"september"]
[null,null,null,null,"september"]
[null,null,null,null,"september"]
[null,null,null,null,"september"]
[null,null,null,null,"september"]
[null,null,null,null,"september"]
[null,null,null,null,"september"]
[null,null,null,null,"september"]
[null,null,null,null,"september"]
[null,null,null,null,"september"]
[null,null,null,null,"september"]
[null,null,null,null,"september"]
[null,null,null,null,"september"]
[null,null,null,null,"september"]
[null,null,null,null,"september"]
[null,null,null,null,"september"]
[null,null,null,null,"september"]
[null,null,null,null,"september"]
[null,null,null,null,"september"]
[null,null,null,null,"september"]
[null,null,null,null,"september"]
[null,null,null,null,"september"]
[null,null,null,null,"september"]
[null,null,null,null,"september"]
[null,null,null,null,"september"]
[null,null,null,null,"september"]
[null,null,null,null,"september"]
[null,null,null,null,"september"]
[null,null,null,null,"september"]
[null,null,null,null,"september"]
[null,null,null,null,"september"]
[null,null,null,null,"september"]
[null,null,null,null,"september"]
[null,null,null,null,"september"]
[null,null,null,null,"september"]
[null,null,null,null,"september"]
[null,null,null,null,"september"]
[null,null,null,null,"september"]
[null,null,null,null,"september"]
[null,null,null,null,"september"]
[null,null,null,null,"september"]
[null,null,null,null,"september"]
[null,null,null,null,"september"]
[null,null,null,null,"september"]
[null,null,null,null,"september"]
[null,null,null,null,"september"]
[null,null,null,null,"september"]
[null,null,null,null,"september"]
[null,null,null,null,"september"]
[null,null,null,null,"september"]
[null,null,null,null,"september"]
[null,null,null,null,"september"]
[null,null,null,null,"september"]
[null,null,null,null,"september"]
[null,null,null,null,"september"]
[null,null,null,null,"september"]
[null,null,null,null,"september"]
[null,null,null,null,"september"]
[null,null,null,null,"september"]
[null,null,null,null,"september"]
[null,null,null,null,"september"]
[null,null,null,null,"september"]
[null,null,null,null,"september"]
[null,null,null,null,"september"]
[null,null,null,null,"september"]
[null,null,null,null,"september"]
[null,null,null,null,"september"]
[null,null,null,null,"september"]
[null,null,null,null,"september"]
[null,null,null,null,"september"]
[null,null,null,null,"september"]
[null,null,null,null,"september"]
[null,null,null,null,"september"]
[null,null,null,null,"september"]
[null,null,null,null,"september"]
[null,null,null,null,"september"]
[null,null,null,null,"september"]
[null,null,null,null,"september"]
[null,null,null,null,"september"]
[null,null,null,null,"september"]
[null,null,null,null,"september"]
[null,null,null,null,"september"]
[null,null,null,null,"september"]
[null,null,null,null,"september"]
[null,null,null,null,"september"]
[null,null,null,null,"september"]
[null,null,null,null,"september"]
[null,null,null,null,"september"]
[null,null,null,null,"september"]
[null,null,null,null,"september"]
[null,null,null,null,"september"]
[null,null,null,null,"september"]
[null,null,null,null,"september"]
[null,null,null,null,"september"]
[null,null,null,null,"september"]
[null,null,null,null,"september"]
[null,null,null,null,"september"]
[null,null,null,null,"september"]
[null,null,null,null,"september"]
[null,null,null,null,"september"]
[null,null,null,null,"september"]
[null,null,null,null,"september"]
[null,null,null,null,"september"]
[null,null,null,null,"september"]
[null,null,null,null,"september"]
[null,null,null,null,"september"]
[null,null,null,null,"september"]
[null,null,null,null,"september"]
[null,null,null,null,"september"]
[null,null,null,null,"september"]
[null,null,null,null,"september"]
[null,null,null,null,"september"]
[null,null,null,null,"september"]
[null,null,null,null,"september"]
[null,null,null,null,"september"]
[null,null,null,null,"september"]
[null,null,null,null,"september"]
[null,null,null,null,"september"]
[null,null,null,null,"september"]
[null,null,null,null,"september"]
[null,null,null,null,"september"]
[null,null,null,null,"september"]
[null,null,null,null,"september"]
[null,null,null,null,"september"]
[null,null,null,null,"september"]
[null,null,null,null,"september"]
[null,null,null,null,"september"]
[null,null,null,null,"september"]
[null,null,null,null,"september"]
[null,null,null,null,"september"]
[null,null,null,null,"september"]
[null,null,null,null,"september"]
[null,null,null,null,"september"]
[null,null,null,null,"september"]
[null,null,null,null,"september"]
[null,null,null,null,"september"]
[null,null,null,null,"september"]
[null,null,null,null,"september"]
[null,null,null,null,"september"]
[null,null,null,null,"september"]
[null,null,null,null,"september"]
[null,null,null,null,"september"]
[null,null,null,null,"september"]
[null,null,null,null,"september"]
[null,null,null,null,"september"]
[null,null,null,null,"september"]
[null,null,null,null,"september"]
[null,null,null,null,"september"]
[null,null,null,null,"september"]
[null,null,null,null,"september"]
[null,null,null,null,"september"]
[null,null,null,null,"september"]
[null,null,null,null,"september"]
[null,null,null,null,"september"]
[null,null,null,null,"september"]
[null,null,null,null,"september"]
[null,null,null,null,"september"]
[null,null,null,null,"september"]
[null,null,null,null,"september"]
[null,null,null,null,"september"]
[null,null,null,null,"september"]
[null,null,null,null,"september"]
[null,null,null,null,"september"]
[null,null,null,null,"september"]
[null,null,null,null,"september"]
[null,null,null,null,"september"]
[null,null,null,null,"september"]
[null,null,null,null,"september"]
[null,null,null,null,"september"]
[null,null,null,null,"september"]
[null,null,null,null,"september"]
[null,null,null,null,"september"]
[null,null,null,null,"september"]
[null,null,null,null,"september"]
[null,null,null,null,"september"]
[null,null,null,null,"september"]
[null,null,null,null,"september"]
[null,null,null,null,"september"]
[null,null,null,null,"september"]
[null,null,null,null,"september"]
[null,null,null,null,"september"]
[null,null,null,null,"september"]
[null,null,null,null,"september"]
[null,null,null,null,"september"]
[null,null,null,null,"september"]
[null,null,null,null,"september"]
[null,null,null,null,"september"]
[null,null,null,null,"september"]
[null,null,null,null,"september"]
[null,null,null,null,"september"]
[null,null,null,null,"september"]
[null,null,null,null,"september"]
[null,null,null,null,"september"]
[null,null,null,null,"september"]
[null,null,null,null,"september"]
[null,null,null,null,"september"]
[null,null,null,null,"september"]
[null,null,null,null,"september"]
[null,null,null,null,"september"]
[null,null,null,null,"september"]
[null,null,null,null,"september"]
[null,null,null,null,"september"]
[null,null,null,null,"september"]
[null,null,null,null,"september"]
[null,null,null,null,"september"]
[null,null,null,null,"september"]
[null,null,null,null,"september"]
[null,null,null,null,"september"]
[null,null,null,null,"september"]
[null,null,null,null,"september"]
[null,null,null,null,"september"]
[null,null,null,null,"september"]
[null,null,null,null,"september"]
[null,null,null,null,"september"]
[null,null,null,null,"september"]
[null,null,null,null,"september"]
[null,null,null,null,"september"]
[null,null,null,null,"september"]
[null,null,null,null,"september"]
[null,null,null,null,"september"]
[null,null,null,null,"september"]
[null,null,null,null,"september"]
[null,null,null,null,"september"]
[null,null,null,null,"september"]
[null,null,null,null,"september"]
[null,null,null,null,"september"]
[null,null,null,null,"september"]
[null,null,null,null,"september"]
[null,null,null,null,"september"]
[null,null,null,null,"september"]
[null,null,null,null,"september"]
[null,null,null,null,"september"]
[null,null,null,null,"september"]
[null,null,null,null,"september"]
[null,null,null,null,"september"]
[null,null,null,null,"september"]
[null,null,null,null,"september"]
[null,null,null,null,"september"]
[null,null,null,null,"september"]
[null,null,null,null,"september"]
[null,null,null,null,"september"]
[null,null,null,null,"september"]
[null,null,null,null,"september"]
[null,null,null,null,"september"]
[null,null,null,null,"september"]
[null,null,null,null,"september"]
[null,null,null,null,"september"]
[null,null,null,null,"september"]
[null,null,null,null,"september"]
[null,null,null,null,"september"]
[null,null,null,null,"september"]
[null,null,null,null,"september"]
[null,null,null,null,"september"]
[null,null,null,null,"september"]
[null,null,null,null,"september"]
[null,null,null,null,"september"]
[null,null,null,null,"september"]
[null,null,null,null,"september"]
[null,null,null,null,"september"]
[null,null,null,null,"september"]
[null,null,null,null,"september"]
[null,null,null,null,"september"]
[null,null,null,null,"september"]
[null,null,null,null,"september"]
[null,null,null,null,"september"]
[null,null,null,null,"september"]
[null,null,null,null,"september"]
[null,null,null,null,"september"]
[null,null,null,null,"september"]
[null,null,null,null,"september"]
[null,null,null,null,"september"]
[null,null,null,null,"september"]
[null,null,null,null,"september"]
[null,null,null,null,"september"]
[null,null,null,null,"september"]
[null,null,null,null,"september"]
[null,null,null,null,"september"]
[null,null,null,null,"september"]
[null,null,null,null,"september"]
[null,null,null,null,"september"]
[null,null,null,null,"september"]
[null,null,null,null,"september"]
[null,null,null,null,"september"]
[null,null,null,null,"september"]
[null,null,null,null,"september"]
[null,null,null,null,"september"]
[null,null,null,null,"september"]
[null,null,null,null,"september"]
[null,null,null,null,"september"]
[null,null,null,null,"september"]
[null,null,null,null,"september"]
[null,null,null,null,"september"]
[null,null,null,null,"september"]
[null,null,null,null,"september"]
[null,null,null,null,"september"]
[null,null,null,null,"september"]
[null,null,null,null,"september"]
[null,null,null,null,"september"]
[null,null,null,null,"september"]
[null,null,null,null,"september"]
[null,null,null,null,"september"]
[null,null,null,null,"september"]
[null,null,null,null,"september"]
[null,null,null,null,"september"]
[null,null,null,null,"september"]
[null,null,null,null,"september"]
[null,null,null,null,"september"]
[null,null,null,null,"september"]
[null,null,null,null,"september"]
[null,null,null,null,"september"]
[null,null,null,null,"september"]
[null,null,null,null,"september"]
[null,null,null,null,"september"]
[null,null,null,null,"september"]
[null,null,null,null,"september"]
[null,null,null,null,"september"]
[null,null,null,null,"september"]
[null,null,null,null,"september"]
[null,null,null,null,"september"]
[null,null,null,null,"september"]
[null,null,null,null,"september"]
[null,null,null,null,"september"]
[null,null,null,null,"september"]
[null,null,null,null,"september"]
[null,null,null,null,"september"]
[null,null,null,null,"september"]
[null,null,null,null,"september"]
[null,null,null,null,"september"]
[null,null,null,null,"september"]
[null,null,null,null,"september"]
[null,null,null,null,"september"]
[null,null,null,null,"september"]
[null,null,null,null,"september"]
[null,null,null,null,"september"]
[null,null,null,null,"september"]
[null,null,null,null,"september"]
[null,null,null,null,"september"]
[null,null,null,null,"september"]
[null,null,null,null,"september"]
[null,null,null,null,"september"]
[null,null,null,null,"september"]
[null,null,null,null,"september"]
[null,null,null,null,"september"]
[null,null,null,null,"september"]
[null,null,null,null,"september"]
[null,null,null,null,"september"]
[null,null,null,null,"september"]
[null,null,null,null,"september"]
[null,null,null,null,"september"]
[null,null,null,null,"september"]
[null,null,null,null,"september"]
[null,null,null,null,"september"]
[null,null,null,null,"september"]
[null,null,null,null,"september"]
[null,null,null,null,"september"]
[null,null,null,null,"september"]
[null,null,null,null,"september"]
[null,null,null,null,"september"]
[null,null,null,null,"september"]
[null,null,null,null,"september"]
[null,null,null,null,"september"]
[null,null,null,null,"september"]
[null,null,null,null,"september"]
[null,null,null,null,"september"]
[null,null,null,null,"september"]
[null,null,null,null,"september"]
[null,null,null,null,"september"]
[null,null,null,null,"september"]
[null,null,null,null,"september"]
[null,null,null,null,"september"]
[null,null,null,null,"september"]
[null,null,null,null,"september"]
[null,null,null,null,"september"]
[null,null,null,null,"september"]
[null,null,null,null,"september"]
[null,null,null,null,"september"]
[null,null,null,null,"september"]
[null,null,null,null,"september"]
[null,null,null,null,"september"]
[null,null,null,null,"september"]
[null,null,null,null,"september"]
[null,null,null,null,"september"]
[null,null,null,null,"september"]
[null,null,null,null,"september"]
[null,null,null,null,"september"]
[null,null,null,null,"september"]
[null,null,null,null,"september"]
[null,null,null,null,"september"]
[null,null,null,null,"september"]
[null,null,null,null,"september"]
[null,null,null,null,"september"]
[null,null,null,null,"september"]
[null,null,null,null,"september"]
[null,null,null,null,"september"]
[null,null,null,null,"september"]
[null,null,null,null,"september"]
[null,null,null,null,"september"]
[null,null,null,null,"september"]
[null,null,null,null,"september"]
[null,null,null,null,"september"]
[null,null,null,null,"september"]
[null,null,null,null,"september"]
[null,null,null,null,"september"]
[null,null,null,null,"september"]
[null,null,null,null,"september"]
[null,null,null,null,"september"]
[null,null,null,null,"september"]
[null,null,null,null,"september"]
[null,null,null,null,"september"]
[null,null,null,null,"september"]
[null,null,null,null,"september"]
[null,null,null,null,"september"]
[null,null,null,null,"september"]
[null,null,null,null,"september"]
[null,null,null,null,"september"]
[null,null,null,null,"september"]
[null,null,null,null,"september"]
[null,null,null,null,"september"]
[null,null,null,null,"september"]
[null,null,null,null,"september"]
[null,null,null,null,"september"]
[null,null,null,null,"september"]
[null,null,null,null,"september"]
[null,null,null,null,"september"]
[null,null,null,null,"september"]
[null,null,null,null,"september"]
[null,null,null,null,"september"]
[null,null,null,null,"september"]
[null,null,null,null,"september"]
[null,null,null,null,"september"]
[null,null,null,null,"september"]
[null,null,null,null,"september"]
[null,null,null,null,"september"]
[null,null,null,null,"september"]
[null,null,null,null,"september"]
[null,null,null,null,"september"]
[null,null,null,null,"september"]
[null,null,null,null,"september"]
[null,null,null,null,"september"]
[null,null,null,null,"september"]
[null,null,null,null,"september"]
[null,null,null,null,"september"]
[null,null,null,null,"september"]
[null,null,null,null,"september"]
[null,null,null,null,"september"]
[null,null,null,null,"september"]
[null,null,null,null,"september"]
[null,null,null,null,"september"]
[null,null,null,null,"september"]
[null,null,null,null,"september"]
[null,null,null,null,"september"]
[null,null,null,null,"september"]
[null,null,null,null,"september"]
[null,null,null,null,"september"]
[null,null,null,null,"september"]
[null,null,null,null,"september"]
[null,null,null,null,"september"]
[null,null,null,null,"september"]
[null,null,null,null,"september"]
[null,null,null,null,"september"]
[null,null,null,null,"september"]
[null,null,null,null,"september"]
[null,null,null,null,"september"]
[null,null,null,null,"september"]
[null,null,null,null,"september"]
[null,null,null,null,"september"]
[null,null,null,null,"september"]
[null,null,null,null,"september"]
[null,null,null,null,"september"]
[null,null,null,null,"september"]
[null,null,null,null,"september"]
[null,null,null,null,"september"]
[null,null,null,null,"september"]
[null,null,null,null,"september"]
[null,null,null,null,"september"]
[null,null,null,null,"september"]
[null,null,null,null,"september"]
[null,null,null,null,"september"]
[null,null,null,null,"september"]
[null,null,null,null,"september"]
[null,null,null,null,"september"]
[null,null,null,null,"september"]
[null,null,null,null,"september"]
[null,null,null,null,"september"]
[null,null,null,null,"september"]
[null,null,null,null,"september"]
[null,null,null,null,"september"]
[null,null,null,null,"september"]
[null,null,null,null,"september"]
[null,null,null,null,"september"]
[null,null,null,null,"september"]
[null,null,null,null,"september"]
[null,null,null,null,"september"]
[null,null,null,null,"september"]
[null,null,null,null,"september"]
[null,null,null,null,"september"]
[null,null,null,null,"september"]
[null,null,null,null,"september"]
[null,null,null,null,"september"]
[null,null,null,null,"september"]
[null,null,null,null,"september"]
[null,null,null,null,"september"]
[null,null,null,null,"september"]
[null,null,null,null,"september"]
[null,null,null,null,"september"]
[null,null,null,null,"september"]
[null,null,null,null,"september"]
[null,null,null,null,"september"]
[null,null,null,null,"september"]
[null,null,null,null,"september"]
[null,null,null,null,"september"]
[null,null,null,null,"september"]
[null,null,null,null,"september"]
[null,null,null,null,"september"]
[null,null,null,null,"september"]
[null,null,null,null,"september"]
[null,null,null,null,"september"]
[null,null,null,null,"september"]
[null,null,null,null,"september"]
[null,null,null,null,"september"]
[null,null,null,null,"september"]
[null,null,null,null,"september"]
[null,null,null,null,"september"]
[null,null,null,null,"september"]
[null,null,null,null,"september"]
[null,null,null,null,"september"]
[null,null,null,null,"september"]
[null,null,null,null,"september"]
[null,null,null,null,"september"]
[null,null,null,null,"september"]
[null,null,null,null,"september"]
[null,null,null,null,"september"]
[null,null,null,null,"september"]
[null,null,null,null,"september"]
[null,null,null,null,"september"]
[null,null,null,null,"september"]
[null,null,null,null,"september"]
[null,null,null,null,"september"]
[null,null,null,null,"september"]
[null,null,null,null,"september"]
[null,null,null,null,"september"]
[null,null,null,null,"september"]
[null,null,null,null,"september"]
[null,null,null,null,"september"]
[null,null,null,null,"september"]
[null,null,null,null,"september"]
[null,null,null,null,"september"]
[null,null,null,null,"september"]
[null,null,null,null,"september"]
[null,null,null,null,"september"]
[null,null,null,null,"september"]
[null,null,null,null,"september"]
[null,null,null,null,"september"]
[null,null,null,null,"september"]
[null,null,null,null,"september"]
[null,null,null,null,"september"]
[null,null,null,null,"september"]
[null,null,null,null,"september"]
[null,null,null,null,"september"]
[null,null,null,null,"september"]
[null,null,null,null,"september"]
[null,null,null,null,"september"]
[null,null,null,null,"september"]
[null,null,null,null,"september"]
[null,null,null,null,"september"]
[null,null,null,null,"september"]
[null,null,null,null,"september"]
[null,null,null,null,"september"]
[null,null,null,null,"september"]
[null,null,null,null,"september"]
[null,null,null,null,"september"]
[null,null,null,null,"september"]
[null,null,null,null,"september"]
[null,null,null,null,"september"]
[null,null,null,null,"september"]
[null,null,null,null,"september"]
[null,null,null,null,"september"]
[null,null,null,null,"september"]
[null,null,null,null,"september"]
[null,null,null,null,"september"]
[null,null,null,null,"september"]
[null,null,null,null,"september"]
[null,null,null,null,"september"]
[null,null,null,null,"september"]
[null,null,null,null,"september"]
[null,null,null,null,"september"]
[null,null,null,null,"september"]
[null,null,null,null,"september"]
[null,null,null,null,"september"]
[null,null,null,null,"september"]
[null,null,null,null,"september"]
[null,null,null,null,"september"]
[null,null,null,null,"oktober"]
[null,null,null,null,"oktober"]
[null,null,null,null,"oktober"]
[null,null,null,null,"oktober"]
[null,null,null,null,"oktober"]
[null,null,null,null,"oktober"]
[null,null,null,null,"oktober"]
[null,null,null,null,"oktober"]
[null,null,null,null,"oktober"]
[null,null,null,null,"oktober"]
[null,null,null,null,"oktober"]
[null,null,null,null,"oktober"]
[null,null,null,null,"oktober"]
[null,null,null,null,"oktober"]
[null,null,null,null,"oktober"]
[null,null,null,null,"oktober"]
[null,null,null,null,"oktober"]
[null,null,null,null,"oktober"]
[null,null,null,null,"oktober"]
[null,null,null,null,"oktober"]
[null,null,null,null,"oktober"]
[null,null,null,null,"oktober"]
[null,null,null,null,"oktober"]
[null,null,null,null,"oktober"]
[null,null,null,null,"oktober"]
[null,null,null,null,"oktober"]
[null,null,null,null,"oktober"]
[null,null,null,null,"oktober"]
[null,null,null,null,"oktober"]
[null,null,null,null,"oktober"]
[null,null,null,null,"oktober"]
[null,null,null,null,"oktober"]
[null,null,null,null,"oktober"]
[null,null,null,null,"oktober"]
[null,null,null,null,"oktober"]
[null,null,null,null,"oktober"]
[null,null,null,null,"oktober"]
[null,null,null,null,"oktober"]
[null,null,null,null,"oktober"]
[null,null,null,null,"oktober"]
[null,null,null,null,"oktober"]
[null,null,null,null,"oktober"]
[null,null,null,null,"oktober"]
[null,null,null,null,"oktober"]
[null,null,null,null,"oktober"]
[null,null,null,null,"oktober"]
[null,null,null,null,"oktober"]
[null,null,null,null,"oktober"]
[null,null,null,null,"oktober"]
[null,null,null,null,"oktober"]
[null,null,null,null,"oktober"]
[null,null,null,null,"oktober"]
[null,null,null,null,"oktober"]
[null,null,null,null,"oktober"]
[null,null,null,null,"oktober"]
[null,null,null,null,"oktober"]
[null,null,null,null,"oktober"]
[null,null,null,null,"oktober"]
[null,null,null,null,"oktober"]
[null,null,null,null,"oktober"]
[null,null,null,null,"oktober"]
[null,null,null,null,"oktober"]
[null,null,null,null,"oktober"]
[null,null,null,null,"oktober"]
[null,null,null,null,"oktober"]
[null,null,null,null,"oktober"]
[null,null,null,null,"oktober"]
[null,null,null,null,"oktober"]
[null,null,null,null,"oktober"]
[null,null,null,null,"oktober"]
[null,null,null,null,"oktober"]
[null,null,null,null,"oktober"]
[null,null,null,null,"oktober"]
[null,null,null,null,"oktober"]
[null,null,null,null,"oktober"]
[null,null,null,null,"oktober"]
[null,null,null,null,"oktober"]
[null,null,null,null,"oktober"]
[null,null,null,null,"oktober"]
[null,null,null,null,"oktober"]
[null,null,null,null,"oktober"]
[null,null,null,null,"oktober"]
[null,null,null,null,"oktober"]
[null,null,null,null,"oktober"]
[null,null,null,null,"oktober"]
[null,null,null,null,"oktober"]
[null,null,null,null,"oktober"]
[null,null,null,null,"oktober"]
[null,null,null,null,"oktober"]
[null,null,null,null,"oktober"]
[null,null,null,null,"oktober"]
[null,null,null,null,"oktober"]
[null,null,null,null,"oktober"]
[null,null,null,null,"oktober"]
[null,null,null,null,"oktober"]
[null,null,null,null,"oktober"]
[null,null,null,null,"oktober"]
[null,null,null,null,"oktober"]
[null,null,null,null,"oktober"]
[null,null,null,null,"oktober"]
[null,null,null,null,"oktober"]
[null,null,null,null,"oktober"]
[null,null,null,null,"oktober"]
[null,null,null,null,"oktober"]
[null,null,null,null,"oktober"]
[null,null,null,null,"oktober"]
[null,null,null,null,"oktober"]
[null,null,null,null,"oktober"]
[null,null,null,null,"oktober"]
[null,null,null,null,"oktober"]
[null,null,null,null,"oktober"]
[null,null,null,null,"oktober"]
[null,null,null,null,"oktober"]
[null,null,null,null,"oktober"]
[null,null,null,null,"oktober"]
[null,null,null,null,"oktober"]
[null,null,null,null,"oktober"]
[null,null,null,null,"oktober"]
[null,null,null,null,"oktober"]
[null,null,null,null,"oktober"]
[null,null,null,null,"oktober"]
[null,null,null,null,"oktober"]
[null,null,null,null,"oktober"]
[null,null,null,null,"oktober"]
[null,null,null,null,"oktober"]
[null,null,null,null,"oktober"]
[null,null,null,null,"oktober"]
[null,null,null,null,"oktober"]
[null,null,null,null,"oktober"]
[null,null,null,null,"oktober"]
[null,null,null,null,"oktober"]
[null,null,null,null,"oktober"]
[null,null,null,null,"oktober"]
[null,null,null,null,"oktober"]
[null,null,null,null,"oktober"]
[null,null,null,null,"oktober"]
[null,null,null,null,"oktober"]
[null,null,null,null,"oktober"]
[null,null,null,null,"oktober"]
[null,null,null,null,"oktober"]
[null,null,null,null,"oktober"]
[null,null,null,null,"oktober"]
[null,null,null,null,"oktober"]
[null,null,null,null,"oktober"]
[null,null,null,null,"oktober"]
[null,null,null,null,"oktober"]
[null,null,null,null,"oktober"]
[null,null,null,null,"oktober"]
[null,null,null,null,"oktober"]
[null,null,null,null,"oktober"]
[null,null,null,null,"oktober"]
[null,null,null,null,"oktober"]
[null,null,null,null,"oktober"]
[null,null,null,null,"oktober"]
[null,null,null,null,"oktober"]
[null,null,null,null,"oktober"]
[null,null,null,null,"oktober"]
[null,null,null,null,"oktober"]
[null,null,null,null,"oktober"]
[null,null,null,null,"oktober"]
[null,null,null,null,"oktober"]
[null,null,null,null,"oktober"]
[null,null,null,null,"oktober"]
[null,null,null,null,"oktober"]
[null,null,null,null,"oktober"]
[null,null,null,null,"oktober"]
[null,null,null,null,"oktober"]
[null,null,null,null,"oktober"]
[null,null,null,null,"oktober"]
[null,null,null,null,"oktober"]
[null,null,null,null,"oktober"]
[null,null,null,null,"oktober"]
[null,null,null,null,"oktober"]
[null,null,null,null,"oktober"]
[null,null,null,null,"oktober"]
[null,null,null,null,"oktober"]
[null,null,null,null,"oktober"]
[null,null,null,null,"oktober"]
[null,null,null,null,"oktober"]
[null,null,null,null,"oktober"]
[null,null,null,null,"oktober"]
[null,null,null,null,"oktober"]
[null,null,null,null,"oktober"]
[null,null,null,null,"oktober"]
[null,null,null,null,"oktober"]
[null,null,null,null,"oktober"]
[null,null,null,null,"oktober"]
[null,null,null,null,"oktober"]
[null,null,null,null,"oktober"]
[null,null,null,null,"oktober"]
[null,null,null,null,"oktober"]
[null,null,null,null,"oktober"]
[null,null,null,null,"oktober"]
[null,null,null,null,"oktober"]
[null,null,null,null,"oktober"]
[null,null,null,null,"oktober"]
[null,null,null,null,"oktober"]
[null,null,null,null,"oktober"]
[null,null,null,null,"oktober"]
[null,null,null,null,"oktober"]
[null,null,null,null,"oktober"]
[null,null,null,null,"oktober"]
[null,null,null,null,"oktober"]
[null,null,null,null,"oktober"]
[null,null,null,null,"oktober"]
[null,null,null,null,"oktober"]
[null,null,null,null,"oktober"]
[null,null,null,null,"oktober"]
[null,null,null,null,"oktober"]
[null,null,null,null,"oktober"]
[null,null,null,null,"oktober"]
[null,null,null,null,"oktober"]
[null,null,null,null,"oktober"]
[null,null,null,null,"oktober"]
[null,null,null,null,"oktober"]
[null,null,null,null,"oktober"]
[null,null,null,null,"oktober"]
[null,null,null,null,"oktober"]
[null,null,null,null,"oktober"]
[null,null,null,null,"oktober"]
[null,null,null,null,"oktober"]
[null,null,null,null,"oktober"]
[null,null,null,null,"oktober"]
[null,null,null,null,"oktober"]
[null,null,null,null,"oktober"]
[null,null,null,null,"oktober"]
[null,null,null,null,"oktober"]
[null,null,null,null,"oktober"]
[null,null,null,null,"oktober"]
[null,null,null,null,"oktober"]
[null,null,null,null,"oktober"]
[null,null,null,null,"oktober"]
[null,null,null,null,"oktober"]
[null,null,null,null,"oktober"]
[null,null,null,null,"oktober"]
[null,null,null,null,"oktober"]
[null,null,null,null,"oktober"]
[null,null,null,null,"oktober"]
[null,null,null,null,"oktober"]
[null,null,null,null,"oktober"]
[null,null,null,null,"oktober"]
[null,null,null,null,"oktober"]
[null,null,null,null,"oktober"]
[null,null,null,null,"oktober"]
[null,null,null,null,"oktober"]
[null,null,null,null,"oktober"]
[null,null,null,null,"oktober"]
[null,null,null,null,"oktober"]
[null,null,null,null,"oktober"]
[null,null,null,null,"oktober"]
[null,null,null,null,"oktober"]
[null,null,null,null,"oktober"]
[null,null,null,null,"oktober"]
[null,null,null,null,"oktober"]
[null,null,null,null,"oktober"]
[null,null,null,null,"oktober"]
[null,null,null,null,"oktober"]
[null,null,null,null,"oktober"]
[null,null,null,null,"oktober"]
[null,null,null,null,"oktober"]
[null,null,null,null,"oktober"]
[null,null,null,null,"oktober"]
[null,null,null,null,"oktober"]
[null,null,null,null,"oktober"]
[null,null,null,null,"oktober"]
[null,null,null,null,"oktober"]
[null,null,null,null,"oktober"]
[null,null,null,null,"oktober"]
[null,null,null,null,"oktober"]
[null,null,null,null,"oktober"]
[null,null,null,null,"oktober"]
[null,null,null,null,"oktober"]
[null,null,null,null,"oktober"]
[null,null,null,null,"oktober"]
[null,null,null,null,"oktober"]
[null,null,null,null,"oktober"]
[null,null,null,null,"oktober"]
[null,null,null,null,"oktober"]
[null,null,null,null,"oktober"]
[null,null,null,null,"oktober"]
[null,null,null,null,"oktober"]
[null,null,null,null,"oktober"]
[null,null,null,null,"oktober"]
[null,null,null,null,"oktober"]
[null,null,null,null,"oktober"]
[null,null,null,null,"oktober"]
[null,null,null,null,"oktober"]
[null,null,null,null,"oktober"]
[null,null,null,null,"oktober"]
[null,null,null,null,"oktober"]
[null,null,null,null,"oktober"]
[null,null,null,null,"oktober"]
[null,null,null,null,"oktober"]
[null,null,null,null,"oktober"]
[null,null,null,null,"oktober"]
[null,null,null,null,"oktober"]
[null,null,null,null,"oktober"]
[null,null,null,null,"oktober"]
[null,null,null,null,"oktober"]
[null,null,null,null,"oktober"]
[null,null,null,null,"oktober"]
[null,null,null,null,"oktober"]
[null,null,null,null,"oktober"]
[null,null,null,null,"oktober"]
[null,null,null,null,"oktober"]
[null,null,null,null,"oktober"]
[null,null,null,null,"oktober"]
[null,null,null,null,"oktober"]
[null,null,null,null,"oktober"]
[null,null,null,null,"oktober"]
[null,null,null,null,"oktober"]
[null,null,null,null,"oktober"]
[null,null,null,null,"oktober"]
[null,null,null,null,"oktober"]
[null,null,null,null,"oktober"]
[null,null,null,null,"oktober"]
[null,null,null,null,"oktober"]
[null,null,null,null,"oktober"]
[null,null,null,null,"oktober"]
[null,null,null,null,"oktober"]
[null,null,null,null,"oktober"]
[null,null,null,null,"oktober"]
[null,null,null,null,"oktober"]
[null,null,null,null,"oktober"]
[null,null,null,null,"oktober"]
[null,null,null,null,"oktober"]
[null,null,null,null,"oktober"]
[null,null,null,null,"oktober"]
[null,null,null,null,"oktober"]
[null,null,null,null,"oktober"]
[null,null,null,null,"oktober"]
[null,null,null,null,"oktober"]
[null,null,null,null,"oktober"]
[null,null,null,null,"oktober"]
[null,null,null,null,"oktober"]
[null,null,null,null,"oktober"]
[null,null,null,null,"oktober"]
[null,null,null,null,"oktober"]
[null,null,null,null,"oktober"]
[null,null,null,null,"oktober"]
[null,null,null,null,"oktober"]
[null,null,null,null,"oktober"]
[null,null,null,null,"oktober"]
[null,null,null,null,"oktober"]
[null,null,null,null,"oktober"]
[null,null,null,null,"oktober"]
[null,null,null,null,"oktober"]
[null,null,null,null,"oktober"]
[null,null,null,null,"oktober"]
[null,null,null,null,"oktober"]
[null,null,null,null,"oktober"]
[null,null,null,null,"oktober"]
[null,null,null,null,"oktober"]
[null,null,null,null,"oktober"]
[null,null,null,null,"oktober"]
[null,null,null,null,"oktober"]
[null,null,null,null,"oktober"]
[null,null,null,null,"oktober"]
[null,null,null,null,"oktober"]
[null,null,null,null,"oktober"]
[null,null,null,null,"oktober"]
[null,null,null,null,"oktober"]
[null,null,null,null,"oktober"]
[null,null,null,null,"oktober"]
[null,null,null,null,"oktober"]
[null,null,null,null,"oktober"]
[null,null,null,null,"oktober"]
[null,null,null,null,"oktober"]
[null,null,null,null,"oktober"]
[null,null,null,null,"oktober"]
[null,null,null,null,"oktober"]
[null,null,null,null,"oktober"]
[null,null,null,null,"oktober"]
[null,null,null,null,"oktober"]
[null,null,null,null,"oktober"]
[null,null,null,null,"oktober"]
[null,null,null,null,"oktober"]
[null,null,null,null,"oktober"]
[null,null,null,null,"oktober"]
[null,null,null,null,"oktober"]
[null,null,null,null,"oktober"]
[null,null,null,null,"oktober"]
[null,null,null,null,"oktober"]
[null,null,null,null,"oktober"]
[null,null,null,null,"oktober"]
[null,null,null,null,"oktober"]
[null,null,null,null,"oktober"]
[null,null,null,null,"oktober"]
[null,null,null,null,"oktober"]
[null,null,null,null,"oktober"]
[null,null,null,null,"oktober"]
[null,null,null,null,"oktober"]
[null,null,null,null,"oktober"]
[null,null,null,null,"oktober"]
[null,null,null,null,"oktober"]
[null,null,null,null,"oktober"]
[null,null,null,null,"oktober"]
[null,null,null,null,"oktober"]
[null,null,null,null,"oktober"]
[null,null,null,null,"oktober"]
[null,null,null,null,"oktober"]
[null,null,null,null,"oktober"]
[null,null,null,null,"oktober"]
[null,null,null,null,"oktober"]
[null,null,null,null,"oktober"]
[null,null,null,null,"oktober"]
[null,null,null,null,"oktober"]
[null,null,null,null,"oktober"]
[null,null,null,null,"oktober"]
[null,null,null,null,"oktober"]
[null,null,null,null,"oktober"]
[null,null,null,null,"oktober"]
[null,null,null,null,"oktober"]
[null,null,null,null,"oktober"]
[null,null,null,null,"oktober"]
[null,null,null,null,"oktober"]
[null,null,null,null,"oktober"]
[null,null,null,null,"oktober"]
[null,null,null,null,"oktober"]
[null,null,null,null,"oktober"]
[null,null,null,null,"oktober"]
[null,null,null,null,"oktober"]
[null,null,null,null,"oktober"]
[null,null,null,null,"oktober"]
[null,null,null,null,"oktober"]
[null,null,null,null,"oktober"]
[null,null,null,null,"oktober"]
[null,null,null,null,"oktober"]
[null,null,null,null,"oktober"]
[null,null,null,null,"oktober"]
[null,null,null,null,"oktober"]
[null,null,null,null,"oktober"]
[null,null,null,null,"oktober"]
[null,null,null,null,"oktober"]
[null,null,null,null,"oktober"]
[null,null,null,null,"oktober"]
[null,null,null,null,"oktober"]
[null,null,null,null,"oktober"]
[null,null,null,null,"oktober"]
[null,null,null,null,"oktober"]
[null,null,null,null,"oktober"]
[null,null,null,null,"oktober"]
[null,null,null,null,"oktober"]
[null,null,null,null,"oktober"]
[null,null,null,null,"oktober"]
[null,null,null,null,"oktober"]
[null,null,null,null,"oktober"]
[null,null,null,null,"oktober"]
[null,null,null,null,"oktober"]
[null,null,null,null,"oktober"]
[null,null,null,null,"oktober"]
[null,null,null,null,"oktober"]
[null,null,null,null,"oktober"]
[null,null,null,null,"oktober"]
[null,null,null,null,"oktober"]
[null,null,null,null,"oktober"]
[null,null,null,null,"oktober"]
[null,null,null,null,"oktober"]
[null,null,null,null,"oktober"]
[null,null,null,null,"oktober"]
[null,null,null,null,"oktober"]
[null,null,null,null,"oktober"]
[null,null,null,null,"oktober"]
[null,null,null,null,"oktober"]
[null,null,null,null,"oktober"]
[null,null,null,null,"oktober"]
[null,null,null,null,"oktober"]
[null,null,null,null,"oktober"]
[null,null,null,null,"oktober"]
[null,null,null,null,"oktober"]
[null,null,null,null,"oktober"]
[null,null,null,null,"oktober"]
[null,null,null,null,"oktober"]
[null,null,null,null,"oktober"]
[null,null,null,null,"oktober"]
[null,null,null,null,"oktober"]
[null,null,null,null,"oktober"]
[null,null,null,null,"oktober"]
[null,null,null,null,"oktober"]
[null,null,null,null,"oktober"]
[null,null,null,null,"oktober"]
[null,null,null,null,"oktober"]
[null,null,null,null,"oktober"]
[null,null,null,null,"oktober"]
[null,null,null,null,"oktober"]
[null,null,null,null,"oktober"]
[null,null,null,null,"oktober"]
[null,null,null,null,"oktober"]
[null,null,null,null,"oktober"]
[null,null,null,null,"oktober"]
[null,null,null,null,"oktober"]
[null,null,null,null,"oktober"]
[null,null,null,null,"oktober"]
[null,null,null,null,"oktober"]
[null,null,null,null,"oktober"]
[null,null,null,null,"oktober"]
[null,null,null,null,"oktober"]
[null,null,null,null,"oktober"]
[null,null,null,null,"oktober"]
[null,null,null,null,"oktober"]
[null,null,null,null,"oktober"]
[null,null,null,null,"oktober"]
[null,null,null,null,"oktober"]
[null,null,null,null,"oktober"]
[null,null,null,null,"oktober"]
[null,null,null,null,"oktober"]
[null,null,null,null,"oktober"]
[null,null,null,null,"oktober"]
[null,null,null,null,"oktober"]
[null,null,null,null,"oktober"]
[null,null,null,null,"oktober"]
[null,null,null,null,"oktober"]
[null,null,null,null,"oktober"]
[null,null,null,null,"oktober"]
[null,null,null,null,"oktober"]
[null,null,null,null,"oktober"]
[null,null,null,null,"oktober"]
[null,null,null,null,"oktober"]
[null,null,null,null,"oktober"]
[null,null,null,null,"oktober"]
[null,null,null,null,"oktober"]
[null,null,null,null,"oktober"]
[null,null,null,null,"oktober"]
[null,null,null,null,"oktober"]
[null,null,null,null,"oktober"]
[null,null,null,null,"oktober"]
[null,null,null,null,"oktober"]
[null,null,null,null,"oktober"]
[null,null,null,null,"oktober"]
[null,null,null,null,"oktober"]
[null,null,null,null,"oktober"]
[null,null,null,null,"oktober"]
[null,null,null,null,"oktober"]
[null,null,null,null,"oktober"]
[null,null,null,null,"oktober"]
[null,null,null,null,"oktober"]
[null,null,null,null,"oktober"]
[null,null,null,null,"oktober"]
[null,null,null,null,"oktober"]
[null,null,null,null,"oktober"]
[null,null,null,null,"oktober"]
[null,null,null,null,"oktober"]
[null,null,null,null,"oktober"]
[null,null,null,null,"oktober"]
[null,null,null,null,"oktober"]
[null,null,null,null,"oktober"]
[null,null,null,null,"oktober"]
[null,null,null,null,"oktober"]
[null,null,null,null,"oktober"]
[null,null,null,null,"oktober"]
[null,null,null,null,"oktober"]
[null,null,null,null,"oktober"]
[null,null,null,null,"oktober"]
[null,null,null,null,"oktober"]
[null,null,null,null,"oktober"]
[null,null,null,null,"oktober"]
[null,null,null,null,"oktober"]
[null,null,null,null,"oktober"]
[null,null,null,null,"oktober"]
[null,null,null,null,"oktober"]
[null,null,null,null,"oktober"]
[null,null,null,null,"oktober"]
[null,null,null,null,"oktober"]
[null,null,null,null,"oktober"]
[null,null,null,null,"oktober"]
[null,null,null,null,"oktober"]
[null,null,null,null,"oktober"]
[null,null,null,null,"oktober"]
[null,null,null,null,"oktober"]
[null,null,null,null,"oktober"]
[null,null,null,null,"oktober"]
[null,null,null,null,"oktober"]
[null,null,null,null,"oktober"]
[null,null,null,null,"oktober"]
[null,null,null,null,"oktober"]
[null,null,null,null,"oktober"]
[null,null,null,null,"oktober"]
[null,null,null,null,"oktober"]
[null,null,null,null,"oktober"]
[null,null,null,null,"oktober"]
[null,null,null,null,"oktober"]
[null,null,null,null,"oktober"]
[null,null,null,null,"oktober"]
[null,null,null,null,"oktober"]
[null,null,null,null,"oktober"]
[null,null,null,null,"oktober"]
[null,null,null,null,"oktober"]
[null,null,null,null,"oktober"]
[null,null,null,null,"oktober"]
[null,null,null,null,"oktober"]
[null,null,null,null,"oktober"]
[null,null,null,null,"oktober"]
[null,null,null,null,"oktober"]
[null,null,null,null,"oktober"]
[null,null,null,null,"oktober"]
[null,null,null,null,"oktober"]
[null,null,null,null,"oktober"]
[null,null,null,null,"oktober"]
[null,null,null,null,"oktober"]
[null,null,null,null,"oktober"]
[null,null,null,null,"oktober"]
[null,null,null,null,"oktober"]
[null,null,null,null,"oktober"]
[null,null,null,null,"oktober"]
[null,null,null,null,"oktober"]
[null,null,null,null,"oktober"]
[null,null,null,null,"oktober"]
[null,null,null,null,"oktober"]
[null,null,null,null,"oktober"]
[null,null,null,null,"oktober"]
[null,null,null,null,"oktober"]
[null,null,null,null,"oktober"]
[null,null,null,null,"oktober"]
[null,null,null,null,"oktober"]
[null,null,null,null,"oktober"]
[null,null,null,null,"oktober"]
[null,null,null,null,"oktober"]
[null,null,null,null,"oktober"]
[null,null,null,null,"oktober"]
[null,null,null,null,"oktober"]
[null,null,null,null,"oktober"]
[null,null,null,null,"oktober"]
[null,null,null,null,"oktober"]
[null,null,null,null,"oktober"]
[null,null,null,null,"oktober"]
[null,null,null,null,"oktober"]
[null,null,null,null,"oktober"]
[null,null,null,null,"oktober"]
[null,null,null,null,"oktober"]
[null,null,null,null,"oktober"]
[null,null,null,null,"oktober"]
[null,null,null,null,"oktober"]
[null,null,null,null,"oktober"]
[null,null,null,null,"oktober"]
[null,null,null,null,"oktober"]
[null,null,null,null,"oktober"]
[null,null,null,null,"oktober"]
[null,null,null,null,"oktober"]
[null,null,null,null,"oktober"]
[null,null,null,null,"oktober"]
[null,null,null,null,"oktober"]
[null,null,null,null,"oktober"]
[null,null,null,null,"oktober"]
[null,null,null,null,"oktober"]
[null,null,null,null,"oktober"]
[null,null,null,null,"oktober"]
[null,null,null,null,"oktober"]
[null,null,null,null,"oktober"]
[null,null,null,null,"oktober"]
[null,null,null,null,"oktober"]
[null,null,null,null,"oktober"]
[null,null,null,null,"oktober"]
[null,null,null,null,"oktober"]
[null,null,null,null,"oktober"]
[null,null,null,null,"oktober"]
[null,null,null,null,"oktober"]
[null,null,null,null,"oktober"]
[null,null,null,null,"oktober"]
[null,null,null,null,"oktober"]
[null,null,null,null,"oktober"]
[null,null,null,null,"oktober"]
[null,null,null,null,"oktober"]
[null,null,null,null,"oktober"]
[null,null,null,null,"oktober"]
[null,null,null,null,"oktober"]
[null,null,null,null,"oktober"]
[null,null,null,null,"oktober"]
[null,null,null,null,"oktober"]
[null,null,null,null,"oktober"]
[null,null,null,null,"oktober"]
[null,null,null,null,"oktober"]
[null,null,null,null,"oktober"]
[null,null,null,null,"oktober"]
[null,null,null,null,"oktober"]
[null,null,null,null,"oktober"]
[null,null,null,null,"oktober"]
[null,null,null,null,"oktober"]
[null,null,null,null,"oktober"]
[null,null,null,null,"oktober"]
[null,null,null,null,"oktober"]
[null,null,null,null,"oktober"]
[null,null,null,null,"oktober"]
[null,null,null,null,"oktober"]
[null,null,null,null,"oktober"]
[null,null,null,null,"oktober"]
[null,null,null,null,"oktober"]
[null,null,null,null,"oktober"]
[null,null,null,null,"oktober"]
[null,null,null,null,"oktober"]
[null,null,null,null,"oktober"]
[null,null,null,null,"oktober"]
[null,null,null,null,"oktober"]
[null,null,null,null,"oktober"]
[null,null,null,null,"oktober"]
[null,null,null,null,"oktober"]
[null,null,null,null,"oktober"]
[null,null,null,null,"oktober"]
[null,null,null,null,"oktober"]
[null,null,null,null,"oktober"]
[null,null,null,null,"oktober"]
[null,null,null,null,"oktober"]
[null,null,null,null,"oktober"]
[null,null,null,null,"oktober"]
[null,null,null,null,"oktober"]
[null,null,null,null,"oktober"]
[null,null,null,null,"oktober"]
[null,null,null,null,"oktober"]
[null,null,null,null,"oktober"]
[null,null,null,null,"oktober"]
[null,null,null,null,"oktober"]
[null,null,null,null,"oktober"]
[null,null,null,null,"oktober"]
[null,null,null,null,"oktober"]
[null,null,null,null,"oktober"]
[null,null,null,null,"oktober"]
[null,null,null,null,"oktober"]
[null,null,null,null,"oktober"]
[null,null,null,null,"oktober"]
[null,null,null,null,"oktober"]
[null,null,null,null,"oktober"]
[null,null,null,null,"oktober"]
[null,null,null,null,"oktober"]
[null,null,null,null,"oktober"]
[null,null,null,null,"oktober"]
[null,null,null,null,"oktober"]
[null,null,null,null,"oktober"]
[null,null,null,null,"oktober"]
[null,null,null,null,"oktober"]
[null,null,null,null,"oktober"]
[null,null,null,null,"oktober"]
[null,null,null,null,"oktober"]
[null,null,null,null,"oktober"]
[null,null,null,null,"oktober"]
[null,null,null,null,"oktober"]
[null,null,null,null,"oktober"]
[null,null,null,null,"oktober"]
[null,null,null,null,"oktober"]
[null,null,null,null,"oktober"]
[null,null,null,null,"oktober"]
[null,null,null,null,"oktober"]
[null,null,null,null,"oktober"]
[null,null,null,null,"oktober"]
[null,null,null,null,"oktober"]
[null,null,null,null,"oktober"]
[null,null,null,null,"november"]
[null,null,null,null,"november"]
[null,null,null,null,"november"]
[null,null,null,null,"november"]
[null,null,null,null,"november"]
[null,null,null,null,"november"]
[null,null,null,null,"november"]
[null,null,null,null,"november"]
[null,null,null,null,"november"]
[null,null,null,null,"november"]
[null,null,null,null,"november"]
[null,null,null,null,"november"]
[null,null,null,null,"november"]
[null,null,null,null,"november"]
[null,null,null,null,"november"]
[null,null,null,null,"november"]
[null,null,null,null,"november"]
[null,null,null,null,"november"]
[null,null,null,null,"november"]
[null,null,null,null,"november"]
[null,null,null,null,"november"]
[null,null,null,null,"november"]
[null,null,null,null,"november"]
[null,null,null,null,"november"]
[null,null,null,null,"november"]
[null,null,null,null,"november"]
[null,null,null,null,"november"]
[null,null,null,null,"november"]
[null,null,null,null,"november"]
[null,null,null,null,"november"]
[null,null,null,null,"november"]
[null,null,null,null,"november"]
[null,null,null,null,"november"]
[null,null,null,null,"november"]
[null,null,null,null,"november"]
[null,null,null,null,"november"]
[null,null,null,null,"november"]
[null,null,null,null,"november"]
[null,null,null,null,"november"]
[null,null,null,null,"november"]
[null,null,null,null,"november"]
[null,null,null,null,"november"]
[null,null,null,null,"november"]
[null,null,null,null,"november"]
[null,null,null,null,"november"]
[null,null,null,null,"november"]
[null,null,null,null,"november"]
[null,null,null,null,"november"]
[null,null,null,null,"november"]
[null,null,null,null,"november"]
[null,null,null,null,"november"]
[null,null,null,null,"november"]
[null,null,null,null,"november"]
[null,null,null,null,"november"]
[null,null,null,null,"november"]
[null,null,null,null,"november"]
[null,null,null,null,"november"]
[null,null,null,null,"november"]
[null,null,null,null,"november"]
[null,null,null,null,"november"]
[null,null,null,null,"november"]
[null,null,null,null,"november"]
[null,null,null,null,"november"]
[null,null,null,null,"november"]
[null,null,null,null,"november"]
[null,null,null,null,"november"]
[null,null,null,null,"november"]
[null,null,null,null,"november"]
[null,null,null,null,"november"]
[null,null,null,null,"november"]
[null,null,null,null,"november"]
[null,null,null,null,"november"]
[null,null,null,null,"november"]
[null,null,null,null,"november"]
[null,null,null,null,"november"]
[null,null,null,null,"november"]
[null,null,null,null,"november"]
[null,null,null,null,"november"]
[null,null,null,null,"november"]
[null,null,null,null,"november"]
[null,null,null,null,"november"]
[null,null,null,null,"november"]
[null,null,null,null,"november"]
[null,null,null,null,"november"]
[null,null,null,null,"november"]
[null,null,null,null,"november"]
[null,null,null,null,"november"]
[null,null,null,null,"november"]
[null,null,null,null,"november"]
[null,null,null,null,"november"]
[null,null,null,null,"november"]
[null,null,null,null,"november"]
[null,null,null,null,"november"]
[null,null,null,null,"november"]
[null,null,null,null,"november"]
[null,null,null,null,"november"]
[null,null,null,null,"november"]
[null,null,null,null,"november"]
[null,null,null,null,"november"]
[null,null,null,null,"november"]
[null,null,null,null,"november"]
[null,null,null,null,"november"]
[null,null,null,null,"november"]
[null,null,null,null,"november"]
[null,null,null,null,"november"]
[null,null,null,null,"november"]
[null,null,null,null,"november"]
[null,null,null,null,"november"]
[null,null,null,null,"november"]
[null,null,null,null,"november"]
[null,null,null,null,"november"]
[null,null,null,null,"november"]
[null,null,null,null,"november"]
[null,null,null,null,"november"]
[null,null,null,null,"november"]
[null,null,null,null,"november"]
[null,null,null,null,"november"]
[null,null,null,null,"november"]
[null,null,null,null,"november"]
[null,null,null,null,"november"]
[null,null,null,null,"november"]
[null,null,null,null,"november"]
[null,null,null,null,"november"]
[null,null,null,null,"november"]
[null,null,null,null,"november"]
[null,null,null,null,"november"]
[null,null,null,null,"november"]
[null,null,null,null,"november"]
[null,null,null,null,"november"]
[null,null,null,null,"november"]
[null,null,null,null,"november"]
[null,null,null,null,"november"]
[null,null,null,null,"november"]
[null,null,null,null,"november"]
[null,null,null,null,"november"]
[null,null,null,null,"november"]
[null,null,null,null,"november"]
[null,null,null,null,"november"]
[null,null,null,null,"november"]
[null,null,null,null,"november"]
[null,null,null,null,"november"]
[null,null,null,null,"november"]
[null,null,null,null,"november"]
[null,null,null,null,"november"]
[null,null,null,null,"november"]
[null,null,null,null,"november"]
[null,null,null,null,"november"]
[null,null,null,null,"november"]
[null,null,null,null,"november"]
[null,null,null,null,"november"]
[null,null,null,null,"november"]
[null,null,null,null,"november"]
[null,null,null,null,"november"]
[null,null,null,null,"november"]
[null,null,null,null,"november"]
[null,null,null,null,"november"]
[null,null,null,null,"november"]
[null,null,null,null,"november"]
[null,null,null,null,"november"]
[null,null,null,null,"november"]
[null,null,null,null,"november"]
[null,null,null,null,"november"]
[null,null,null,null,"november"]
[null,null,null,null,"november"]
[null,null,null,null,"november"]
[null,null,null,null,"november"]
[null,null,null,null,"november"]
[null,null,null,null,"november"]
[null,null,null,null,"november"]
[null,null,null,null,"november"]
[null,null,null,null,"november"]
[null,null,null,null,"november"]
[null,null,null,null,"november"]
[null,null,null,null,"november"]
[null,null,null,null,"november"]
[null,null,null,null,"november"]
[null,null,null,null,"november"]
[null,null,null,null,"november"]
[null,null,null,null,"november"]
[null,null,null,null,"november"]
[null,null,null,null,"november"]
[null,null,null,null,"november"]
[null,null,null,null,"november"]
[null,null,null,null,"november"]
[null,null,null,null,"november"]
[null,null,null,null,"november"]
[null,null,null,null,"november"]
[null,null,null,null,"november"]
[null,null,null,null,"november"]
[null,null,null,null,"november"]
[null,null,null,null,"november"]
[null,null,null,null,"november"]
[null,null,null,null,"november"]
[null,null,null,null,"november"]
[null,null,null,null,"november"]
[null,null,null,null,"november"]
[null,null,null,null,"november"]
[null,null,null,null,"november"]
[null,null,null,null,"november"]
[null,null,null,null,"november"]
[null,null,null,null,"november"]
[null,null,null,null,"november"]
[null,null,null,null,"november"]
[null,null,null,null,"november"]
[null,null,null,null,"november"]
[null,null,null,null,"november"]
[null,null,null,null,"november"]
[null,null,null,null,"november"]
[null,null,null,null,"november"]
[null,null,null,null,"november"]
[null,null,null,null,"november"]
[null,null,null,null,"november"]
[null,null,null,null,"november"]
[null,null,null,null,"november"]
[null,null,null,null,"november"]
[null,null,null,null,"november"]
[null,null,null,null,"november"]
[null,null,null,null,"november"]
[null,null,null,null,"november"]
[null,null,null,null,"november"]
[null,null,null,null,"november"]
[null,null,null,null,"november"]
[null,null,null,null,"november"]
[null,null,null,null,"november"]
[null,null,null,null,"november"]
[null,null,null,null,"november"]
[null,null,null,null,"november"]
[null,null,null,null,"november"]
[null,null,null,null,"november"]
[null,null,null,null,"november"]
[null,null,null,null,"november"]
[null,null,null,null,"november"]
[null,null,null,null,"november"]
[null,null,null,null,"november"]
[null,null,null,null,"november"]
[null,null,null,null,"november"]
[null,null,null,null,"november"]
[null,null,null,null,"november"]
[null,null,null,null,"november"]
[null,null,null,null,"november"]
[null,null,null,null,"november"]
[null,null,null,null,"november"]
[null,null,null,null,"november"]
[null,null,null,null,"november"]
[null,null,null,null,"november"]
[null,null,null,null,"november"]
[null,null,null,null,"november"]
[null,null,null,null,"november"]
[null,null,null,null,"november"]
[null,null,null,null,"november"]
[null,null,null,null,"november"]
[null,null,null,null,"november"]
[null,null,null,null,"november"]
[null,null,null,null,"november"]
[null,null,null,null,"november"]
[null,null,null,null,"november"]
[null,null,null,null,"november"]
[null,null,null,null,"november"]
[null,null,null,null,"november"]
[null,null,null,null,"november"]
[null,null,null,null,"november"]
[null,null,null,null,"november"]
[null,null,null,null,"november"]
[null,null,null,null,"november"]
[null,null,null,null,"november"]
[null,null,null,null,"november"]
[null,null,null,null,"november"]
[null,null,null,null,"november"]
[null,null,null,null,"november"]
[null,null,null,null,"november"]
[null,null,null,null,"november"]
[null,null,null,null,"november"]
[null,null,null,null,"november"]
[null,null,null,null,"november"]
[null,null,null,null,"november"]
[null,null,null,null,"november"]
[null,null,null,null,"november"]
[null,null,null,null,"november"]
[null,null,null,null,"november"]
[null,null,null,null,"november"]
[null,null,null,null,"november"]
[null,null,null,null,"november"]
[null,null,null,null,"november"]
[null,null,null,null,"november"]
[null,null,null,null,"november"]
[null,null,null,null,"november"]
[null,null,null,null,"november"]
[null,null,null,null,"november"]
[null,null,null,null,"november"]
[null,null,null,null,"november"]
[null,null,null,null,"november"]
[null,null,null,null,"november"]
[null,null,null,null,"november"]
[null,null,null,null,"november"]
[null,null,null,null,"november"]
[null,null,null,null,"november"]
[null,null,null,null,"november"]
[null,null,null,null,"november"]
[null,null,null,null,"november"]
[null,null,null,null,"november"]
[null,null,null,null,"november"]
[null,null,null,null,"november"]
[null,null,null,null,"november"]
[null,null,null,null,"november"]
[null,null,null,null,"november"]
[null,null,null,null,"november"]
[null,null,null,null,"november"]
[null,null,null,null,"november"]
[null,null,null,null,"november"]
[null,null,null,null,"november"]
[null,null,null,null,"november"]
[null,null,null,null,"november"]
[null,null,null,null,"november"]
[null,null,null,null,"november"]
[null,null,null,null,"november"]
[null,null,null,null,"november"]
[null,null,null,null,"november"]
[null,null,null,null,"november"]
[null,null,null,null,"november"]
[null,null,null,null,"november"]
[null,null,null,null,"november"]
[null,null,null,null,"november"]
[null,null,null,null,"november"]
[null,null,null,null,"november"]
[null,null,null,null,"november"]
[null,null,null,null,"november"]
[null,null,null,null,"november"]
[null,null,null,null,"november"]
[null,null,null,null,"november"]
[null,null,null,null,"november"]
[null,null,null,null,"november"]
[null,null,null,null,"november"]
[null,null,null,null,"november"]
[null,null,null,null,"november"]
[null,null,null,null,"november"]
[null,null,null,null,"november"]
[null,null,null,null,"november"]
[null,null,null,null,"november"]
[null,null,null,null,"november"]
[null,null,null,null,"november"]
[null,null,null,null,"november"]
[null,null,null,null,"november"]
[null,null,null,null,"november"]
[null,null,null,null,"november"]
[null,null,null,null,"november"]
[null,null,null,null,"november"]
[null,null,null,null,"november"]
[null,null,null,null,"november"]
[null,null,null,null,"november"]
[null,null,null,null,"november"]
[null,null,null,null,"november"]
[null,null,null,null,"november"]
[null,null,null,null,"november"]
[null,null,null,null,"november"]
[null,null,null,null,"november"]
[null,null,null,null,"november"]
[null,null,null,null,"november"]
[null,null,null,null,"november"]
[null,null,null,null,"november"]
[null,null,null,null,"november"]
[null,null,null,null,"november"]
[null,null,null,null,"november"]
[null,null,null,null,"november"]
[null,null,null,null,"november"]
[null,null,null,null,"november"]
[null,null,null,null,"november"]
[null,null,null,null,"november"]
[null,null,null,null,"november"]
[null,null,null,null,"november"]
[null,null,null,null,"november"]
[null,null,null,null,"november"]
[null,null,null,null,"november"]
[null,null,null,null,"november"]
[null,null,null,null,"november"]
[null,null,null,null,"november"]
[null,null,null,null,"november"]
[null,null,null,null,"november"]
[null,null,null,null,"november"]
[null,null,null,null,"november"]
[null,null,null,null,"november"]
[null,null,null,null,"november"]
[null,null,null,null,"november"]
[null,null,null,null,"november"]
[null,null,null,null,"november"]
[null,null,null,null,"november"]
[null,null,null,null,"november"]
[null,null,null,null,"november"]
[null,null,null,null,"november"]
[null,null,null,null,"november"]
[null,null,null,null,"november"]
[null,null,null,null,"november"]
[null,null,null,null,"november"]
[null,null,null,null,"november"]
[null,null,null,null,"november"]
[null,null,null,null,"november"]
[null,null,null,null,"november"]
[null,null,null,null,"november"]
[null,null,null,null,"november"]
[null,null,null,null,"november"]
[null,null,null,null,"november"]
[null,null,null,null,"november"]
[null,null,null,null,"november"]
[null,null,null,null,"november"]
[null,null,null,null,"november"]
[null,null,null,null,"november"]
[null,null,null,null,"november"]
[null,null,null,null,"november"]
[null,null,null,null,"november"]
[null,null,null,null,"november"]
[null,null,null,null,"november"]
[null,null,null,null,"november"]
[null,null,null,null,"november"]
[null,null,null,null,"november"]
[null,null,null,null,"november"]
[null,null,null,null,"november"]
[null,null,null,null,"november"]
[null,null,null,null,"november"]
[null,null,null,null,"november"]
[null,null,null,null,"november"]
[null,null,null,null,"november"]
[null,null,null,null,"november"]
[null,null,null,null,"november"]
[null,null,null,null,"november"]
[null,null,null,null,"november"]
[null,null,null,null,"november"]
[null,null,null,null,"november"]
[null,null,null,null,"november"]
[null,null,null,null,"november"]
[null,null,null,null,"november"]
[null,null,null,null,"november"]
[null,null,null,null,"november"]
[null,null,null,null,"november"]
[null,null,null,null,"november"]
[null,null,null,null,"november"]
[null,null,null,null,"november"]
[null,null,null,null,"november"]
[null,null,null,null,"november"]
[null,null,null,null,"november"]
[null,null,null,null,"november"]
[null,null,null,null,"november"]
[null,null,null,null,"november"]
[null,null,null,null,"november"]
[null,null,null,null,"november"]
[null,null,null,null,"november"]
[null,null,null,null,"november"]
[null,null,null,null,"november"]
[null,null,null,null,"november"]
[null,null,null,null,"november"]
[null,null,null,null,"november"]
[null,null,null,null,"november"]
[null,null,null,null,"november"]
[null,null,null,null,"november"]
[null,null,null,null,"november"]
[null,null,null,null,"november"]
[null,null,null,null,"november"]
[null,null,null,null,"november"]
[null,null,null,null,"november"]
[null,null,null,null,"november"]
[null,null,null,null,"november"]
[null,null,null,null,"november"]
[null,null,null,null,"november"]
[null,null,null,null,"november"]
[null,null,null,null,"november"]
[null,null,null,null,"november"]
[null,null,null,null,"november"]
[null,null,null,null,"november"]
[null,null,null,null,"november"]
[null,null,null,null,"november"]
[null,null,null,null,"november"]
[null,null,null,null,"november"]
[null,null,null,null,"november"]
[null,null,null,null,"november"]
[null,null,null,null,"november"]
[null,null,null,null,"november"]
[null,null,null,null,"november"]
[null,null,null,null,"november"]
[null,null,null,null,"november"]
[null,null,null,null,"november"]
[null,null,null,null,"november"]
[null,null,null,null,"november"]
[null,null,null,null,"november"]
[null,null,null,null,"november"]
[null,null,null,null,"november"]
[null,null,null,null,"november"]
[null,null,null,null,"november"]
[null,null,null,null,"november"]
[null,null,null,null,"november"]
[null,null,null,null,"november"]
[null,null,null,null,"november"]
[null,null,null,null,"november"]
[null,null,null,null,"november"]
[null,null,null,null,"november"]
[null,null,null,null,"november"]
[null,null,null,null,"november"]
[null,null,null,null,"november"]
[null,null,null,null,"november"]
[null,null,null,null,"november"]
[null,null,null,null,"november"]
[null,null,null,null,"november"]
[null,null,null,null,"november"]
[null,null,null,null,"november"]
[null,null,null,null,"november"]
[null,null,null,null,"november"]
[null,null,null,null,"november"]
[null,null,null,null,"november"]
[null,null,null,null,"november"]
[null,null,null,null,"november"]
[null,null,null,null,"november"]
[null,null,null,null,"november"]
[null,null,null,null,"november"]
[null,null,null,null,"november"]
[null,null,null,null,"november"]
[null,null,null,null,"november"]
[null,null,null,null,"november"]
[null,null,null,null,"november"]
[null,null,null,null,"november"]
[null,null,null,null,"november"]
[null,null,null,null,"november"]
[null,null,null,null,"november"]
[null,null,null,null,"november"]
[null,null,null,null,"november"]
[null,null,null,null,"november"]
[null,null,null,null,"november"]
[null,null,null,null,"november"]
[null,null,null,null,"november"]
[null,null,null,null,"november"]
[null,null,null,null,"november"]
[null,null,null,null,"november"]
[null,null,null,null,"november"]
[null,null,null,null,"november"]
[null,null,null,null,"november"]
[null,null,null,null,"november"]
[null,null,null,null,"november"]
[null,null,null,null,"november"]
[null,null,null,null,"november"]
[null,null,null,null,"november"]
[null,null,null,null,"november"]
[null,null,null,null,"november"]
[null,null,null,null,"november"]
[null,null,null,null,"november"]
[null,null,null,null,"november"]
[null,null,null,null,"november"]
[null,null,null,null,"november"]
[null,null,null,null,"november"]
[null,null,null,null,"november"]
[null,null,null,null,"november"]
[null,null,null,null,"november"]
[null,null,null,null,"november"]
[null,null,null,null,"november"]
[null,null,null,null,"november"]
[null,null,null,null,"november"]
[null,null,null,null,"november"]
[null,null,null,null,"november"]
[null,null,null,null,"november"]
[null,null,null,null,"november"]
[null,null,null,null,"november"]
[null,null,null,null,"november"]
[null,null,null,null,"november"]
[null,null,null,null,"november"]
[null,null,null,null,"november"]
[null,null,null,null,"november"]
[null,null,null,null,"november"]
[null,null,null,null,"november"]
[null,null,null,null,"november"]
[null,null,null,null,"november"]
[null,null,null,null,"november"]
[null,null,null,null,"november"]
[null,null,null,null,"november"]
[null,null,null,null,"november"]
[null,null,null,null,"november"]
[null,null,null,null,"november"]
[null,null,null,null,"november"]
[null,null,null,null,"november"]
[null,null,null,null,"november"]
[null,null,null,null,"november"]
[null,null,null,null,"november"]
[null,null,null,null,"november"]
[null,null,null,null,"november"]
[null,null,null,null,"november"]
[null,null,null,null,"november"]
[null,null,null,null,"november"]
[null,null,null,null,"november"]
[null,null,null,null,"november"]
[null,null,null,null,"november"]
[null,null,null,null,"november"]
[null,null,null,null,"november"]
[null,null,null,null,"november"]
[null,null,null,null,"november"]
[null,null,null,null,"november"]
[null,null,null,null,"november"]
[null,null,null,null,"november"]
[null,null,null,null,"november"]
[null,null,null,null,"november"]
[null,null,null,null,"november"]
[null,null,null,null,"november"]
[null,null,null,null,"november"]
[null,null,null,null,"november"]
[null,null,null,null,"november"]
[null,null,null,null,"november"]
[null,null,null,null,"november"]
[null,null,null,null,"november"]
[null,null,null,null,"november"]
[null,null,null,null,"november"]
[null,null,null,null,"november"]
[null,null,null,null,"november"]
[null,null,null,null,"november"]
[null,null,null,null,"november"]
[null,null,null,null,"november"]
[null,null,null,null,"november"]
[null,null,null,null,"november"]
[null,null,null,null,"november"]
[null,null,null,null,"november"]
[null,null,null,null,"november"]
[null,null,null,null,"november"]
[null,null,null,null,"november"]
[null,null,null,null,"november"]
[null,null,null,null,"november"]
[null,null,null,null,"november"]
[null,null,null,null,"november"]
[null,null,null,null,"november"]
[null,null,null,null,"november"]
[null,null,null,null,"november"]
[null,null,null,null,"november"]
[null,null,null,null,"november"]
[null,null,null,null,"november"]
[null,null,null,null,"november"]
[null,null,null,null,"november"]
[null,null,null,null,"november"]
[null,null,null,null,"november"]
[null,null,null,null,"november"]
[null,null,null,null,"november"]
[null,null,null,null,"november"]
[null,null,null,null,"november"]
[null,null,null,null,"november"]
[null,null,null,null,"november"]
[null,null,null,null,"november"]
[null,null,null,null,"november"]
[null,null,null,null,"november"]
[null,null,null,null,"november"]
[null,null,null,null,"november"]
[null,null,null,null,"november"]
[null,null,null,null,"november"]
[null,null,null,null,"november"]
[null,null,null,null,"november"]
[null,null,null,null,"november"]
[null,null,null,null,"november"]
[null,null,null,null,"november"]
[null,null,null,null,"november"]
[null,null,null,null,"november"]
[null,null,null,null,"november"]
[null,null,null,null,"november"]
[null,null,null,null,"november"]
[null,null,null,null,"november"]
[null,null,null,null,"november"]
[null,null,null,null,"november"]
[null,null,null,null,"november"]
[null,null,null,null,"november"]
[null,null,null,null,"november"]
[null,null,null,null,"november"]
[null,null,null,null,"november"]
[null,null,null,null,"november"]
[null,null,null,null,"november"]
[null,null,null,null,"november"]
[null,null,null,null,"november"]
[null,null,null,null,"november"]
[null,null,null,null,"november"]
[null,null,null,null,"november"]
[null,null,null,null,"november"]
[null,null,null,null,"november"]
[null,null,null,null,"november"]
[null,null,null,null,"november"]
[null,null,null,null,"november"]
[null,null,null,null,"november"]
[null,null,null,null,"november"]
[null,null,null,null,"november"]
[null,null,null,null,"november"]
[null,null,null,null,"november"]
[null,null,null,null,"november"]
[null,null,null,null,"november"]
[null,null,null,null,"november"]
[null,null,null,null,"november"]
[null,null,null,null,"november"]
[null,null,null,null,"november"]
[null,null,null,null,"november"]
[null,null,null,null,"november"]
[null,null,null,null,"november"]
[null,null,null,null,"november"]
[null,null,null,null,"november"]
[null,null,null,null,"november"]
[null,null,null,null,"november"]
[null,null,null,null,"november"]
[null,null,null,null,"november"]
[null,null,null,null,"november"]
[null,null,null,null,"november"]
[null,null,null,null,"november"]
[null,null,null,null,"november"]
[null,null,null,null,"november"]
[null,null,null,null,"november"]
[null,null,null,null,"november"]
[null,null,null,null,"november"]
[null,null,null,null,"november"]
[null,null,null,null,"november"]
[null,null,null,null,"november"]
[null,null,null,null,"november"]
[null,null,null,null,"november"]
[null,null,null,null,"november"]
[null,null,null,null,"november"]
[null,null,null,null,"november"]
[null,null,null,null,"november"]
[null,null,null,null,"november"]
[null,null,null,null,"november"]
[null,null,null,null,"november"]
[null,null,null,null,"november"]
[null,null,null,null,"november"]
[null,null,null,null,"november"]
[null,null,null,null,"november"]
[null,null,null,null,"november"]
[null,null,null,null,"november"]
[null,null,null,null,"november"]
[null,null,null,null,"november"]
[null,null,null,null,"december"]
[null,null,null,null,"december"]
[null,null,null,null,"december"]
[null,null,null,null,"december"]
[null,null,null,null,"december"]
[null,null,null,null,"december"]
[null,null,null,null,"december"]
[null,null,null,null,"december"]
[null,null,null,null,"december"]
[null,null,null,null,"december"]
[null,null,null,null,"december"]
[null,null,null,null,"december"]
[null,null,null,null,"december"]
[null,null,null,null,"december"]
[null,null,null,null,"december"]
[null,null,null,null,"december"]
[null,null,null,null,"december"]
[null,null,null,null,"december"]
[null,null,null,null,"december"]
[null,null,null,null,"december"]
[null,null,null,null,"december"]
[null,null,null,null,"december"]
[null,null,null,null,"december"]
[null,null,null,null,"december"]
[null,null,null,null,"december"]
[null,null,null,null,"december"]
[null,null,null,null,"december"]
[null,null,null,null,"december"]
[null,null,null,null,"december"]
[null,null,null,null,"december"]
[null,null,null,null,"december"]
[null,null,null,null,"december"]
[null,null,null,null,"december"]
[null,null,null,null,"december"]
[null,null,null,null,"december"]
[null,null,null,null,"december"]
[null,null,null,null,"december"]
[null,null,null,null,"december"]
[null,null,null,null,"december"]
[null,null,null,null,"december"]
[null,null,null,null,"december"]
[null,null,null,null,"december"]
[null,null,null,null,"december"]
[null,null,null,null,"december"]
[null,null,null,null,"december"]
[null,null,null,null,"december"]
[null,null,null,null,"december"]
[null,null,null,null,"december"]
[null,null,null,null,"december"]
[null,null,null,null,"december"]
[null,null,null,null,"december"]
[null,null,null,null,"december"]
[null,null,null,null,"december"]
[null,null,null,null,"december"]
[null,null,null,null,"december"]
[null,null,null,null,"december"]
[null,null,null,null,"december"]
[null,null,null,null,"december"]
[null,null,null,null,"december"]
[null,null,null,null,"december"]
[null,null,null,null,"december"]
[null,null,null,null,"december"]
[null,null,null,null,"december"]
[null,null,null,null,"december"]
[null,null,null,null,"december"]
[null,null,null,null,"december"]
[null,null,null,null,"december"]
[null,null,null,null,"december"]
[null,null,null,null,"december"]
[null,null,null,null,"december"]
[null,null,null,null,"december"]
[null,null,null,null,"december"]
[null,null,null,null,"december"]
[null,null,null,null,"december"]
[null,null,null,null,"december"]
[null,null,null,null,"december"]
[null,null,null,null,"december"]
[null,null,null,null,"december"]
[null,null,null,null,"december"]
[null,null,null,null,"december"]
[null,null,null,null,"december"]
[null,null,null,null,"december"]
[null,null,null,null,"december"]
[null,null,null,null,"december"]
[null,null,null,null,"december"]
[null,null,null,null,"december"]
[null,null,null,null,"december"]
[null,null,null,null,"december"]
[null,null,null,null,"december"]
[null,null,null,null,"december"]
[null,null,null,null,"december"]
[null,null,null,null,"december"]
[null,null,null,null,"december"]
[null,null,null,null,"december"]
[null,null,null,null,"december"]
[null,null,null,null,"december"]
[null,null,null,null,"december"]
[null,null,null,null,"december"]
[null,null,null,null,"december"]
[null,null,null,null,"december"]
[null,null,null,null,"december"]
[null,null,null,null,"december"]
[null,null,null,null,"december"]
[null,null,null,null,"december"]
[null,null,null,null,"december"]
[null,null,null,null,"december"]
[null,null,null,null,"december"]
[null,null,null,null,"december"]
[null,null,null,null,"december"]
[null,null,null,null,"december"]
[null,null,null,null,"december"]
[null,null,null,null,"december"]
[null,null,null,null,"december"]
[null,null,null,null,"december"]
[null,null,null,null,"december"]
[null,null,null,null,"december"]
[null,null,null,null,"december"]
[null,null,null,null,"december"]
[null,null,null,null,"december"]
[null,null,null,null,"december"]
[null,null,null,null,"december"]
[null,null,null,null,"december"]
[null,null,null,null,"december"]
[null,null,null,null,"december"]
[null,null,null,null,"december"]
[null,null,null,null,"december"]
[null,null,null,null,"december"]
[null,null,null,null,"december"]
[null,null,null,null,"december"]
[null,null,null,null,"december"]
[null,null,null,null,"december"]
[null,null,null,null,"december"]
[null,null,null,null,"december"]
[null,null,null,null,"december"]
[null,null,null,null,"december"]
[null,null,null,null,"december"]
[null,null,null,null,"december"]
[null,null,null,null,"december"]
[null,null,null,null,"december"]
[null,null,null,null,"december"]
[null,null,null,null,"december"]
[null,null,null,null,"december"]
[null,null,null,null,"december"]
[null,null,null,null,"december"]
[null,null,null,null,"december"]
[null,null,null,null,"december"]
[null,null,null,null,"december"]
[null,null,null,null,"december"]
[null,null,null,null,"december"]
[null,null,null,null,"december"]
[null,null,null,null,"december"]
[null,null,null,null,"december"]
[null,null,null,null,"december"]
[null,null,null,null,"december"]
[null,null,null,null,"december"]
[null,null,null,null,"december"]
[null,null,null,null,"december"]
[null,null,null,null,"december"]
[null,null,null,null,"december"]
[null,null,null,null,"december"]
[null,null,null,null,"december"]
[null,null,null,null,"december"]
[null,null,null,null,"december"]
[null,null,null,null,"december"]
[null,null,null,null,"december"]
[null,null,null,null,"december"]
[null,null,null,null,"december"]
[null,null,null,null,"december"]
[null,null,null,null,"december"]
[null,null,null,null,"december"]
[null,null,null,null,"december"]
[null,null,null,null,"december"]
[null,null,null,null,"december"]
[null,null,null,null,"december"]
[null,null,null,null,"december"]
[null,null,null,null,"december"]
[null,null,null,null,"december"]
[null,null,null,null,"december"]
[null,null,null,null,"december"]
[null,null,null,null,"december"]
[null,null,null,null,"december"]
[null,null,null,null,"december"]
[null,null,null,null,"december"]
[null,null,null,null,"december"]
[null,null,null,null,"december"]
[null,null,null,null,"december"]
[null,null,null,null,"december"]
[null,null,null,null,"december"]
[null,null,null,null,"december"]
[null,null,null,null,"december"]
[null,null,null,null,"december"]
[null,null,null,null,"december"]
[null,null,null,null,"december"]
[null,null,null,null,"december"]
[null,null,null,null,"december"]
[null,null,null,null,"december"]
[null,null,null,null,"december"]
[null,null,null,null,"december"]
[null,null,null,null,"december"]
[null,null,null,null,"december"]
[null,null,null,null,"december"]
[null,null,null,null,"december"]
[null,null,null,null,"december"]
[null,null,null,null,"december"]
[null,null,null,null,"december"]
[null,null,null,null,"december"]
[null,null,null,null,"december"]
[null,null,null,null,"december"]
[null,null,null,null,"december"]
[null,null,null,null,"december"]
[null,null,null,null,"december"]
[null,null,null,null,"december"]
[null,null,null,null,"december"]
[null,null,null,null,"december"]
[null,null,null,null,"december"]
[null,null,null,null,"december"]
[null,null,null,null,"december"]
[null,null,null,null,"december"]
[null,null,null,null,"december"]
[null,null,null,null,"december"]
[null,null,null,null,"december"]
[null,null,null,null,"december"]
[null,null,null,null,"december"]
[null,null,null,null,"december"]
[null,null,null,null,"december"]
[null,null,null,null,"december"]
[null,null,null,null,"december"]
[null,null,null,null,"december"]
[null,null,null,null,"december"]
[null,null,null,null,"december"]
[null,null,null,null,"december"]
[null,null,null,null,"december"]
[null,null,null,null,"december"]
[null,null,null,null,"december"]
[null,null,null,null,"december"]
[null,null,null,null,"december"]
[null,null,null,null,"december"]
[null,null,null,null,"december"]
[null,null,null,null,"december"]
[null,null,null,null,"december"]
[null,null,null,null,"december"]
[null,null,null,null,"december"]
[null,null,null,null,"december"]
[null,null,null,null,"december"]
[null,null,null,null,"december"]
[null,null,null,null,"december"]
[null,null,null,null,"december"]
[null,null,null,null,"december"]
[null,null,null,null,"december"]
[null,null,null,null,"december"]
[null,null,null,null,"december"]
[null,null,null,null,"december"]
[null,null,null,null,"december"]
[null,null,null,null,"december"]
[null,null,null,null,"december"]
[null,null,null,null,"december"]
[null,null,null,null,"december"]
[null,null,null,null,"december"]
[null,null,null,null,"december"]
[null,null,null,null,"december"]
[null,null,null,null,"december"]
[null,null,null,null,"december"]
[null,null,null,null,"december"]
[null,null,null,null,"december"]
[null,null,null,null,"december"]
[null,null,null,null,"december"]
[null,null,null,null,"december"]
[null,null,null,null,"december"]
[null,null,null,null,"december"]
[null,null,null,null,"december"]
[null,null,null,null,"december"]
[null,null,null,null,"december"]
[null,null,null,null,"december"]
[null,null,null,null,"december"]
[null,null,null,null,"december"]
[null,null,null,null,"december"]
[null,null,null,null,"december"]
[null,null,null,null,"december"]
[null,null,null,null,"december"]
[null,null,null,null,"december"]
[null,null,null,null,"december"]
[null,null,null,null,"december"]
[null,null,null,null,"december"]
[null,null,null,null,"december"]
[null,null,null,null,"december"]
[null,null,null,null,"december"]
[null,null,null,null,"december"]
[null,null,null,null,"december"]
[null,null,null,null,"december"]
[null,null,null,null,"december"]
[null,null,null,null,"december"]
[null,null,null,null,"december"]
[null,null,null,null,"december"]
[null,null,null,null,"december"]
[null,null,null,null,"december"]
[null,null,null,null,"december"]
[null,null,null,null,"december"]
[null,null,null,null,"december"]
[null,null,null,null,"december"]
[null,null,null,null,"december"]
[null,null,null,null,"december"]
[null,null,null,null,"december"]
[null,null,null,null,"december"]
[null,null,null,null,"december"]
[null,null,null,null,"december"]
[null,null,null,null,"december"]
[null,null,null,null,"december"]
[null,null,null,null,"december"]
[null,null,null,null,"december"]
[null,null,null,null,"december"]
[null,null,null,null,"december"]
[null,null,null,null,"december"]
[null,null,null,null,"december"]
[null,null,null,null,"december"]
[null,null,null,null,"december"]
[null,null,null,null,"december"]
[null,null,null,null,"december"]
[null,null,null,null,"december"]
[null,null,null,null,"december"]
[null,null,null,null,"december"]
[null,null,null,null,"december"]
[null,null,null,null,"december"]
[null,null,null,null,"december"]
[null,null,null,null,"december"]
[null,null,null,null,"december"]
[null,null,null,null,"december"]
[null,null,null,null,"december"]
[null,null,null,null,"december"]
[null,null,null,null,"december"]
[null,null,null,null,"december"]
[null,null,null,null,"december"]
[null,null,null,null,"december"]
[null,null,null,null,"december"]
[null,null,null,null,"december"]
[null,null,null,null,"december"]
[null,null,null,null,"december"]
[null,null,null,null,"december"]
[null,null,null,null,"december"]
[null,null,null,null,"december"]
[null,null,null,null,"december"]
[null,null,null,null,"december"]
[null,null,null,null,"december"]
[null,null,null,null,"december"]
[null,null,null,null,"december"]
[null,null,null,null,"december"]
[null,null,null,null,"december"]
[null,null,null,null,"december"]
[null,null,null,null,"december"]
[null,null,null,null,"december"]
[null,null,null,null,"december"]
[null,null,null,null,"december"]
[null,null,null,null,"december"]
[null,null,null,null,"december"]
[null,null,null,null,"december"]
[null,null,null,null,"december"]
[null,null,null,null,"december"]
[null,null,null,null,"december"]
[null,null,null,null,"december"]
[null,null,null,null,"december"]
[null,null,null,null,"december"]
[null,null,null,null,"december"]
[null,null,null,null,"december"]
[null,null,null,null,"december"]
[null,null,null,null,"december"]
[null,null,null,null,"december"]
[null,null,null,null,"december"]
[null,null,null,null,"december"]
[null,null,null,null,"december"]
[null,null,null,null,"december"]
[null,null,null,null,"december"]
[null,null,null,null,"december"]
[null,null,null,null,"december"]
[null,null,null,null,"december"]
[null,null,null,null,"december"]
[null,null,null,null,"december"]
[null,null,null,null,"december"]
[null,null,null,null,"december"]
[null,null,null,null,"december"]
[null,null,null,null,"december"]
[null,null,null,null,"december"]
[null,null,null,null,"december"]
[null,null,null,null,"december"]
[null,null,null,null,"december"]
[null,null,null,null,"december"]
[null,null,null,null,"december"]
[null,null,null,null,"december"]
[null,null,null,null,"december"]
[null,null,null,null,"december"]
[null,null,null,null,"december"]
[null,null,null,null,"december"]
[null,null,null,null,"december"]
[null,null,null,null,"december"]
[null,null,null,null,"december"]
[null,null,null,null,"december"]
[null,null,null,null,"december"]
[null,null,null,null,"december"]
[null,null,null,null,"december"]
[null,null,null,null,"december"]
[null,null,null,null,"december"]
[null,null,null,null,"december"]
[null,null,null,null,"december"]
[null,null,null,null,"december"]
[null,null,null,null,"december"]
[null,null,null,null,"december"]
[null,null,null,null,"december"]
[null,null,null,null,"december"]
[null,null,null,null,"december"]
[null,null,null,null,"december"]
[null,null,null,null,"december"]
[null,null,null,null,"december"]
[null,null,null,null,"december"]
[null,null,null,null,"december"]
[null,null,null,null,"december"]
[null,null,null,null,"december"]
[null,null,null,null,"december"]
[null,null,null,null,"december"]
[null,null,null,null,"december"]
[null,null,null,null,"december"]
[null,null,null,null,"december"]
[null,null,null,null,"december"]
[null,null,null,null,"december"]
[null,null,null,null,"december"]
[null,null,null,null,"december"]
[null,null,null,null,"december"]
[null,null,null,null,"december"]
[null,null,null,null,"december"]
[null,null,null,null,"december"]
[null,null,null,null,"december"]
[null,null,null,null,"december"]
[null,null,null,null,"december"]
[null,null,null,null,"december"]
[null,null,null,null,"december"]
[null,null,null,null,"december"]
[null,null,null,null,"december"]
[null,null,null,null,"december"]
[null,null,null,null,"december"]
[null,null,null,null,"december"]
[null,null,null,null,"december"]
[null,null,null,null,"december"]
[null,null,null,null,"december"]
[null,null,null,null,"december"]
[null,null,null,null,"december"]
[null,null,null,null,"december"]
[null,null,null,null,"december"]
[null,null,null,null,"december"]
[null,null,null,null,"december"]
[null,null,null,null,"december"]
[null,null,null,null,"december"]
[null,null,null,null,"december"]
[null,null,null,null,"december"]
[null,null,null,null,"december"]
[null,null,null,null,"december"]
[null,null,null,null,"december"]
[null,null,null,null,"december"]
[null,null,null,null,"december"]
[null,null,null,null,"december"]
[null,null,null,null,"december"]
[null,null,null,null,"december"]
[null,null,null,null,"december"]
[null,null,null,null,"december"]
[null,null,null,null,"december"]
[null,null,null,null,"december"]
[null,null,null,null,"december"]
[null,null,null,null,"december"]
[null,null,null,null,"december"]
[null,null,null,null,"december"]
[null,null,null,null,"december"]
[null,null,null,null,"december"]
[null,null,null,null,"december"]
[null,null,null,null,"december"]
[null,null,null,null,"december"]
[null,null,null,null,"december"]
[null,null,null,null,"december"]
[null,null,null,null,"december"]
[null,null,null,null,"december"]
[null,null,null,null,"december"]
[null,null,null,null,"december"]
[null,null,null,null,"december"]
[null,null,null,null,"december"]
[null,null,null,null,"december"]
[null,null,null,null,"december"]
[null,null,null,null,"december"]
[null,null,null,null,"december"]
[null,null,null,null,"december"]
[null,null,null,null,"december"]
[null,null,null,null,"december"]
[null,null,null,null,"december"]
[null,null,null,null,"december"]
[null,null,null,null,"december"]
[null,null,null,null,"december"]
[null,null,null,null,"december"]
[null,null,null,null,"december"]
[null,null,null,null,"december"]
[null,null,null,null,"december"]
[null,null,null,null,"december"]
[null,null,null,null,"december"]
[null,null,null,null,"december"]
[null,null,null,null,"december"]
[null,null,null,null,"december"]
[null,null,null,null,"december"]
[null,null,null,null,"december"]
[null,null,null,null,"december"]
[null,null,null,null,"december"]
[null,null,null,null,"december"]
[null,null,null,null,"december"]
[null,null,null,null,"december"]
[null,null,null,null,"december"]
[null,null,null,null,"december"]
[null,null,null,null,"december"]
[null,null,null,null,"december"]
[null,null,null,null,"december"]
[null,null,null,null,"december"]
[null,null,null,null,"december"]
[null,null,null,null,"december"]
[null,null,null,null,"december"]
[null,null,null,null,"december"]
[null,null,null,null,"december"]
[null,null,null,null,"december"]
[null,null,null,null,"december"]
[null,null,null,null,"december"]
[null,null,null,null,"december"]
[null,null,null,null,"december"]
[null,null,null,null,"december"]
[null,null,null,null,"december"]
[null,null,null,null,"december"]
[null,null,null,null,"december"]
[null,null,null,null,"december"]
[null,null,null,null,"december"]
[null,null,null,null,"december"]
[null,null,null,null,"december"]
[null,null,null,null,"december"]
[null,null,null,null,"december"]
[null,null,null,null,"december"]
[null,null,null,null,"december"]
[null,null,null,null,"december"]
[null,null,null,null,"december"]
[null,null,null,null,"december"]
[null,null,null,null,"december"]
[null,null,null,null,"december"]
[null,null,null,null,"december"]
[null,null,null,null,"december"]
[null,null,null,null,"december"]
[null,null,null,null,"december"]
[null,null,null,null,"december"]
[null,null,null,null,"december"]
[null,null,null,null,"december"]
[null,null,null,null,"december"]
[null,null,null,null,"december"]
[null,null,null,null,"december"]
[null,null,null,null,"december"]
[null,null,null,null,"december"]
[null,null,null,null,"december"]
[null,null,null,null,"december"]
[null,null,null,null,"december"]
[null,null,null,null,"december"]
[null,null,null,null,"december"]
[null,null,null,null,"december"]
[null,null,null,null,"december"]
[null,null,null,null,"december"]
[null,null,null,null,"december"]
[null,null,null,null,"december"]
[null,null,null,null,"december"]
[null,null,null,null,"december"]
[null,null,null,null,"december"]
[null,null,null,null,"december"]
[null,null,null,null,"december"]
[null,null,null,null,"december"]
[null,null,null,null,"december"]
[null,null,null,null,"december"]
[null,null,null,null,"december"]
[null,null,null,null,"december"]
[null,null,null,null,"december"]
[null,null,null,null,"december"]
[null,null,null,null,"december"]
[null,null,null,null,"december"]
[null,null,null,null,"december"]
[null,null,null,null,"december"]
[null,null,null,null,"december"]
[null,null,null,null,"december"]
[null,null,null,null,"december"]
[null,null,null,null,"december"]
[null,null,null,null,"december"]
[null,null,null,null,"december"]
[null,null,null,null,"december"]
[null,null,null,null,"december"]
[null,null,null,null,"december"]
[null,null,null,null,"december"]
[null,null,null,null,"december"]
[null,null,null,null,"december"]
[null,null,null,null,"december"]
[null,null,null,null,"december"]
[null,null,null,null,"december"]
[null,null,null,null,"december"]
[null,null,null,null,"december"]
[null,null,null,null,"december"]
[null,null,null,null,"december"]
[null,null,null,null,"december"]
[null,null,null,null,"december"]
[null,null,null,null,"december"]
[null,null,null,null,"december"]
[null,null,null,null,"december"]
[null,null,null,null,"december"]
[null,null,null,null,"december"]
[null,null,null,null,"december"]
[null,null,null,null,"december"]
[null,null,null,null,"december"]
[null,null,null,null,"december"]
[null,null,null,null,"december"]
[null,null,null,null,"december"]
[null,null,null,null,"december"]
[null,null,null,null,"december"]
[null,null,null,null,"december"]
[null,null,null,null,"december"]
[null,null,null,null,"december"]
[null,null,null,null,"december"]
[null,null,null,null,"december"]
[null,null,null,null,"december"]
[null,null,null,null,"december"]
[null,null,null,null,"december"]
[null,null,null,null,"december"]
[null,null,null,null,"december"]
[null,null,null,null,"december"]
[null,null,null,null,"december"]
[null,null,null,null,"december"]
[null,null,null,null,"december"]
[null,null,null,null,"december"]
[null,null,null,null,"december"]
[null,null,null,null,"december"]
[null,null,null,null,"december"]
[null,null,null,null,"december"]
[null,null,null,null,"december"]
[null,null,null,null,"december"]
[null,null,null,null,"december"]
[null,null,null,null,"december"]
[null,null,null,null,"december"]
[null,null,null,null,"december"]
[null,null,null,null,"december"]
[null,null,null,null,"december"]
[null,null,null,null,"december"]
[null,null,null,null,"december"]
[null,null,null,null,"december"]
[null,null,null,null,"december"]
[null,null,null,null,"december"]
[null,null,null,null,"december"]
[null,null,null,null,"december"]
[null,null,null,null,"december"]
[null,null,null,null,"december"]
[null,null,null,null,"december"]
[null,null,null,null,"december"]
[null,null,null,null,"december"]
[null,null,null,null,"december"]
[null,null,null,null,"december"]
[null,null,null,null,"december"]
[null,null,null,null,"december"]
[null,null,null,null,"december"]
[null,null,null,null,"december"]
[null,null,null,null,"december"]
[null,null,null,null,"december"]
[null,null,null,null,"december"]
[null,null,null,null,"december"]
[null,null,null,null,"december"]
[null,null,null,null,"december"]
[null,null,null,null,"december"]
[null,null,null,null,"december"]
[null,null,null,null,"december"]
[null,null,null,null,"december"]
[null,null,null,null,"december"]
[null,null,null,null,"december"]
[null,null,null,null,"december"]
[null,null,null,null,"december"]
[null,null,null,null,"december"]
[null,null,null,null,"december"]
[null,null,null,null,"december"]
[null,null,null,null,"december"]
[null,null,null,null,"december"]
[null,null,null,null,"december"]
[null,null,null,null,"december"]
[null,null,null,null,"december"]
[null,null,null,null,"december"]
[null,null,null,null,"december"]
[null,null,null,null,"december"]
[null,null,null,null,"december"]
[null,null,null,null,"december"]
[null,null,null,null,"december"]
[null,null,null,null,"december"]
[null,null,null,null,"december"]
[null,null,null,null,"december"]
[null,null,null,null,"december"]
[null,null,null,null,"december"]
[null,null,null,null,"december"]
[null,null,null,null,"december"]
[null,null,null,null,"december"]
[null,null,null,null,"december"]
[null,null,null,null,"december"]
[null,null,null,null,"december"]
[null,null,null,null,"december"]
[null,null,null,null,"december"]
[null,null,null,null,"december"]
[null,null,null,null,"december"]
[null,null,null,null,"december"]
[null,null,null,null,"december"]
[null,null,null,null,"december"]
[null,null,null,null,"december"]
[null,null,null,null,"december"]
[null,null,null,null,"december"]
[null,null,null,null,"december"]
[null,null,null,null,"december"]
[null,null,null,null,"december"]
[null,null,null,null,"december"]
[null,null,null,null,"december"]
[null,null,null,null,"december"]
[null,null,null,null,"december"]
[null,null,null,null,"december"]
[null,null,null,null,"december"]
[null,null,null,null,"december"]
[null,null,null,null,"december"]
[null,null,null,null,"december"]
[null,null,null,null,"december"]
[null,null,null,null,"december"]
[null,null,null,null,"december"]
[null,null,null,null,"december"]
[null,null,null,null,"december"]
[null,null,null,null,"december"]
[null,null,null,null,"december"]
[null,null,null,null,"december"]
[null,null,null,null,"december"]
[null,null,null,null,"december"]
[null,null,null,null,"december"]
[null,null,null,null,"december"]
[null,null,null,null,"december"]
[null,null,null,null,"december"]
[null,null,null,null,"december"]
[null,null,null,null,"december"]
[null,null,null,null,"december"]
[null,null,null,null,"december"]
[null,null,null,null,"december"]
[null,null,null,null,"december"]
[null,null,null,null,"december"]
[null,null,null,null,"december"]
[null,null,null,null,"december"]
[null,null,null,null,"december"]
[null,null,null,null,"december"]
[null,null,null,null,"december"]
[null,null,null,null,"december"]

{"sheet":"Brandstoffacturen","index":4,"n_rows":30,"n_cols":16,"rows_kept":30,"cut":false,"hidden":false,"merged":[]}
["Brandstoffacturen en energiehandtekening",null,null,null,"Opgelet : Dit blad niet gebruiken !",null,null,null,null,null,null,null,"SXX","SXY","gd gemid",{"$f":"AVERAGE(C3:C14)","v":141.4}]
[null,"dag/maand","gd/maand","kWh/maand","kWh klimatologisch","verschil","b0 dag","optelling pro extrapol","optelling extrapol",null,"verschil","verschil waarde",null,null,"warmte gemid.",{"$f":"AVERAGE(D3:D14)","v":68600}]
["januari",31,{"$f":"GD!B34","v":372.20000000000005},{"$f":"Gegevens!Z21*Gegevens!$F$25","v":83999.999999999985},{"$f":"C3*$P$3+$P$4","v":93893.410991042852},{"$f":"(D3-E3)/E3","v":-0.10536853317627015},{"$f":"$P$4/B3","v":1713.0306487765615},{"$f":"SUMIF('1-4 uur Profiel'!$C$4:$C$35043,1,'1-4 uur Profiel'!$G$4:$G$35043)/4","v":25.998846566142216},{"$f":"GD!B72","v":83999.999999999956},{"$f":"E3*(1+F3)","v":83999.999999999985},{"$f":"IF(H3=0,0,(H3-D3)/H3)","v":-3229.9125632285363},0,{"$f":"(C3-$P$1)^2","v":53268.640000000021},{"$f":"(C3-$P$1)*(D3-$P$2)","v":3554319.9999999972},"b1",{"$f":"N15/M15","v":109.59016893866048}]
["februari",28,{"$f":"GD!C34","v":224},{"$f":"Gegevens!Z22*Gegevens!$F$25","v":83999.999999999985},{"$f":"C4*$P$3+$P$4","v":77652.147954333355},{"$f":"(D4-E4)/E4","v":8.1747282115103292E-2},{"$f":"$P$4/B4","v":1896.5696468597646},{"$f":"SUMIF('1-4 uur Profiel'!$C$4:$C$35043,2,'1-4 uur Profiel'!$G$4:$G$35043)/4","v":0},{"$f":"GD!C72","v":78440.801254518214},{"$f":"E4*(1+F4)","v":83999.999999999985},{"$f":"IF(H4=0,0,(H4-D4)/H4)","v":0},0,{"$f":"(C4-$P$1)^2","v":6822.7599999999993},{"$f":"(C4-$P$1)*(D4-$P$2)","v":1272039.9999999986},"b0",{"$f":"P2-P3*P1","v":53103.950112073406}]
["maart",31,{"$f":"GD!D34","v":202.50000000000003},{"$f":"Gegevens!Z23*Gegevens!$F$25","v":83999.999999999985},{"$f":"C5*$P$3+$P$4","v":75295.959322152165},0.11559771276181989,1713.0306487765615,{"$f":"SUMIF('1-4 uur Profiel'!$C$4:$C$35043,3,'1-4 uur Profiel'!$G$4:$G$35043)/4","v":0},{"$f":"GD!D72","v":83999.999999999971},83999.999999999985,0,0,3733.2100000000028,{"$f":"(C5-$P$1)*(D5-$P$2)","v":940939.99999999942}]
["april",30,{"$f":"GD!E34","v":136.1},{"$f":"Gegevens!Z24*Gegevens!$F$25","v":55999.999999999993},68019.17210462509,-0.17670271090829451,1770.1316704024468,{"$f":"SUMIF('1-4 uur Profiel'!$C$4:$C$35043,4,'1-4 uur Profiel'!$G$4:$G$35043)/4","v":0},{"$f":"GD!E72","v":54589.666510731251},55999.999999999993,0,0,28.090000000000121,{"$f":"(C6-$P$1)*(D6-$P$2)","v":66780.000000000175}]
["mei",31,{"$f":"GD!F34","v":101.30000000000001},{"$f":"Gegevens!Z25*Gegevens!$F$25","v":55999.999999999993},64205.434225559715,-0.12779968431851518,1713.0306487765615,{"$f":"SUMIF('1-4 uur Profiel'!$C$4:$C$35043,5,'1-4 uur Profiel'!$G$4:$G$35043)/4","v":0},{"$f":"GD!F72","v":55999.999999999985},55999.999999999993,0,0,1608.0099999999995,505260.00000000023]
["juni",30,{"$f":"GD!G34","v":7.3999999999999968},{"$f":"Gegevens!Z26*Gegevens!$F$25","v":44799.999999999993},53914.917362219494,-0.16906113944276796,1770.1316704024468,{"$f":"SUMIF('1-4 uur Profiel'!$C$4:$C$35043,6,'1-4 uur Profiel'!$G$4:$G$35043)/4","v":0},{"$f":"GD!G72","v":43376.576264605974},44799.999999999993,0,0,17956,3189200.0000000009]
["juli",31,{"$f":"GD!H34","v":0.19999999999999929},{"$f":"Gegevens!Z27*Gegevens!$F$25","v":44799.999999999993},{"$f":"C9*$P$3+$P$4","v":53125.868145861139},-0.15671966287688396,1713.0306487765615,{"$f":"SUMIF('1-4 uur Profiel'!$C$4:$C$35043,7,'1-4 uur Profiel'!$G$4:$G$35043)/4","v":0},{"$f":"GD!H72","v":44799.999999999978},44799.999999999993,0,0,19937.440000000006,3360560.0000000014]
["augustus",31,{"$f":"GD!I34","v":0.90000000000000036},{"$f":"Gegevens!Z28*Gegevens!$F$25","v":50399.999999999993},53202.581264118198,-5.2677543035085234E-2,1713.0306487765615,{"$f":"SUMIF('1-4 uur Profiel'!$C$4:$C$35043,8,'1-4 uur Profiel'!$G$4:$G$35043)/4","v":0},{"$f":"GD!I72","v":50400.000000000015},50399.999999999993,0,0,19740.25,2557100.0000000009]
["september",30,{"$f":"GD!J34","v":18.3},{"$f":"Gegevens!Z29*Gegevens!$F$25","v":67200},55109.450203650893,0.2193915880428822,1770.1316704024468,{"$f":"SUMIF('1-4 uur Profiel'!$C$4:$C$35043,9,'1-4 uur Profiel'!$G$4:$G$35043)/4","v":0},{"$f":"GD!J72","v":65111.144836822226},67200,0,0,15153.610000000002,172340]
["oktober",31,{"$f":"GD!K34","v":99.7},{"$f":"Gegevens!Z30*Gegevens!$F$25","v":83999.999999999985},64030.089955257856,0.31188321082629206,1713.0306487765615,{"$f":"SUMIF('1-4 uur Profiel'!$C$4:$C$35043,10,'1-4 uur Profiel'!$G$4:$G$35043)/4","v":0},{"$f":"GD!K72","v":83999.999999999985},83999.999999999985,0,0,1738.8900000000003,{"$f":"(C12-$P$1)*(D12-$P$2)","v":-642179.99999999942}]
["november",30,{"$f":"GD!L34","v":253.00000000000003},{"$f":"Gegevens!Z31*Gegevens!$F$25","v":83999.999999999985},80830.262853554508,3.9214732632854334E-2,1770.1316704024468,{"$f":"SUMIF('1-4 uur Profiel'!$C$4:$C$35043,11,'1-4 uur Profiel'!$G$4:$G$35043)/4","v":0},{"$f":"GD!L72","v":82219.793312339782},83999.999999999985,0,0,{"$f":"(C13-$P$1)^2","v":12454.560000000005},1718639.9999999988]
["december",31,{"$f":"GD!M34","v":281.19999999999993},{"$f":"Gegevens!Z32*Gegevens!$F$25","v":83999.999999999985},83920.705617624728,9.4487268418063004E-4,1713.0306487765615,{"$f":"SUMIF('1-4 uur Profiel'!$C$4:$C$35043,12,'1-4 uur Profiel'!$G$4:$G$35043)/4","v":0},{"$f":"GD!M72","v":83999.999999999985},83999.999999999971,0,0,{"$f":"(C14-$P$1)^2","v":19544.039999999979},{"$f":"(C14-$P$1)*(D14-$P$2)","v":2152919.9999999967}]
[null,{"$f":"SUM(B3:B14)","v":365},{"$f":"SUM(C3:C14)","v":1696.8000000000002},{"$f":"SUM(D3:D14)","v":823200},{"$f":"SUM(E3:E14)","v":823199.99999999988},1.4141802943019295E-16,{"$f":"P4/B16","v":1745.8832913558379},{"$f":"SUM(H3:H14)","v":25.998846566142216},{"$f":"SUM(I3:I14)","v":810937.98217901739},823200.00000000012,null,null,{"$f":"SUM(M3:M14)","v":171985.50000000003},{"$f":"SUM(N3:N14)","v":18847919.999999996}]
[null,{"$f":"B15/12","v":30.416666666666668},null,{"$f":"1270000/D15","v":1.5427599611273082},null,{"$f":"SUM(F3:F14)","v":-1.9549874694684586E-2},null,{"$f":"H15-D15","v":-823174.00115343381}]
[null,null,null,{"$f":"D15/Gegevens!Z33","v":0.56000000000000005},null,null,null,{"$f":"H16/I15","v":-1.0150887234823283}]
[]
[]
[null,null,null,null,"SI(@INDEX(Brandstoffacturen!$B$22:$B$29;GD!Q41)=0;0;(B3*Brandstoffacturen!$P$3+Brandstoffacturen!$G$3)*(1+@INDEX(Brandstoffacturen!$F$3:$F$14;B$39))*(1-@INDEX(Brandstoffacturen!$L$3:$L$14;B$39))*@INDEX(Gegevens!$T$40:$T$49;GD!Q41))"]
[null,"kWh"]
["maandag",{"$f":"SUM(Gegevens!F31:F126)/4","v":3375.0000000000032}]
["dinsdag",{"$f":"SUM(Gegevens!F127:F222)/4","v":3375.0000000000032}]
["woensdag",{"$f":"SUM(Gegevens!F223:F318)/4","v":3375.0000000000032}]
["donderdag",{"$f":"SUM(Gegevens!F319:F414)/4","v":3375.0000000000032}]
["vrijdag",{"$f":"SUM(Gegevens!$F$415:$F$510)/4","v":3375.0000000000032}]
["zaterdag",{"$f":"SUM(Gegevens!F511:F606)/4","v":4062.5000000000005}]
["zondag",{"$f":"SUM(Gegevens!F607:F702)/4","v":4062.5000000000005}]
["feestdag",{"$f":"SUM(Gegevens!O31:O126)/4","v":4062.5000000000005}]
[null,{"$f":"SUM(B22:B28)","v":25000.000000000015}]

{"sheet":"Elek. facturen","index":5,"n_rows":32,"n_cols":22,"rows_kept":32,"cut":false,"hidden":false,"merged":[]}
[null,"Facturen","Opgelet : Dit blad niet gebruiken !",null,"Door optelling vd type profielen",null,"Controle extrapolatie = factuur"]
[null,"kWh normale u,","kWh stille uren","kW","profiel kWh normale u.","profiel kWh stille u.","optelling extrapolatie","optelling factuur","kW extrapol","verschil kW","kW factuur","fact. normale u.","fact. stille u.","maandag","dinsdag","woensdag","donderdag","vrijdag","zaterdag","zondag","totaal","verlof"]
[null,2]
["januari",{"$f":"Gegevens!T21","v":0},{"$f":"Gegevens!U21","v":0},{"$f":"Gegevens!V21","v":0},{"$f":"$N4*B$23+$O4*B$24+$P4*B$25+$Q4*B$26+$R4*B$27","v":0},{"$f":"$N4*C$23+$O4*C$24+$P4*C$25+$Q4*C$26+$R4*C$27+$S4*C$28+$T4*C$29+$V4*C$32","v":0},{"$f":"SUMIF('1-4 uur Profiel'!$C$4:$C$35043,1,'1-4 uur Profiel'!$I$4:$I$35043)/4","v":0},{"$f":"B4+C4","v":0},{"$f":"MAX('1-4 uur Profiel'!I4:I2979)","v":0},{"$f":"I4/D4","v":{"$error":"#DIV/0!"}},{"$f":"Gegevens!V21","v":0},{"$f":"B4/E4","v":{"$error":"#DIV/0!"}},{"$f":"C4/F4","v":{"$error":"#DIV/0!"}},{"$f":"GD!$Q$76","v":4},{"$f":"GD!$Q$77","v":4},{"$f":"GD!$Q$78","v":5},{"$f":"GD!$Q$79","v":5},{"$f":"GD!$Q$80","v":4},{"$f":"GD!$Q$81","v":4},{"$f":"GD!$Q$82","v":3},31,{"$f":"U4-SUM(N4:T4)","v":2}]
["februari",{"$f":"Gegevens!T22","v":0},{"$f":"Gegevens!U22","v":0},{"$f":"Gegevens!V22","v":0},0,0,{"$f":"SUMIF('1-4 uur Profiel'!$C$4:$C$35043,2,'1-4 uur Profiel'!$I$4:$I$35043)/4","v":0},{"$f":"B5+C5","v":0},{"$f":"MAX('1-4 uur Profiel'!I2980:I5667)","v":0},{"$f":"I5/D5","v":{"$error":"#DIV/0!"}},{"$f":"Gegevens!V22","v":0},{"$error":"#DIV/0!"},{"$error":"#DIV/0!"},{"$f":"GD!$R$76","v":4},{"$f":"GD!$R$77","v":4},{"$f":"GD!$R$78","v":4},{"$f":"GD!$R$79","v":4},{"$f":"GD!$R$80","v":4},{"$f":"GD!$R$81","v":4},{"$f":"GD!$R$82","v":4}]
["maart",{"$f":"Gegevens!T23","v":0},{"$f":"Gegevens!U23","v":0},{"$f":"Gegevens!V23","v":0},0,0,{"$f":"SUMIF('1-4 uur Profiel'!$C$4:$C$35043,3,'1-4 uur Profiel'!$I$4:$I$35043)/4","v":0},0,{"$f":"MAX('1-4 uur Profiel'!I5668:I8643)","v":0},{"$error":"#DIV/0!"},{"$f":"Gegevens!V23","v":0},{"$error":"#DIV/0!"},{"$error":"#DIV/0!"},{"$f":"GD!$S$76","v":4},{"$f":"GD!$S$77","v":4},{"$f":"GD!$S$78","v":4},{"$f":"GD!$S$79","v":4},{"$f":"GD!$S$80","v":5},{"$f":"GD!$S$81","v":5},{"$f":"GD!$S$82","v":5},31,{"$f":"U6-SUM(N6:T6)","v":0}]
["april",{"$f":"Gegevens!T24","v":0},{"$f":"Gegevens!U24","v":0},{"$f":"Gegevens!V24","v":0},0,0,{"$f":"SUMIF('1-4 uur Profiel'!$C$4:$C$35043,4,'1-4 uur Profiel'!$I$4:$I$35043)/4","v":0},0,{"$f":"MAX('1-4 uur Profiel'!I8644:I11523)","v":0},{"$error":"#DIV/0!"},{"$f":"Gegevens!V24","v":0},{"$error":"#DIV/0!"},{"$error":"#DIV/0!"},{"$f":"GD!$T$76","v":4},{"$f":"GD!$T$77","v":5},{"$f":"GD!$T$78","v":4},{"$f":"GD!$T$79","v":4},{"$f":"GD!$T$80","v":4},{"$f":"GD!$T$81","v":4},{"$f":"GD!$T$82","v":4},30,1]
["mei",{"$f":"Gegevens!T25","v":0},{"$f":"Gegevens!U25","v":0},{"$f":"Gegevens!V25","v":0},0,0,{"$f":"SUMIF('1-4 uur Profiel'!$C$4:$C$35043,5,'1-4 uur Profiel'!$I$4:$I$35043)/4","v":0},0,{"$f":"MAX('1-4 uur Profiel'!I11524:I14499)","v":0},{"$error":"#DIV/0!"},{"$f":"Gegevens!V25","v":0},{"$error":"#DIV/0!"},{"$error":"#DIV/0!"},{"$f":"GD!$U$76","v":3},{"$f":"GD!$U$77","v":4},{"$f":"GD!$U$78","v":4},{"$f":"GD!$U$79","v":4},{"$f":"GD!$U$80","v":5},{"$f":"GD!$U$81","v":4},{"$f":"GD!$U$82","v":4},31,3]
["juni",{"$f":"Gegevens!T26","v":0},{"$f":"Gegevens!U26","v":0},{"$f":"Gegevens!V26","v":0},0,0,{"$f":"SUMIF('1-4 uur Profiel'!$C$4:$C$35043,6,'1-4 uur Profiel'!$I$4:$I$35043)/4","v":0},0,{"$f":"MAX('1-4 uur Profiel'!I14500:I17379)","v":0},{"$error":"#DIV/0!"},{"$f":"Gegevens!V26","v":0},{"$error":"#DIV/0!"},{"$error":"#DIV/0!"},{"$f":"GD!$V$76","v":3},{"$f":"GD!$V$77","v":4},{"$f":"GD!$V$78","v":4},{"$f":"GD!$V$79","v":4},{"$f":"GD!$V$80","v":4},{"$f":"GD!$V$81","v":5},{"$f":"GD!$V$82","v":5},30,1]
["juli",{"$f":"Gegevens!T27","v":0},{"$f":"Gegevens!U27","v":0},{"$f":"Gegevens!V27","v":0},0,0,{"$f":"SUMIF('1-4 uur Profiel'!$C$4:$C$35043,7,'1-4 uur Profiel'!$I$4:$I$35043)/4","v":0},0,{"$f":"MAX('1-4 uur Profiel'!I17380:I20355)","v":0},{"$error":"#DIV/0!"},{"$f":"Gegevens!V27","v":0},{"$error":"#DIV/0!"},{"$error":"#DIV/0!"},{"$f":"GD!$W$76","v":5},{"$f":"GD!$W$77","v":5},{"$f":"GD!$W$78","v":5},{"$f":"GD!$W$79","v":4},{"$f":"GD!$W$80","v":3},{"$f":"GD!$W$81","v":4},{"$f":"GD!$W$82","v":3},31,2]
["augustus",{"$f":"Gegevens!T28","v":0},{"$f":"Gegevens!U28","v":0},{"$f":"Gegevens!V28","v":0},0,0,{"$f":"SUMIF('1-4 uur Profiel'!$C$4:$C$35043,8,'1-4 uur Profiel'!$I$4:$I$35043)/4","v":0},0,{"$f":"MAX('1-4 uur Profiel'!I20356:I23331)","v":0},{"$error":"#DIV/0!"},{"$f":"Gegevens!V28","v":0},{"$error":"#DIV/0!"},{"$error":"#DIV/0!"},{"$f":"GD!$X$76","v":4},{"$f":"GD!$X$77","v":3},{"$f":"GD!$X$78","v":4},{"$f":"GD!$X$79","v":4},{"$f":"GD!$X$80","v":5},{"$f":"GD!$X$81","v":5},{"$f":"GD!$X$82","v":4},31,2]
["september",{"$f":"Gegevens!T29","v":0},{"$f":"Gegevens!U29","v":0},{"$f":"Gegevens!V29","v":0},0,0,{"$f":"SUMIF('1-4 uur Profiel'!$C$4:$C$35043,9,'1-4 uur Profiel'!$I$4:$I$35043)/4","v":0},0,{"$f":"MAX('1-4 uur Profiel'!I23332:I26211)","v":0},{"$error":"#DIV/0!"},{"$f":"Gegevens!V29","v":0},{"$error":"#DIV/0!"},{"$error":"#DIV/0!"},{"$f":"GD!$Y$76","v":5},{"$f":"GD!$Y$77","v":4},{"$f":"GD!$Y$78","v":4},{"$f":"GD!$Y$79","v":4},{"$f":"GD!$Y$80","v":4},{"$f":"GD!$Y$81","v":4},{"$f":"GD!$Y$82","v":5},30,0]
["oktober",{"$f":"Gegevens!T30","v":0},{"$f":"Gegevens!U30","v":0},{"$f":"Gegevens!V30","v":0},0,0,{"$f":"SUMIF('1-4 uur Profiel'!$C$4:$C$35043,10,'1-4 uur Profiel'!$I$4:$I$35043)/4","v":0},0,{"$f":"MAX('1-4 uur Profiel'!I26212:I29187)","v":0},{"$error":"#DIV/0!"},{"$f":"Gegevens!V30","v":0},{"$error":"#DIV/0!"},{"$error":"#DIV/0!"},{"$f":"GD!$Z$76","v":4},{"$f":"GD!$Z$77","v":5},{"$f":"GD!$Z$78","v":5},{"$f":"GD!$Z$79","v":5},{"$f":"GD!$Z$80","v":4},{"$f":"GD!$Z$81","v":4},{"$f":"GD!$Z$82","v":4},31,0]
["november",{"$f":"Gegevens!T31","v":0},{"$f":"Gegevens!U31","v":0},{"$f":"Gegevens!V31","v":0},0,0,{"$f":"SUMIF('1-4 uur Profiel'!$C$4:$C$35043,11,'1-4 uur Profiel'!$I$4:$I$35043)/4","v":0},0,{"$f":"MAX('1-4 uur Profiel'!I29188:I32067)","v":0},{"$error":"#DIV/0!"},{"$f":"Gegevens!V31","v":0},{"$error":"#DIV/0!"},{"$error":"#DIV/0!"},{"$f":"GD!$AA$76","v":3},{"$f":"GD!$AA$77","v":4},{"$f":"GD!$AA$78","v":3},{"$f":"GD!$AA$79","v":4},{"$f":"GD!$AA$80","v":4},{"$f":"GD!$AA$81","v":4},{"$f":"GD!$AA$82","v":4},30,4]
["december",{"$f":"Gegevens!T32","v":0},{"$f":"Gegevens!U32","v":0},{"$f":"Gegevens!V32","v":0},0,0,{"$f":"SUMIF('1-4 uur Profiel'!$C$4:$C$35043,12,'1-4 uur Profiel'!$I$4:$I$35043)/4","v":0},0,{"$f":"MAX('1-4 uur Profiel'!I32068:I35043)","v":0},{"$error":"#DIV/0!"},{"$f":"Gegevens!V32","v":0},{"$error":"#DIV/0!"},{"$error":"#DIV/0!"},{"$f":"GD!$AB$76","v":4},{"$f":"GD!$AB$77","v":5},{"$f":"GD!$AB$78","v":3},{"$f":"GD!$AB$79","v":4},{"$f":"GD!$AB$80","v":4},{"$f":"GD!$AB$81","v":4},{"$f":"GD!$AB$82","v":5},31,2]
[null,{"$f":"SUM(B4:B15)","v":0},0,null,0,0,0,0,null,null,null,{"$f":"1+(B16-E16)/E16","v":{"$error":"#DIV/0!"}},{"$f":"1+(C16-F16)/F16","v":{"$error":"#DIV/0!"}},{"$f":"SUM(N4:N15)","v":47},{"$f":"SUM(O4:O15)","v":51},49,50,50,51,50,null,{"$f":"SUM(V4:V15)","v":17}]
[null,null,{"$f":"B16+C16","v":0},null,null,{"$f":"(B16-G16)/B16","v":{"$error":"#DIV/0!"}},{"$f":"(C16-H16)/C16","v":{"$error":"#DIV/0!"}},null,null,null,null,null,null,null,null,null,null,null,{"$f":"SUM(N16:T16)","v":348}]
[]
[]
[null,null,null,null,null,"Opgelet : Dit blad niet gebruiken !"]
[]
[null,"kWh normale uren","kWh stille uren","totaal"]
["maandag",{"$f":"SUM(Gegevens!AJ31:AJ126)/4","v":0},{"$f":"SUM(Gegevens!AK31:AK126)/4","v":0},{"$f":"SUM(B23:C23)","v":0}]
["dinsdag",{"$f":"SUM(Gegevens!AJ127:AJ222)/4","v":0},{"$f":"SUM(Gegevens!AK127:AK222)/4","v":0},0]
["woensdag",{"$f":"SUM(Gegevens!AJ223:AJ318)/4","v":0},{"$f":"SUM(Gegevens!AK223:AK318)/4","v":0},0]
["donderdag",{"$f":"SUM(Gegevens!AJ319:AJ414)/4","v":0},{"$f":"SUM(Gegevens!AK319:AK414)/4","v":0},0]
["vrijdag",{"$f":"SUM(Gegevens!AJ415:AJ510)/4","v":0},{"$f":"SUM(Gegevens!AK415:AK510)/4","v":0},0]
["zaterdag",0,{"$f":"SUM(Gegevens!AK511:AK606)/4","v":0},0]
["zondag",0,{"$f":"SUM(Gegevens!AK607:AK702)/4","v":0},0]
[null,{"$f":"SUM(B23:B29)","v":0},{"$f":"SUM(C23:C29)","v":0},{"$f":"SUM(D23:D29)","v":0}]
[]
["feestdagen",null,{"$f":"SUM(Gegevens!N31:N126)/4","v":0},{"$f":"SUM(B32:C32)","v":0}]

{"sheet":"GD","index":6,"n_rows":139,"n_cols":148,"rows_kept":139,"cut":false,"hidden":false,"merged":[]}
[null,{"$f":"INDEX(Titels!B2:B11,Gegevens!B19)","v":2019},{"$f":"\"Graaddagen (\"&Gegevens!F23&\")\"","v":"Graaddagen (15)"},null,null,null,null,"schrikkeljaar ?",{"$f":"IF(OR(B1=2012,B1=2016),1,2)","v":2},"Opgelet : Dit blad niet gebruiken !",null,null,null,null,"Gemiddelde temp. van de selectie",null,null,null,null,null,null,null,null,null,null,null,null,2019,null,null,null,null,null,null,null,null,null,null,null,2018,null,null,null,null,null,null,null,null,null,null,null,2017,null,null,null,null,null,null,null,null,null,null,null,2016,null,null,null,null,null,null,null,null,null,null,null,2015,null,null,null,null,null,null,null,null,null,null,null,2014,null,null,null,null,null,null,null,null,null,null,null,2013,null,null,null,null,null,null,null,null,null,null,null,2012]
["dagen","januari","februari","maart","april","mei","juni","juli","augustus","september","oktober","november","december",null,"januari","februari","maart","april","mei","juni","juli","augustus","september","oktober","november","december",null,"januari","februari","maart","april","mei","juni","juli","augustus","september","oktober","november","december","januari","februari","maart","april","mei","juni","juli","augustus","september","oktober","november","december","januari","februari","maart","april","mei","juni","juli","augustus","september","oktober","november","december","januari","februari","maart","april","mei","juni","juli","augustus","september","oktober","november","december","januari","februari","maart","april","mei","juni","juli","augustus","september","oktober","november","december","januari","februari","maart","april","mei","juni","juli","augustus","september","oktober","november","december","januari","februari","maart","april","mei","juni","juli","augustus","september","oktober","november","december","januari","februari","maart","april","mei","juni","juli","augustus","september","oktober","november","december",null,null,null,"Plaats",null,null,null,"a","b","R2",null,"GD UKKEL","januari","februari","maart","april","mei","juni","juli","augustus","september","oktober","november","december"]
[1,{"$f":"IF(O3>Gegevens!$F$23,0,Gegevens!$F$23-O3)","v":8.5},{"$f":"IF(P3>Gegevens!$F$23,0,Gegevens!$F$23-P3)","v":12.5},{"$f":"IF(Q3>Gegevens!$F$23,0,Gegevens!$F$23-Q3)","v":8.1999999999999993},{"$f":"IF(R3>Gegevens!$F$23,0,Gegevens!$F$23-R3)","v":5},{"$f":"IF(S3>Gegevens!$F$23,0,Gegevens!$F$23-S3)","v":4.5},{"$f":"IF(T3>Gegevens!$F$23,0,Gegevens!$F$23-T3)","v":0},{"$f":"IF(U3>Gegevens!$F$23,0,Gegevens!$F$23-U3)","v":0},{"$f":"IF(V3>Gegevens!$F$23,0,Gegevens!$F$23-V3)","v":0},{"$f":"IF(W3>Gegevens!$F$23,0,Gegevens!$F$23-W3)","v":0},{"$f":"IF(X3>Gegevens!$F$23,0,Gegevens!$F$23-X3)","v":0},{"$f":"IF(Y3>Gegevens!$F$23,0,Gegevens!$F$23-Y3)","v":4.4000000000000004},{"$f":"IF(Z3>Gegevens!$F$23,0,Gegevens!$F$23-Z3)","v":13.2},null,{"$f":"INDEX($AB$3:$DS$33,$A3,12*Gegevens!$B$19-O$36)-(1*O$35)","v":6.5},{"$f":"INDEX($AB$3:$DS$33,$A3,12*Gegevens!$B$19-P$36)-(1*P$35)","v":2.5},{"$f":"INDEX($AB$3:$DS$33,$A3,12*Gegevens!$B$19-Q$36)-(1*Q$35)","v":6.8},{"$f":"INDEX($AB$3:$DS$33,$A3,12*Gegevens!$B$19-R$36)-(1*R$35)","v":10},{"$f":"INDEX($AB$3:$DS$33,$A3,12*Gegevens!$B$19-S$36)-(1*S$35)","v":10.5},{"$f":"INDEX($AB$3:$DS$33,$A3,12*Gegevens!$B$19-T$36)-(1*T$35)","v":20.2},{"$f":"INDEX($AB$3:$DS$33,$A3,12*Gegevens!$B$19-U$36)-(1*U$35)","v":18.399999999999999},{"$f":"INDEX($AB$3:$DS$33,$A3,12*Gegevens!$B$19-V$36)-(1*V$35)","v":19.2},{"$f":"INDEX($AB$3:$DS$33,$A3,12*Gegevens!$B$19-W$36)-(1*W$35)","v":16.3},{"$f":"INDEX($AB$3:$DS$33,$A3,12*Gegevens!$B$19-X$36)-(1*X$35)","v":15.4},{"$f":"INDEX($AB$3:$DS$33,$A3,12*Gegevens!$B$19-Y$36)-(1*Y$35)","v":10.6},{"$f":"INDEX($AB$3:$DS$33,$A3,12*Gegevens!$B$19-Z$36)-(1*Z$35)","v":1.8},null,6.5,2.5,6.8,10,10.5,20.2,18.399999999999999,19.2,16.3,15.4,10.6,1.8,6,3,-2.9,5.8,8.6,17.399999999999999,23.2,22.6,15.1,9.4,10.3,7.4,-2.2000000000000002,6.5,6.6,11.2,10.7,20.100000000000001,15,18.3,13.8,13.9,10.3,0.6,5.6,10.5,2.4,7.5,8.5,14.2,16.7,16.5,17.399999999999999,12.7,10.4,3.3,2.2000000000000002,2.2000000000000002,8.4,7,9.3000000000000007,12.5,26.9,17.5,15,11.2,11.6,11.4,7.6,6.1,4.8,14.8,11.9,14.1,15.2,21.1,15.7,16.5,15.9,2.5,6.1,5.8,2.4,2.5,12.6,11,15.5,25.2,14.1,12.3,10.3,6.6,12,-5.4,7.2,5.6,14.6,16,15.9,21,13.6,13.5,8.1999999999999993,2.2999999999999998,null,null,null,"1180 - Uccle","Uccle","y=x",null,1,0,null,null,2019,372.2,223.99999999999997,202.50000000000003,136.1,101.3,7.3999999999999968,0.19999999999999929,0.90000000000000036,18.3,99.699999999999989,253,281.2,{"$f":"SUM(EF3:EQ3)","v":1696.8000000000002}]
[2,{"$f":"IF(O4>Gegevens!$F$23,0,Gegevens!$F$23-O4)","v":10},{"$f":"IF(P4>Gegevens!$F$23,0,Gegevens!$F$23-P4)","v":13.1},{"$f":"IF(Q4>Gegevens!$F$23,0,Gegevens!$F$23-Q4)","v":6.5},{"$f":"IF(R4>Gegevens!$F$23,0,Gegevens!$F$23-R4)","v":4.5},{"$f":"IF(S4>Gegevens!$F$23,0,Gegevens!$F$23-S4)","v":5.6999999999999993},{"$f":"IF(T4>Gegevens!$F$23,0,Gegevens!$F$23-T4)","v":0},{"$f":"IF(U4>Gegevens!$F$23,0,Gegevens!$F$23-U4)","v":0},{"$f":"IF(V4>Gegevens!$F$23,0,Gegevens!$F$23-V4)","v":0},{"$f":"IF(W4>Gegevens!$F$23,0,Gegevens!$F$23-W4)","v":0},{"$f":"IF(X4>Gegevens!$F$23,0,Gegevens!$F$23-X4)","v":4.6999999999999993},{"$f":"IF(Y4>Gegevens!$F$23,0,Gegevens!$F$23-Y4)","v":2.1999999999999993},{"$f":"IF(Z4>Gegevens!$F$23,0,Gegevens!$F$23-Z4)","v":12.1},null,{"$f":"INDEX($AB$3:$DS$33,$A4,12*Gegevens!$B$19-O$36)-(1*O$35)","v":5},{"$f":"INDEX($AB$3:$DS$33,$A4,12*Gegevens!$B$19-P$36)-(1*P$35)","v":1.9},{"$f":"INDEX($AB$3:$DS$33,$A4,12*Gegevens!$B$19-Q$36)-(1*Q$35)","v":8.5},{"$f":"INDEX($AB$3:$DS$33,$A4,12*Gegevens!$B$19-R$36)-(1*R$35)","v":10.5},{"$f":"INDEX($AB$3:$DS$33,$A4,12*Gegevens!$B$19-S$36)-(1*S$35)","v":9.3000000000000007},{"$f":"INDEX($AB$3:$DS$33,$A4,12*Gegevens!$B$19-T$36)-(1*T$35)","v":23.8},{"$f":"INDEX($AB$3:$DS$33,$A4,12*Gegevens!$B$19-U$36)-(1*U$35)","v":17.8},{"$f":"INDEX($AB$3:$DS$33,$A4,12*Gegevens!$B$19-V$36)-(1*V$35)","v":18.100000000000001},{"$f":"INDEX($AB$3:$DS$33,$A4,12*Gegevens!$B$19-W$36)-(1*W$35)","v":15.5},{"$f":"INDEX($AB$3:$DS$33,$A4,12*Gegevens!$B$19-X$36)-(1*X$35)","v":10.3},{"$f":"INDEX($AB$3:$DS$33,$A4,12*Gegevens!$B$19-Y$36)-(1*Y$35)","v":12.8},{"$f":"INDEX($AB$3:$DS$33,$A4,12*Gegevens!$B$19-Z$36)-(1*Z$35)","v":2.9},null,5,1.9,8.5,10.5,9.3000000000000007,23.8,17.8,18.100000000000001,15.5,10.3,12.8,2.9,6.4,3.3,-2.5,9.4,11.3,16.2,22.5,23.9,17.5,11.6,6.7,12.3,-0.3,10.1,7.1,10.9,9.6,21.9,15.4,18,14.5,15.5,8.9,-1.4,7.9,7.6,5,10,11,13.3,14,15.7,16.899999999999999,11.2,7.5,6.4,5.5,1.5,5.5,6,11.8,15.2,25.9,19.600000000000001,14.2,11.8,9.8000000000000007,10.7,7.7,5,4.9000000000000004,15.8,10.8,15.2,16.8,21.3,17.399999999999999,16.600000000000001,15.3,1.5,5.5,3.4,2.2000000000000002,3.2,13.5,12.4,16.899999999999999,27.3,16.399999999999999,13,11.6,6.1,7,-6.7,7.4,8.1,10.9,15.4,16.7,18.8,16.2,14.2,6.4,1.2,null,null,null,"1320 - Beauvechain","Beauvechain","y = 1.0362x + 10.65",null,1.0362,10.65,0.99960000000000004,null,2018,280.20000000000005,397.2,298.39999999999998,86.300000000000011,38.599999999999994,3.3000000000000007,0,2.0999999999999996,36.9,103.2,227.09999999999997,284.7,1758]
[3,{"$f":"IF(O5>Gegevens!$F$23,0,Gegevens!$F$23-O5)","v":10.8},{"$f":"IF(P5>Gegevens!$F$23,0,Gegevens!$F$23-P5)","v":12.5},{"$f":"IF(Q5>Gegevens!$F$23,0,Gegevens!$F$23-Q5)","v":3.9000000000000004},{"$f":"IF(R5>Gegevens!$F$23,0,Gegevens!$F$23-R5)","v":9.4},{"$f":"IF(S5>Gegevens!$F$23,0,Gegevens!$F$23-S5)","v":5.6},{"$f":"IF(T5>Gegevens!$F$23,0,Gegevens!$F$23-T5)","v":0},{"$f":"IF(U5>Gegevens!$F$23,0,Gegevens!$F$23-U5)","v":0},{"$f":"IF(V5>Gegevens!$F$23,0,Gegevens!$F$23-V5)","v":0},{"$f":"IF(W5>Gegevens!$F$23,0,Gegevens!$F$23-W5)","v":0},{"$f":"IF(X5>Gegevens!$F$23,0,Gegevens!$F$23-X5)","v":5.4},{"$f":"IF(Y5>Gegevens!$F$23,0,Gegevens!$F$23-Y5)","v":4.5},{"$f":"IF(Z5>Gegevens!$F$23,0,Gegevens!$F$23-Z5)","v":13.2},null,{"$f":"INDEX($AB$3:$DS$33,$A5,12*Gegevens!$B$19-O$36)-(1*O$35)","v":4.2},{"$f":"INDEX($AB$3:$DS$33,$A5,12*Gegevens!$B$19-P$36)-(1*P$35)","v":2.5},{"$f":"INDEX($AB$3:$DS$33,$A5,12*Gegevens!$B$19-Q$36)-(1*Q$35)","v":11.1},{"$f":"INDEX($AB$3:$DS$33,$A5,12*Gegevens!$B$19-R$36)-(1*R$35)","v":5.6},{"$f":"INDEX($AB$3:$DS$33,$A5,12*Gegevens!$B$19-S$36)-(1*S$35)","v":9.4},{"$f":"INDEX($AB$3:$DS$33,$A5,12*Gegevens!$B$19-T$36)-(1*T$35)","v":17.7},{"$f":"INDEX($AB$3:$DS$33,$A5,12*Gegevens!$B$19-U$36)-(1*U$35)","v":17},{"$f":"INDEX($AB$3:$DS$33,$A5,12*Gegevens!$B$19-V$36)-(1*V$35)","v":18.5},{"$f":"INDEX($AB$3:$DS$33,$A5,12*Gegevens!$B$19-W$36)-(1*W$35)","v":15.7},{"$f":"INDEX($AB$3:$DS$33,$A5,12*Gegevens!$B$19-X$36)-(1*X$35)","v":9.6},{"$f":"INDEX($AB$3:$DS$33,$A5,12*Gegevens!$B$19-Y$36)-(1*Y$35)","v":10.5},{"$f":"INDEX($AB$3:$DS$33,$A5,12*Gegevens!$B$19-Z$36)-(1*Z$35)","v":1.8},null,4.2,2.5,11.1,5.6,9.4,17.7,17,18.5,15.7,9.6,10.5,1.8,8.9,2.6,1.5,12,11.1,19.3,23,25.8,18.100000000000001,13.4,4.7,12,0.5,9.3000000000000007,8.5,9.4,9.6999999999999993,18.899999999999999,17,19.899999999999999,14.5,11.9,9.5,0.5,6.2,4.2,3.1,15.1,9.9,13.9,14.4,17.100000000000001,17.7,11.8,6.6,2.2999999999999998,2.7,0.7,4.8,5.5,13.8,15.2,25.9,25.1,12.5,13.4,13.1,9.1999999999999993,9.9,4.8,6.4,16.399999999999999,9.6,14.9,20.3,19.399999999999999,16.899999999999999,17.7,12.5,-0.3,8.6999999999999993,3.4,3.3,2.2999999999999998,13.8,11.4,16.5,20.7,18.8,15.4,8.1999999999999993,2.2000000000000002,7.8,-7.7,9.8000000000000007,10.8,11,11.3,19.2,17.399999999999999,17.600000000000001,13.1,6.6,2.9,null,null,null,"4000 - Liège (Monsin)","Liège","y = 1.0121x - 8.0735",null,1.0121,-8.0734999999999992,0.99950000000000006,null,2017,431.59999999999997,249.7,171,186.3,51.3,1.5999999999999996,0,0.30000000000000071,39.5,66.2,251.20000000000002,327.7,1776.3999999999999]
[4,{"$f":"IF(O6>Gegevens!$F$23,0,Gegevens!$F$23-O6)","v":11.9},{"$f":"IF(P6>Gegevens!$F$23,0,Gegevens!$F$23-P6)","v":13.4},{"$f":"IF(Q6>Gegevens!$F$23,0,Gegevens!$F$23-Q6)","v":6.6},{"$f":"IF(R6>Gegevens!$F$23,0,Gegevens!$F$23-R6)","v":9.1999999999999993},{"$f":"IF(S6>Gegevens!$F$23,0,Gegevens!$F$23-S6)","v":9},{"$f":"IF(T6>Gegevens!$F$23,0,Gegevens!$F$23-T6)","v":0},{"$f":"IF(U6>Gegevens!$F$23,0,Gegevens!$F$23-U6)","v":0},{"$f":"IF(V6>Gegevens!$F$23,0,Gegevens!$F$23-V6)","v":0},{"$f":"IF(W6>Gegevens!$F$23,0,Gegevens!$F$23-W6)","v":0},{"$f":"IF(X6>Gegevens!$F$23,0,Gegevens!$F$23-X6)","v":2.9000000000000004},{"$f":"IF(Y6>Gegevens!$F$23,0,Gegevens!$F$23-Y6)","v":4.8000000000000007},{"$f":"IF(Z6>Gegevens!$F$23,0,Gegevens!$F$23-Z6)","v":12.6},null,{"$f":"INDEX($AB$3:$DS$33,$A6,12*Gegevens!$B$19-O$36)-(1*O$35)","v":3.1},{"$f":"INDEX($AB$3:$DS$33,$A6,12*Gegevens!$B$19-P$36)-(1*P$35)","v":1.6},{"$f":"INDEX($AB$3:$DS$33,$A6,12*Gegevens!$B$19-Q$36)-(1*Q$35)","v":8.4},{"$f":"INDEX($AB$3:$DG$33,$A6,12*Gegevens!$B$19-R$36)-(1*R$35)","v":5.8},{"$f":"INDEX($AB$3:$DS$33,$A6,12*Gegevens!$B$19-S$36)-(1*S$35)","v":6},{"$f":"INDEX($AB$3:$DS$33,$A6,12*Gegevens!$B$19-T$36)-(1*T$35)","v":18.7},{"$f":"INDEX($AB$3:$DS$33,$A6,12*Gegevens!$B$19-U$36)-(1*U$35)","v":19},{"$f":"INDEX($AB$3:$DS$33,$A6,12*Gegevens!$B$19-V$36)-(1*V$35)","v":20.8},{"$f":"INDEX($AB$3:$DS$33,$A6,12*Gegevens!$B$19-W$36)-(1*W$35)","v":15.7},{"$f":"INDEX($AB$3:$DS$33,$A6,12*Gegevens!$B$19-X$36)-(1*X$35)","v":12.1},{"$f":"INDEX($AB$3:$DS$33,$A6,12*Gegevens!$B$19-Y$36)-(1*Y$35)","v":10.199999999999999},{"$f":"INDEX($AB$3:$DS$33,$A6,12*Gegevens!$B$19-Z$36)-(1*Z$35)","v":2.4},null,3.1,1.6,8.4,5.8,6,18.7,19,20.8,15.7,12.1,10.199999999999999,2.4,8.5,0.8,6.4,10.6,12.8,19.899999999999999,22.8,23.7,19.8,14.2,7.8,6.3,3.4,5.2,9.4,10.8,11,15.5,17.899999999999999,18.899999999999999,15.9,12.2,10.9,4.8,6.7,5.4,2.9,12.3,10.4,14.2,16.899999999999999,16.399999999999999,17.399999999999999,11.7,6.8,0.2,1.7,1.1000000000000001,4.0999999999999996,5.6,15.7,14.8,27,18.100000000000001,13.1,12.6,13.2,8.8000000000000007,7.9,6.3,5.6,13,9.8000000000000007,12.8,21.1,18.5,17.7,16.3,8.6,0.1,9.1,7.5,6.1,3.7,11.2,12.9,16.399999999999999,20.8,21.4,17.399999999999999,8.8000000000000007,4.5999999999999996,6.6,-9.3000000000000007,8,8.9,11,9.5,21.9,18.100000000000001,18.3,11.5,7.3,3.7,null,null,null,"4557 - Scry","Scry","y = 1.0746x + 22.081",null,1.0746,22.081,0.99850000000000005,null,2016,315.5,304.39999999999998,301.70000000000005,195.5,58.5,11.399999999999997,4,5.7000000000000011,4,163.39999999999998,266.60000000000002,319.2,1949.8999999999999]
[5,{"$f":"IF(O7>Gegevens!$F$23,0,Gegevens!$F$23-O7)","v":10.199999999999999},{"$f":"IF(P7>Gegevens!$F$23,0,Gegevens!$F$23-P7)","v":11.7},{"$f":"IF(Q7>Gegevens!$F$23,0,Gegevens!$F$23-Q7)","v":8},{"$f":"IF(R7>Gegevens!$F$23,0,Gegevens!$F$23-R7)","v":6.6999999999999993},{"$f":"IF(S7>Gegevens!$F$23,0,Gegevens!$F$23-S7)","v":8.6999999999999993},{"$f":"IF(T7>Gegevens!$F$23,0,Gegevens!$F$23-T7)","v":9.9999999999999645E-2},{"$f":"IF(U7>Gegevens!$F$23,0,Gegevens!$F$23-U7)","v":0},{"$f":"IF(V7>Gegevens!$F$23,0,Gegevens!$F$23-V7)","v":0},{"$f":"IF(W7>Gegevens!$F$23,0,Gegevens!$F$23-W7)","v":2.0999999999999996},{"$f":"IF(X7>Gegevens!$F$23,0,Gegevens!$F$23-X7)","v":4.8000000000000007},{"$f":"IF(Y7>Gegevens!$F$23,0,Gegevens!$F$23-Y7)","v":6.6999999999999993},{"$f":"IF(Z7>Gegevens!$F$23,0,Gegevens!$F$23-Z7)","v":14.6},null,{"$f":"INDEX($AB$3:$DS$33,$A7,12*Gegevens!$B$19-O$36)-(1*O$35)","v":4.8},{"$f":"INDEX($AB$3:$DS$33,$A7,12*Gegevens!$B$19-P$36)-(1*P$35)","v":3.3},{"$f":"INDEX($AB$3:$DS$33,$A7,12*Gegevens!$B$19-Q$36)-(1*Q$35)","v":7},{"$f":"INDEX($AB$3:$DS$33,$A7,12*Gegevens!$B$19-R$36)-(1*R$35)","v":8.3000000000000007},{"$f":"INDEX($AB$3:$DS$33,$A7,12*Gegevens!$B$19-S$36)-(1*S$35)","v":6.3},{"$f":"INDEX($AB$3:$DS$33,$A7,12*Gegevens!$B$19-T$36)-(1*T$35)","v":14.9},{"$f":"INDEX($AB$3:$DS$33,$A7,12*Gegevens!$B$19-U$36)-(1*U$35)","v":19},{"$f":"INDEX($AB$3:$DS$33,$A7,12*Gegevens!$B$19-V$36)-(1*V$35)","v":21.4},{"$f":"INDEX($AB$3:$DS$33,$A7,12*Gegevens!$B$19-W$36)-(1*W$35)","v":12.9},{"$f":"INDEX($AB$3:$DS$33,$A7,12*Gegevens!$B$19-X$36)-(1*X$35)","v":10.199999999999999},{"$f":"INDEX($AB$3:$DS$33,$A7,12*Gegevens!$B$19-Y$36)-(1*Y$35)","v":8.3000000000000007},{"$f":"INDEX($AB$3:$DS$33,$A7,12*Gegevens!$B$19-Z$36)-(1*Z$35)","v":0.4},null,4.8,3.3,7,8.3000000000000007,6.3,14.9,19,21.4,12.9,10.199999999999999,8.3000000000000007,0.4,7.6,0,7.4,6.7,16.3,16.600000000000001,21.1,22.3,19.600000000000001,14.6,10.5,7.9,0.8,5.3,6.2,9,9.8000000000000007,17,21,15.4,19.2,12.1,6.7,5.3,6.5,8.6999999999999993,2.2999999999999998,10.5,13.5,18,16.2,16.100000000000001,17.7,9.6999999999999993,7,1.3,1,-1,4,6.1,16.3,17.2,20.5,20.3,12.5,14.1,14.3,6.9,7.7,7.4,6.4,12.2,14,12.6,18.899999999999999,18.7,20,12.1,7.4,3.6,8.5,3.5,11.2,2.7,13,17.2,17.100000000000001,22.4,24.3,14.9,6.5,4,7.5,-6.5,1.8,7,7.9,10.4,19.899999999999999,18.600000000000001,17.100000000000001,14.1,5.8,1.6,null,null,null,"4780 - St Vith","St Vith","y = 1.1506x + 50.76",null,1.1506000000000001,50.76,0.99370000000000003,null,2015,356.5,328,259.89999999999998,153.19999999999999,67.3,16.399999999999999,3,1.8000000000000007,47.400000000000006,148.30000000000001,150.69999999999999,166,1698.5]
[6,{"$f":"IF(O8>Gegevens!$F$23,0,Gegevens!$F$23-O8)","v":10.9},{"$f":"IF(P8>Gegevens!$F$23,0,Gegevens!$F$23-P8)","v":9.6},{"$f":"IF(Q8>Gegevens!$F$23,0,Gegevens!$F$23-Q8)","v":4.9000000000000004},{"$f":"IF(R8>Gegevens!$F$23,0,Gegevens!$F$23-R8)","v":4.4000000000000004},{"$f":"IF(S8>Gegevens!$F$23,0,Gegevens!$F$23-S8)","v":8.4},{"$f":"IF(T8>Gegevens!$F$23,0,Gegevens!$F$23-T8)","v":2.0999999999999996},{"$f":"IF(U8>Gegevens!$F$23,0,Gegevens!$F$23-U8)","v":0},{"$f":"IF(V8>Gegevens!$F$23,0,Gegevens!$F$23-V8)","v":0},{"$f":"IF(W8>Gegevens!$F$23,0,Gegevens!$F$23-W8)","v":1.5999999999999996},{"$f":"IF(X8>Gegevens!$F$23,0,Gegevens!$F$23-X8)","v":3.5},{"$f":"IF(Y8>Gegevens!$F$23,0,Gegevens!$F$23-Y8)","v":6.5},{"$f":"IF(Z8>Gegevens!$F$23,0,Gegevens!$F$23-Z8)","v":10.199999999999999},null,{"$f":"INDEX($AB$3:$DS$33,$A8,12*Gegevens!$B$19-O$36)-(1*O$35)","v":4.0999999999999996},{"$f":"INDEX($AB$3:$DS$33,$A8,12*Gegevens!$B$19-P$36)-(1*P$35)","v":5.4},{"$f":"INDEX($AB$3:$DS$33,$A8,12*Gegevens!$B$19-Q$36)-(1*Q$35)","v":10.1},{"$f":"INDEX($AB$3:$DS$33,$A8,12*Gegevens!$B$19-R$36)-(1*R$35)","v":10.6},{"$f":"INDEX($AB$3:$DS$33,$A8,12*Gegevens!$B$19-S$36)-(1*S$35)","v":6.6},{"$f":"INDEX($AB$3:$DS$33,$A8,12*Gegevens!$B$19-T$36)-(1*T$35)","v":12.9},{"$f":"INDEX($AB$3:$DS$33,$A8,12*Gegevens!$B$19-U$36)-(1*U$35)","v":19},{"$f":"INDEX($AB$3:$DS$33,$A8,12*Gegevens!$B$19-V$36)-(1*V$35)","v":19.7},{"$f":"INDEX($AB$3:$DS$33,$A8,12*Gegevens!$B$19-W$36)-(1*W$35)","v":13.4},{"$f":"INDEX($AB$3:$DS$33,$A8,12*Gegevens!$B$19-X$36)-(1*X$35)","v":11.5},{"$f":"INDEX($AB$3:$DS$33,$A8,12*Gegevens!$B$19-Y$36)-(1*Y$35)","v":8.5},{"$f":"INDEX($AB$3:$DS$33,$A8,12*Gegevens!$B$19-Z$36)-(1*Z$35)","v":4.8},null,4.0999999999999996,5.4,10.1,10.6,6.6,12.9,19,19.7,13.4,11.5,8.5,4.8,5.3,-1.3,7.6,10.1,19.2,20.7,22.1,25.4,17.8,17.100000000000001,14.9,11.3,-2.8,5.5,5.7,7.3,13.2,14.3,21.4,16,16.100000000000001,10.5,5.3,6.5,6.7,9.6,2.5,8.5,16.7,19.399999999999999,15.8,16.399999999999999,18.7,8.4,4.8,5.0999999999999996,0.1,-0.7,5.4,5,12.4,22.2,19.399999999999999,22.8,12.1,16,15.6,9.8000000000000007,11.6,7.3,7.5,14.1,14.7,18.100000000000001,17.8,17.5,17.7,12.6,6.9,4.5999999999999996,7.2,2.2000000000000002,13.1,4,14.8,20.2,20.8,18.7,19.899999999999999,13.9,11.1,3.2,5.2,-4.5999999999999996,3.7,6.7,8,14.3,18.100000000000001,16.600000000000001,14.6,12.3,6,0.3,null,null,null,"4890 - Thimister","Thimister","y = 1.0777x + 15.305",null,1.0777000000000001,15.305,0.99929999999999997,null,2014,274.79999999999995,235,179.89999999999998,82.1,63.499999999999993,7.6999999999999993,1.6999999999999993,12.999999999999998,9.3000000000000007,57.5,185.7,330,1440.2]
[7,{"$f":"IF(O9>Gegevens!$F$23,0,Gegevens!$F$23-O9)","v":8.9},{"$f":"IF(P9>Gegevens!$F$23,0,Gegevens!$F$23-P9)","v":7.3},{"$f":"IF(Q9>Gegevens!$F$23,0,Gegevens!$F$23-Q9)","v":6.6},{"$f":"IF(R9>Gegevens!$F$23,0,Gegevens!$F$23-R9)","v":2.0999999999999996},{"$f":"IF(S9>Gegevens!$F$23,0,Gegevens!$F$23-S9)","v":5.6999999999999993},{"$f":"IF(T9>Gegevens!$F$23,0,Gegevens!$F$23-T9)","v":0.69999999999999929},{"$f":"IF(U9>Gegevens!$F$23,0,Gegevens!$F$23-U9)","v":0},{"$f":"IF(V9>Gegevens!$F$23,0,Gegevens!$F$23-V9)","v":0},{"$f":"IF(W9>Gegevens!$F$23,0,Gegevens!$F$23-W9)","v":1.3000000000000007},{"$f":"IF(X9>Gegevens!$F$23,0,Gegevens!$F$23-X9)","v":4.0999999999999996},{"$f":"IF(Y9>Gegevens!$F$23,0,Gegevens!$F$23-Y9)","v":7.8},{"$f":"IF(Z9>Gegevens!$F$23,0,Gegevens!$F$23-Z9)","v":6.3000000000000007},null,{"$f":"INDEX($AB$3:$DS$33,$A9,12*Gegevens!$B$19-O$36)-(1*O$35)","v":6.1},{"$f":"INDEX($AB$3:$DS$33,$A9,12*Gegevens!$B$19-P$36)-(1*P$35)","v":7.7},{"$f":"INDEX($AB$3:$DS$33,$A9,12*Gegevens!$B$19-Q$36)-(1*Q$35)","v":8.4},{"$f":"INDEX($AB$3:$DS$33,$A9,12*Gegevens!$B$19-R$36)-(1*R$35)","v":12.9},{"$f":"INDEX($AB$3:$DS$33,$A9,12*Gegevens!$B$19-S$36)-(1*S$35)","v":9.3000000000000007},{"$f":"INDEX($AB$3:$DS$33,$A9,12*Gegevens!$B$19-T$36)-(1*T$35)","v":14.3},{"$f":"INDEX($AB$3:$DS$33,$A9,12*Gegevens!$B$19-U$36)-(1*U$35)","v":19},{"$f":"INDEX($AB$3:$DS$33,$A9,12*Gegevens!$B$19-V$36)-(1*V$35)","v":19.3},{"$f":"INDEX($AB$3:$DS$33,$A9,12*Gegevens!$B$19-W$36)-(1*W$35)","v":13.7},{"$f":"INDEX($AB$3:$DS$33,$A9,12*Gegevens!$B$19-X$36)-(1*X$35)","v":10.9},{"$f":"INDEX($AB$3:$DS$33,$A9,12*Gegevens!$B$19-Y$36)-(1*Y$35)","v":7.2},{"$f":"INDEX($AB$3:$DS$33,$A9,12*Gegevens!$B$19-Z$36)-(1*Z$35)","v":8.6999999999999993},null,6.1,7.7,8.4,12.9,9.3000000000000007,14.3,19,19.3,13.7,10.9,7.2,8.6999999999999993,3,-1.3,5.6,15.7,19.2,20.9,22,26.9,14.5,12.1,10.7,9.3000000000000007,-1.6,5.0999999999999996,6.4,9,11.2,14.1,23,17.600000000000001,14.9,10.3,4.2,4.8,6.3,8.1,1.3,7.4,19.3,19.399999999999999,17.7,18.7,19.600000000000001,10.7,4.2,7.6,3.2,1.3,8.6999999999999993,7.9,11.9,15.7,20.5,21.7,13.4,13.5,17.3,10.7,10.7,7.8,9.1,16.3,12.1,22.1,16.899999999999999,19,16.899999999999999,12.1,8.6,2.7,7.8,1.4,11,5.8,15.1,20.9,22.3,15.8,17.100000000000001,13.3,11.6,5.8,7.2,-8.1999999999999993,3.9,5.7,10.9,17,18.2,15.6,16.3,9.6,9.4,1.1000000000000001,null,null,null,"4970 - Francorchamps","Francorchamps","y = 1.1692x + 65.585",null,1.1692,65.584999999999994,0.99299999999999999,null,2013,389.6,381.3,370.3,187.8,119.80000000000001,25.5,0,0,39.099999999999994,77.199999999999989,257.2,277,2124.8000000000002]
[8,{"$f":"IF(O10>Gegevens!$F$23,0,Gegevens!$F$23-O10)","v":8.6999999999999993},{"$f":"IF(P10>Gegevens!$F$23,0,Gegevens!$F$23-P10)","v":7.3},{"$f":"IF(Q10>Gegevens!$F$23,0,Gegevens!$F$23-Q10)","v":7.1},{"$f":"IF(R10>Gegevens!$F$23,0,Gegevens!$F$23-R10)","v":5.3000000000000007},{"$f":"IF(S10>Gegevens!$F$23,0,Gegevens!$F$23-S10)","v":5},{"$f":"IF(T10>Gegevens!$F$23,0,Gegevens!$F$23-T10)","v":1.1999999999999993},{"$f":"IF(U10>Gegevens!$F$23,0,Gegevens!$F$23-U10)","v":0},{"$f":"IF(V10>Gegevens!$F$23,0,Gegevens!$F$23-V10)","v":0},{"$f":"IF(W10>Gegevens!$F$23,0,Gegevens!$F$23-W10)","v":1.9000000000000004},{"$f":"IF(X10>Gegevens!$F$23,0,Gegevens!$F$23-X10)","v":2.0999999999999996},{"$f":"IF(Y10>Gegevens!$F$23,0,Gegevens!$F$23-Y10)","v":9.6999999999999993},{"$f":"IF(Z10>Gegevens!$F$23,0,Gegevens!$F$23-Z10)","v":6},null,{"$f":"INDEX($AB$3:$DS$33,$A10,12*Gegevens!$B$19-O$36)-(1*O$35)","v":6.3},{"$f":"INDEX($AB$3:$DS$33,$A10,12*Gegevens!$B$19-P$36)-(1*P$35)","v":7.7},{"$f":"INDEX($AB$3:$DS$33,$A10,12*Gegevens!$B$19-Q$36)-(1*Q$35)","v":7.9},{"$f":"INDEX($AB$3:$DS$33,$A10,12*Gegevens!$B$19-R$36)-(1*R$35)","v":9.6999999999999993},{"$f":"INDEX($AB$3:$DS$33,$A10,12*Gegevens!$B$19-S$36)-(1*S$35)","v":10},{"$f":"INDEX($AB$3:$DS$33,$A10,12*Gegevens!$B$19-T$36)-(1*T$35)","v":13.8},{"$f":"INDEX($AB$3:$DS$33,$A10,12*Gegevens!$B$19-U$36)-(1*U$35)","v":19},{"$f":"INDEX($AB$3:$DS$33,$A10,12*Gegevens!$B$19-V$36)-(1*V$35)","v":18.8},{"$f":"INDEX($AB$3:$DS$33,$A10,12*Gegevens!$B$19-W$36)-(1*W$35)","v":13.1},{"$f":"INDEX($AB$3:$DS$33,$A10,12*Gegevens!$B$19-X$36)-(1*X$35)","v":12.9},{"$f":"INDEX($AB$3:$DS$33,$A10,12*Gegevens!$B$19-Y$36)-(1*Y$35)","v":5.3},{"$f":"INDEX($AB$3:$DS$33,$A10,12*Gegevens!$B$19-Z$36)-(1*Z$35)","v":9},null,6.3,7.7,7.9,9.6999999999999993,10,13.8,19,18.8,13.1,12.9,5.3,9,3,-0.8,5,17.2,20.8,19,20.9,19.7,14.6,10.3,9.3000000000000007,8.6,2.8,3.5,7.8,10.4,9.4,18.7,20.100000000000001,15.6,14.9,12.2,5.0999999999999996,2.2999999999999998,5.0999999999999996,7.9,2.8,7.3,19.8,17.399999999999999,18.7,16.8,19.399999999999999,10.199999999999999,2.7,7.1,6.4,4.2,10.8,8.6,15.3,14.1,15.2,20.399999999999999,14.7,11.7,14.5,10,9.6,6.9,11.8,9.4,11.7,21.5,14.4,18.8,16.399999999999999,13.5,10.199999999999999,2.1,7.2,0.7,11.3,6.1,14.1,17.3,22,16.8,15.9,14.2,9.3000000000000007,7.1,6,-4.5,4.5999999999999996,6,14.4,15.2,16.2,15.9,18,9.6,9.1999999999999993,-0.2,null,null,null,"5020 - Malonne","Malonne","y = 1.0146x + 11.841",null,1.0145999999999999,11.840999999999999,0.99890000000000001,null,2012,307.7,416.29999999999995,188.1,199.8,68.199999999999989,27.099999999999994,3.8000000000000025,1.1999999999999993,40.700000000000003,127.50000000000001,237.10000000000002,306.10000000000002,{"$f":"SUM(EF10:EQ10)","v":1923.6}]
[9,{"$f":"IF(O11>Gegevens!$F$23,0,Gegevens!$F$23-O11)","v":10.9},{"$f":"IF(P11>Gegevens!$F$23,0,Gegevens!$F$23-P11)","v":7},{"$f":"IF(Q11>Gegevens!$F$23,0,Gegevens!$F$23-Q11)","v":5.5},{"$f":"IF(R11>Gegevens!$F$23,0,Gegevens!$F$23-R11)","v":5.4},{"$f":"IF(S11>Gegevens!$F$23,0,Gegevens!$F$23-S11)","v":4},{"$f":"IF(T11>Gegevens!$F$23,0,Gegevens!$F$23-T11)","v":0.19999999999999929},{"$f":"IF(U11>Gegevens!$F$23,0,Gegevens!$F$23-U11)","v":0},{"$f":"IF(V11>Gegevens!$F$23,0,Gegevens!$F$23-V11)","v":0},{"$f":"IF(W11>Gegevens!$F$23,0,Gegevens!$F$23-W11)","v":3},{"$f":"IF(X11>Gegevens!$F$23,0,Gegevens!$F$23-X11)","v":3.8000000000000007},{"$f":"IF(Y11>Gegevens!$F$23,0,Gegevens!$F$23-Y11)","v":9.8000000000000007},{"$f":"IF(Z11>Gegevens!$F$23,0,Gegevens!$F$23-Z11)","v":8.6999999999999993},null,{"$f":"INDEX($AB$3:$DS$33,$A11,12*Gegevens!$B$19-O$36)-(1*O$35)","v":4.0999999999999996},{"$f":"INDEX($AB$3:$DS$33,$A11,12*Gegevens!$B$19-P$36)-(1*P$35)","v":8},{"$f":"INDEX($AB$3:$DS$33,$A11,12*Gegevens!$B$19-Q$36)-(1*Q$35)","v":9.5},{"$f":"INDEX($AB$3:$DS$33,$A11,12*Gegevens!$B$19-R$36)-(1*R$35)","v":9.6},{"$f":"INDEX($AB$3:$DS$33,$A11,12*Gegevens!$B$19-S$36)-(1*S$35)","v":11},{"$f":"INDEX($AB$3:$DS$33,$A11,12*Gegevens!$B$19-T$36)-(1*T$35)","v":14.8},{"$f":"INDEX($AB$3:$DS$33,$A11,12*Gegevens!$B$19-U$36)-(1*U$35)","v":16.100000000000001},{"$f":"INDEX($AB$3:$DS$33,$A11,12*Gegevens!$B$19-V$36)-(1*V$35)","v":21.5},{"$f":"INDEX($AB$3:$DS$33,$A11,12*Gegevens!$B$19-W$36)-(1*W$35)","v":12},{"$f":"INDEX($AB$3:$DS$33,$A11,12*Gegevens!$B$19-X$36)-(1*X$35)","v":11.2},{"$f":"INDEX($AB$3:$DS$33,$A11,12*Gegevens!$B$19-Y$36)-(1*Y$35)","v":5.2},{"$f":"INDEX($AB$3:$DS$33,$A11,12*Gegevens!$B$19-Z$36)-(1*Z$35)","v":6.3},null,4.0999999999999996,8,9.5,9.6,11,14.8,16.100000000000001,21.5,12,11.2,5.2,6.3,4.4000000000000004,-0.3,6.9,14.1,17.7,19.399999999999999,19.8,17.5,18,13,9.6,8,4.3,0.7,10.199999999999999,14.5,9.6,16.8,20.100000000000001,16.5,13,13.1,7.4,0.5,6.2,4.5,4.8,9.6,19.2,15.9,19.7,14.6,16.7,8.1,4.0999999999999996,8.6,9.6,3.1,9.1999999999999993,12.1,14.7,13.2,15.2,19.2,15.3,10.6,14.2,6.9,9.4,5.6,12.9,9.5,12.9,21.5,13.9,19,14.8,14.9,10.5,3.6,5.8,-0.5,7.4,6.6,12.7,14.3,20.9,17,12.8,13.7,8.3000000000000007,5.8,8,-4.5999999999999996,7.4,8.9,16.100000000000001,13.3,16.5,18.3,21.3,10.4,8.9,3.8,null,null,null,"5030 - Ernage","Ernage","y = 1.0229x + 23.05",null,1.0228999999999999,23.05,0.99819999999999998]
[10,{"$f":"IF(O12>Gegevens!$F$23,0,Gegevens!$F$23-O12)","v":12},{"$f":"IF(P12>Gegevens!$F$23,0,Gegevens!$F$23-P12)","v":8.3000000000000007},{"$f":"IF(Q12>Gegevens!$F$23,0,Gegevens!$F$23-Q12)","v":7.3},{"$f":"IF(R12>Gegevens!$F$23,0,Gegevens!$F$23-R12)","v":6.5},{"$f":"IF(S12>Gegevens!$F$23,0,Gegevens!$F$23-S12)","v":3.3000000000000007},{"$f":"IF(T12>Gegevens!$F$23,0,Gegevens!$F$23-T12)","v":0},{"$f":"IF(U12>Gegevens!$F$23,0,Gegevens!$F$23-U12)","v":0},{"$f":"IF(V12>Gegevens!$F$23,0,Gegevens!$F$23-V12)","v":0},{"$f":"IF(W12>Gegevens!$F$23,0,Gegevens!$F$23-W12)","v":0},{"$f":"IF(X12>Gegevens!$F$23,0,Gegevens!$F$23-X12)","v":2.5999999999999996},{"$f":"IF(Y12>Gegevens!$F$23,0,Gegevens!$F$23-Y12)","v":10.7},{"$f":"IF(Z12>Gegevens!$F$23,0,Gegevens!$F$23-Z12)","v":10.5},null,{"$f":"INDEX($AB$3:$DS$33,$A12,12*Gegevens!$B$19-O$36)-(1*O$35)","v":3},{"$f":"INDEX($AB$3:$DS$33,$A12,12*Gegevens!$B$19-P$36)-(1*P$35)","v":6.7},{"$f":"INDEX($AB$3:$DS$33,$A12,12*Gegevens!$B$19-Q$36)-(1*Q$35)","v":7.7},{"$f":"INDEX($AB$3:$DS$33,$A12,12*Gegevens!$B$19-R$36)-(1*R$35)","v":8.5},{"$f":"INDEX($AB$3:$DS$33,$A12,12*Gegevens!$B$19-S$36)-(1*S$35)","v":11.7},{"$f":"INDEX($AB$3:$DS$33,$A12,12*Gegevens!$B$19-T$36)-(1*T$35)","v":16.399999999999999},{"$f":"INDEX($AB$3:$DS$33,$A12,12*Gegevens!$B$19-U$36)-(1*U$35)","v":18.3},{"$f":"INDEX($AB$3:$DS$33,$A12,12*Gegevens!$B$19-V$36)-(1*V$35)","v":20.6},{"$f":"INDEX($AB$3:$DS$33,$A12,12*Gegevens!$B$19-W$36)-(1*W$35)","v":15.3},{"$f":"INDEX($AB$3:$DS$33,$A12,12*Gegevens!$B$19-X$36)-(1*X$35)","v":12.4},{"$f":"INDEX($AB$3:$DS$33,$A12,12*Gegevens!$B$19-Y$36)-(1*Y$35)","v":4.3},{"$f":"INDEX($AB$3:$DS$33,$A12,12*Gegevens!$B$19-Z$36)-(1*Z$35)","v":4.5},null,3,6.7,7.7,8.5,11.7,16.399999999999999,18.3,20.6,15.3,12.4,4.3,4.5,6.8,2.8,11.8,13.8,12.4,20.7,15.3,17.3,17.8,16.2,11.5,4.9000000000000004,4.5,-1.4,7,10.5,12.2,18.899999999999999,19.100000000000001,14.7,13,14.1,8,3,6.4,3.7,4.8,10,16,16.600000000000001,22.1,12.1,19.100000000000001,8,6.5,7.3,10,5,8.9,15.2,14.5,12.4,17.899999999999999,20.100000000000001,14.7,10.6,13,4.4000000000000004,5.4,4.9000000000000004,11.8,11.2,11.1,19.399999999999999,16.600000000000001,18.600000000000001,14.7,14,9.5,6.2,4.9000000000000004,-0.2,1.1000000000000001,7.5,11.6,13,18.2,15.8,11.7,8.1999999999999993,5.4,4.7,8.9,-5,9.1999999999999993,8.1999999999999993,20.3,13.4,15.5,17.2,19.8,8.4,10.4,3.1,null,null,null,"5540 - Hastière","Hastière","y = 1.0408x + 12.367",null,1.0407999999999999,12.367000000000001,0.99770000000000003]
[11,{"$f":"IF(O13>Gegevens!$F$23,0,Gegevens!$F$23-O13)","v":10.199999999999999},{"$f":"IF(P13>Gegevens!$F$23,0,Gegevens!$F$23-P13)","v":11.1},{"$f":"IF(Q13>Gegevens!$F$23,0,Gegevens!$F$23-Q13)","v":9.9},{"$f":"IF(R13>Gegevens!$F$23,0,Gegevens!$F$23-R13)","v":8.5},{"$f":"IF(S13>Gegevens!$F$23,0,Gegevens!$F$23-S13)","v":3.9000000000000004},{"$f":"IF(T13>Gegevens!$F$23,0,Gegevens!$F$23-T13)","v":0.69999999999999929},{"$f":"IF(U13>Gegevens!$F$23,0,Gegevens!$F$23-U13)","v":0},{"$f":"IF(V13>Gegevens!$F$23,0,Gegevens!$F$23-V13)","v":0},{"$f":"IF(W13>Gegevens!$F$23,0,Gegevens!$F$23-W13)","v":0},{"$f":"IF(X13>Gegevens!$F$23,0,Gegevens!$F$23-X13)","v":0.5},{"$f":"IF(Y13>Gegevens!$F$23,0,Gegevens!$F$23-Y13)","v":9.5},{"$f":"IF(Z13>Gegevens!$F$23,0,Gegevens!$F$23-Z13)","v":9.6},null,{"$f":"INDEX($AB$3:$DS$33,$A13,12*Gegevens!$B$19-O$36)-(1*O$35)","v":4.8},{"$f":"INDEX($AB$3:$DS$33,$A13,12*Gegevens!$B$19-P$36)-(1*P$35)","v":3.9},{"$f":"INDEX($AB$3:$DS$33,$A13,12*Gegevens!$B$19-Q$36)-(1*Q$35)","v":5.0999999999999996},{"$f":"INDEX($AB$3:$DS$33,$A13,12*Gegevens!$B$19-R$36)-(1*R$35)","v":6.5},{"$f":"INDEX($AB$3:$DS$33,$A13,12*Gegevens!$B$19-S$36)-(1*S$35)","v":11.1},{"$f":"INDEX($AB$3:$DS$33,$A13,12*Gegevens!$B$19-T$36)-(1*T$35)","v":14.3},{"$f":"INDEX($AB$3:$DS$33,$A13,12*Gegevens!$B$19-U$36)-(1*U$35)","v":20.2},{"$f":"INDEX($AB$3:$DS$33,$A13,12*Gegevens!$B$19-V$36)-(1*V$35)","v":17.399999999999999},{"$f":"INDEX($AB$3:$DS$33,$A13,12*Gegevens!$B$19-W$36)-(1*W$35)","v":15.5},{"$f":"INDEX($AB$3:$DS$33,$A13,12*Gegevens!$B$19-X$36)-(1*X$35)","v":14.5},{"$f":"INDEX($AB$3:$DS$33,$A13,12*Gegevens!$B$19-Y$36)-(1*Y$35)","v":5.5},{"$f":"INDEX($AB$3:$DS$33,$A13,12*Gegevens!$B$19-Z$36)-(1*Z$35)","v":5.4},null,4.8,3.9,5.0999999999999996,6.5,11.1,14.3,20.2,17.399999999999999,15.5,14.5,5.5,5.4,6.6,3.7,12.1,11.2,13.2,18.8,18,16.7,19.7,19.399999999999999,11.4,2.6,6.1,0.1,8.5,9.1,15.1,22.3,17.7,16.600000000000001,13.8,14.3,6.6,1,5.5,3.5,5.0999999999999996,13.4,18.100000000000001,17.2,17.899999999999999,12.6,18.899999999999999,8.4,2.8,7.5,4.8,2.7,5.0999999999999996,11.1,19.5,16.2,21.1,20.3,15.2,8.1,12,6.4,4.5,5.6,9.6,11.4,10.7,18.600000000000001,16.3,15.9,15.2,12.1,10.4,6.6,4.0999999999999996,-0.9,-2.2999999999999998,10.6,10.4,16,16.2,16.7,13.8,7.8,5.8,4.5,8.8000000000000007,-6.9,10.199999999999999,7.3,14.7,15,15.2,17.899999999999999,16.100000000000001,11.5,7,-0.7,null,null,null,"5550 - Sugny","Sugny","y = 1.1242x + 30.185",null,1.1242000000000001,30.184999999999999,0.997]
[12,{"$f":"IF(O14>Gegevens!$F$23,0,Gegevens!$F$23-O14)","v":8.6},{"$f":"IF(P14>Gegevens!$F$23,0,Gegevens!$F$23-P14)","v":11.5},{"$f":"IF(Q14>Gegevens!$F$23,0,Gegevens!$F$23-Q14)","v":8.1},{"$f":"IF(R14>Gegevens!$F$23,0,Gegevens!$F$23-R14)","v":9.8000000000000007},{"$f":"IF(S14>Gegevens!$F$23,0,Gegevens!$F$23-S14)","v":5.4},{"$f":"IF(T14>Gegevens!$F$23,0,Gegevens!$F$23-T14)","v":1.3000000000000007},{"$f":"IF(U14>Gegevens!$F$23,0,Gegevens!$F$23-U14)","v":0},{"$f":"IF(V14>Gegevens!$F$23,0,Gegevens!$F$23-V14)","v":0},{"$f":"IF(W14>Gegevens!$F$23,0,Gegevens!$F$23-W14)","v":0},{"$f":"IF(X14>Gegevens!$F$23,0,Gegevens!$F$23-X14)","v":0},{"$f":"IF(Y14>Gegevens!$F$23,0,Gegevens!$F$23-Y14)","v":10.199999999999999},{"$f":"IF(Z14>Gegevens!$F$23,0,Gegevens!$F$23-Z14)","v":11.1},null,{"$f":"INDEX($AB$3:$DS$33,$A14,12*Gegevens!$B$19-O$36)-(1*O$35)","v":6.4},{"$f":"INDEX($AB$3:$DS$33,$A14,12*Gegevens!$B$19-P$36)-(1*P$35)","v":3.5},{"$f":"INDEX($AB$3:$DS$33,$A14,12*Gegevens!$B$19-Q$36)-(1*Q$35)","v":6.9},{"$f":"INDEX($AB$3:$DS$33,$A14,12*Gegevens!$B$19-R$36)-(1*R$35)","v":5.2},{"$f":"INDEX($AB$3:$DS$33,$A14,12*Gegevens!$B$19-S$36)-(1*S$35)","v":9.6},{"$f":"INDEX($AB$3:$DS$33,$A14,12*Gegevens!$B$19-T$36)-(1*T$35)","v":13.7},{"$f":"INDEX($AB$3:$DS$33,$A14,12*Gegevens!$B$19-U$36)-(1*U$35)","v":17.8},{"$f":"INDEX($AB$3:$DS$33,$A14,12*Gegevens!$B$19-V$36)-(1*V$35)","v":15.6},{"$f":"INDEX($AB$3:$DS$33,$A14,12*Gegevens!$B$19-W$36)-(1*W$35)","v":19},{"$f":"INDEX($AB$3:$DS$33,$A14,12*Gegevens!$B$19-X$36)-(1*X$35)","v":15.7},{"$f":"INDEX($AB$3:$DS$33,$A14,12*Gegevens!$B$19-Y$36)-(1*Y$35)","v":4.8},{"$f":"INDEX($AB$3:$DS$33,$A14,12*Gegevens!$B$19-Z$36)-(1*Z$35)","v":3.9},null,6.4,3.5,6.9,5.2,9.6,13.7,17.8,15.6,19,15.7,4.8,3.9,6,2,9.9,10,17.8,15.4,19.5,21.8,15.9,18.7,9.8000000000000007,1.9,4.5,2.9,10.199999999999999,9.9,16,15.5,16.3,15.8,14.2,14,5.2,1,5.5,2.7,4.3,10.5,17.600000000000001,16.3,15.7,17.600000000000001,22.2,8.1,2.2000000000000002,6,8.1,1.8,7.2,11.1,15.7,19.7,16.3,22.6,16.2,6.3,13.3,8.5,3,5.5,10.5,10.6,10,17.899999999999999,16.3,15,16.100000000000001,12.5,10.7,8.3000000000000007,1.2,-1.5,-3.2,9.9,9,18.600000000000001,15.4,16.899999999999999,13.5,7.5,7.3,1.7,7.4,-5,8.8000000000000007,6.6,9.5,15.2,15,20.2,13,12.2,6.2,-1.4,null,null,null,"5580 - Rochefort","Rochefort","y = 1.0735x + 34.322",null,1.0734999999999999,34.322000000000003,0.99550000000000005]
[13,{"$f":"IF(O15>Gegevens!$F$23,0,Gegevens!$F$23-O15)","v":6.6},{"$f":"IF(P15>Gegevens!$F$23,0,Gegevens!$F$23-P15)","v":11.4},{"$f":"IF(Q15>Gegevens!$F$23,0,Gegevens!$F$23-Q15)","v":8.1999999999999993},{"$f":"IF(R15>Gegevens!$F$23,0,Gegevens!$F$23-R15)","v":11.2},{"$f":"IF(S15>Gegevens!$F$23,0,Gegevens!$F$23-S15)","v":4},{"$f":"IF(T15>Gegevens!$F$23,0,Gegevens!$F$23-T15)","v":1.0999999999999996},{"$f":"IF(U15>Gegevens!$F$23,0,Gegevens!$F$23-U15)","v":0},{"$f":"IF(V15>Gegevens!$F$23,0,Gegevens!$F$23-V15)","v":0.90000000000000036},{"$f":"IF(W15>Gegevens!$F$23,0,Gegevens!$F$23-W15)","v":0},{"$f":"IF(X15>Gegevens!$F$23,0,Gegevens!$F$23-X15)","v":0},{"$f":"IF(Y15>Gegevens!$F$23,0,Gegevens!$F$23-Y15)","v":8.9},{"$f":"IF(Z15>Gegevens!$F$23,0,Gegevens!$F$23-Z15)","v":9.5},null,{"$f":"INDEX($AB$3:$DS$33,$A15,12*Gegevens!$B$19-O$36)-(1*O$35)","v":8.4},{"$f":"INDEX($AB$3:$DS$33,$A15,12*Gegevens!$B$19-P$36)-(1*P$35)","v":3.6},{"$f":"INDEX($AB$3:$DS$33,$A15,12*Gegevens!$B$19-Q$36)-(1*Q$35)","v":6.8},{"$f":"INDEX($AB$3:$DS$33,$A15,12*Gegevens!$B$19-R$36)-(1*R$35)","v":3.8},{"$f":"INDEX($AB$3:$DS$33,$A15,12*Gegevens!$B$19-S$36)-(1*S$35)","v":11},{"$f":"INDEX($AB$3:$DS$33,$A15,12*Gegevens!$B$19-T$36)-(1*T$35)","v":13.9},{"$f":"INDEX($AB$3:$DS$33,$A15,12*Gegevens!$B$19-U$36)-(1*U$35)","v":17.2},{"$f":"INDEX($AB$3:$DS$33,$A15,12*Gegevens!$B$19-V$36)-(1*V$35)","v":14.1},{"$f":"INDEX($AB$3:$DS$33,$A15,12*Gegevens!$B$19-W$36)-(1*W$35)","v":17.8},{"$f":"INDEX($AB$3:$DS$33,$A15,12*Gegevens!$B$19-X$36)-(1*X$35)","v":18.3},{"$f":"INDEX($AB$3:$DS$33,$A15,12*Gegevens!$B$19-Y$36)-(1*Y$35)","v":6.1},{"$f":"INDEX($AB$3:$DS$33,$A15,12*Gegevens!$B$19-Z$36)-(1*Z$35)","v":5.5},null,8.4,3.6,6.8,3.8,11,13.9,17.2,14.1,17.8,18.3,6.1,5.5,3.3,2.1,5.9,10.9,11.9,14.5,20,18.100000000000001,14.8,20.100000000000001,10.3,0.1,1.5,3.8,7.7,9.4,14.6,16.600000000000001,16.100000000000001,17.2,14.8,15.9,5.2,4.9000000000000004,4.8,1.3,4.0999999999999996,8.5,16.8,15.3,13.4,18,24.1,7.8,4.5999999999999996,6.2,8.4,6,5.8,9.8000000000000007,13.4,22.6,16.8,22.5,14.7,4.2,11.3,8.5,6.9,4.9000000000000004,11.5,10,10.1,18.399999999999999,17.7,16.100000000000001,16.100000000000001,14.6,9.1,4,-0.6,-0.5,-3.2,10.4,11.1,16.2,17.5,15.4,13.9,8.1999999999999993,5.9,2.9,4.0999999999999996,0.8,8.1999999999999993,7.1,9.1,10.5,15.2,20.7,13.5,8.6999999999999993,7.9,-0.5,null,null,null,"5590 - Ciney","Ciney","y = 1.0465x + 27.731",null,1.0465,27.731000000000002,0.99660000000000004]
[14,{"$f":"IF(O16>Gegevens!$F$23,0,Gegevens!$F$23-O16)","v":9.1},{"$f":"IF(P16>Gegevens!$F$23,0,Gegevens!$F$23-P16)","v":8.1999999999999993},{"$f":"IF(Q16>Gegevens!$F$23,0,Gegevens!$F$23-Q16)","v":7},{"$f":"IF(R16>Gegevens!$F$23,0,Gegevens!$F$23-R16)","v":10.6},{"$f":"IF(S16>Gegevens!$F$23,0,Gegevens!$F$23-S16)","v":3.8000000000000007},{"$f":"IF(T16>Gegevens!$F$23,0,Gegevens!$F$23-T16)","v":0},{"$f":"IF(U16>Gegevens!$F$23,0,Gegevens!$F$23-U16)","v":0},{"$f":"IF(V16>Gegevens!$F$23,0,Gegevens!$F$23-V16)","v":0},{"$f":"IF(W16>Gegevens!$F$23,0,Gegevens!$F$23-W16)","v":0},{"$f":"IF(X16>Gegevens!$F$23,0,Gegevens!$F$23-X16)","v":0},{"$f":"IF(Y16>Gegevens!$F$23,0,Gegevens!$F$23-Y16)","v":9.8000000000000007},{"$f":"IF(Z16>Gegevens!$F$23,0,Gegevens!$F$23-Z16)","v":8.6999999999999993},null,{"$f":"INDEX($AB$3:$DS$33,$A16,12*Gegevens!$B$19-O$36)-(1*O$35)","v":5.9},{"$f":"INDEX($AB$3:$DS$33,$A16,12*Gegevens!$B$19-P$36)-(1*P$35)","v":6.8},{"$f":"INDEX($AB$3:$DS$33,$A16,12*Gegevens!$B$19-Q$36)-(1*Q$35)","v":8},{"$f":"INDEX($AB$3:$DS$33,$A16,12*Gegevens!$B$19-R$36)-(1*R$35)","v":4.4000000000000004},{"$f":"INDEX($AB$3:$DS$33,$A16,12*Gegevens!$B$19-S$36)-(1*S$35)","v":11.2},{"$f":"INDEX($AB$3:$DS$33,$A16,12*Gegevens!$B$19-T$36)-(1*T$35)","v":17.7},{"$f":"INDEX($AB$3:$DS$33,$A16,12*Gegevens!$B$19-U$36)-(1*U$35)","v":15.8},{"$f":"INDEX($AB$3:$DS$33,$A16,12*Gegevens!$B$19-V$36)-(1*V$35)","v":15.8},{"$f":"INDEX($AB$3:$DS$33,$A16,12*Gegevens!$B$19-W$36)-(1*W$35)","v":16.100000000000001},{"$f":"INDEX($AB$3:$DS$33,$A16,12*Gegevens!$B$19-X$36)-(1*X$35)","v":17.100000000000001},{"$f":"INDEX($AB$3:$DS$33,$A16,12*Gegevens!$B$19-Y$36)-(1*Y$35)","v":5.2},{"$f":"INDEX($AB$3:$DS$33,$A16,12*Gegevens!$B$19-Z$36)-(1*Z$35)","v":6.3},null,5.9,6.8,8,4.4000000000000004,11.2,17.7,15.8,15.8,16.100000000000001,17.100000000000001,5.2,6.3,3.3,2.4,8.3000000000000007,12.1,12.9,15.5,21.7,18.7,13.6,19.399999999999999,9,-0.2,0.9,7.2,8.5,8.3000000000000007,14.5,19.5,16.2,19.3,11.4,16.100000000000001,5.8,3.1,2.9,1.9,3.3,9.6999999999999993,9.1,14.9,14.2,17.2,24,9.4,4.5999999999999996,7.6,4.3,6.7,4.4000000000000004,15.1,11.1,17.600000000000001,18.100000000000001,21.1,13.9,4.2,8.6999999999999993,6.9,5,5.9,10,8.6,9.8000000000000007,16.2,18.2,15.1,15.8,12.5,9.5,2.5,-2.5,-0.3,-0.9,17.7,9.8000000000000007,14.2,19.600000000000001,16,14.6,9.9,5.8,5.8,3.3,3.9,8.1,7.5,11.8,12.5,14.6,20.8,13.8,7.3,6.9,6.6,null,null,null,"5640 - St Gérard","St Gérard","y = 1.0354x + 27.502",null,1.0354000000000001,27.501999999999999,0.998]
[15,{"$f":"IF(O17>Gegevens!$F$23,0,Gegevens!$F$23-O17)","v":9.6999999999999993},{"$f":"IF(P17>Gegevens!$F$23,0,Gegevens!$F$23-P17)","v":5},{"$f":"IF(Q17>Gegevens!$F$23,0,Gegevens!$F$23-Q17)","v":5.0999999999999996},{"$f":"IF(R17>Gegevens!$F$23,0,Gegevens!$F$23-R17)","v":5.6},{"$f":"IF(S17>Gegevens!$F$23,0,Gegevens!$F$23-S17)","v":2.6999999999999993},{"$f":"IF(T17>Gegevens!$F$23,0,Gegevens!$F$23-T17)","v":0},{"$f":"IF(U17>Gegevens!$F$23,0,Gegevens!$F$23-U17)","v":0.19999999999999929},{"$f":"IF(V17>Gegevens!$F$23,0,Gegevens!$F$23-V17)","v":0},{"$f":"IF(W17>Gegevens!$F$23,0,Gegevens!$F$23-W17)","v":0},{"$f":"IF(X17>Gegevens!$F$23,0,Gegevens!$F$23-X17)","v":0.69999999999999929},{"$f":"IF(Y17>Gegevens!$F$23,0,Gegevens!$F$23-Y17)","v":11.5},{"$f":"IF(Z17>Gegevens!$F$23,0,Gegevens!$F$23-Z17)","v":7.6},null,{"$f":"INDEX($AB$3:$DS$33,$A17,12*Gegevens!$B$19-O$36)-(1*O$35)","v":5.3},{"$f":"INDEX($AB$3:$DS$33,$A17,12*Gegevens!$B$19-P$36)-(1*P$35)","v":10},{"$f":"INDEX($AB$3:$DS$33,$A17,12*Gegevens!$B$19-Q$36)-(1*Q$35)","v":9.9},{"$f":"INDEX($AB$3:$DS$33,$A17,12*Gegevens!$B$19-R$36)-(1*R$35)","v":9.4},{"$f":"INDEX($AB$3:$DS$33,$A17,12*Gegevens!$B$19-S$36)-(1*S$35)","v":12.3},{"$f":"INDEX($AB$3:$DS$33,$A17,12*Gegevens!$B$19-T$36)-(1*T$35)","v":16.2},{"$f":"INDEX($AB$3:$DS$33,$A17,12*Gegevens!$B$19-U$36)-(1*U$35)","v":14.8},{"$f":"INDEX($AB$3:$DS$33,$A17,12*Gegevens!$B$19-V$36)-(1*V$35)","v":17.5},{"$f":"INDEX($AB$3:$DS$33,$A17,12*Gegevens!$B$19-W$36)-(1*W$35)","v":16.899999999999999},{"$f":"INDEX($AB$3:$DS$33,$A17,12*Gegevens!$B$19-X$36)-(1*X$35)","v":14.3},{"$f":"INDEX($AB$3:$DS$33,$A17,12*Gegevens!$B$19-Y$36)-(1*Y$35)","v":3.5},{"$f":"INDEX($AB$3:$DS$33,$A17,12*Gegevens!$B$19-Z$36)-(1*Z$35)","v":7.4},null,5.3,10,9.9,9.4,12.3,16.2,14.8,17.5,16.899999999999999,14.3,3.5,7.4,5.4,5.4,7,13.6,17.399999999999999,17.7,23.2,18.3,15,18.3,9.5,0,0.6,10.199999999999999,11.4,8.6,16,21.7,17.5,18.7,11.3,17.600000000000001,7.9,2.9,1.9,2.8,4.8,11.3,8.8000000000000007,13.4,16.2,17.600000000000001,19.600000000000001,11.6,9.1999999999999993,6.3,8.1,5.6,5,17.5,11.2,16.7,18.3,16.7,13.5,4.3,13.3,8.5,4.5999999999999996,9.8000000000000007,9,7.6,10.1,15.1,17.600000000000001,14.5,17.600000000000001,13.1,9.1,4.5,-1.7,3.9,0.9,13.8,11.9,15.4,21,17.7,12.7,10.3,6.4,7.5,1.5,5.5,11.2,6.5,7.7,16.600000000000001,14.2,23.3,14,9.9,4.5999999999999996,8.8000000000000007,null,null,null,"5670 - Dourbes","Dourbes","y = 1.0351x + 26.915",null,1.0350999999999999,26.914999999999999,0.99780000000000002]
[16,{"$f":"IF(O18>Gegevens!$F$23,0,Gegevens!$F$23-O18)","v":9.5},{"$f":"IF(P18>Gegevens!$F$23,0,Gegevens!$F$23-P18)","v":6.4},{"$f":"IF(Q18>Gegevens!$F$23,0,Gegevens!$F$23-Q18)","v":4.5999999999999996},{"$f":"IF(R18>Gegevens!$F$23,0,Gegevens!$F$23-R18)","v":2.4000000000000004},{"$f":"IF(S18>Gegevens!$F$23,0,Gegevens!$F$23-S18)","v":2.4000000000000004},{"$f":"IF(T18>Gegevens!$F$23,0,Gegevens!$F$23-T18)","v":0},{"$f":"IF(U18>Gegevens!$F$23,0,Gegevens!$F$23-U18)","v":0},{"$f":"IF(V18>Gegevens!$F$23,0,Gegevens!$F$23-V18)","v":0},{"$f":"IF(W18>Gegevens!$F$23,0,Gegevens!$F$23-W18)","v":0},{"$f":"IF(X18>Gegevens!$F$23,0,Gegevens!$F$23-X18)","v":2.5},{"$f":"IF(Y18>Gegevens!$F$23,0,Gegevens!$F$23-Y18)","v":11.1},{"$f":"IF(Z18>Gegevens!$F$23,0,Gegevens!$F$23-Z18)","v":7.2},null,{"$f":"INDEX($AB$3:$DS$33,$A18,12*Gegevens!$B$19-O$36)-(1*O$35)","v":5.5},{"$f":"INDEX($AB$3:$DS$33,$A18,12*Gegevens!$B$19-P$36)-(1*P$35)","v":8.6},{"$f":"INDEX($AB$3:$DS$33,$A18,12*Gegevens!$B$19-Q$36)-(1*Q$35)","v":10.4},{"$f":"INDEX($AB$3:$DS$33,$A18,12*Gegevens!$B$19-R$36)-(1*R$35)","v":12.6},{"$f":"INDEX($AB$3:$DS$33,$A18,12*Gegevens!$B$19-S$36)-(1*S$35)","v":12.6},{"$f":"INDEX($AB$3:$DS$33,$A18,12*Gegevens!$B$19-T$36)-(1*T$35)","v":16.5},{"$f":"INDEX($AB$3:$DS$33,$A18,12*Gegevens!$B$19-U$36)-(1*U$35)","v":16.2},{"$f":"INDEX($AB$3:$DS$33,$A18,12*Gegevens!$B$19-V$36)-(1*V$35)","v":17.899999999999999},{"$f":"INDEX($AB$3:$DS$33,$A18,12*Gegevens!$B$19-W$36)-(1*W$35)","v":16.399999999999999},{"$f":"INDEX($AB$3:$DS$33,$A18,12*Gegevens!$B$19-X$36)-(1*X$35)","v":12.5},{"$f":"INDEX($AB$3:$DS$33,$A18,12*Gegevens!$B$19-Y$36)-(1*Y$35)","v":3.9},{"$f":"INDEX($AB$3:$DS$33,$A18,12*Gegevens!$B$19-Z$36)-(1*Z$35)","v":7.8},null,5.5,8.6,10.4,12.6,12.6,16.5,16.2,17.899999999999999,16.399999999999999,12.5,3.9,7.8,5.9,3.3,7.9,12,14.9,16.8,22.8,20.5,16.3,18.100000000000001,4.9000000000000004,2.4,0.5,7.9,11.7,8.1,21.2,16.399999999999999,18.600000000000001,18,10.6,19.8,8.6,2.1,2.1,0,5.0999999999999996,8.3000000000000007,10.199999999999999,13.5,18.600000000000001,17.7,16.8,14.1,11.5,6.9,5.6,2.7,5.9,13.3,10.4,15.5,22,16.399999999999999,15.6,6.3,12.1,11.8,7.7,6.5,10.4,9.1999999999999993,12.8,14.4,20.399999999999999,15.6,17.8,14.9,8.4,5.3,-4.9000000000000004,4.3,4.9000000000000004,13.6,9,15.7,21.7,20.6,12.1,10.7,3.2,10,0.7,5.7,10,5.4,8.1999999999999993,16.3,14.1,19.600000000000001,15.4,10.199999999999999,4.0999999999999996,7.6,null,null,null,"6500 - Thirimont","Thirimont","y = 1.0235x + 19.617",null,1.0235000000000001,19.617000000000001,0.99850000000000005]
[17,{"$f":"IF(O19>Gegevens!$F$23,0,Gegevens!$F$23-O19)","v":11.6},{"$f":"IF(P19>Gegevens!$F$23,0,Gegevens!$F$23-P19)","v":4.6999999999999993},{"$f":"IF(Q19>Gegevens!$F$23,0,Gegevens!$F$23-Q19)","v":8.6},{"$f":"IF(R19>Gegevens!$F$23,0,Gegevens!$F$23-R19)","v":3.1999999999999993},{"$f":"IF(S19>Gegevens!$F$23,0,Gegevens!$F$23-S19)","v":3.9000000000000004},{"$f":"IF(T19>Gegevens!$F$23,0,Gegevens!$F$23-T19)","v":0},{"$f":"IF(U19>Gegevens!$F$23,0,Gegevens!$F$23-U19)","v":0},{"$f":"IF(V19>Gegevens!$F$23,0,Gegevens!$F$23-V19)","v":0},{"$f":"IF(W19>Gegevens!$F$23,0,Gegevens!$F$23-W19)","v":0.30000000000000071},{"$f":"IF(X19>Gegevens!$F$23,0,Gegevens!$F$23-X19)","v":1.8000000000000007},{"$f":"IF(Y19>Gegevens!$F$23,0,Gegevens!$F$23-Y19)","v":10.6},{"$f":"IF(Z19>Gegevens!$F$23,0,Gegevens!$F$23-Z19)","v":3.4000000000000004},null,{"$f":"INDEX($AB$3:$DS$33,$A19,12*Gegevens!$B$19-O$36)-(1*O$35)","v":3.4},{"$f":"INDEX($AB$3:$DS$33,$A19,12*Gegevens!$B$19-P$36)-(1*P$35)","v":10.3},{"$f":"INDEX($AB$3:$DS$33,$A19,12*Gegevens!$B$19-Q$36)-(1*Q$35)","v":6.4},{"$f":"INDEX($AB$3:$DS$33,$A19,12*Gegevens!$B$19-R$36)-(1*R$35)","v":11.8},{"$f":"INDEX($AB$3:$DS$33,$A19,12*Gegevens!$B$19-S$36)-(1*S$35)","v":11.1},{"$f":"INDEX($AB$3:$DS$33,$A19,12*Gegevens!$B$19-T$36)-(1*T$35)","v":19.399999999999999},{"$f":"INDEX($AB$3:$DS$33,$A19,12*Gegevens!$B$19-U$36)-(1*U$35)","v":18.7},{"$f":"INDEX($AB$3:$DS$33,$A19,12*Gegevens!$B$19-V$36)-(1*V$35)","v":17.5},{"$f":"INDEX($AB$3:$DS$33,$A19,12*Gegevens!$B$19-W$36)-(1*W$35)","v":14.7},{"$f":"INDEX($AB$3:$DS$33,$A19,12*Gegevens!$B$19-X$36)-(1*X$35)","v":13.2},{"$f":"INDEX($AB$3:$DS$33,$A19,12*Gegevens!$B$19-Y$36)-(1*Y$35)","v":4.4000000000000004},{"$f":"INDEX($AB$3:$DS$33,$A19,12*Gegevens!$B$19-Z$36)-(1*Z$35)","v":11.6},null,3.4,10.3,6.4,11.8,11.1,19.399999999999999,18.7,17.5,14.7,13.2,4.4000000000000004,11.6,4.0999999999999996,3.4,-1.5,14.3,11.6,15.9,20.5,18,18.100000000000001,15.1,4.0999999999999996,6.6,-2.2999999999999998,7.1,8.9,7.8,23.2,19.7,19.399999999999999,18.100000000000001,11.4,15,6.6,1.7,-0.8,0.4,5.5,5.5,13.1,14.4,20,19,16.5,12,10,4.5,2,4.2,10.1,10.1,12.5,13.7,23.8,14.2,14.3,7.6,14,14,7.9,6.9,9.4,12.4,15,15.1,23.1,14.5,19.899999999999999,15.1,8.6,7.8,-5.5,2.8,5.8,17.2,8.4,18.100000000000001,22.5,20.2,10.5,12.8,4.9000000000000004,8,1.2,5.6,9.3000000000000007,5,10.8,16.3,17,23.1,15.7,12.2,6.5,6.8,null,null,null,"6640 - Sibret","Sibret","y = 1.1858x + 45.886",null,1.1858,45.886000000000003,0.99550000000000005]
[18,{"$f":"IF(O20>Gegevens!$F$23,0,Gegevens!$F$23-O20)","v":15.1},{"$f":"IF(P20>Gegevens!$F$23,0,Gegevens!$F$23-P20)","v":5.4},{"$f":"IF(Q20>Gegevens!$F$23,0,Gegevens!$F$23-Q20)","v":10.4},{"$f":"IF(R20>Gegevens!$F$23,0,Gegevens!$F$23-R20)","v":0},{"$f":"IF(S20>Gegevens!$F$23,0,Gegevens!$F$23-S20)","v":1.0999999999999996},{"$f":"IF(T20>Gegevens!$F$23,0,Gegevens!$F$23-T20)","v":0},{"$f":"IF(U20>Gegevens!$F$23,0,Gegevens!$F$23-U20)","v":0},{"$f":"IF(V20>Gegevens!$F$23,0,Gegevens!$F$23-V20)","v":0},{"$f":"IF(W20>Gegevens!$F$23,0,Gegevens!$F$23-W20)","v":2.5},{"$f":"IF(X20>Gegevens!$F$23,0,Gegevens!$F$23-X20)","v":2.0999999999999996},{"$f":"IF(Y20>Gegevens!$F$23,0,Gegevens!$F$23-Y20)","v":9.8000000000000007},{"$f":"IF(Z20>Gegevens!$F$23,0,Gegevens!$F$23-Z20)","v":7.1},null,{"$f":"INDEX($AB$3:$DS$33,$A20,12*Gegevens!$B$19-O$36)-(1*O$35)","v":-0.1},{"$f":"INDEX($AB$3:$DS$33,$A20,12*Gegevens!$B$19-P$36)-(1*P$35)","v":9.6},{"$f":"INDEX($AB$3:$DS$33,$A20,12*Gegevens!$B$19-Q$36)-(1*Q$35)","v":4.5999999999999996},{"$f":"INDEX($AB$3:$DS$33,$A20,12*Gegevens!$B$19-R$36)-(1*R$35)","v":15.6},{"$f":"INDEX($AB$3:$DS$33,$A20,12*Gegevens!$B$19-S$36)-(1*S$35)","v":13.9},{"$f":"INDEX($AB$3:$DS$33,$A20,12*Gegevens!$B$19-T$36)-(1*T$35)","v":21.3},{"$f":"INDEX($AB$3:$DS$33,$A20,12*Gegevens!$B$19-U$36)-(1*U$35)","v":19},{"$f":"INDEX($AB$3:$DS$33,$A20,12*Gegevens!$B$19-V$36)-(1*V$35)","v":16.399999999999999},{"$f":"INDEX($AB$3:$DS$33,$A20,12*Gegevens!$B$19-W$36)-(1*W$35)","v":12.5},{"$f":"INDEX($AB$3:$DS$33,$A20,12*Gegevens!$B$19-X$36)-(1*X$35)","v":12.9},{"$f":"INDEX($AB$3:$DS$33,$A20,12*Gegevens!$B$19-Y$36)-(1*Y$35)","v":5.2},{"$f":"INDEX($AB$3:$DS$33,$A20,12*Gegevens!$B$19-Z$36)-(1*Z$35)","v":7.9},null,-0.1,9.6,4.5999999999999996,15.6,13.9,21.3,19,16.399999999999999,12.5,12.9,5.2,7.9,6.4,2.2999999999999998,-1.5,18.2,10.8,17.100000000000001,19.600000000000001,17.399999999999999,20.8,13.7,3.2,7.1,-3,6.9,9.8000000000000007,5.3,16.8,21.8,22.3,17,11.5,15.4,4.5999999999999996,6,-4.0999999999999996,1.4,4,7.1,13.2,13.8,22,19.100000000000001,17.3,10,6,6,2.9,0.9,6.4,9.5,11.7,16.8,19.2,14,13.7,8.8000000000000007,13.2,11.6,7.3,6.6,9.1,9.1,16.899999999999999,15.5,26.4,15,19.2,18.5,8.1,11.3,-2.7,2,6,12.6,10.5,24,23.8,19.3,12.1,13,4.5999999999999996,8.5,2.5,7.2,7.9,7.5,13.7,14.5,17.899999999999999,27.2,14.1,16,7.1,5.3,null,null,null,"6660 - Nadrin","Nadrin","y = 1.1177x + 52.458",null,1.1176999999999999,52.457999999999998,0.99280000000000002]
[19,{"$f":"IF(O21>Gegevens!$F$23,0,Gegevens!$F$23-O21)","v":15.9},{"$f":"IF(P21>Gegevens!$F$23,0,Gegevens!$F$23-P21)","v":7.3},{"$f":"IF(Q21>Gegevens!$F$23,0,Gegevens!$F$23-Q21)","v":9},{"$f":"IF(R21>Gegevens!$F$23,0,Gegevens!$F$23-R21)","v":0},{"$f":"IF(S21>Gegevens!$F$23,0,Gegevens!$F$23-S21)","v":1.1999999999999993},{"$f":"IF(T21>Gegevens!$F$23,0,Gegevens!$F$23-T21)","v":0},{"$f":"IF(U21>Gegevens!$F$23,0,Gegevens!$F$23-U21)","v":0},{"$f":"IF(V21>Gegevens!$F$23,0,Gegevens!$F$23-V21)","v":0},{"$f":"IF(W21>Gegevens!$F$23,0,Gegevens!$F$23-W21)","v":2.6999999999999993},{"$f":"IF(X21>Gegevens!$F$23,0,Gegevens!$F$23-X21)","v":3.4000000000000004},{"$f":"IF(Y21>Gegevens!$F$23,0,Gegevens!$F$23-Y21)","v":11.8},{"$f":"IF(Z21>Gegevens!$F$23,0,Gegevens!$F$23-Z21)","v":2.6999999999999993},null,{"$f":"INDEX($AB$3:$DS$33,$A21,12*Gegevens!$B$19-O$36)-(1*O$35)","v":-0.9},{"$f":"INDEX($AB$3:$DS$33,$A21,12*Gegevens!$B$19-P$36)-(1*P$35)","v":7.7},{"$f":"INDEX($AB$3:$DS$33,$A21,12*Gegevens!$B$19-Q$36)-(1*Q$35)","v":6},{"$f":"INDEX($AB$3:$DS$33,$A21,12*Gegevens!$B$19-R$36)-(1*R$35)","v":17.899999999999999},{"$f":"INDEX($AB$3:$DS$33,$A21,12*Gegevens!$B$19-S$36)-(1*S$35)","v":13.8},{"$f":"INDEX($AB$3:$DS$33,$A21,12*Gegevens!$B$19-T$36)-(1*T$35)","v":19.600000000000001},{"$f":"INDEX($AB$3:$DS$33,$A21,12*Gegevens!$B$19-U$36)-(1*U$35)","v":20.100000000000001},{"$f":"INDEX($AB$3:$DS$33,$A21,12*Gegevens!$B$19-V$36)-(1*V$35)","v":16.399999999999999},{"$f":"INDEX($AB$3:$DS$33,$A21,12*Gegevens!$B$19-W$36)-(1*W$35)","v":12.3},{"$f":"INDEX($AB$3:$DS$33,$A21,12*Gegevens!$B$19-X$36)-(1*X$35)","v":11.6},{"$f":"INDEX($AB$3:$DS$33,$A21,12*Gegevens!$B$19-Y$36)-(1*Y$35)","v":3.2},{"$f":"INDEX($AB$3:$DS$33,$A21,12*Gegevens!$B$19-Z$36)-(1*Z$35)","v":12.3},null,-0.9,7.7,6,17.899999999999999,13.8,19.600000000000001,20.100000000000001,16.399999999999999,12.3,11.6,3.2,12.3,3.3,1.8,-0.3,21.1,10.1,17.8,21,19.3,19.600000000000001,12.8,3.5,7.6,-1.8,5.5,10.6,4.9000000000000004,11.7,24.7,24,15.4,12.9,17.100000000000001,4.5,3.9,-3.2,3.6,5.4,9.3000000000000007,12.6,14.4,24.3,18.100000000000001,15.8,8.6,5.4,5.4,1,3.1,6.1,9.6999999999999993,9.5,14.9,17.600000000000001,17.399999999999999,13.4,10.1,11.1,12.6,8.1999999999999993,7.2,11,11,19.8,14.9,26.3,13.3,19.8,17.8,7.5,8.5,-2.9,2.6,4.5999999999999996,8,13.2,22,22.4,17.100000000000001,11.5,14.2,5.5,7.3,8,2.1,6.7,8.5,16,14.8,16.7,28.1,10.9,17.600000000000001,7.3,5.6,null,null,null,"6700 - Arlon","Arlon","y = 1.1538x + 17.299",null,1.1537999999999999,17.298999999999999,0.99519999999999997]
[20,{"$f":"IF(O22>Gegevens!$F$23,0,Gegevens!$F$23-O22)","v":16.8},{"$f":"IF(P22>Gegevens!$F$23,0,Gegevens!$F$23-P22)","v":7.7},{"$f":"IF(Q22>Gegevens!$F$23,0,Gegevens!$F$23-Q22)","v":5.9},{"$f":"IF(R22>Gegevens!$F$23,0,Gegevens!$F$23-R22)","v":0},{"$f":"IF(S22>Gegevens!$F$23,0,Gegevens!$F$23-S22)","v":3.6999999999999993},{"$f":"IF(T22>Gegevens!$F$23,0,Gegevens!$F$23-T22)","v":0},{"$f":"IF(U22>Gegevens!$F$23,0,Gegevens!$F$23-U22)","v":0},{"$f":"IF(V22>Gegevens!$F$23,0,Gegevens!$F$23-V22)","v":0},{"$f":"IF(W22>Gegevens!$F$23,0,Gegevens!$F$23-W22)","v":1.4000000000000004},{"$f":"IF(X22>Gegevens!$F$23,0,Gegevens!$F$23-X22)","v":4.4000000000000004},{"$f":"IF(Y22>Gegevens!$F$23,0,Gegevens!$F$23-Y22)","v":13.5},{"$f":"IF(Z22>Gegevens!$F$23,0,Gegevens!$F$23-Z22)","v":4.0999999999999996},null,{"$f":"INDEX($AB$3:$DS$33,$A22,12*Gegevens!$B$19-O$36)-(1*O$35)","v":-1.8},{"$f":"INDEX($AB$3:$DS$33,$A22,12*Gegevens!$B$19-P$36)-(1*P$35)","v":7.3},{"$f":"INDEX($AB$3:$DS$33,$A22,12*Gegevens!$B$19-Q$36)-(1*Q$35)","v":9.1},{"$f":"INDEX($AB$3:$DS$33,$A22,12*Gegevens!$B$19-R$36)-(1*R$35)","v":18.399999999999999},{"$f":"INDEX($AB$3:$DS$33,$A22,12*Gegevens!$B$19-S$36)-(1*S$35)","v":11.3},{"$f":"INDEX($AB$3:$DS$33,$A22,12*Gegevens!$B$19-T$36)-(1*T$35)","v":16.8},{"$f":"INDEX($AB$3:$DS$33,$A22,12*Gegevens!$B$19-U$36)-(1*U$35)","v":20.8},{"$f":"INDEX($AB$3:$DS$33,$A22,12*Gegevens!$B$19-V$36)-(1*V$35)","v":16.3},{"$f":"INDEX($AB$3:$DS$33,$A22,12*Gegevens!$B$19-W$36)-(1*W$35)","v":13.6},{"$f":"INDEX($AB$3:$DS$33,$A22,12*Gegevens!$B$19-X$36)-(1*X$35)","v":10.6},{"$f":"INDEX($AB$3:$DS$33,$A22,12*Gegevens!$B$19-Y$36)-(1*Y$35)","v":1.5},{"$f":"INDEX($AB$3:$DS$33,$A22,12*Gegevens!$B$19-Z$36)-(1*Z$35)","v":10.9},null,-1.8,7.3,9.1,18.399999999999999,11.3,16.8,20.8,16.3,13.6,10.6,1.5,10.9,2.2000000000000002,2.6,2.9,20.9,14.8,20.7,20.6,20.3,20.100000000000001,9.6999999999999993,3.2,7.5,-0.3,8.6999999999999993,10.4,6.1,11.8,25.8,18.899999999999999,15.7,13.3,13.4,6.1,6.8,-0.8,8,5.8,9.3000000000000007,14,14.9,25.4,17.600000000000001,14.7,9.1,9.5,1.4,0.7,5.4,6.2,13.1,9.6,14,19.899999999999999,18.600000000000001,13.1,9.1999999999999993,7.5,11.9,5.8,8.3000000000000007,14.5,15.1,19.5,14.5,21.4,11.7,19.399999999999999,14,5.6,5.9,-4.2,0.9,2.7,7.5,10.3,20.8,19.3,17.5,13.4,15.2,2.4,5.4,4.9000000000000004,1.3,7.9,7.9,15.1,18.8,14.5,22.4,11,15.5,8.8000000000000007,4.3,null,null,null,"6800 - Libramont","Libramont","y = 1.1181x + 41.535",null,1.1181000000000001,41.534999999999997,0.99709999999999999]
[21,{"$f":"IF(O23>Gegevens!$F$23,0,Gegevens!$F$23-O23)","v":17.3},{"$f":"IF(P23>Gegevens!$F$23,0,Gegevens!$F$23-P23)","v":5.6},{"$f":"IF(Q23>Gegevens!$F$23,0,Gegevens!$F$23-Q23)","v":5.3000000000000007},{"$f":"IF(R23>Gegevens!$F$23,0,Gegevens!$F$23-R23)","v":0},{"$f":"IF(S23>Gegevens!$F$23,0,Gegevens!$F$23-S23)","v":2.1999999999999993},{"$f":"IF(T23>Gegevens!$F$23,0,Gegevens!$F$23-T23)","v":0},{"$f":"IF(U23>Gegevens!$F$23,0,Gegevens!$F$23-U23)","v":0},{"$f":"IF(V23>Gegevens!$F$23,0,Gegevens!$F$23-V23)","v":0},{"$f":"IF(W23>Gegevens!$F$23,0,Gegevens!$F$23-W23)","v":0},{"$f":"IF(X23>Gegevens!$F$23,0,Gegevens!$F$23-X23)","v":3.5},{"$f":"IF(Y23>Gegevens!$F$23,0,Gegevens!$F$23-Y23)","v":12.9},{"$f":"IF(Z23>Gegevens!$F$23,0,Gegevens!$F$23-Z23)","v":7.5},null,{"$f":"INDEX($AB$3:$DS$33,$A23,12*Gegevens!$B$19-O$36)-(1*O$35)","v":-2.2999999999999998},{"$f":"INDEX($AB$3:$DS$33,$A23,12*Gegevens!$B$19-P$36)-(1*P$35)","v":9.4},{"$f":"INDEX($AB$3:$DS$33,$A23,12*Gegevens!$B$19-Q$36)-(1*Q$35)","v":9.6999999999999993},{"$f":"INDEX($AB$3:$DS$33,$A23,12*Gegevens!$B$19-R$36)-(1*R$35)","v":17.899999999999999},{"$f":"INDEX($AB$3:$DS$33,$A23,12*Gegevens!$B$19-S$36)-(1*S$35)","v":12.8},{"$f":"INDEX($AB$3:$DS$33,$A23,12*Gegevens!$B$19-T$36)-(1*T$35)","v":15.5},{"$f":"INDEX($AB$3:$DS$33,$A23,12*Gegevens!$B$19-U$36)-(1*U$35)","v":19.399999999999999},{"$f":"INDEX($AB$3:$DS$33,$A23,12*Gegevens!$B$19-V$36)-(1*V$35)","v":16.3},{"$f":"INDEX($AB$3:$DS$33,$A23,12*Gegevens!$B$19-W$36)-(1*W$35)","v":17.899999999999999},{"$f":"INDEX($AB$3:$DS$33,$A23,12*Gegevens!$B$19-X$36)-(1*X$35)","v":11.5},{"$f":"INDEX($AB$3:$DS$33,$A23,12*Gegevens!$B$19-Y$36)-(1*Y$35)","v":2.1},{"$f":"INDEX($AB$3:$DS$33,$A23,12*Gegevens!$B$19-Z$36)-(1*Z$35)","v":7.5},null,-2.2999999999999998,9.4,9.6999999999999993,17.899999999999999,12.8,15.5,19.399999999999999,16.3,17.899999999999999,11.5,2.1,7.5,2.4,0.9,3.2,17.600000000000001,18.100000000000001,14.5,21.4,21.4,15.6,10.7,3.3,10.6,-1.1000000000000001,9.6999999999999993,8.1,10.3,14.7,25.2,19.100000000000001,16.899999999999999,13.7,13.6,9.8000000000000007,8.5,0.4,10.3,7,12.4,18,16.5,21,15.5,15.7,6.7,11.9,4.2,-0.1,2.9,5.9,13.2,12.1,14.3,21.4,20.6,13.1,9.3000000000000007,3.4,10.6,3.9,6.5,9.1999999999999993,12.6,16.899999999999999,15.9,18.8,13.4,15.5,11,5.2,6.2,-0.6,-1.6,2,8.1999999999999993,9.5,16.100000000000001,23.8,18.5,13.2,15.4,2.5,6.2,8.1,4.2,10.5,6.7,14.3,18.2,14.7,21.9,11.9,14.7,6.9,7.9,null,null,null,"6836 - Dohan","Dohan","y = 1.0811x + 31.998",null,1.0810999999999999,31.998000000000001,0.99590000000000001]
[22,{"$f":"IF(O24>Gegevens!$F$23,0,Gegevens!$F$23-O24)","v":16.600000000000001},{"$f":"IF(P24>Gegevens!$F$23,0,Gegevens!$F$23-P24)","v":6.5},{"$f":"IF(Q24>Gegevens!$F$23,0,Gegevens!$F$23-Q24)","v":3.4000000000000004},{"$f":"IF(R24>Gegevens!$F$23,0,Gegevens!$F$23-R24)","v":0},{"$f":"IF(S24>Gegevens!$F$23,0,Gegevens!$F$23-S24)","v":1},{"$f":"IF(T24>Gegevens!$F$23,0,Gegevens!$F$23-T24)","v":0},{"$f":"IF(U24>Gegevens!$F$23,0,Gegevens!$F$23-U24)","v":0},{"$f":"IF(V24>Gegevens!$F$23,0,Gegevens!$F$23-V24)","v":0},{"$f":"IF(W24>Gegevens!$F$23,0,Gegevens!$F$23-W24)","v":0},{"$f":"IF(X24>Gegevens!$F$23,0,Gegevens!$F$23-X24)","v":3},{"$f":"IF(Y24>Gegevens!$F$23,0,Gegevens!$F$23-Y24)","v":7.5},{"$f":"IF(Z24>Gegevens!$F$23,0,Gegevens!$F$23-Z24)","v":7.3},null,{"$f":"INDEX($AB$3:$DS$33,$A24,12*Gegevens!$B$19-O$36)-(1*O$35)","v":-1.6},{"$f":"INDEX($AB$3:$DS$33,$A24,12*Gegevens!$B$19-P$36)-(1*P$35)","v":8.5},{"$f":"INDEX($AB$3:$DS$33,$A24,12*Gegevens!$B$19-Q$36)-(1*Q$35)","v":11.6},{"$f":"INDEX($AB$3:$DS$33,$A24,12*Gegevens!$B$19-R$36)-(1*R$35)","v":18.8},{"$f":"INDEX($AB$3:$DS$33,$A24,12*Gegevens!$B$19-S$36)-(1*S$35)","v":14},{"$f":"INDEX($AB$3:$DS$33,$A24,12*Gegevens!$B$19-T$36)-(1*T$35)","v":18},{"$f":"INDEX($AB$3:$DS$33,$A24,12*Gegevens!$B$19-U$36)-(1*U$35)","v":22},{"$f":"INDEX($AB$3:$DS$33,$A24,12*Gegevens!$B$19-V$36)-(1*V$35)","v":18.2},{"$f":"INDEX($AB$3:$DS$33,$A24,12*Gegevens!$B$19-W$36)-(1*W$35)","v":19.3},{"$f":"INDEX($AB$3:$DS$33,$A24,12*Gegevens!$B$19-X$36)-(1*X$35)","v":12},{"$f":"INDEX($AB$3:$DS$33,$A24,12*Gegevens!$B$19-Y$36)-(1*Y$35)","v":7.5},{"$f":"INDEX($AB$3:$DS$33,$A24,12*Gegevens!$B$19-Z$36)-(1*Z$35)","v":7.7},null,-1.6,8.5,11.6,18.8,14,18,22,18.2,19.3,12,7.5,7.7,7.4,0.5,4.8,19.8,17.399999999999999,12.7,21.6,20.2,11.8,11.3,2.2000000000000002,9.9,-1.6,9.6,7.1,8.6,18.7,25.1,18.2,19.8,13.3,9.9,11.1,9,1.9,7.1,7,10.4,15.2,19.899999999999999,20.8,18.2,15.3,7.4,10.199999999999999,5.7,-1.3,2.6,4.7,9.5,14.4,16.100000000000001,19.8,22.4,12.1,11.6,2.2000000000000002,12,3,5.9,6.8,12.7,17.100000000000001,17.5,22.1,13.6,13.6,9.4,10.7,9.6999999999999993,-0.8,-2.2999999999999998,2.5,8.6,9.1999999999999993,15.5,25.9,18.5,16.2,17.5,3.5,7.7,6.9,5.7,13.1,7.6,16.100000000000001,15.7,15.7,17.899999999999999,11.7,17.600000000000001,7.5,7.8,null,null,null,"7170 - La Hestre","La Hestre","y = 1.0047x + 18.278",null,1.0046999999999999,18.277999999999999,0.999]
[23,{"$f":"IF(O25>Gegevens!$F$23,0,Gegevens!$F$23-O25)","v":15.8},{"$f":"IF(P25>Gegevens!$F$23,0,Gegevens!$F$23-P25)","v":6.9},{"$f":"IF(Q25>Gegevens!$F$23,0,Gegevens!$F$23-Q25)","v":5.9},{"$f":"IF(R25>Gegevens!$F$23,0,Gegevens!$F$23-R25)","v":0},{"$f":"IF(S25>Gegevens!$F$23,0,Gegevens!$F$23-S25)","v":0},{"$f":"IF(T25>Gegevens!$F$23,0,Gegevens!$F$23-T25)","v":0},{"$f":"IF(U25>Gegevens!$F$23,0,Gegevens!$F$23-U25)","v":0},{"$f":"IF(V25>Gegevens!$F$23,0,Gegevens!$F$23-V25)","v":0},{"$f":"IF(W25>Gegevens!$F$23,0,Gegevens!$F$23-W25)","v":0},{"$f":"IF(X25>Gegevens!$F$23,0,Gegevens!$F$23-X25)","v":1.6999999999999993},{"$f":"IF(Y25>Gegevens!$F$23,0,Gegevens!$F$23-Y25)","v":8.1999999999999993},{"$f":"IF(Z25>Gegevens!$F$23,0,Gegevens!$F$23-Z25)","v":7.5},null,{"$f":"INDEX($AB$3:$DS$33,$A25,12*Gegevens!$B$19-O$36)-(1*O$35)","v":-0.8},{"$f":"INDEX($AB$3:$DS$33,$A25,12*Gegevens!$B$19-P$36)-(1*P$35)","v":8.1},{"$f":"INDEX($AB$3:$DS$33,$A25,12*Gegevens!$B$19-Q$36)-(1*Q$35)","v":9.1},{"$f":"INDEX($AB$3:$DS$33,$A25,12*Gegevens!$B$19-R$36)-(1*R$35)","v":16.5},{"$f":"INDEX($AB$3:$DS$33,$A25,12*Gegevens!$B$19-S$36)-(1*S$35)","v":16.399999999999999},{"$f":"INDEX($AB$3:$DS$33,$A25,12*Gegevens!$B$19-T$36)-(1*T$35)","v":22.6},{"$f":"INDEX($AB$3:$DS$33,$A25,12*Gegevens!$B$19-U$36)-(1*U$35)","v":26.4},{"$f":"INDEX($AB$3:$DS$33,$A25,12*Gegevens!$B$19-V$36)-(1*V$35)","v":19.8},{"$f":"INDEX($AB$3:$DS$33,$A25,12*Gegevens!$B$19-W$36)-(1*W$35)","v":16.2},{"$f":"INDEX($AB$3:$DS$33,$A25,12*Gegevens!$B$19-X$36)-(1*X$35)","v":13.3},{"$f":"INDEX($AB$3:$DS$33,$A25,12*Gegevens!$B$19-Y$36)-(1*Y$35)","v":6.8},{"$f":"INDEX($AB$3:$DS$33,$A25,12*Gegevens!$B$19-Z$36)-(1*Z$35)","v":7.5},null,-0.8,8.1,9.1,16.5,16.399999999999999,22.6,26.4,19.8,16.2,13.3,6.8,7.5,8.6,-0.4,5.3,13.3,17.399999999999999,15.1,24.3,18.2,10.5,9.6,6.1,9,0.9,8.5,9.3000000000000007,6.7,17.3,18.899999999999999,15.4,21.2,12.2,11.3,12.1,8.6999999999999993,5.9,3.4,6.9,6.3,11.4,22.7,19,21.3,14.9,4.9000000000000004,9.8000000000000007,5.4,-1.1000000000000001,5.0999999999999996,5.5,10.7,14.2,11.7,18,19.5,12.1,11,1.1000000000000001,10.1,4.2,7.8,5.3,14,15.8,17.2,24,13.4,12.5,11,12.5,10.1,-4,-2.5,0.7,11.4,6.8,14.4,24.5,20.8,16.100000000000001,15.5,5,8.6,5.3,8,14.3,7.9,17.2,15.8,19.600000000000001,17.399999999999999,11.8,16,7.5,11,null,null,null,"7390 - Wasmuel","Wasmuel","y = 0.9845x + 7.8926",null,0.98450000000000004,7.8925999999999998,0.999]
[24,{"$f":"IF(O26>Gegevens!$F$23,0,Gegevens!$F$23-O26)","v":15.5},{"$f":"IF(P26>Gegevens!$F$23,0,Gegevens!$F$23-P26)","v":6.5},{"$f":"IF(Q26>Gegevens!$F$23,0,Gegevens!$F$23-Q26)","v":7.1},{"$f":"IF(R26>Gegevens!$F$23,0,Gegevens!$F$23-R26)","v":0},{"$f":"IF(S26>Gegevens!$F$23,0,Gegevens!$F$23-S26)","v":0},{"$f":"IF(T26>Gegevens!$F$23,0,Gegevens!$F$23-T26)","v":0},{"$f":"IF(U26>Gegevens!$F$23,0,Gegevens!$F$23-U26)","v":0},{"$f":"IF(V26>Gegevens!$F$23,0,Gegevens!$F$23-V26)","v":0},{"$f":"IF(W26>Gegevens!$F$23,0,Gegevens!$F$23-W26)","v":0},{"$f":"IF(X26>Gegevens!$F$23,0,Gegevens!$F$23-X26)","v":0},{"$f":"IF(Y26>Gegevens!$F$23,0,Gegevens!$F$23-Y26)","v":7.6},{"$f":"IF(Z26>Gegevens!$F$23,0,Gegevens!$F$23-Z26)","v":6.4},null,{"$f":"INDEX($AB$3:$DS$33,$A26,12*Gegevens!$B$19-O$36)-(1*O$35)","v":-0.5},{"$f":"INDEX($AB$3:$DS$33,$A26,12*Gegevens!$B$19-P$36)-(1*P$35)","v":8.5},{"$f":"INDEX($AB$3:$DS$33,$A26,12*Gegevens!$B$19-Q$36)-(1*Q$35)","v":7.9},{"$f":"INDEX($AB$3:$DS$33,$A26,12*Gegevens!$B$19-R$36)-(1*R$35)","v":15.5},{"$f":"INDEX($AB$3:$DS$33,$A26,12*Gegevens!$B$19-S$36)-(1*S$35)","v":16.8},{"$f":"INDEX($AB$3:$DS$33,$A26,12*Gegevens!$B$19-T$36)-(1*T$35)","v":25.4},{"$f":"INDEX($AB$3:$DS$33,$A26,12*Gegevens!$B$19-U$36)-(1*U$35)","v":29.4},{"$f":"INDEX($AB$3:$DS$33,$A26,12*Gegevens!$B$19-V$36)-(1*V$35)","v":22.6},{"$f":"INDEX($AB$3:$DS$33,$A26,12*Gegevens!$B$19-W$36)-(1*W$35)","v":15},{"$f":"INDEX($AB$3:$DS$33,$A26,12*Gegevens!$B$19-X$36)-(1*X$35)","v":15.3},{"$f":"INDEX($AB$3:$DS$33,$A26,12*Gegevens!$B$19-Y$36)-(1*Y$35)","v":7.4},{"$f":"INDEX($AB$3:$DS$33,$A26,12*Gegevens!$B$19-Z$36)-(1*Z$35)","v":8.6},null,-0.5,8.5,7.9,15.5,16.8,25.4,29.4,22.6,15,15.3,7.4,8.6,11.7,-0.1,7.8,12.4,17.899999999999999,15.8,25.4,16.2,9.9,13.4,5.3,5.0999999999999996,0,4.5999999999999996,9.4,9.8000000000000007,17.100000000000001,17.600000000000001,15.6,18,14.5,15,7.6,8.3000000000000007,7.1,2.1,7,3.9,11.1,19.3,19.5,24.5,16.7,8.4,8.5,7.3,1.2,4.8,5.4,15,14.2,13,20,16.8,13.4,11.6,3.1,10.3,2.5,9.3000000000000007,5.8,14.5,14.9,18.2,22.5,13.8,12.1,11.5,7.4,7.8,-4.3,-0.6,-0.8,14.5,5.9,12.9,21.8,17.5,15.6,12.9,5.3,9.4,2.7,8.9,13.6,8.6,21.6,13.4,21.5,18.3,15.1,13.4,8.8000000000000007,11.2,null,null,null,"7730 - Néchin","Néchin","y = 0.9769x + 6.652",null,0.97689999999999999,6.6520000000000001,0.99929999999999997]
[25,{"$f":"IF(O27>Gegevens!$F$23,0,Gegevens!$F$23-O27)","v":14.2},{"$f":"IF(P27>Gegevens!$F$23,0,Gegevens!$F$23-P27)","v":3.9000000000000004},{"$f":"IF(Q27>Gegevens!$F$23,0,Gegevens!$F$23-Q27)","v":8.1999999999999993},{"$f":"IF(R27>Gegevens!$F$23,0,Gegevens!$F$23-R27)","v":3.5},{"$f":"IF(S27>Gegevens!$F$23,0,Gegevens!$F$23-S27)","v":1.9000000000000004},{"$f":"IF(T27>Gegevens!$F$23,0,Gegevens!$F$23-T27)","v":0},{"$f":"IF(U27>Gegevens!$F$23,0,Gegevens!$F$23-U27)","v":0},{"$f":"IF(V27>Gegevens!$F$23,0,Gegevens!$F$23-V27)","v":0},{"$f":"IF(W27>Gegevens!$F$23,0,Gegevens!$F$23-W27)","v":0.30000000000000071},{"$f":"IF(X27>Gegevens!$F$23,0,Gegevens!$F$23-X27)","v":1.5999999999999996},{"$f":"IF(Y27>Gegevens!$F$23,0,Gegevens!$F$23-Y27)","v":6.3000000000000007},{"$f":"IF(Z27>Gegevens!$F$23,0,Gegevens!$F$23-Z27)","v":8.8000000000000007},null,{"$f":"INDEX($AB$3:$DS$33,$A27,12*Gegevens!$B$19-O$36)-(1*O$35)","v":0.8},{"$f":"INDEX($AB$3:$DS$33,$A27,12*Gegevens!$B$19-P$36)-(1*P$35)","v":11.1},{"$f":"INDEX($AB$3:$DS$33,$A27,12*Gegevens!$B$19-Q$36)-(1*Q$35)","v":6.8},{"$f":"INDEX($AB$3:$DS$33,$A27,12*Gegevens!$B$19-R$36)-(1*R$35)","v":11.5},{"$f":"INDEX($AB$3:$DS$33,$A27,12*Gegevens!$B$19-S$36)-(1*S$35)","v":13.1},{"$f":"INDEX($AB$3:$DS$33,$A27,12*Gegevens!$B$19-T$36)-(1*T$35)","v":26.7},{"$f":"INDEX($AB$3:$DS$33,$A27,12*Gegevens!$B$19-U$36)-(1*U$35)","v":30.2},{"$f":"INDEX($AB$3:$DS$33,$A27,12*Gegevens!$B$19-V$36)-(1*V$35)","v":23.8},{"$f":"INDEX($AB$3:$DS$33,$A27,12*Gegevens!$B$19-W$36)-(1*W$35)","v":14.7},{"$f":"INDEX($AB$3:$DS$33,$A27,12*Gegevens!$B$19-X$36)-(1*X$35)","v":13.4},{"$f":"INDEX($AB$3:$DS$33,$A27,12*Gegevens!$B$19-Y$36)-(1*Y$35)","v":8.6999999999999993},{"$f":"INDEX($AB$3:$DS$33,$A27,12*Gegevens!$B$19-Z$36)-(1*Z$35)","v":6.2},null,0.8,11.1,6.8,11.5,13.1,26.7,30.2,23.8,14.7,13.4,8.6999999999999993,6.2,7.8,-1.9,7.2,12.4,19.5,17.8,26.8,13.5,10,11.5,3.7,0.9,-1.7,5.2,10.1,5.9,18.100000000000001,18.399999999999999,16.5,19.5,15.1,15.1,3.5,6.1,10.5,1.9,6.4,4.0999999999999996,11.2,14.9,19.600000000000001,25.5,15.4,8.8000000000000007,4.9000000000000004,8.9,2.1,4.0999999999999996,5,12.9,13.2,15.8,14.8,16.399999999999999,12.9,10.7,5.5,10,3.6,9.1,6.1,16.100000000000001,15.9,15.7,19.8,13.9,13,12.1,5.2,4.5,-3.2,0.7,0.4,17.600000000000001,8.6,13.6,23.6,16.8,15.3,15.8,5.5,7.1,4.7,7.5,12.5,9,20.7,16,22.5,18.100000000000001,13.5,10.5,10.199999999999999,9.5]
[26,{"$f":"IF(O28>Gegevens!$F$23,0,Gegevens!$F$23-O28)","v":8.8000000000000007},{"$f":"IF(P28>Gegevens!$F$23,0,Gegevens!$F$23-P28)","v":3.5},{"$f":"IF(Q28>Gegevens!$F$23,0,Gegevens!$F$23-Q28)","v":7.5},{"$f":"IF(R28>Gegevens!$F$23,0,Gegevens!$F$23-R28)","v":2.8000000000000007},{"$f":"IF(S28>Gegevens!$F$23,0,Gegevens!$F$23-S28)","v":0},{"$f":"IF(T28>Gegevens!$F$23,0,Gegevens!$F$23-T28)","v":0},{"$f":"IF(U28>Gegevens!$F$23,0,Gegevens!$F$23-U28)","v":0},{"$f":"IF(V28>Gegevens!$F$23,0,Gegevens!$F$23-V28)","v":0},{"$f":"IF(W28>Gegevens!$F$23,0,Gegevens!$F$23-W28)","v":0},{"$f":"IF(X28>Gegevens!$F$23,0,Gegevens!$F$23-X28)","v":0},{"$f":"IF(Y28>Gegevens!$F$23,0,Gegevens!$F$23-Y28)","v":4.5},{"$f":"IF(Z28>Gegevens!$F$23,0,Gegevens!$F$23-Z28)","v":10.8},null,{"$f":"INDEX($AB$3:$DS$33,$A28,12*Gegevens!$B$19-O$36)-(1*O$35)","v":6.2},{"$f":"INDEX($AB$3:$DS$33,$A28,12*Gegevens!$B$19-P$36)-(1*P$35)","v":11.5},{"$f":"INDEX($AB$3:$DS$33,$A28,12*Gegevens!$B$19-Q$36)-(1*Q$35)","v":7.5},{"$f":"INDEX($AB$3:$DS$33,$A28,12*Gegevens!$B$19-R$36)-(1*R$35)","v":12.2},{"$f":"INDEX($AB$3:$DS$33,$A28,12*Gegevens!$B$19-S$36)-(1*S$35)","v":15},{"$f":"INDEX($AB$3:$DS$33,$A28,12*Gegevens!$B$19-T$36)-(1*T$35)","v":21.2},{"$f":"INDEX($AB$3:$DS$33,$A28,12*Gegevens!$B$19-U$36)-(1*U$35)","v":26.7},{"$f":"INDEX($AB$3:$DS$33,$A28,12*Gegevens!$B$19-V$36)-(1*V$35)","v":24.6},{"$f":"INDEX($AB$3:$DS$33,$A28,12*Gegevens!$B$19-W$36)-(1*W$35)","v":15.6},{"$f":"INDEX($AB$3:$DS$33,$A28,12*Gegevens!$B$19-X$36)-(1*X$35)","v":16.3},{"$f":"INDEX($AB$3:$DS$33,$A28,12*Gegevens!$B$19-Y$36)-(1*Y$35)","v":10.5},{"$f":"INDEX($AB$3:$DS$33,$A28,12*Gegevens!$B$19-Z$36)-(1*Z$35)","v":4.2},null,6.2,11.5,7.5,12.2,15,21.2,26.7,24.6,15.6,16.3,10.5,4.2,5.9,-4,6.6,10.4,23,18.2,26,14.4,12,9,4.7,0.4,-2.2999999999999998,8.5,10.3,5.2,21.2,18.899999999999999,18.2,21.1,14.6,14.5,3.4,5.6,9.6999999999999993,2.4,9.1999999999999993,3,16.100000000000001,13.8,18.399999999999999,23.4,12.4,8.1,5.2,7.2,5.8,6.8,4,12.5,12.3,18.8,14.3,21.1,11.7,10.6,4.4000000000000004,12,5.0999999999999996,7,5.3,12.6,16,16.899999999999999,20.8,15,15,13,7.4,3.1,-1.7,2.7,0.7,9.3000000000000007,10,13.7,23.1,18.100000000000001,14.9,17,5.6,5.6,6.3,4.5999999999999996,12.5,10.8,19.899999999999999,17.3,22.6,15.6,13,5.6,9.1,7.7]
[27,{"$f":"IF(O29>Gegevens!$F$23,0,Gegevens!$F$23-O29)","v":10.1},{"$f":"IF(P29>Gegevens!$F$23,0,Gegevens!$F$23-P29)","v":3.3000000000000007},{"$f":"IF(Q29>Gegevens!$F$23,0,Gegevens!$F$23-Q29)","v":7.2},{"$f":"IF(R29>Gegevens!$F$23,0,Gegevens!$F$23-R29)","v":5.1999999999999993},{"$f":"IF(S29>Gegevens!$F$23,0,Gegevens!$F$23-S29)","v":0},{"$f":"IF(T29>Gegevens!$F$23,0,Gegevens!$F$23-T29)","v":0},{"$f":"IF(U29>Gegevens!$F$23,0,Gegevens!$F$23-U29)","v":0},{"$f":"IF(V29>Gegevens!$F$23,0,Gegevens!$F$23-V29)","v":0},{"$f":"IF(W29>Gegevens!$F$23,0,Gegevens!$F$23-W29)","v":0},{"$f":"IF(X29>Gegevens!$F$23,0,Gegevens!$F$23-X29)","v":6.3000000000000007},{"$f":"IF(Y29>Gegevens!$F$23,0,Gegevens!$F$23-Y29)","v":4.8000000000000007},{"$f":"IF(Z29>Gegevens!$F$23,0,Gegevens!$F$23-Z29)","v":8.8000000000000007},null,{"$f":"INDEX($AB$3:$DS$33,$A29,12*Gegevens!$B$19-O$36)-(1*O$35)","v":4.9000000000000004},{"$f":"INDEX($AB$3:$DS$33,$A29,12*Gegevens!$B$19-P$36)-(1*P$35)","v":11.7},{"$f":"INDEX($AB$3:$DS$33,$A29,12*Gegevens!$B$19-Q$36)-(1*Q$35)","v":7.8},{"$f":"INDEX($AB$3:$DS$33,$A29,12*Gegevens!$B$19-R$36)-(1*R$35)","v":9.8000000000000007},{"$f":"INDEX($AB$3:$DS$33,$A29,12*Gegevens!$B$19-S$36)-(1*S$35)","v":15.3},{"$f":"INDEX($AB$3:$DS$33,$A29,12*Gegevens!$B$19-T$36)-(1*T$35)","v":19.7},{"$f":"INDEX($AB$3:$DS$33,$A29,12*Gegevens!$B$19-U$36)-(1*U$35)","v":19.100000000000001},{"$f":"INDEX($AB$3:$DS$33,$A29,12*Gegevens!$B$19-V$36)-(1*V$35)","v":25.9},{"$f":"INDEX($AB$3:$DS$33,$A29,12*Gegevens!$B$19-W$36)-(1*W$35)","v":15.2},{"$f":"INDEX($AB$3:$DS$33,$A29,12*Gegevens!$B$19-X$36)-(1*X$35)","v":8.6999999999999993},{"$f":"INDEX($AB$3:$DS$33,$A29,12*Gegevens!$B$19-Y$36)-(1*Y$35)","v":10.199999999999999},{"$f":"INDEX($AB$3:$DS$33,$A29,12*Gegevens!$B$19-Z$36)-(1*Z$35)","v":6.2},null,4.9000000000000004,11.7,7.8,9.8000000000000007,15.3,19.7,19.100000000000001,25.9,15.2,8.6999999999999993,10.199999999999999,6.2,4.4000000000000004,-4.4000000000000004,6.4,12.4,21.7,20.6,27.1,16.8,14.2,5.8,4.5999999999999996,1.5,3,9,11.3,5.8,23.5,17.5,17.899999999999999,20.399999999999999,15.2,11.4,5.9,4.8,10,2.9,8.6999999999999993,4.4000000000000004,17.100000000000001,15,17.5,23.6,14.9,10.6,5.5,2.8,3.8,4.4000000000000004,6.2,9.1999999999999993,14.5,21.8,16.100000000000001,15,12.1,12.5,3.6,10.4,3.4,4.9000000000000004,5.9,12,14.2,17,21.2,15.5,16.7,12.9,9.6999999999999993,1.1000000000000001,4.2,0.6,1.7,7.4,12.5,12.6,21.6,18.8,11.7,14.5,4.0999999999999996,7.9,4.8,5.6,12.8,12.3,20.8,19.899999999999999,22.8,17.899999999999999,12.5,3.6,6.7,7.7]
[28,{"$f":"IF(O30>Gegevens!$F$23,0,Gegevens!$F$23-O30)","v":12.4},{"$f":"IF(P30>Gegevens!$F$23,0,Gegevens!$F$23-P30)","v":6.4},{"$f":"IF(Q30>Gegevens!$F$23,0,Gegevens!$F$23-Q30)","v":5.9},{"$f":"IF(R30>Gegevens!$F$23,0,Gegevens!$F$23-R30)","v":6.6},{"$f":"IF(S30>Gegevens!$F$23,0,Gegevens!$F$23-S30)","v":3.1999999999999993},{"$f":"IF(T30>Gegevens!$F$23,0,Gegevens!$F$23-T30)","v":0},{"$f":"IF(U30>Gegevens!$F$23,0,Gegevens!$F$23-U30)","v":0},{"$f":"IF(V30>Gegevens!$F$23,0,Gegevens!$F$23-V30)","v":0},{"$f":"IF(W30>Gegevens!$F$23,0,Gegevens!$F$23-W30)","v":0.69999999999999929},{"$f":"IF(X30>Gegevens!$F$23,0,Gegevens!$F$23-X30)","v":7.2},{"$f":"IF(Y30>Gegevens!$F$23,0,Gegevens!$F$23-Y30)","v":5.9},{"$f":"IF(Z30>Gegevens!$F$23,0,Gegevens!$F$23-Z30)","v":11.6},null,{"$f":"INDEX($AB$3:$DS$33,$A30,12*Gegevens!$B$19-O$36)-(1*O$35)","v":2.6},{"$f":"INDEX($AB$3:$DS$33,$A30,12*Gegevens!$B$19-P$36)-(1*P$35)","v":8.6},{"$f":"INDEX($AB$3:$DS$33,$A30,12*Gegevens!$B$19-Q$36)-(1*Q$35)","v":9.1},{"$f":"INDEX($AB$3:$DS$33,$A30,12*Gegevens!$B$19-R$36)-(1*R$35)","v":8.4},{"$f":"INDEX($AB$3:$DS$33,$A30,12*Gegevens!$B$19-S$36)-(1*S$35)","v":11.8},{"$f":"INDEX($AB$3:$DS$33,$A30,12*Gegevens!$B$19-T$36)-(1*T$35)","v":19.8},{"$f":"INDEX($AB$3:$DS$33,$A30,12*Gegevens!$B$19-U$36)-(1*U$35)","v":17.2},{"$f":"INDEX($AB$3:$DS$33,$A30,12*Gegevens!$B$19-V$36)-(1*V$35)","v":23},{"$f":"INDEX($AB$3:$DS$33,$A30,12*Gegevens!$B$19-W$36)-(1*W$35)","v":14.3},{"$f":"INDEX($AB$3:$DS$33,$A30,12*Gegevens!$B$19-X$36)-(1*X$35)","v":7.8},{"$f":"INDEX($AB$3:$DS$33,$A30,12*Gegevens!$B$19-Y$36)-(1*Y$35)","v":9.1},{"$f":"INDEX($AB$3:$DS$33,$A30,12*Gegevens!$B$19-Z$36)-(1*Z$35)","v":3.4},null,2.6,8.6,9.1,8.4,11.8,19.8,17.2,23,14.3,7.8,9.1,3.4,8.5,-5.6,6.3,12.5,23.3,22.5,21.2,17.100000000000001,12.2,4,7.7,0.1,7.6,5.0999999999999996,13.2,7.8,22.2,18.399999999999999,17.100000000000001,21.6,16.600000000000001,10.1,4.4000000000000004,2.2999999999999998,6,2.2999999999999998,8.3000000000000007,4.8,17.5,16.600000000000001,18.600000000000001,20.9,17.899999999999999,12,1.8,0.7,4.7,4.8,8.5,7.8,14.3,18.600000000000001,14.7,15.5,12,12.8,6.1,9.6,4.0999999999999996,5.2,10.5,13.1,13.1,15.3,18.2,17.2,17.2,9.8000000000000007,8.9,-3.8,5.4,1.2,1.8,8.1999999999999993,13.2,13.6,20.100000000000001,17.5,13.5,14,6.1,6.8,3.8,8.3000000000000007,12.7,13.3,20.5,23.8,19.3,18.8,13.1,4.0999999999999996,5.9,7.4]
[29,{"$f":"IF(O31>Gegevens!$F$23,0,Gegevens!$F$23-O31)","v":13.6},{"$f":"IF(P31>Gegevens!$F$23,0,Gegevens!$F$23-P31)","v":0},{"$f":"IF(Q31>Gegevens!$F$23,0,Gegevens!$F$23-Q31)","v":3.9000000000000004},{"$f":"IF(R31>Gegevens!$F$23,0,Gegevens!$F$23-R31)","v":4.5999999999999996},{"$f":"IF(S31>Gegevens!$F$23,0,Gegevens!$F$23-S31)","v":1},{"$f":"IF(T31>Gegevens!$F$23,0,Gegevens!$F$23-T31)","v":0},{"$f":"IF(U31>Gegevens!$F$23,0,Gegevens!$F$23-U31)","v":0},{"$f":"IF(V31>Gegevens!$F$23,0,Gegevens!$F$23-V31)","v":0},{"$f":"IF(W31>Gegevens!$F$23,0,Gegevens!$F$23-W31)","v":0},{"$f":"IF(X31>Gegevens!$F$23,0,Gegevens!$F$23-X31)","v":7.2},{"$f":"IF(Y31>Gegevens!$F$23,0,Gegevens!$F$23-Y31)","v":9.3000000000000007},{"$f":"IF(Z31>Gegevens!$F$23,0,Gegevens!$F$23-Z31)","v":12.8},null,{"$f":"INDEX($AB$3:$DS$33,$A31,12*Gegevens!$B$19-O$36)-(1*O$35)","v":1.4},{"$f":"IF(I1=1,INDEX($AB$3:$DS$33,$A25,12*Gegevens!$B$19-P$36)-(1*P$35),\"\")","v":""},{"$f":"INDEX($AB$3:$DS$33,$A31,12*Gegevens!$B$19-Q$36)-(1*Q$35)","v":11.1},{"$f":"INDEX($AB$3:$DS$33,$A31,12*Gegevens!$B$19-R$36)-(1*R$35)","v":10.4},{"$f":"INDEX($AB$3:$DS$33,$A31,12*Gegevens!$B$19-S$36)-(1*S$35)","v":14},{"$f":"INDEX($AB$3:$DS$33,$A31,12*Gegevens!$B$19-T$36)-(1*T$35)","v":25.3},{"$f":"INDEX($AB$3:$DS$33,$A31,12*Gegevens!$B$19-U$36)-(1*U$35)","v":19.2},{"$f":"INDEX($AB$3:$DS$33,$A31,12*Gegevens!$B$19-V$36)-(1*V$35)","v":18.8},{"$f":"INDEX($AB$3:$DS$33,$A31,12*Gegevens!$B$19-W$36)-(1*W$35)","v":15.1},{"$f":"INDEX($AB$3:$DS$33,$A31,12*Gegevens!$B$19-X$36)-(1*X$35)","v":7.8},{"$f":"INDEX($AB$3:$DS$33,$A31,12*Gegevens!$B$19-Y$36)-(1*Y$35)","v":5.7},{"$f":"INDEX($AB$3:$DS$33,$A31,12*Gegevens!$B$19-Z$36)-(1*Z$35)","v":2.2000000000000002},null,1.4,null,11.1,10.4,14,25.3,19.2,18.8,15.1,7.8,5.7,2.2000000000000002,9,null,6.9,10.1,20.6,22.6,22,16.5,9.6999999999999993,3.9,10.7,4.7,4.7,null,12.6,9.1999999999999993,24,17.2,21.5,24.5,18.600000000000001,10.199999999999999,2.4,2.5,7.3,2.4,7.8,6.8,16.3,15.8,18.600000000000001,17.899999999999999,15.8,11.7,-0.9,-0.6,2.5,null,9.9,9.5,11,19.3,15,18.899999999999999,12.2,11,9.8000000000000007,8.8000000000000007,3.4,null,14,13.6,14.3,14.2,19.2,16.8,16.399999999999999,10.4,4.4000000000000004,0.6,10.6,"",-0.4,8.6999999999999993,9.4,14.5,19.5,17.2,13.6,9.6,6.3,5.0999999999999996,-0.4,8.1999999999999993,9.1999999999999993,13.8,18.600000000000001,18.3,15.8,18.600000000000001,12.1,6.4,4.7,10.7]
[30,{"$f":"IF(O32>Gegevens!$F$23,0,Gegevens!$F$23-O32)","v":14.9},null,{"$f":"IF(Q32>Gegevens!$F$23,0,Gegevens!$F$23-Q32)","v":1.8000000000000007},{"$f":"IF(R32>Gegevens!$F$23,0,Gegevens!$F$23-R32)","v":3.5999999999999996},{"$f":"IF(S32>Gegevens!$F$23,0,Gegevens!$F$23-S32)","v":0},{"$f":"IF(T32>Gegevens!$F$23,0,Gegevens!$F$23-T32)","v":0},{"$f":"IF(U32>Gegevens!$F$23,0,Gegevens!$F$23-U32)","v":0},{"$f":"IF(V32>Gegevens!$F$23,0,Gegevens!$F$23-V32)","v":0},{"$f":"IF(W32>Gegevens!$F$23,0,Gegevens!$F$23-W32)","v":0.5},{"$f":"IF(X32>Gegevens!$F$23,0,Gegevens!$F$23-X32)","v":9.9},{"$f":"IF(Y32>Gegevens!$F$23,0,Gegevens!$F$23-Y32)","v":12.2},{"$f":"IF(Z32>Gegevens!$F$23,0,Gegevens!$F$23-Z32)","v":9.9},null,{"$f":"INDEX($AB$3:$DS$33,$A32,12*Gegevens!$B$19-O$36)-(1*O$35)","v":0.1},null,{"$f":"INDEX($AB$3:$DS$33,$A32,12*Gegevens!$B$19-Q$36)-(1*Q$35)","v":13.2},{"$f":"INDEX($AB$3:$DS$33,$A32,12*Gegevens!$B$19-R$36)-(1*R$35)","v":11.4},{"$f":"INDEX($AB$3:$DS$33,$A32,12*Gegevens!$B$19-S$36)-(1*S$35)","v":16.7},{"$f":"INDEX($AB$3:$DS$33,$A32,12*Gegevens!$B$19-T$36)-(1*T$35)","v":22.8},{"$f":"INDEX($AB$3:$DS$33,$A32,12*Gegevens!$B$19-U$36)-(1*U$35)","v":21},{"$f":"INDEX($AB$3:$DS$33,$A32,12*Gegevens!$B$19-V$36)-(1*V$35)","v":17.100000000000001},{"$f":"INDEX($AB$3:$DS$33,$A32,12*Gegevens!$B$19-W$36)-(1*W$35)","v":14.5},{"$f":"INDEX($AB$3:$DS$33,$A32,12*Gegevens!$B$19-X$36)-(1*X$35)","v":5.0999999999999996},{"$f":"INDEX($AB$3:$DS$33,$A32,12*Gegevens!$B$19-Y$36)-(1*Y$35)","v":2.8},{"$f":"INDEX($AB$3:$DS$33,$A32,12*Gegevens!$B$19-Z$36)-(1*Z$35)","v":5.0999999999999996},null,0.1,null,13.2,11.4,16.7,22.8,21,17.100000000000001,14.5,5.0999999999999996,2.8,5.0999999999999996,5.6,null,7.8,8.6,21.1,23,23.7,16.2,10.3,5.0999999999999996,9.6999999999999993,6.1,5.9,null,16.7,13.9,18.2,17.5,20.3,19.399999999999999,13.4,7.1,1.2,9.9,6.3,null,8.6999999999999993,7.4,13.5,16.100000000000001,17.600000000000001,17.2,14.1,10.5,0.1,-0.1,1.1000000000000001,null,8.1,null,11.4,19.100000000000001,13.2,23.9,12.2,11,9.9,7.5,4.2,null,16.100000000000001,13.7,13.6,14.9,18.3,15.8,17.2,13.5,1.7,2.1,11.2,"",0.8,10.1,11.1,16.399999999999999,17.600000000000001,17.3,12.3,8.8000000000000007,6,5.0999999999999996,-1.3,"",7.3,15.6,17.2,19.5,14.1,16.2,11.2,6.9,1,7.2]
[31,{"$f":"IF(O33>Gegevens!$F$23,0,Gegevens!$F$23-O33)","v":17.100000000000001},null,{"$f":"IF(Q33>Gegevens!$F$23,0,Gegevens!$F$23-Q33)","v":4.9000000000000004},null,{"$f":"IF(S33>Gegevens!$F$23,0,Gegevens!$F$23-S33)","v":0},null,{"$f":"IF(U33>Gegevens!$F$23,0,Gegevens!$F$23-U33)","v":0},{"$f":"IF(V33>Gegevens!$F$23,0,Gegevens!$F$23-V33)","v":0},null,{"$f":"IF(X33>Gegevens!$F$23,0,Gegevens!$F$23-X33)","v":10},null,{"$f":"IF(Z33>Gegevens!$F$23,0,Gegevens!$F$23-Z33)","v":11.4},null,{"$f":"INDEX($AB$3:$DS$33,$A33,12*Gegevens!$B$19-O$36)-(1*O$35)","v":-2.1},null,{"$f":"INDEX($AB$3:$DS$33,$A33,12*Gegevens!$B$19-Q$36)-(1*Q$35)","v":10.1},null,{"$f":"INDEX($AB$3:$DS$33,$A33,12*Gegevens!$B$19-S$36)-(1*S$35)","v":16.5},null,{"$f":"INDEX($AB$3:$DS$33,$A33,12*Gegevens!$B$19-U$36)-(1*U$35)","v":18.100000000000001},{"$f":"INDEX($AB$3:$DS$33,$A33,12*Gegevens!$B$19-V$36)-(1*V$35)","v":21},null,{"$f":"INDEX($AB$3:$DS$33,$A33,12*Gegevens!$B$19-X$36)-(1*X$35)","v":5},null,{"$f":"INDEX($AB$3:$DS$33,$A33,12*Gegevens!$B$19-Z$36)-(1*Z$35)","v":3.6},null,-2.1,null,10.1,null,16.5,null,18.100000000000001,21,null,5,null,3.6,7.1,null,6.8,null,21.5,null,22.7,15.4,null,7.7,null,8.4,1.9,null,15.4,null,17.399999999999999,null,18.8,15,null,8.6999999999999993,null,11.3,7,null,7,null,15.1,null,16.899999999999999,18.8,null,10.9,null,-2.7,1.5,null,9.9,null,13.3,null,14.9,21.6,null,11,null,8.1999999999999993,4.4000000000000004,null,16.3,null,14.3,null,19.2,14.9,null,15.3,null,2.2999999999999998,7.5,"",0.9,"",13.1,"",19.899999999999999,17,"",10.1,"",6.8,-2.2000000000000002,"",7.1,"",16.399999999999999,"",16,13.8,"",8.6,"",8.6]
[null,{"$f":"SUM(B3:B33)","v":372.20000000000005},{"$f":"SUM(C3:C33)","v":224},202.50000000000003,136.1,101.30000000000001,7.3999999999999968,0.19999999999999929,0.90000000000000036,18.3,99.7,253.00000000000003,281.19999999999993,{"$f":"SUM(B34:M34)","v":1696.8000000000002}]
[null,{"$f":"MAX(0,INDEX($EF$3:$EQ$10,Gegevens!$B$19,B36)*INDEX($EA$3:$EA$26,Gegevens!$B$21)+INDEX($EB$3:$EB$26,Gegevens!$B$21))","v":372.2},{"$f":"MAX(0,INDEX($EF$3:$EQ$10,Gegevens!$B$19,C36)*INDEX($EA$3:$EA$26,Gegevens!$B$21)+INDEX($EB$3:$EB$26,Gegevens!$B$21))","v":223.99999999999997},{"$f":"MAX(0,INDEX($EF$3:$EQ$10,Gegevens!$B$19,D36)*INDEX($EA$3:$EA$26,Gegevens!$B$21)+INDEX($EB$3:$EB$26,Gegevens!$B$21))","v":202.50000000000003},{"$f":"MAX(0,INDEX($EF$3:$EQ$10,Gegevens!$B$19,E36)*INDEX($EA$3:$EA$26,Gegevens!$B$21)+INDEX($EB$3:$EB$26,Gegevens!$B$21))","v":136.1},{"$f":"MAX(0,INDEX($EF$3:$EQ$10,Gegevens!$B$19,F36)*INDEX($EA$3:$EA$26,Gegevens!$B$21)+INDEX($EB$3:$EB$26,Gegevens!$B$21))","v":101.3},{"$f":"MAX(0,INDEX($EF$3:$EQ$10,Gegevens!$B$19,G36)*INDEX($EA$3:$EA$26,Gegevens!$B$21)+INDEX($EB$3:$EB$26,Gegevens!$B$21))","v":7.3999999999999968},{"$f":"MAX(0,INDEX($EF$3:$EQ$10,Gegevens!$B$19,H36)*INDEX($EA$3:$EA$26,Gegevens!$B$21)+INDEX($EB$3:$EB$26,Gegevens!$B$21))","v":0.19999999999999929},{"$f":"MAX(0,INDEX($EF$3:$EQ$10,Gegevens!$B$19,I36)*INDEX($EA$3:$EA$26,Gegevens!$B$21)+INDEX($EB$3:$EB$26,Gegevens!$B$21))","v":0.90000000000000036},{"$f":"MAX(0,INDEX($EF$3:$EQ$10,Gegevens!$B$19,J36)*INDEX($EA$3:$EA$26,Gegevens!$B$21)+INDEX($EB$3:$EB$26,Gegevens!$B$21))","v":18.3},{"$f":"MAX(0,INDEX($EF$3:$EQ$10,Gegevens!$B$19,K36)*INDEX($EA$3:$EA$26,Gegevens!$B$21)+INDEX($EB$3:$EB$26,Gegevens!$B$21))","v":99.699999999999989},{"$f":"MAX(0,INDEX($EF$3:$EQ$10,Gegevens!$B$19,L36)*INDEX($EA$3:$EA$26,Gegevens!$B$21)+INDEX($EB$3:$EB$26,Gegevens!$B$21))","v":253},{"$f":"MAX(0,INDEX($EF$3:$EQ$10,Gegevens!$B$19,M36)*INDEX($EA$3:$EA$26,Gegevens!$B$21)+INDEX($EB$3:$EB$26,Gegevens!$B$21))","v":281.2},{"$f":"SUM(B35:M35)","v":1696.8000000000002},0,0,0,0,0,0,0,0,0,0,0,0]
[null,1,2,3,4,5,6,7,8,9,10,11,12,null,11,10,9,8,7,6,5,4,3,2,1,0]
[]
["kWh gas nodig volgens facturen en metingen"]
[null,1,2,3,4,5,6,7,8,9,10,11,12]
["dagen","januari","februari","maart","april","mei","juni","juli","augustus","september","oktober","november","december",null,null,"dagen","januari","februari","maart","april","mei","juni","juli","augustus","september","oktober","november","december"]
[1,{"$f":"IF(INDEX(Brandstoffacturen!$B$22:$B$29,GD!Q41)=0,0,(B3*Brandstoffacturen!$P$3+Brandstoffacturen!$G$3)*(1+INDEX(Brandstoffacturen!$F$3:$F$14,B$39))*(1-INDEX(Brandstoffacturen!$L$3:$L$14,B$39))*INDEX(Gegevens!$T$40:$T$49,GD!Q41))","v":2365.8950375189415},{"$f":"IF(INDEX(Brandstoffacturen!$B$22:$B$29,GD!R41)=0,0,(C3*Brandstoffacturen!$P$3+Brandstoffacturen!$G$3)*(1+INDEX(Brandstoffacturen!$F$3:$F$14,C$39))*(1-INDEX(Brandstoffacturen!$L$3:$L$14,C$39))*INDEX(Gegevens!$T$40:$T$49,GD!R41))","v":3334.9270909430547},{"$f":"IF(INDEX(Brandstoffacturen!$B$22:$B$29,GD!S41)=0,0,(D3*Brandstoffacturen!$P$3+Brandstoffacturen!$G$3)*(1+INDEX(Brandstoffacturen!$F$3:$F$14,D$39))*(1-INDEX(Brandstoffacturen!$L$3:$L$14,D$39))*INDEX(Gegevens!$T$40:$T$49,GD!S41))","v":2913.5731165010675},{"$f":"IF(INDEX(Brandstoffacturen!$B$22:$B$29,GD!T41)=0,0,(E3*Brandstoffacturen!$P$3+Brandstoffacturen!$G$3)*(1+INDEX(Brandstoffacturen!$F$3:$F$14,E$39))*(1-INDEX(Brandstoffacturen!$L$3:$L$14,E$39))*INDEX(Gegevens!$T$40:$T$49,GD!T41))","v":1861.4599342602546},{"$f":"IF(INDEX(Brandstoffacturen!$B$22:$B$29,GD!U41)=0,0,(F3*Brandstoffacturen!$P$3+Brandstoffacturen!$G$3)*(1+INDEX(Brandstoffacturen!$F$3:$F$14,F$39))*(1-INDEX(Brandstoffacturen!$L$3:$L$14,F$39))*INDEX(Gegevens!$T$40:$T$49,GD!U41))","v":1924.2364823824669},{"$f":"IF(INDEX(Brandstoffacturen!$B$22:$B$29,GD!V41)=0,0,(G3*Brandstoffacturen!$P$3+Brandstoffacturen!$G$3)*(1+INDEX(Brandstoffacturen!$F$3:$F$14,G$39))*(1-INDEX(Brandstoffacturen!$L$3:$L$14,G$39))*INDEX(Gegevens!$T$40:$T$49,GD!V41))","v":1423.4237353940121},{"$f":"IF(INDEX(Brandstoffacturen!$B$22:$B$29,GD!W41)=0,0,(H3*Brandstoffacturen!$P$3+Brandstoffacturen!$G$3)*(1+INDEX(Brandstoffacturen!$F$3:$F$14,H$39))*(1-INDEX(Brandstoffacturen!$L$3:$L$14,H$39))*INDEX(Gegevens!$T$40:$T$49,GD!W41))","v":1444.5650630025289},{"$f":"IF(INDEX(Brandstoffacturen!$B$22:$B$29,GD!X41)=0,0,(I3*Brandstoffacturen!$P$3+Brandstoffacturen!$G$3)*(1+INDEX(Brandstoffacturen!$F$3:$F$14,I$39))*(1-INDEX(Brandstoffacturen!$L$3:$L$14,I$39))*INDEX(Gegevens!$T$40:$T$49,GD!X41))","v":1622.7924030552142},{"$f":"IF(INDEX(Brandstoffacturen!$B$22:$B$29,GD!Y41)=0,0,(J3*Brandstoffacturen!$P$3+Brandstoffacturen!$G$3)*(1+INDEX(Brandstoffacturen!$F$3:$F$14,J$39))*(1-INDEX(Brandstoffacturen!$L$3:$L$14,J$39))*INDEX(Gegevens!$T$40:$T$49,GD!Y41))","v":2088.8551631777805},{"$f":"IF(INDEX(Brandstoffacturen!$B$22:$B$29,GD!Z41)=0,0,(K3*Brandstoffacturen!$P$3+Brandstoffacturen!$G$3)*(1+INDEX(Brandstoffacturen!$F$3:$F$14,K$39))*(1-INDEX(Brandstoffacturen!$L$3:$L$14,K$39))*INDEX(Gegevens!$T$40:$T$49,GD!Z41))","v":2247.2961477608419},{"$f":"IF(INDEX(Brandstoffacturen!$B$22:$B$29,GD!AA41)=0,0,(L3*Brandstoffacturen!$P$3+Brandstoffacturen!$G$3)*(1+INDEX(Brandstoffacturen!$F$3:$F$14,L$39))*(1-INDEX(Brandstoffacturen!$L$3:$L$14,L$39))*INDEX(Gegevens!$T$40:$T$49,GD!AA41))","v":2281.3126473564485},{"$f":"IF(INDEX(Brandstoffacturen!$B$22:$B$29,GD!AB41)=0,0,(M3*Brandstoffacturen!$P$3+Brandstoffacturen!$G$3)*(1+INDEX(Brandstoffacturen!$F$3:$F$14,M$39))*(1-INDEX(Brandstoffacturen!$L$3:$L$14,M$39))*INDEX(Gegevens!$T$40:$T$49,GD!AB41))","v":3162.606318227593},null,null,1,{"$f":"IF(OR(AND($A41=1,B$39=1),AND($A41=Titels!$O$12,B$39=Titels!$P$12),AND($A41=1,B$39=5),AND($A41=Titels!$O$14,B$39=Titels!$P$14),AND($A41=Titels!$O$15,B$39=Titels!$P$15),AND($A41=21,B$39=7),AND($A41=15,B$39=8),AND($A41=1,B$39=11),AND($A41=11,B$39=11),AND($A41=25,B$39=12)),8,WEEKDAY(CONCATENATE($P41,\"/\",B$39,\"/\",$B$1),2))","v":8},{"$f":"IF(OR(AND($A41=1,C$39=1),AND($A41=Titels!$O$12,C$39=Titels!$P$12),AND($A41=1,C$39=5),AND($A41=Titels!$O$14,C$39=Titels!$P$14),AND($A41=Titels!$O$15,C$39=Titels!$P$15),AND($A41=21,C$39=7),AND($A41=15,C$39=8),AND($A41=1,C$39=11),AND($A41=11,C$39=11),AND($A41=25,C$39=12)),8,WEEKDAY(CONCATENATE($P41,\"/\",C$39,\"/\",$B$1),2))","v":5},{"$f":"IF(OR(AND($A41=1,D$39=1),AND($A41=Titels!$O$12,D$39=Titels!$P$12),AND($A41=1,D$39=5),AND($A41=Titels!$O$14,D$39=Titels!$P$14),AND($A41=Titels!$O$15,D$39=Titels!$P$15),AND($A41=21,D$39=7),AND($A41=15,D$39=8),AND($A41=1,D$39=11),AND($A41=11,D$39=11),AND($A41=25,D$39=12)),8,WEEKDAY(CONCATENATE($P41,\"/\",D$39,\"/\",$B$1),2))","v":5},{"$f":"IF(OR(AND($A41=1,E$39=1),AND($A41=Titels!$O$12,E$39=Titels!$P$12),AND($A41=1,E$39=5),AND($A41=Titels!$O$14,E$39=Titels!$P$14),AND($A41=Titels!$O$15,E$39=Titels!$P$15),AND($A41=21,E$39=7),AND($A41=15,E$39=8),AND($A41=1,E$39=11),AND($A41=11,E$39=11),AND($A41=25,E$39=12)),8,WEEKDAY(CONCATENATE($P41,\"/\",E$39,\"/\",$B$1),2))","v":1},{"$f":"IF(OR(AND($A41=1,F$39=1),AND($A41=Titels!$O$12,F$39=Titels!$P$12),AND($A41=1,F$39=5),AND($A41=Titels!$O$14,F$39=Titels!$P$14),AND($A41=Titels!$O$15,F$39=Titels!$P$15),AND($A41=21,F$39=7),AND($A41=15,F$39=8),AND($A41=1,F$39=11),AND($A41=11,F$39=11),AND($A41=25,F$39=12)),8,WEEKDAY(CONCATENATE($P41,\"/\",F$39,\"/\",$B$1),2))","v":8},{"$f":"IF(OR(AND($A41=1,G$39=1),AND($A41=Titels!$O$12,G$39=Titels!$P$12),AND($A41=1,G$39=5),AND($A41=Titels!$O$14,G$39=Titels!$P$14),AND($A41=Titels!$O$15,G$39=Titels!$P$15),AND($A41=21,G$39=7),AND($A41=15,G$39=8),AND($A41=1,G$39=11),AND($A41=11,G$39=11),AND($A41=25,G$39=12)),8,WEEKDAY(CONCATENATE($P41,\"/\",G$39,\"/\",$B$1),2))","v":6},{"$f":"IF(OR(AND($A41=1,H$39=1),AND($A41=Titels!$O$12,H$39=Titels!$P$12),AND($A41=1,H$39=5),AND($A41=Titels!$O$14,H$39=Titels!$P$14),AND($A41=Titels!$O$15,H$39=Titels!$P$15),AND($A41=21,H$39=7),AND($A41=15,H$39=8),AND($A41=1,H$39=11),AND($A41=11,H$39=11),AND($A41=25,H$39=12)),8,WEEKDAY(CONCATENATE($P41,\"/\",H$39,\"/\",$B$1),2))","v":1},{"$f":"IF(OR(AND($A41=1,I$39=1),AND($A41=Titels!$O$12,I$39=Titels!$P$12),AND($A41=1,I$39=5),AND($A41=Titels!$O$14,I$39=Titels!$P$14),AND($A41=Titels!$O$15,I$39=Titels!$P$15),AND($A41=21,I$39=7),AND($A41=15,I$39=8),AND($A41=1,I$39=11),AND($A41=11,I$39=11),AND($A41=25,I$39=12)),8,WEEKDAY(CONCATENATE($P41,\"/\",I$39,\"/\",$B$1),2))","v":4},{"$f":"IF(OR(AND($A41=1,J$39=1),AND($A41=Titels!$O$12,J$39=Titels!$P$12),AND($A41=1,J$39=5),AND($A41=Titels!$O$14,J$39=Titels!$P$14),AND($A41=Titels!$O$15,J$39=Titels!$P$15),AND($A41=21,J$39=7),AND($A41=15,J$39=8),AND($A41=1,J$39=11),AND($A41=11,J$39=11),AND($A41=25,J$39=12)),8,WEEKDAY(CONCATENATE($P41,\"/\",J$39,\"/\",$B$1),2))","v":7},{"$f":"IF(OR(AND($A41=1,K$39=1),AND($A41=Titels!$O$12,K$39=Titels!$P$12),AND($A41=1,K$39=5),AND($A41=Titels!$O$14,K$39=Titels!$P$14),AND($A41=Titels!$O$15,K$39=Titels!$P$15),AND($A41=21,K$39=7),AND($A41=15,K$39=8),AND($A41=1,K$39=11),AND($A41=11,K$39=11),AND($A41=25,K$39=12)),8,WEEKDAY(CONCATENATE($P41,\"/\",K$39,\"/\",$B$1),2))","v":2},{"$f":"IF(OR(AND($A41=1,L$39=1),AND($A41=Titels!$O$12,L$39=Titels!$P$12),AND($A41=1,L$39=5),AND($A41=Titels!$O$14,L$39=Titels!$P$14),AND($A41=Titels!$O$15,L$39=Titels!$P$15),AND($A41=21,L$39=7),AND($A41=15,L$39=8),AND($A41=1,L$39=11),AND($A41=11,L$39=11),AND($A41=25,L$39=12)),8,WEEKDAY(CONCATENATE($P41,\"/\",L$39,\"/\",$B$1),2))","v":8},{"$f":"IF(OR(AND($A41=1,M$39=1),AND($A41=Titels!$O$12,M$39=Titels!$P$12),AND($A41=1,M$39=5),AND($A41=Titels!$O$14,M$39=Titels!$P$14),AND($A41=Titels!$O$15,M$39=Titels!$P$15),AND($A41=21,M$39=7),AND($A41=15,M$39=8),AND($A41=1,M$39=11),AND($A41=11,M$39=11),AND($A41=25,M$39=12)),8,WEEKDAY(CONCATENATE($P41,\"/\",M$39,\"/\",$B$1),2))","v":7}]
[2,{"$f":"IF(INDEX(Brandstoffacturen!$B$22:$B$29,GD!Q42)=0,0,(B4*Brandstoffacturen!$P$3+Brandstoffacturen!$G$3)*(1+INDEX(Brandstoffacturen!$F$3:$F$14,B$39))*(1-INDEX(Brandstoffacturen!$L$3:$L$14,B$39))*INDEX(Gegevens!$T$40:$T$49,GD!Q42))","v":2512.959257899523},{"$f":"IF(INDEX(Brandstoffacturen!$B$22:$B$29,GD!R42)=0,0,(C4*Brandstoffacturen!$P$3+Brandstoffacturen!$G$3)*(1+INDEX(Brandstoffacturen!$F$3:$F$14,C$39))*(1-INDEX(Brandstoffacturen!$L$3:$L$14,C$39))*INDEX(Gegevens!$T$40:$T$49,GD!R42))","v":3406.0564113806131},{"$f":"IF(INDEX(Brandstoffacturen!$B$22:$B$29,GD!S42)=0,0,(D4*Brandstoffacturen!$P$3+Brandstoffacturen!$G$3)*(1+INDEX(Brandstoffacturen!$F$3:$F$14,D$39))*(1-INDEX(Brandstoffacturen!$L$3:$L$14,D$39))*INDEX(Gegevens!$T$40:$T$49,GD!S42))","v":2705.7335954255109},{"$f":"IF(INDEX(Brandstoffacturen!$B$22:$B$29,GD!T42)=0,0,(E4*Brandstoffacturen!$P$3+Brandstoffacturen!$G$3)*(1+INDEX(Brandstoffacturen!$F$3:$F$14,E$39))*(1-INDEX(Brandstoffacturen!$L$3:$L$14,E$39))*INDEX(Gegevens!$T$40:$T$49,GD!T42))","v":1816.3472897611041},{"$f":"IF(INDEX(Brandstoffacturen!$B$22:$B$29,GD!U42)=0,0,(F4*Brandstoffacturen!$P$3+Brandstoffacturen!$G$3)*(1+INDEX(Brandstoffacturen!$F$3:$F$14,F$39))*(1-INDEX(Brandstoffacturen!$L$3:$L$14,F$39))*INDEX(Gegevens!$T$40:$T$49,GD!U42))","v":2038.9379783151312},{"$f":"IF(INDEX(Brandstoffacturen!$B$22:$B$29,GD!V42)=0,0,(G4*Brandstoffacturen!$P$3+Brandstoffacturen!$G$3)*(1+INDEX(Brandstoffacturen!$F$3:$F$14,G$39))*(1-INDEX(Brandstoffacturen!$L$3:$L$14,G$39))*INDEX(Gegevens!$T$40:$T$49,GD!V42))","v":1423.4237353940121},{"$f":"IF(INDEX(Brandstoffacturen!$B$22:$B$29,GD!W42)=0,0,(H4*Brandstoffacturen!$P$3+Brandstoffacturen!$G$3)*(1+INDEX(Brandstoffacturen!$F$3:$F$14,H$39))*(1-INDEX(Brandstoffacturen!$L$3:$L$14,H$39))*INDEX(Gegevens!$T$40:$T$49,GD!W42))","v":1444.5650630025289},{"$f":"IF(INDEX(Brandstoffacturen!$B$22:$B$29,GD!X42)=0,0,(I4*Brandstoffacturen!$P$3+Brandstoffacturen!$G$3)*(1+INDEX(Brandstoffacturen!$F$3:$F$14,I$39))*(1-INDEX(Brandstoffacturen!$L$3:$L$14,I$39))*INDEX(Gegevens!$T$40:$T$49,GD!X42))","v":1622.7924030552142},{"$f":"IF(INDEX(Brandstoffacturen!$B$22:$B$29,GD!Y42)=0,0,(J4*Brandstoffacturen!$P$3+Brandstoffacturen!$G$3)*(1+INDEX(Brandstoffacturen!$F$3:$F$14,J$39))*(1-INDEX(Brandstoffacturen!$L$3:$L$14,J$39))*INDEX(Gegevens!$T$40:$T$49,GD!Y42))","v":2088.8551631777805},{"$f":"IF(INDEX(Brandstoffacturen!$B$22:$B$29,GD!Z42)=0,0,(K4*Brandstoffacturen!$P$3+Brandstoffacturen!$G$3)*(1+INDEX(Brandstoffacturen!$F$3:$F$14,K$39))*(1-INDEX(Brandstoffacturen!$L$3:$L$14,K$39))*INDEX(Gegevens!$T$40:$T$49,GD!Z42))","v":2923.0128104613964},{"$f":"IF(INDEX(Brandstoffacturen!$B$22:$B$29,GD!AA42)=0,0,(L4*Brandstoffacturen!$P$3+Brandstoffacturen!$G$3)*(1+INDEX(Brandstoffacturen!$F$3:$F$14,L$39))*(1-INDEX(Brandstoffacturen!$L$3:$L$14,L$39))*INDEX(Gegevens!$T$40:$T$49,GD!AA42))","v":2030.7596675083339},{"$f":"IF(INDEX(Brandstoffacturen!$B$22:$B$29,GD!AB42)=0,0,(M4*Brandstoffacturen!$P$3+Brandstoffacturen!$G$3)*(1+INDEX(Brandstoffacturen!$F$3:$F$14,M$39))*(1-INDEX(Brandstoffacturen!$L$3:$L$14,M$39))*INDEX(Gegevens!$T$40:$T$49,GD!AB42))","v":3041.9432287622735},null,null,2,{"$f":"IF(OR(AND($A42=1,B$39=1),AND($A42=Titels!$O$12,B$39=Titels!$P$12),AND($A42=1,B$39=5),AND($A42=Titels!$O$14,B$39=Titels!$P$14),AND($A42=Titels!$O$15,B$39=Titels!$P$15),AND($A42=21,B$39=7),AND($A42=15,B$39=8),AND($A42=1,B$39=11),AND($A42=11,B$39=11),AND($A42=25,B$39=12)),8,WEEKDAY(CONCATENATE($P42,\"/\",B$39,\"/\",$B$1),2))","v":3},{"$f":"IF(OR(AND($A42=1,C$39=1),AND($A42=Titels!$O$12,C$39=Titels!$P$12),AND($A42=1,C$39=5),AND($A42=Titels!$O$14,C$39=Titels!$P$14),AND($A42=Titels!$O$15,C$39=Titels!$P$15),AND($A42=21,C$39=7),AND($A42=15,C$39=8),AND($A42=1,C$39=11),AND($A42=11,C$39=11),AND($A42=25,C$39=12)),8,WEEKDAY(CONCATENATE($P42,\"/\",C$39,\"/\",$B$1),2))","v":6},{"$f":"IF(OR(AND($A42=1,D$39=1),AND($A42=Titels!$O$12,D$39=Titels!$P$12),AND($A42=1,D$39=5),AND($A42=Titels!$O$14,D$39=Titels!$P$14),AND($A42=Titels!$O$15,D$39=Titels!$P$15),AND($A42=21,D$39=7),AND($A42=15,D$39=8),AND($A42=1,D$39=11),AND($A42=11,D$39=11),AND($A42=25,D$39=12)),8,WEEKDAY(CONCATENATE($P42,\"/\",D$39,\"/\",$B$1),2))","v":6},{"$f":"IF(OR(AND($A42=1,E$39=1),AND($A42=Titels!$O$12,E$39=Titels!$P$12),AND($A42=1,E$39=5),AND($A42=Titels!$O$14,E$39=Titels!$P$14),AND($A42=Titels!$O$15,E$39=Titels!$P$15),AND($A42=21,E$39=7),AND($A42=15,E$39=8),AND($A42=1,E$39=11),AND($A42=11,E$39=11),AND($A42=25,E$39=12)),8,WEEKDAY(CONCATENATE($P42,\"/\",E$39,\"/\",$B$1),2))","v":2},{"$f":"IF(OR(AND($A42=1,F$39=1),AND($A42=Titels!$O$12,F$39=Titels!$P$12),AND($A42=1,F$39=5),AND($A42=Titels!$O$14,F$39=Titels!$P$14),AND($A42=Titels!$O$15,F$39=Titels!$P$15),AND($A42=21,F$39=7),AND($A42=15,F$39=8),AND($A42=1,F$39=11),AND($A42=11,F$39=11),AND($A42=25,F$39=12)),8,WEEKDAY(CONCATENATE($P42,\"/\",F$39,\"/\",$B$1),2))","v":4},{"$f":"IF(OR(AND($A42=1,G$39=1),AND($A42=Titels!$O$12,G$39=Titels!$P$12),AND($A42=1,G$39=5),AND($A42=Titels!$O$14,G$39=Titels!$P$14),AND($A42=Titels!$O$15,G$39=Titels!$P$15),AND($A42=21,G$39=7),AND($A42=15,G$39=8),AND($A42=1,G$39=11),AND($A42=11,G$39=11),AND($A42=25,G$39=12)),8,WEEKDAY(CONCATENATE($P42,\"/\",G$39,\"/\",$B$1),2))","v":7},{"$f":"IF(OR(AND($A42=1,H$39=1),AND($A42=Titels!$O$12,H$39=Titels!$P$12),AND($A42=1,H$39=5),AND($A42=Titels!$O$14,H$39=Titels!$P$14),AND($A42=Titels!$O$15,H$39=Titels!$P$15),AND($A42=21,H$39=7),AND($A42=15,H$39=8),AND($A42=1,H$39=11),AND($A42=11,H$39=11),AND($A42=25,H$39=12)),8,WEEKDAY(CONCATENATE($P42,\"/\",H$39,\"/\",$B$1),2))","v":2},{"$f":"IF(OR(AND($A42=1,I$39=1),AND($A42=Titels!$O$12,I$39=Titels!$P$12),AND($A42=1,I$39=5),AND($A42=Titels!$O$14,I$39=Titels!$P$14),AND($A42=Titels!$O$15,I$39=Titels!$P$15),AND($A42=21,I$39=7),AND($A42=15,I$39=8),AND($A42=1,I$39=11),AND($A42=11,I$39=11),AND($A42=25,I$39=12)),8,WEEKDAY(CONCATENATE($P42,\"/\",I$39,\"/\",$B$1),2))","v":5},{"$f":"IF(OR(AND($A42=1,J$39=1),AND($A42=Titels!$O$12,J$39=Titels!$P$12),AND($A42=1,J$39=5),AND($A42=Titels!$O$14,J$39=Titels!$P$14),AND($A42=Titels!$O$15,J$39=Titels!$P$15),AND($A42=21,J$39=7),AND($A42=15,J$39=8),AND($A42=1,J$39=11),AND($A42=11,J$39=11),AND($A42=25,J$39=12)),8,WEEKDAY(CONCATENATE($P42,\"/\",J$39,\"/\",$B$1),2))","v":1},{"$f":"IF(OR(AND($A42=1,K$39=1),AND($A42=Titels!$O$12,K$39=Titels!$P$12),AND($A42=1,K$39=5),AND($A42=Titels!$O$14,K$39=Titels!$P$14),AND($A42=Titels!$O$15,K$39=Titels!$P$15),AND($A42=21,K$39=7),AND($A42=15,K$39=8),AND($A42=1,K$39=11),AND($A42=11,K$39=11),AND($A42=25,K$39=12)),8,WEEKDAY(CONCATENATE($P42,\"/\",K$39,\"/\",$B$1),2))","v":3},{"$f":"IF(OR(AND($A42=1,L$39=1),AND($A42=Titels!$O$12,L$39=Titels!$P$12),AND($A42=1,L$39=5),AND($A42=Titels!$O$14,L$39=Titels!$P$14),AND($A42=Titels!$O$15,L$39=Titels!$P$15),AND($A42=21,L$39=7),AND($A42=15,L$39=8),AND($A42=1,L$39=11),AND($A42=11,L$39=11),AND($A42=25,L$39=12)),8,WEEKDAY(CONCATENATE($P42,\"/\",L$39,\"/\",$B$1),2))","v":6},{"$f":"IF(OR(AND($A42=1,M$39=1),AND($A42=Titels!$O$12,M$39=Titels!$P$12),AND($A42=1,M$39=5),AND($A42=Titels!$O$14,M$39=Titels!$P$14),AND($A42=Titels!$O$15,M$39=Titels!$P$15),AND($A42=21,M$39=7),AND($A42=15,M$39=8),AND($A42=1,M$39=11),AND($A42=11,M$39=11),AND($A42=25,M$39=12)),8,WEEKDAY(CONCATENATE($P42,\"/\",M$39,\"/\",$B$1),2))","v":1}]
[3,{"$f":"IF(INDEX(Brandstoffacturen!$B$22:$B$29,GD!Q43)=0,0,(B5*Brandstoffacturen!$P$3+Brandstoffacturen!$G$3)*(1+INDEX(Brandstoffacturen!$F$3:$F$14,B$39))*(1-INDEX(Brandstoffacturen!$L$3:$L$14,B$39))*INDEX(Gegevens!$T$40:$T$49,GD!Q43))","v":2591.3935087691661},{"$f":"IF(INDEX(Brandstoffacturen!$B$22:$B$29,GD!R43)=0,0,(C5*Brandstoffacturen!$P$3+Brandstoffacturen!$G$3)*(1+INDEX(Brandstoffacturen!$F$3:$F$14,C$39))*(1-INDEX(Brandstoffacturen!$L$3:$L$14,C$39))*INDEX(Gegevens!$T$40:$T$49,GD!R43))","v":3334.9270909430547},{"$f":"IF(INDEX(Brandstoffacturen!$B$22:$B$29,GD!S43)=0,0,(D5*Brandstoffacturen!$P$3+Brandstoffacturen!$G$3)*(1+INDEX(Brandstoffacturen!$F$3:$F$14,D$39))*(1-INDEX(Brandstoffacturen!$L$3:$L$14,D$39))*INDEX(Gegevens!$T$40:$T$49,GD!S43))","v":2387.8613867217177},{"$f":"IF(INDEX(Brandstoffacturen!$B$22:$B$29,GD!T43)=0,0,(E5*Brandstoffacturen!$P$3+Brandstoffacturen!$G$3)*(1+INDEX(Brandstoffacturen!$F$3:$F$14,E$39))*(1-INDEX(Brandstoffacturen!$L$3:$L$14,E$39))*INDEX(Gegevens!$T$40:$T$49,GD!T43))","v":2258.4512058527803},{"$f":"IF(INDEX(Brandstoffacturen!$B$22:$B$29,GD!U43)=0,0,(F5*Brandstoffacturen!$P$3+Brandstoffacturen!$G$3)*(1+INDEX(Brandstoffacturen!$F$3:$F$14,F$39))*(1-INDEX(Brandstoffacturen!$L$3:$L$14,F$39))*INDEX(Gegevens!$T$40:$T$49,GD!U43))","v":2029.3795203207424},{"$f":"IF(INDEX(Brandstoffacturen!$B$22:$B$29,GD!V43)=0,0,(G5*Brandstoffacturen!$P$3+Brandstoffacturen!$G$3)*(1+INDEX(Brandstoffacturen!$F$3:$F$14,G$39))*(1-INDEX(Brandstoffacturen!$L$3:$L$14,G$39))*INDEX(Gegevens!$T$40:$T$49,GD!V43))","v":1423.4237353940121},{"$f":"IF(INDEX(Brandstoffacturen!$B$22:$B$29,GD!W43)=0,0,(H5*Brandstoffacturen!$P$3+Brandstoffacturen!$G$3)*(1+INDEX(Brandstoffacturen!$F$3:$F$14,H$39))*(1-INDEX(Brandstoffacturen!$L$3:$L$14,H$39))*INDEX(Gegevens!$T$40:$T$49,GD!W43))","v":1444.5650630025289},{"$f":"IF(INDEX(Brandstoffacturen!$B$22:$B$29,GD!X43)=0,0,(I5*Brandstoffacturen!$P$3+Brandstoffacturen!$G$3)*(1+INDEX(Brandstoffacturen!$F$3:$F$14,I$39))*(1-INDEX(Brandstoffacturen!$L$3:$L$14,I$39))*INDEX(Gegevens!$T$40:$T$49,GD!X43))","v":1622.7924030552142},{"$f":"IF(INDEX(Brandstoffacturen!$B$22:$B$29,GD!Y43)=0,0,(J5*Brandstoffacturen!$P$3+Brandstoffacturen!$G$3)*(1+INDEX(Brandstoffacturen!$F$3:$F$14,J$39))*(1-INDEX(Brandstoffacturen!$L$3:$L$14,J$39))*INDEX(Gegevens!$T$40:$T$49,GD!Y43))","v":2088.8551631777805},{"$f":"IF(INDEX(Brandstoffacturen!$B$22:$B$29,GD!Z43)=0,0,(K5*Brandstoffacturen!$P$3+Brandstoffacturen!$G$3)*(1+INDEX(Brandstoffacturen!$F$3:$F$14,K$39))*(1-INDEX(Brandstoffacturen!$L$3:$L$14,K$39))*INDEX(Gegevens!$T$40:$T$49,GD!Z43))","v":3023.6514623529688},{"$f":"IF(INDEX(Brandstoffacturen!$B$22:$B$29,GD!AA43)=0,0,(L5*Brandstoffacturen!$P$3+Brandstoffacturen!$G$3)*(1+INDEX(Brandstoffacturen!$F$3:$F$14,L$39))*(1-INDEX(Brandstoffacturen!$L$3:$L$14,L$39))*INDEX(Gegevens!$T$40:$T$49,GD!AA43))","v":2292.7014191677267},{"$f":"IF(INDEX(Brandstoffacturen!$B$22:$B$29,GD!AB43)=0,0,(M5*Brandstoffacturen!$P$3+Brandstoffacturen!$G$3)*(1+INDEX(Brandstoffacturen!$F$3:$F$14,M$39))*(1-INDEX(Brandstoffacturen!$L$3:$L$14,M$39))*INDEX(Gegevens!$T$40:$T$49,GD!AB43))","v":3162.606318227593},null,null,3,{"$f":"IF(OR(AND($A43=1,B$39=1),AND($A43=Titels!$O$12,B$39=Titels!$P$12),AND($A43=1,B$39=5),AND($A43=Titels!$O$14,B$39=Titels!$P$14),AND($A43=Titels!$O$15,B$39=Titels!$P$15),AND($A43=21,B$39=7),AND($A43=15,B$39=8),AND($A43=1,B$39=11),AND($A43=11,B$39=11),AND($A43=25,B$39=12)),8,WEEKDAY(CONCATENATE($P43,\"/\",B$39,\"/\",$B$1),2))","v":4},{"$f":"IF(OR(AND($A43=1,C$39=1),AND($A43=Titels!$O$12,C$39=Titels!$P$12),AND($A43=1,C$39=5),AND($A43=Titels!$O$14,C$39=Titels!$P$14),AND($A43=Titels!$O$15,C$39=Titels!$P$15),AND($A43=21,C$39=7),AND($A43=15,C$39=8),AND($A43=1,C$39=11),AND($A43=11,C$39=11),AND($A43=25,C$39=12)),8,WEEKDAY(CONCATENATE($P43,\"/\",C$39,\"/\",$B$1),2))","v":7},{"$f":"IF(OR(AND($A43=1,D$39=1),AND($A43=Titels!$O$12,D$39=Titels!$P$12),AND($A43=1,D$39=5),AND($A43=Titels!$O$14,D$39=Titels!$P$14),AND($A43=Titels!$O$15,D$39=Titels!$P$15),AND($A43=21,D$39=7),AND($A43=15,D$39=8),AND($A43=1,D$39=11),AND($A43=11,D$39=11),AND($A43=25,D$39=12)),8,WEEKDAY(CONCATENATE($P43,\"/\",D$39,\"/\",$B$1),2))","v":7},{"$f":"IF(OR(AND($A43=1,E$39=1),AND($A43=Titels!$O$12,E$39=Titels!$P$12),AND($A43=1,E$39=5),AND($A43=Titels!$O$14,E$39=Titels!$P$14),AND($A43=Titels!$O$15,E$39=Titels!$P$15),AND($A43=21,E$39=7),AND($A43=15,E$39=8),AND($A43=1,E$39=11),AND($A43=11,E$39=11),AND($A43=25,E$39=12)),8,WEEKDAY(CONCATENATE($P43,\"/\",E$39,\"/\",$B$1),2))","v":3},{"$f":"IF(OR(AND($A43=1,F$39=1),AND($A43=Titels!$O$12,F$39=Titels!$P$12),AND($A43=1,F$39=5),AND($A43=Titels!$O$14,F$39=Titels!$P$14),AND($A43=Titels!$O$15,F$39=Titels!$P$15),AND($A43=21,F$39=7),AND($A43=15,F$39=8),AND($A43=1,F$39=11),AND($A43=11,F$39=11),AND($A43=25,F$39=12)),8,WEEKDAY(CONCATENATE($P43,\"/\",F$39,\"/\",$B$1),2))","v":5},{"$f":"IF(OR(AND($A43=1,G$39=1),AND($A43=Titels!$O$12,G$39=Titels!$P$12),AND($A43=1,G$39=5),AND($A43=Titels!$O$14,G$39=Titels!$P$14),AND($A43=Titels!$O$15,G$39=Titels!$P$15),AND($A43=21,G$39=7),AND($A43=15,G$39=8),AND($A43=1,G$39=11),AND($A43=11,G$39=11),AND($A43=25,G$39=12)),8,WEEKDAY(CONCATENATE($P43,\"/\",G$39,\"/\",$B$1),2))","v":1},{"$f":"IF(OR(AND($A43=1,H$39=1),AND($A43=Titels!$O$12,H$39=Titels!$P$12),AND($A43=1,H$39=5),AND($A43=Titels!$O$14,H$39=Titels!$P$14),AND($A43=Titels!$O$15,H$39=Titels!$P$15),AND($A43=21,H$39=7),AND($A43=15,H$39=8),AND($A43=1,H$39=11),AND($A43=11,H$39=11),AND($A43=25,H$39=12)),8,WEEKDAY(CONCATENATE($P43,\"/\",H$39,\"/\",$B$1),2))","v":3},{"$f":"IF(OR(AND($A43=1,I$39=1),AND($A43=Titels!$O$12,I$39=Titels!$P$12),AND($A43=1,I$39=5),AND($A43=Titels!$O$14,I$39=Titels!$P$14),AND($A43=Titels!$O$15,I$39=Titels!$P$15),AND($A43=21,I$39=7),AND($A43=15,I$39=8),AND($A43=1,I$39=11),AND($A43=11,I$39=11),AND($A43=25,I$39=12)),8,WEEKDAY(CONCATENATE($P43,\"/\",I$39,\"/\",$B$1),2))","v":6},{"$f":"IF(OR(AND($A43=1,J$39=1),AND($A43=Titels!$O$12,J$39=Titels!$P$12),AND($A43=1,J$39=5),AND($A43=Titels!$O$14,J$39=Titels!$P$14),AND($A43=Titels!$O$15,J$39=Titels!$P$15),AND($A43=21,J$39=7),AND($A43=15,J$39=8),AND($A43=1,J$39=11),AND($A43=11,J$39=11),AND($A43=25,J$39=12)),8,WEEKDAY(CONCATENATE($P43,\"/\",J$39,\"/\",$B$1),2))","v":2},{"$f":"IF(OR(AND($A43=1,K$39=1),AND($A43=Titels!$O$12,K$39=Titels!$P$12),AND($A43=1,K$39=5),AND($A43=Titels!$O$14,K$39=Titels!$P$14),AND($A43=Titels!$O$15,K$39=Titels!$P$15),AND($A43=21,K$39=7),AND($A43=15,K$39=8),AND($A43=1,K$39=11),AND($A43=11,K$39=11),AND($A43=25,K$39=12)),8,WEEKDAY(CONCATENATE($P43,\"/\",K$39,\"/\",$B$1),2))","v":4},{"$f":"IF(OR(AND($A43=1,L$39=1),AND($A43=Titels!$O$12,L$39=Titels!$P$12),AND($A43=1,L$39=5),AND($A43=Titels!$O$14,L$39=Titels!$P$14),AND($A43=Titels!$O$15,L$39=Titels!$P$15),AND($A43=21,L$39=7),AND($A43=15,L$39=8),AND($A43=1,L$39=11),AND($A43=11,L$39=11),AND($A43=25,L$39=12)),8,WEEKDAY(CONCATENATE($P43,\"/\",L$39,\"/\",$B$1),2))","v":7},{"$f":"IF(OR(AND($A43=1,M$39=1),AND($A43=Titels!$O$12,M$39=Titels!$P$12),AND($A43=1,M$39=5),AND($A43=Titels!$O$14,M$39=Titels!$P$14),AND($A43=Titels!$O$15,M$39=Titels!$P$15),AND($A43=21,M$39=7),AND($A43=15,M$39=8),AND($A43=1,M$39=11),AND($A43=11,M$39=11),AND($A43=25,M$39=12)),8,WEEKDAY(CONCATENATE($P43,\"/\",M$39,\"/\",$B$1),2))","v":2}]
[4,{"$f":"IF(INDEX(Brandstoffacturen!$B$22:$B$29,GD!Q44)=0,0,(B6*Brandstoffacturen!$P$3+Brandstoffacturen!$G$3)*(1+INDEX(Brandstoffacturen!$F$3:$F$14,B$39))*(1-INDEX(Brandstoffacturen!$L$3:$L$14,B$39))*INDEX(Gegevens!$T$40:$T$49,GD!Q44))","v":2699.2406037149253},{"$f":"IF(INDEX(Brandstoffacturen!$B$22:$B$29,GD!R44)=0,0,(C6*Brandstoffacturen!$P$3+Brandstoffacturen!$G$3)*(1+INDEX(Brandstoffacturen!$F$3:$F$14,C$39))*(1-INDEX(Brandstoffacturen!$L$3:$L$14,C$39))*INDEX(Gegevens!$T$40:$T$49,GD!R44))","v":3441.621071599393},{"$f":"IF(INDEX(Brandstoffacturen!$B$22:$B$29,GD!S44)=0,0,(D6*Brandstoffacturen!$P$3+Brandstoffacturen!$G$3)*(1+INDEX(Brandstoffacturen!$F$3:$F$14,D$39))*(1-INDEX(Brandstoffacturen!$L$3:$L$14,D$39))*INDEX(Gegevens!$T$40:$T$49,GD!S44))","v":2717.9594496064256},{"$f":"IF(INDEX(Brandstoffacturen!$B$22:$B$29,GD!T44)=0,0,(E6*Brandstoffacturen!$P$3+Brandstoffacturen!$G$3)*(1+INDEX(Brandstoffacturen!$F$3:$F$14,E$39))*(1-INDEX(Brandstoffacturen!$L$3:$L$14,E$39))*INDEX(Gegevens!$T$40:$T$49,GD!T44))","v":2240.4061480531195},{"$f":"IF(INDEX(Brandstoffacturen!$B$22:$B$29,GD!U44)=0,0,(F6*Brandstoffacturen!$P$3+Brandstoffacturen!$G$3)*(1+INDEX(Brandstoffacturen!$F$3:$F$14,F$39))*(1-INDEX(Brandstoffacturen!$L$3:$L$14,F$39))*INDEX(Gegevens!$T$40:$T$49,GD!U44))","v":2354.3670921299577},{"$f":"IF(INDEX(Brandstoffacturen!$B$22:$B$29,GD!V44)=0,0,(G6*Brandstoffacturen!$P$3+Brandstoffacturen!$G$3)*(1+INDEX(Brandstoffacturen!$F$3:$F$14,G$39))*(1-INDEX(Brandstoffacturen!$L$3:$L$14,G$39))*INDEX(Gegevens!$T$40:$T$49,GD!V44))","v":1423.4237353940121},{"$f":"IF(INDEX(Brandstoffacturen!$B$22:$B$29,GD!W44)=0,0,(H6*Brandstoffacturen!$P$3+Brandstoffacturen!$G$3)*(1+INDEX(Brandstoffacturen!$F$3:$F$14,H$39))*(1-INDEX(Brandstoffacturen!$L$3:$L$14,H$39))*INDEX(Gegevens!$T$40:$T$49,GD!W44))","v":1444.5650630025289},{"$f":"IF(INDEX(Brandstoffacturen!$B$22:$B$29,GD!X44)=0,0,(I6*Brandstoffacturen!$P$3+Brandstoffacturen!$G$3)*(1+INDEX(Brandstoffacturen!$F$3:$F$14,I$39))*(1-INDEX(Brandstoffacturen!$L$3:$L$14,I$39))*INDEX(Gegevens!$T$40:$T$49,GD!X44))","v":1622.7924030552142},{"$f":"IF(INDEX(Brandstoffacturen!$B$22:$B$29,GD!Y44)=0,0,(J6*Brandstoffacturen!$P$3+Brandstoffacturen!$G$3)*(1+INDEX(Brandstoffacturen!$F$3:$F$14,J$39))*(1-INDEX(Brandstoffacturen!$L$3:$L$14,J$39))*INDEX(Gegevens!$T$40:$T$49,GD!Y44))","v":2088.8551631777805},{"$f":"IF(INDEX(Brandstoffacturen!$B$22:$B$29,GD!Z44)=0,0,(K6*Brandstoffacturen!$P$3+Brandstoffacturen!$G$3)*(1+INDEX(Brandstoffacturen!$F$3:$F$14,K$39))*(1-INDEX(Brandstoffacturen!$L$3:$L$14,K$39))*INDEX(Gegevens!$T$40:$T$49,GD!Z44))","v":2664.2277055973545},{"$f":"IF(INDEX(Brandstoffacturen!$B$22:$B$29,GD!AA44)=0,0,(L6*Brandstoffacturen!$P$3+Brandstoffacturen!$G$3)*(1+INDEX(Brandstoffacturen!$F$3:$F$14,L$39))*(1-INDEX(Brandstoffacturen!$L$3:$L$14,L$39))*INDEX(Gegevens!$T$40:$T$49,GD!AA44))","v":2326.8677346015602},{"$f":"IF(INDEX(Brandstoffacturen!$B$22:$B$29,GD!AB44)=0,0,(M6*Brandstoffacturen!$P$3+Brandstoffacturen!$G$3)*(1+INDEX(Brandstoffacturen!$F$3:$F$14,M$39))*(1-INDEX(Brandstoffacturen!$L$3:$L$14,M$39))*INDEX(Gegevens!$T$40:$T$49,GD!AB44))","v":3096.7900876101457},null,null,4,{"$f":"IF(OR(AND($A44=1,B$39=1),AND($A44=Titels!$O$12,B$39=Titels!$P$12),AND($A44=1,B$39=5),AND($A44=Titels!$O$14,B$39=Titels!$P$14),AND($A44=Titels!$O$15,B$39=Titels!$P$15),AND($A44=21,B$39=7),AND($A44=15,B$39=8),AND($A44=1,B$39=11),AND($A44=11,B$39=11),AND($A44=25,B$39=12)),8,WEEKDAY(CONCATENATE($P44,\"/\",B$39,\"/\",$B$1),2))","v":5},{"$f":"IF(OR(AND($A44=1,C$39=1),AND($A44=Titels!$O$12,C$39=Titels!$P$12),AND($A44=1,C$39=5),AND($A44=Titels!$O$14,C$39=Titels!$P$14),AND($A44=Titels!$O$15,C$39=Titels!$P$15),AND($A44=21,C$39=7),AND($A44=15,C$39=8),AND($A44=1,C$39=11),AND($A44=11,C$39=11),AND($A44=25,C$39=12)),8,WEEKDAY(CONCATENATE($P44,\"/\",C$39,\"/\",$B$1),2))","v":1},{"$f":"IF(OR(AND($A44=1,D$39=1),AND($A44=Titels!$O$12,D$39=Titels!$P$12),AND($A44=1,D$39=5),AND($A44=Titels!$O$14,D$39=Titels!$P$14),AND($A44=Titels!$O$15,D$39=Titels!$P$15),AND($A44=21,D$39=7),AND($A44=15,D$39=8),AND($A44=1,D$39=11),AND($A44=11,D$39=11),AND($A44=25,D$39=12)),8,WEEKDAY(CONCATENATE($P44,\"/\",D$39,\"/\",$B$1),2))","v":1},{"$f":"IF(OR(AND($A44=1,E$39=1),AND($A44=Titels!$O$12,E$39=Titels!$P$12),AND($A44=1,E$39=5),AND($A44=Titels!$O$14,E$39=Titels!$P$14),AND($A44=Titels!$O$15,E$39=Titels!$P$15),AND($A44=21,E$39=7),AND($A44=15,E$39=8),AND($A44=1,E$39=11),AND($A44=11,E$39=11),AND($A44=25,E$39=12)),8,WEEKDAY(CONCATENATE($P44,\"/\",E$39,\"/\",$B$1),2))","v":4},{"$f":"IF(OR(AND($A44=1,F$39=1),AND($A44=Titels!$O$12,F$39=Titels!$P$12),AND($A44=1,F$39=5),AND($A44=Titels!$O$14,F$39=Titels!$P$14),AND($A44=Titels!$O$15,F$39=Titels!$P$15),AND($A44=21,F$39=7),AND($A44=15,F$39=8),AND($A44=1,F$39=11),AND($A44=11,F$39=11),AND($A44=25,F$39=12)),8,WEEKDAY(CONCATENATE($P44,\"/\",F$39,\"/\",$B$1),2))","v":6},{"$f":"IF(OR(AND($A44=1,G$39=1),AND($A44=Titels!$O$12,G$39=Titels!$P$12),AND($A44=1,G$39=5),AND($A44=Titels!$O$14,G$39=Titels!$P$14),AND($A44=Titels!$O$15,G$39=Titels!$P$15),AND($A44=21,G$39=7),AND($A44=15,G$39=8),AND($A44=1,G$39=11),AND($A44=11,G$39=11),AND($A44=25,G$39=12)),8,WEEKDAY(CONCATENATE($P44,\"/\",G$39,\"/\",$B$1),2))","v":2},{"$f":"IF(OR(AND($A44=1,H$39=1),AND($A44=Titels!$O$12,H$39=Titels!$P$12),AND($A44=1,H$39=5),AND($A44=Titels!$O$14,H$39=Titels!$P$14),AND($A44=Titels!$O$15,H$39=Titels!$P$15),AND($A44=21,H$39=7),AND($A44=15,H$39=8),AND($A44=1,H$39=11),AND($A44=11,H$39=11),AND($A44=25,H$39=12)),8,WEEKDAY(CONCATENATE($P44,\"/\",H$39,\"/\",$B$1),2))","v":4},{"$f":"IF(OR(AND($A44=1,I$39=1),AND($A44=Titels!$O$12,I$39=Titels!$P$12),AND($A44=1,I$39=5),AND($A44=Titels!$O$14,I$39=Titels!$P$14),AND($A44=Titels!$O$15,I$39=Titels!$P$15),AND($A44=21,I$39=7),AND($A44=15,I$39=8),AND($A44=1,I$39=11),AND($A44=11,I$39=11),AND($A44=25,I$39=12)),8,WEEKDAY(CONCATENATE($P44,\"/\",I$39,\"/\",$B$1),2))","v":7},{"$f":"IF(OR(AND($A44=1,J$39=1),AND($A44=Titels!$O$12,J$39=Titels!$P$12),AND($A44=1,J$39=5),AND($A44=Titels!$O$14,J$39=Titels!$P$14),AND($A44=Titels!$O$15,J$39=Titels!$P$15),AND($A44=21,J$39=7),AND($A44=15,J$39=8),AND($A44=1,J$39=11),AND($A44=11,J$39=11),AND($A44=25,J$39=12)),8,WEEKDAY(CONCATENATE($P44,\"/\",J$39,\"/\",$B$1),2))","v":3},{"$f":"IF(OR(AND($A44=1,K$39=1),AND($A44=Titels!$O$12,K$39=Titels!$P$12),AND($A44=1,K$39=5),AND($A44=Titels!$O$14,K$39=Titels!$P$14),AND($A44=Titels!$O$15,K$39=Titels!$P$15),AND($A44=21,K$39=7),AND($A44=15,K$39=8),AND($A44=1,K$39=11),AND($A44=11,K$39=11),AND($A44=25,K$39=12)),8,WEEKDAY(CONCATENATE($P44,\"/\",K$39,\"/\",$B$1),2))","v":5},{"$f":"IF(OR(AND($A44=1,L$39=1),AND($A44=Titels!$O$12,L$39=Titels!$P$12),AND($A44=1,L$39=5),AND($A44=Titels!$O$14,L$39=Titels!$P$14),AND($A44=Titels!$O$15,L$39=Titels!$P$15),AND($A44=21,L$39=7),AND($A44=15,L$39=8),AND($A44=1,L$39=11),AND($A44=11,L$39=11),AND($A44=25,L$39=12)),8,WEEKDAY(CONCATENATE($P44,\"/\",L$39,\"/\",$B$1),2))","v":1},{"$f":"IF(OR(AND($A44=1,M$39=1),AND($A44=Titels!$O$12,M$39=Titels!$P$12),AND($A44=1,M$39=5),AND($A44=Titels!$O$14,M$39=Titels!$P$14),AND($A44=Titels!$O$15,M$39=Titels!$P$15),AND($A44=21,M$39=7),AND($A44=15,M$39=8),AND($A44=1,M$39=11),AND($A44=11,M$39=11),AND($A44=25,M$39=12)),8,WEEKDAY(CONCATENATE($P44,\"/\",M$39,\"/\",$B$1),2))","v":3}]
[5,{"$f":"IF(INDEX(Brandstoffacturen!$B$22:$B$29,GD!Q45)=0,0,(B7*Brandstoffacturen!$P$3+Brandstoffacturen!$G$3)*(1+INDEX(Brandstoffacturen!$F$3:$F$14,B$39))*(1-INDEX(Brandstoffacturen!$L$3:$L$14,B$39))*INDEX(Gegevens!$T$40:$T$49,GD!Q45))","v":2532.5678206169332},{"$f":"IF(INDEX(Brandstoffacturen!$B$22:$B$29,GD!R45)=0,0,(C7*Brandstoffacturen!$P$3+Brandstoffacturen!$G$3)*(1+INDEX(Brandstoffacturen!$F$3:$F$14,C$39))*(1-INDEX(Brandstoffacturen!$L$3:$L$14,C$39))*INDEX(Gegevens!$T$40:$T$49,GD!R45))","v":3240.0879970263099},{"$f":"IF(INDEX(Brandstoffacturen!$B$22:$B$29,GD!S45)=0,0,(D7*Brandstoffacturen!$P$3+Brandstoffacturen!$G$3)*(1+INDEX(Brandstoffacturen!$F$3:$F$14,D$39))*(1-INDEX(Brandstoffacturen!$L$3:$L$14,D$39))*INDEX(Gegevens!$T$40:$T$49,GD!S45))","v":2889.1214081392372},{"$f":"IF(INDEX(Brandstoffacturen!$B$22:$B$29,GD!T45)=0,0,(E7*Brandstoffacturen!$P$3+Brandstoffacturen!$G$3)*(1+INDEX(Brandstoffacturen!$F$3:$F$14,E$39))*(1-INDEX(Brandstoffacturen!$L$3:$L$14,E$39))*INDEX(Gegevens!$T$40:$T$49,GD!T45))","v":2014.8429255573667},{"$f":"IF(INDEX(Brandstoffacturen!$B$22:$B$29,GD!U45)=0,0,(F7*Brandstoffacturen!$P$3+Brandstoffacturen!$G$3)*(1+INDEX(Brandstoffacturen!$F$3:$F$14,F$39))*(1-INDEX(Brandstoffacturen!$L$3:$L$14,F$39))*INDEX(Gegevens!$T$40:$T$49,GD!U45))","v":2325.6917181467916},{"$f":"IF(INDEX(Brandstoffacturen!$B$22:$B$29,GD!V45)=0,0,(G7*Brandstoffacturen!$P$3+Brandstoffacturen!$G$3)*(1+INDEX(Brandstoffacturen!$F$3:$F$14,G$39))*(1-INDEX(Brandstoffacturen!$L$3:$L$14,G$39))*INDEX(Gegevens!$T$40:$T$49,GD!V45))","v":1432.5300084046285},{"$f":"IF(INDEX(Brandstoffacturen!$B$22:$B$29,GD!W45)=0,0,(H7*Brandstoffacturen!$P$3+Brandstoffacturen!$G$3)*(1+INDEX(Brandstoffacturen!$F$3:$F$14,H$39))*(1-INDEX(Brandstoffacturen!$L$3:$L$14,H$39))*INDEX(Gegevens!$T$40:$T$49,GD!W45))","v":1444.5650630025289},{"$f":"IF(INDEX(Brandstoffacturen!$B$22:$B$29,GD!X45)=0,0,(I7*Brandstoffacturen!$P$3+Brandstoffacturen!$G$3)*(1+INDEX(Brandstoffacturen!$F$3:$F$14,I$39))*(1-INDEX(Brandstoffacturen!$L$3:$L$14,I$39))*INDEX(Gegevens!$T$40:$T$49,GD!X45))","v":1622.7924030552142},{"$f":"IF(INDEX(Brandstoffacturen!$B$22:$B$29,GD!Y45)=0,0,(J7*Brandstoffacturen!$P$3+Brandstoffacturen!$G$3)*(1+INDEX(Brandstoffacturen!$F$3:$F$14,J$39))*(1-INDEX(Brandstoffacturen!$L$3:$L$14,J$39))*INDEX(Gegevens!$T$40:$T$49,GD!Y45))","v":2369.4851564633823},{"$f":"IF(INDEX(Brandstoffacturen!$B$22:$B$29,GD!Z45)=0,0,(K7*Brandstoffacturen!$P$3+Brandstoffacturen!$G$3)*(1+INDEX(Brandstoffacturen!$F$3:$F$14,K$39))*(1-INDEX(Brandstoffacturen!$L$3:$L$14,K$39))*INDEX(Gegevens!$T$40:$T$49,GD!Z45))","v":2937.3897607316212},{"$f":"IF(INDEX(Brandstoffacturen!$B$22:$B$29,GD!AA45)=0,0,(L7*Brandstoffacturen!$P$3+Brandstoffacturen!$G$3)*(1+INDEX(Brandstoffacturen!$F$3:$F$14,L$39))*(1-INDEX(Brandstoffacturen!$L$3:$L$14,L$39))*INDEX(Gegevens!$T$40:$T$49,GD!AA45))","v":2543.254399015841},{"$f":"IF(INDEX(Brandstoffacturen!$B$22:$B$29,GD!AB45)=0,0,(M7*Brandstoffacturen!$P$3+Brandstoffacturen!$G$3)*(1+INDEX(Brandstoffacturen!$F$3:$F$14,M$39))*(1-INDEX(Brandstoffacturen!$L$3:$L$14,M$39))*INDEX(Gegevens!$T$40:$T$49,GD!AB45))","v":3316.1775230016369},null,null,5,{"$f":"IF(OR(AND($A45=1,B$39=1),AND($A45=Titels!$O$12,B$39=Titels!$P$12),AND($A45=1,B$39=5),AND($A45=Titels!$O$14,B$39=Titels!$P$14),AND($A45=Titels!$O$15,B$39=Titels!$P$15),AND($A45=21,B$39=7),AND($A45=15,B$39=8),AND($A45=1,B$39=11),AND($A45=11,B$39=11),AND($A45=25,B$39=12)),8,WEEKDAY(CONCATENATE($P45,\"/\",B$39,\"/\",$B$1),2))","v":6},{"$f":"IF(OR(AND($A45=1,C$39=1),AND($A45=Titels!$O$12,C$39=Titels!$P$12),AND($A45=1,C$39=5),AND($A45=Titels!$O$14,C$39=Titels!$P$14),AND($A45=Titels!$O$15,C$39=Titels!$P$15),AND($A45=21,C$39=7),AND($A45=15,C$39=8),AND($A45=1,C$39=11),AND($A45=11,C$39=11),AND($A45=25,C$39=12)),8,WEEKDAY(CONCATENATE($P45,\"/\",C$39,\"/\",$B$1),2))","v":2},{"$f":"IF(OR(AND($A45=1,D$39=1),AND($A45=Titels!$O$12,D$39=Titels!$P$12),AND($A45=1,D$39=5),AND($A45=Titels!$O$14,D$39=Titels!$P$14),AND($A45=Titels!$O$15,D$39=Titels!$P$15),AND($A45=21,D$39=7),AND($A45=15,D$39=8),AND($A45=1,D$39=11),AND($A45=11,D$39=11),AND($A45=25,D$39=12)),8,WEEKDAY(CONCATENATE($P45,\"/\",D$39,\"/\",$B$1),2))","v":2},{"$f":"IF(OR(AND($A45=1,E$39=1),AND($A45=Titels!$O$12,E$39=Titels!$P$12),AND($A45=1,E$39=5),AND($A45=Titels!$O$14,E$39=Titels!$P$14),AND($A45=Titels!$O$15,E$39=Titels!$P$15),AND($A45=21,E$39=7),AND($A45=15,E$39=8),AND($A45=1,E$39=11),AND($A45=11,E$39=11),AND($A45=25,E$39=12)),8,WEEKDAY(CONCATENATE($P45,\"/\",E$39,\"/\",$B$1),2))","v":5},{"$f":"IF(OR(AND($A45=1,F$39=1),AND($A45=Titels!$O$12,F$39=Titels!$P$12),AND($A45=1,F$39=5),AND($A45=Titels!$O$14,F$39=Titels!$P$14),AND($A45=Titels!$O$15,F$39=Titels!$P$15),AND($A45=21,F$39=7),AND($A45=15,F$39=8),AND($A45=1,F$39=11),AND($A45=11,F$39=11),AND($A45=25,F$39=12)),8,WEEKDAY(CONCATENATE($P45,\"/\",F$39,\"/\",$B$1),2))","v":7},{"$f":"IF(OR(AND($A45=1,G$39=1),AND($A45=Titels!$O$12,G$39=Titels!$P$12),AND($A45=1,G$39=5),AND($A45=Titels!$O$14,G$39=Titels!$P$14),AND($A45=Titels!$O$15,G$39=Titels!$P$15),AND($A45=21,G$39=7),AND($A45=15,G$39=8),AND($A45=1,G$39=11),AND($A45=11,G$39=11),AND($A45=25,G$39=12)),8,WEEKDAY(CONCATENATE($P45,\"/\",G$39,\"/\",$B$1),2))","v":3},{"$f":"IF(OR(AND($A45=1,H$39=1),AND($A45=Titels!$O$12,H$39=Titels!$P$12),AND($A45=1,H$39=5),AND($A45=Titels!$O$14,H$39=Titels!$P$14),AND($A45=Titels!$O$15,H$39=Titels!$P$15),AND($A45=21,H$39=7),AND($A45=15,H$39=8),AND($A45=1,H$39=11),AND($A45=11,H$39=11),AND($A45=25,H$39=12)),8,WEEKDAY(CONCATENATE($P45,\"/\",H$39,\"/\",$B$1),2))","v":5},{"$f":"IF(OR(AND($A45=1,I$39=1),AND($A45=Titels!$O$12,I$39=Titels!$P$12),AND($A45=1,I$39=5),AND($A45=Titels!$O$14,I$39=Titels!$P$14),AND($A45=Titels!$O$15,I$39=Titels!$P$15),AND($A45=21,I$39=7),AND($A45=15,I$39=8),AND($A45=1,I$39=11),AND($A45=11,I$39=11),AND($A45=25,I$39=12)),8,WEEKDAY(CONCATENATE($P45,\"/\",I$39,\"/\",$B$1),2))","v":1},{"$f":"IF(OR(AND($A45=1,J$39=1),AND($A45=Titels!$O$12,J$39=Titels!$P$12),AND($A45=1,J$39=5),AND($A45=Titels!$O$14,J$39=Titels!$P$14),AND($A45=Titels!$O$15,J$39=Titels!$P$15),AND($A45=21,J$39=7),AND($A45=15,J$39=8),AND($A45=1,J$39=11),AND($A45=11,J$39=11),AND($A45=25,J$39=12)),8,WEEKDAY(CONCATENATE($P45,\"/\",J$39,\"/\",$B$1),2))","v":4},{"$f":"IF(OR(AND($A45=1,K$39=1),AND($A45=Titels!$O$12,K$39=Titels!$P$12),AND($A45=1,K$39=5),AND($A45=Titels!$O$14,K$39=Titels!$P$14),AND($A45=Titels!$O$15,K$39=Titels!$P$15),AND($A45=21,K$39=7),AND($A45=15,K$39=8),AND($A45=1,K$39=11),AND($A45=11,K$39=11),AND($A45=25,K$39=12)),8,WEEKDAY(CONCATENATE($P45,\"/\",K$39,\"/\",$B$1),2))","v":6},{"$f":"IF(OR(AND($A45=1,L$39=1),AND($A45=Titels!$O$12,L$39=Titels!$P$12),AND($A45=1,L$39=5),AND($A45=Titels!$O$14,L$39=Titels!$P$14),AND($A45=Titels!$O$15,L$39=Titels!$P$15),AND($A45=21,L$39=7),AND($A45=15,L$39=8),AND($A45=1,L$39=11),AND($A45=11,L$39=11),AND($A45=25,L$39=12)),8,WEEKDAY(CONCATENATE($P45,\"/\",L$39,\"/\",$B$1),2))","v":2},{"$f":"IF(OR(AND($A45=1,M$39=1),AND($A45=Titels!$O$12,M$39=Titels!$P$12),AND($A45=1,M$39=5),AND($A45=Titels!$O$14,M$39=Titels!$P$14),AND($A45=Titels!$O$15,M$39=Titels!$P$15),AND($A45=21,M$39=7),AND($A45=15,M$39=8),AND($A45=1,M$39=11),AND($A45=11,M$39=11),AND($A45=25,M$39=12)),8,WEEKDAY(CONCATENATE($P45,\"/\",M$39,\"/\",$B$1),2))","v":4}]
[6,{"$f":"IF(INDEX(Brandstoffacturen!$B$22:$B$29,GD!Q46)=0,0,(B8*Brandstoffacturen!$P$3+Brandstoffacturen!$G$3)*(1+INDEX(Brandstoffacturen!$F$3:$F$14,B$39))*(1-INDEX(Brandstoffacturen!$L$3:$L$14,B$39))*INDEX(Gegevens!$T$40:$T$49,GD!Q46))","v":2601.1977901278715},{"$f":"IF(INDEX(Brandstoffacturen!$B$22:$B$29,GD!R46)=0,0,(C8*Brandstoffacturen!$P$3+Brandstoffacturen!$G$3)*(1+INDEX(Brandstoffacturen!$F$3:$F$14,C$39))*(1-INDEX(Brandstoffacturen!$L$3:$L$14,C$39))*INDEX(Gegevens!$T$40:$T$49,GD!R46))","v":2991.1353754948545},{"$f":"IF(INDEX(Brandstoffacturen!$B$22:$B$29,GD!S46)=0,0,(D8*Brandstoffacturen!$P$3+Brandstoffacturen!$G$3)*(1+INDEX(Brandstoffacturen!$F$3:$F$14,D$39))*(1-INDEX(Brandstoffacturen!$L$3:$L$14,D$39))*INDEX(Gegevens!$T$40:$T$49,GD!S46))","v":2510.1199285308685},{"$f":"IF(INDEX(Brandstoffacturen!$B$22:$B$29,GD!T46)=0,0,(E8*Brandstoffacturen!$P$3+Brandstoffacturen!$G$3)*(1+INDEX(Brandstoffacturen!$F$3:$F$14,E$39))*(1-INDEX(Brandstoffacturen!$L$3:$L$14,E$39))*INDEX(Gegevens!$T$40:$T$49,GD!T46))","v":1807.3247608612739},{"$f":"IF(INDEX(Brandstoffacturen!$B$22:$B$29,GD!U46)=0,0,(F8*Brandstoffacturen!$P$3+Brandstoffacturen!$G$3)*(1+INDEX(Brandstoffacturen!$F$3:$F$14,F$39))*(1-INDEX(Brandstoffacturen!$L$3:$L$14,F$39))*INDEX(Gegevens!$T$40:$T$49,GD!U46))","v":2297.0163441636255},{"$f":"IF(INDEX(Brandstoffacturen!$B$22:$B$29,GD!V46)=0,0,(G8*Brandstoffacturen!$P$3+Brandstoffacturen!$G$3)*(1+INDEX(Brandstoffacturen!$F$3:$F$14,G$39))*(1-INDEX(Brandstoffacturen!$L$3:$L$14,G$39))*INDEX(Gegevens!$T$40:$T$49,GD!V46))","v":1614.6554686169588},{"$f":"IF(INDEX(Brandstoffacturen!$B$22:$B$29,GD!W46)=0,0,(H8*Brandstoffacturen!$P$3+Brandstoffacturen!$G$3)*(1+INDEX(Brandstoffacturen!$F$3:$F$14,H$39))*(1-INDEX(Brandstoffacturen!$L$3:$L$14,H$39))*INDEX(Gegevens!$T$40:$T$49,GD!W46))","v":1444.5650630025289},{"$f":"IF(INDEX(Brandstoffacturen!$B$22:$B$29,GD!X46)=0,0,(I8*Brandstoffacturen!$P$3+Brandstoffacturen!$G$3)*(1+INDEX(Brandstoffacturen!$F$3:$F$14,I$39))*(1-INDEX(Brandstoffacturen!$L$3:$L$14,I$39))*INDEX(Gegevens!$T$40:$T$49,GD!X46))","v":1622.7924030552142},{"$f":"IF(INDEX(Brandstoffacturen!$B$22:$B$29,GD!Y46)=0,0,(J8*Brandstoffacturen!$P$3+Brandstoffacturen!$G$3)*(1+INDEX(Brandstoffacturen!$F$3:$F$14,J$39))*(1-INDEX(Brandstoffacturen!$L$3:$L$14,J$39))*INDEX(Gegevens!$T$40:$T$49,GD!Y46))","v":2302.6684913953818},{"$f":"IF(INDEX(Brandstoffacturen!$B$22:$B$29,GD!Z46)=0,0,(K8*Brandstoffacturen!$P$3+Brandstoffacturen!$G$3)*(1+INDEX(Brandstoffacturen!$F$3:$F$14,K$39))*(1-INDEX(Brandstoffacturen!$L$3:$L$14,K$39))*INDEX(Gegevens!$T$40:$T$49,GD!Z46))","v":2750.4894072187017},{"$f":"IF(INDEX(Brandstoffacturen!$B$22:$B$29,GD!AA46)=0,0,(L8*Brandstoffacturen!$P$3+Brandstoffacturen!$G$3)*(1+INDEX(Brandstoffacturen!$F$3:$F$14,L$39))*(1-INDEX(Brandstoffacturen!$L$3:$L$14,L$39))*INDEX(Gegevens!$T$40:$T$49,GD!AA46))","v":2520.4768553932854},{"$f":"IF(INDEX(Brandstoffacturen!$B$22:$B$29,GD!AB46)=0,0,(M8*Brandstoffacturen!$P$3+Brandstoffacturen!$G$3)*(1+INDEX(Brandstoffacturen!$F$3:$F$14,M$39))*(1-INDEX(Brandstoffacturen!$L$3:$L$14,M$39))*INDEX(Gegevens!$T$40:$T$49,GD!AB46))","v":2833.5251651403569},null,null,6,{"$f":"IF(OR(AND($A46=1,B$39=1),AND($A46=Titels!$O$12,B$39=Titels!$P$12),AND($A46=1,B$39=5),AND($A46=Titels!$O$14,B$39=Titels!$P$14),AND($A46=Titels!$O$15,B$39=Titels!$P$15),AND($A46=21,B$39=7),AND($A46=15,B$39=8),AND($A46=1,B$39=11),AND($A46=11,B$39=11),AND($A46=25,B$39=12)),8,WEEKDAY(CONCATENATE($P46,\"/\",B$39,\"/\",$B$1),2))","v":7},{"$f":"IF(OR(AND($A46=1,C$39=1),AND($A46=Titels!$O$12,C$39=Titels!$P$12),AND($A46=1,C$39=5),AND($A46=Titels!$O$14,C$39=Titels!$P$14),AND($A46=Titels!$O$15,C$39=Titels!$P$15),AND($A46=21,C$39=7),AND($A46=15,C$39=8),AND($A46=1,C$39=11),AND($A46=11,C$39=11),AND($A46=25,C$39=12)),8,WEEKDAY(CONCATENATE($P46,\"/\",C$39,\"/\",$B$1),2))","v":3},{"$f":"IF(OR(AND($A46=1,D$39=1),AND($A46=Titels!$O$12,D$39=Titels!$P$12),AND($A46=1,D$39=5),AND($A46=Titels!$O$14,D$39=Titels!$P$14),AND($A46=Titels!$O$15,D$39=Titels!$P$15),AND($A46=21,D$39=7),AND($A46=15,D$39=8),AND($A46=1,D$39=11),AND($A46=11,D$39=11),AND($A46=25,D$39=12)),8,WEEKDAY(CONCATENATE($P46,\"/\",D$39,\"/\",$B$1),2))","v":3},{"$f":"IF(OR(AND($A46=1,E$39=1),AND($A46=Titels!$O$12,E$39=Titels!$P$12),AND($A46=1,E$39=5),AND($A46=Titels!$O$14,E$39=Titels!$P$14),AND($A46=Titels!$O$15,E$39=Titels!$P$15),AND($A46=21,E$39=7),AND($A46=15,E$39=8),AND($A46=1,E$39=11),AND($A46=11,E$39=11),AND($A46=25,E$39=12)),8,WEEKDAY(CONCATENATE($P46,\"/\",E$39,\"/\",$B$1),2))","v":6},{"$f":"IF(OR(AND($A46=1,F$39=1),AND($A46=Titels!$O$12,F$39=Titels!$P$12),AND($A46=1,F$39=5),AND($A46=Titels!$O$14,F$39=Titels!$P$14),AND($A46=Titels!$O$15,F$39=Titels!$P$15),AND($A46=21,F$39=7),AND($A46=15,F$39=8),AND($A46=1,F$39=11),AND($A46=11,F$39=11),AND($A46=25,F$39=12)),8,WEEKDAY(CONCATENATE($P46,\"/\",F$39,\"/\",$B$1),2))","v":1},{"$f":"IF(OR(AND($A46=1,G$39=1),AND($A46=Titels!$O$12,G$39=Titels!$P$12),AND($A46=1,G$39=5),AND($A46=Titels!$O$14,G$39=Titels!$P$14),AND($A46=Titels!$O$15,G$39=Titels!$P$15),AND($A46=21,G$39=7),AND($A46=15,G$39=8),AND($A46=1,G$39=11),AND($A46=11,G$39=11),AND($A46=25,G$39=12)),8,WEEKDAY(CONCATENATE($P46,\"/\",G$39,\"/\",$B$1),2))","v":4},{"$f":"IF(OR(AND($A46=1,H$39=1),AND($A46=Titels!$O$12,H$39=Titels!$P$12),AND($A46=1,H$39=5),AND($A46=Titels!$O$14,H$39=Titels!$P$14),AND($A46=Titels!$O$15,H$39=Titels!$P$15),AND($A46=21,H$39=7),AND($A46=15,H$39=8),AND($A46=1,H$39=11),AND($A46=11,H$39=11),AND($A46=25,H$39=12)),8,WEEKDAY(CONCATENATE($P46,\"/\",H$39,\"/\",$B$1),2))","v":6},{"$f":"IF(OR(AND($A46=1,I$39=1),AND($A46=Titels!$O$12,I$39=Titels!$P$12),AND($A46=1,I$39=5),AND($A46=Titels!$O$14,I$39=Titels!$P$14),AND($A46=Titels!$O$15,I$39=Titels!$P$15),AND($A46=21,I$39=7),AND($A46=15,I$39=8),AND($A46=1,I$39=11),AND($A46=11,I$39=11),AND($A46=25,I$39=12)),8,WEEKDAY(CONCATENATE($P46,\"/\",I$39,\"/\",$B$1),2))","v":2},{"$f":"IF(OR(AND($A46=1,J$39=1),AND($A46=Titels!$O$12,J$39=Titels!$P$12),AND($A46=1,J$39=5),AND($A46=Titels!$O$14,J$39=Titels!$P$14),AND($A46=Titels!$O$15,J$39=Titels!$P$15),AND($A46=21,J$39=7),AND($A46=15,J$39=8),AND($A46=1,J$39=11),AND($A46=11,J$39=11),AND($A46=25,J$39=12)),8,WEEKDAY(CONCATENATE($P46,\"/\",J$39,\"/\",$B$1),2))","v":5},{"$f":"IF(OR(AND($A46=1,K$39=1),AND($A46=Titels!$O$12,K$39=Titels!$P$12),AND($A46=1,K$39=5),AND($A46=Titels!$O$14,K$39=Titels!$P$14),AND($A46=Titels!$O$15,K$39=Titels!$P$15),AND($A46=21,K$39=7),AND($A46=15,K$39=8),AND($A46=1,K$39=11),AND($A46=11,K$39=11),AND($A46=25,K$39=12)),8,WEEKDAY(CONCATENATE($P46,\"/\",K$39,\"/\",$B$1),2))","v":7},{"$f":"IF(OR(AND($A46=1,L$39=1),AND($A46=Titels!$O$12,L$39=Titels!$P$12),AND($A46=1,L$39=5),AND($A46=Titels!$O$14,L$39=Titels!$P$14),AND($A46=Titels!$O$15,L$39=Titels!$P$15),AND($A46=21,L$39=7),AND($A46=15,L$39=8),AND($A46=1,L$39=11),AND($A46=11,L$39=11),AND($A46=25,L$39=12)),8,WEEKDAY(CONCATENATE($P46,\"/\",L$39,\"/\",$B$1),2))","v":3},{"$f":"IF(OR(AND($A46=1,M$39=1),AND($A46=Titels!$O$12,M$39=Titels!$P$12),AND($A46=1,M$39=5),AND($A46=Titels!$O$14,M$39=Titels!$P$14),AND($A46=Titels!$O$15,M$39=Titels!$P$15),AND($A46=21,M$39=7),AND($A46=15,M$39=8),AND($A46=1,M$39=11),AND($A46=11,M$39=11),AND($A46=25,M$39=12)),8,WEEKDAY(CONCATENATE($P46,\"/\",M$39,\"/\",$B$1),2))","v":5}]
[7,{"$f":"IF(INDEX(Brandstoffacturen!$B$22:$B$29,GD!Q47)=0,0,(B9*Brandstoffacturen!$P$3+Brandstoffacturen!$G$3)*(1+INDEX(Brandstoffacturen!$F$3:$F$14,B$39))*(1-INDEX(Brandstoffacturen!$L$3:$L$14,B$39))*INDEX(Gegevens!$T$40:$T$49,GD!Q47))","v":2405.1121629537629},{"$f":"IF(INDEX(Brandstoffacturen!$B$22:$B$29,GD!R47)=0,0,(C9*Brandstoffacturen!$P$3+Brandstoffacturen!$G$3)*(1+INDEX(Brandstoffacturen!$F$3:$F$14,C$39))*(1-INDEX(Brandstoffacturen!$L$3:$L$14,C$39))*INDEX(Gegevens!$T$40:$T$49,GD!R47))","v":2718.4729804842136},{"$f":"IF(INDEX(Brandstoffacturen!$B$22:$B$29,GD!S47)=0,0,(D9*Brandstoffacturen!$P$3+Brandstoffacturen!$G$3)*(1+INDEX(Brandstoffacturen!$F$3:$F$14,D$39))*(1-INDEX(Brandstoffacturen!$L$3:$L$14,D$39))*INDEX(Gegevens!$T$40:$T$49,GD!S47))","v":2717.9594496064256},{"$f":"IF(INDEX(Brandstoffacturen!$B$22:$B$29,GD!T47)=0,0,(E9*Brandstoffacturen!$P$3+Brandstoffacturen!$G$3)*(1+INDEX(Brandstoffacturen!$F$3:$F$14,E$39))*(1-INDEX(Brandstoffacturen!$L$3:$L$14,E$39))*INDEX(Gegevens!$T$40:$T$49,GD!T47))","v":1599.8065961651812},{"$f":"IF(INDEX(Brandstoffacturen!$B$22:$B$29,GD!U47)=0,0,(F9*Brandstoffacturen!$P$3+Brandstoffacturen!$G$3)*(1+INDEX(Brandstoffacturen!$F$3:$F$14,F$39))*(1-INDEX(Brandstoffacturen!$L$3:$L$14,F$39))*INDEX(Gegevens!$T$40:$T$49,GD!U47))","v":2038.9379783151312},{"$f":"IF(INDEX(Brandstoffacturen!$B$22:$B$29,GD!V47)=0,0,(G9*Brandstoffacturen!$P$3+Brandstoffacturen!$G$3)*(1+INDEX(Brandstoffacturen!$F$3:$F$14,G$39))*(1-INDEX(Brandstoffacturen!$L$3:$L$14,G$39))*INDEX(Gegevens!$T$40:$T$49,GD!V47))","v":1487.1676464683276},{"$f":"IF(INDEX(Brandstoffacturen!$B$22:$B$29,GD!W47)=0,0,(H9*Brandstoffacturen!$P$3+Brandstoffacturen!$G$3)*(1+INDEX(Brandstoffacturen!$F$3:$F$14,H$39))*(1-INDEX(Brandstoffacturen!$L$3:$L$14,H$39))*INDEX(Gegevens!$T$40:$T$49,GD!W47))","v":1444.5650630025289},{"$f":"IF(INDEX(Brandstoffacturen!$B$22:$B$29,GD!X47)=0,0,(I9*Brandstoffacturen!$P$3+Brandstoffacturen!$G$3)*(1+INDEX(Brandstoffacturen!$F$3:$F$14,I$39))*(1-INDEX(Brandstoffacturen!$L$3:$L$14,I$39))*INDEX(Gegevens!$T$40:$T$49,GD!X47))","v":1622.7924030552142},{"$f":"IF(INDEX(Brandstoffacturen!$B$22:$B$29,GD!Y47)=0,0,(J9*Brandstoffacturen!$P$3+Brandstoffacturen!$G$3)*(1+INDEX(Brandstoffacturen!$F$3:$F$14,J$39))*(1-INDEX(Brandstoffacturen!$L$3:$L$14,J$39))*INDEX(Gegevens!$T$40:$T$49,GD!Y47))","v":2262.5784923545816},{"$f":"IF(INDEX(Brandstoffacturen!$B$22:$B$29,GD!Z47)=0,0,(K9*Brandstoffacturen!$P$3+Brandstoffacturen!$G$3)*(1+INDEX(Brandstoffacturen!$F$3:$F$14,K$39))*(1-INDEX(Brandstoffacturen!$L$3:$L$14,K$39))*INDEX(Gegevens!$T$40:$T$49,GD!Z47))","v":2836.7511088400493},{"$f":"IF(INDEX(Brandstoffacturen!$B$22:$B$29,GD!AA47)=0,0,(L9*Brandstoffacturen!$P$3+Brandstoffacturen!$G$3)*(1+INDEX(Brandstoffacturen!$F$3:$F$14,L$39))*(1-INDEX(Brandstoffacturen!$L$3:$L$14,L$39))*INDEX(Gegevens!$T$40:$T$49,GD!AA47))","v":2668.5308889398984},{"$f":"IF(INDEX(Brandstoffacturen!$B$22:$B$29,GD!AB47)=0,0,(M9*Brandstoffacturen!$P$3+Brandstoffacturen!$G$3)*(1+INDEX(Brandstoffacturen!$F$3:$F$14,M$39))*(1-INDEX(Brandstoffacturen!$L$3:$L$14,M$39))*INDEX(Gegevens!$T$40:$T$49,GD!AB47))","v":2405.7196661269504},null,null,7,{"$f":"IF(OR(AND($A47=1,B$39=1),AND($A47=Titels!$O$12,B$39=Titels!$P$12),AND($A47=1,B$39=5),AND($A47=Titels!$O$14,B$39=Titels!$P$14),AND($A47=Titels!$O$15,B$39=Titels!$P$15),AND($A47=21,B$39=7),AND($A47=15,B$39=8),AND($A47=1,B$39=11),AND($A47=11,B$39=11),AND($A47=25,B$39=12)),8,WEEKDAY(CONCATENATE($P47,\"/\",B$39,\"/\",$B$1),2))","v":1},{"$f":"IF(OR(AND($A47=1,C$39=1),AND($A47=Titels!$O$12,C$39=Titels!$P$12),AND($A47=1,C$39=5),AND($A47=Titels!$O$14,C$39=Titels!$P$14),AND($A47=Titels!$O$15,C$39=Titels!$P$15),AND($A47=21,C$39=7),AND($A47=15,C$39=8),AND($A47=1,C$39=11),AND($A47=11,C$39=11),AND($A47=25,C$39=12)),8,WEEKDAY(CONCATENATE($P47,\"/\",C$39,\"/\",$B$1),2))","v":4},{"$f":"IF(OR(AND($A47=1,D$39=1),AND($A47=Titels!$O$12,D$39=Titels!$P$12),AND($A47=1,D$39=5),AND($A47=Titels!$O$14,D$39=Titels!$P$14),AND($A47=Titels!$O$15,D$39=Titels!$P$15),AND($A47=21,D$39=7),AND($A47=15,D$39=8),AND($A47=1,D$39=11),AND($A47=11,D$39=11),AND($A47=25,D$39=12)),8,WEEKDAY(CONCATENATE($P47,\"/\",D$39,\"/\",$B$1),2))","v":4},{"$f":"IF(OR(AND($A47=1,E$39=1),AND($A47=Titels!$O$12,E$39=Titels!$P$12),AND($A47=1,E$39=5),AND($A47=Titels!$O$14,E$39=Titels!$P$14),AND($A47=Titels!$O$15,E$39=Titels!$P$15),AND($A47=21,E$39=7),AND($A47=15,E$39=8),AND($A47=1,E$39=11),AND($A47=11,E$39=11),AND($A47=25,E$39=12)),8,WEEKDAY(CONCATENATE($P47,\"/\",E$39,\"/\",$B$1),2))","v":7},{"$f":"IF(OR(AND($A47=1,F$39=1),AND($A47=Titels!$O$12,F$39=Titels!$P$12),AND($A47=1,F$39=5),AND($A47=Titels!$O$14,F$39=Titels!$P$14),AND($A47=Titels!$O$15,F$39=Titels!$P$15),AND($A47=21,F$39=7),AND($A47=15,F$39=8),AND($A47=1,F$39=11),AND($A47=11,F$39=11),AND($A47=25,F$39=12)),8,WEEKDAY(CONCATENATE($P47,\"/\",F$39,\"/\",$B$1),2))","v":2},{"$f":"IF(OR(AND($A47=1,G$39=1),AND($A47=Titels!$O$12,G$39=Titels!$P$12),AND($A47=1,G$39=5),AND($A47=Titels!$O$14,G$39=Titels!$P$14),AND($A47=Titels!$O$15,G$39=Titels!$P$15),AND($A47=21,G$39=7),AND($A47=15,G$39=8),AND($A47=1,G$39=11),AND($A47=11,G$39=11),AND($A47=25,G$39=12)),8,WEEKDAY(CONCATENATE($P47,\"/\",G$39,\"/\",$B$1),2))","v":5},{"$f":"IF(OR(AND($A47=1,H$39=1),AND($A47=Titels!$O$12,H$39=Titels!$P$12),AND($A47=1,H$39=5),AND($A47=Titels!$O$14,H$39=Titels!$P$14),AND($A47=Titels!$O$15,H$39=Titels!$P$15),AND($A47=21,H$39=7),AND($A47=15,H$39=8),AND($A47=1,H$39=11),AND($A47=11,H$39=11),AND($A47=25,H$39=12)),8,WEEKDAY(CONCATENATE($P47,\"/\",H$39,\"/\",$B$1),2))","v":7},{"$f":"IF(OR(AND($A47=1,I$39=1),AND($A47=Titels!$O$12,I$39=Titels!$P$12),AND($A47=1,I$39=5),AND($A47=Titels!$O$14,I$39=Titels!$P$14),AND($A47=Titels!$O$15,I$39=Titels!$P$15),AND($A47=21,I$39=7),AND($A47=15,I$39=8),AND($A47=1,I$39=11),AND($A47=11,I$39=11),AND($A47=25,I$39=12)),8,WEEKDAY(CONCATENATE($P47,\"/\",I$39,\"/\",$B$1),2))","v":3},{"$f":"IF(OR(AND($A47=1,J$39=1),AND($A47=Titels!$O$12,J$39=Titels!$P$12),AND($A47=1,J$39=5),AND($A47=Titels!$O$14,J$39=Titels!$P$14),AND($A47=Titels!$O$15,J$39=Titels!$P$15),AND($A47=21,J$39=7),AND($A47=15,J$39=8),AND($A47=1,J$39=11),AND($A47=11,J$39=11),AND($A47=25,J$39=12)),8,WEEKDAY(CONCATENATE($P47,\"/\",J$39,\"/\",$B$1),2))","v":6},{"$f":"IF(OR(AND($A47=1,K$39=1),AND($A47=Titels!$O$12,K$39=Titels!$P$12),AND($A47=1,K$39=5),AND($A47=Titels!$O$14,K$39=Titels!$P$14),AND($A47=Titels!$O$15,K$39=Titels!$P$15),AND($A47=21,K$39=7),AND($A47=15,K$39=8),AND($A47=1,K$39=11),AND($A47=11,K$39=11),AND($A47=25,K$39=12)),8,WEEKDAY(CONCATENATE($P47,\"/\",K$39,\"/\",$B$1),2))","v":1},{"$f":"IF(OR(AND($A47=1,L$39=1),AND($A47=Titels!$O$12,L$39=Titels!$P$12),AND($A47=1,L$39=5),AND($A47=Titels!$O$14,L$39=Titels!$P$14),AND($A47=Titels!$O$15,L$39=Titels!$P$15),AND($A47=21,L$39=7),AND($A47=15,L$39=8),AND($A47=1,L$39=11),AND($A47=11,L$39=11),AND($A47=25,L$39=12)),8,WEEKDAY(CONCATENATE($P47,\"/\",L$39,\"/\",$B$1),2))","v":4},{"$f":"IF(OR(AND($A47=1,M$39=1),AND($A47=Titels!$O$12,M$39=Titels!$P$12),AND($A47=1,M$39=5),AND($A47=Titels!$O$14,M$39=Titels!$P$14),AND($A47=Titels!$O$15,M$39=Titels!$P$15),AND($A47=21,M$39=7),AND($A47=15,M$39=8),AND($A47=1,M$39=11),AND($A47=11,M$39=11),AND($A47=25,M$39=12)),8,WEEKDAY(CONCATENATE($P47,\"/\",M$39,\"/\",$B$1),2))","v":6}]
[8,{"$f":"IF(INDEX(Brandstoffacturen!$B$22:$B$29,GD!Q48)=0,0,(B10*Brandstoffacturen!$P$3+Brandstoffacturen!$G$3)*(1+INDEX(Brandstoffacturen!$F$3:$F$14,B$39))*(1-INDEX(Brandstoffacturen!$L$3:$L$14,B$39))*INDEX(Gegevens!$T$40:$T$49,GD!Q48))","v":2385.5036002363522},{"$f":"IF(INDEX(Brandstoffacturen!$B$22:$B$29,GD!R48)=0,0,(C10*Brandstoffacturen!$P$3+Brandstoffacturen!$G$3)*(1+INDEX(Brandstoffacturen!$F$3:$F$14,C$39))*(1-INDEX(Brandstoffacturen!$L$3:$L$14,C$39))*INDEX(Gegevens!$T$40:$T$49,GD!R48))","v":2718.4729804842136},{"$f":"IF(INDEX(Brandstoffacturen!$B$22:$B$29,GD!S48)=0,0,(D10*Brandstoffacturen!$P$3+Brandstoffacturen!$G$3)*(1+INDEX(Brandstoffacturen!$F$3:$F$14,D$39))*(1-INDEX(Brandstoffacturen!$L$3:$L$14,D$39))*INDEX(Gegevens!$T$40:$T$49,GD!S48))","v":2779.0887205110016},{"$f":"IF(INDEX(Brandstoffacturen!$B$22:$B$29,GD!T48)=0,0,(E10*Brandstoffacturen!$P$3+Brandstoffacturen!$G$3)*(1+INDEX(Brandstoffacturen!$F$3:$F$14,E$39))*(1-INDEX(Brandstoffacturen!$L$3:$L$14,E$39))*INDEX(Gegevens!$T$40:$T$49,GD!T48))","v":1888.5275209597453},{"$f":"IF(INDEX(Brandstoffacturen!$B$22:$B$29,GD!U48)=0,0,(F10*Brandstoffacturen!$P$3+Brandstoffacturen!$G$3)*(1+INDEX(Brandstoffacturen!$F$3:$F$14,F$39))*(1-INDEX(Brandstoffacturen!$L$3:$L$14,F$39))*INDEX(Gegevens!$T$40:$T$49,GD!U48))","v":1972.0287723544102},{"$f":"IF(INDEX(Brandstoffacturen!$B$22:$B$29,GD!V48)=0,0,(G10*Brandstoffacturen!$P$3+Brandstoffacturen!$G$3)*(1+INDEX(Brandstoffacturen!$F$3:$F$14,G$39))*(1-INDEX(Brandstoffacturen!$L$3:$L$14,G$39))*INDEX(Gegevens!$T$40:$T$49,GD!V48))","v":1532.6990115214101},{"$f":"IF(INDEX(Brandstoffacturen!$B$22:$B$29,GD!W48)=0,0,(H10*Brandstoffacturen!$P$3+Brandstoffacturen!$G$3)*(1+INDEX(Brandstoffacturen!$F$3:$F$14,H$39))*(1-INDEX(Brandstoffacturen!$L$3:$L$14,H$39))*INDEX(Gegevens!$T$40:$T$49,GD!W48))","v":1444.5650630025289},{"$f":"IF(INDEX(Brandstoffacturen!$B$22:$B$29,GD!X48)=0,0,(I10*Brandstoffacturen!$P$3+Brandstoffacturen!$G$3)*(1+INDEX(Brandstoffacturen!$F$3:$F$14,I$39))*(1-INDEX(Brandstoffacturen!$L$3:$L$14,I$39))*INDEX(Gegevens!$T$40:$T$49,GD!X48))","v":1622.7924030552142},{"$f":"IF(INDEX(Brandstoffacturen!$B$22:$B$29,GD!Y48)=0,0,(J10*Brandstoffacturen!$P$3+Brandstoffacturen!$G$3)*(1+INDEX(Brandstoffacturen!$F$3:$F$14,J$39))*(1-INDEX(Brandstoffacturen!$L$3:$L$14,J$39))*INDEX(Gegevens!$T$40:$T$49,GD!Y48))","v":2342.758490436182},{"$f":"IF(INDEX(Brandstoffacturen!$B$22:$B$29,GD!Z48)=0,0,(K10*Brandstoffacturen!$P$3+Brandstoffacturen!$G$3)*(1+INDEX(Brandstoffacturen!$F$3:$F$14,K$39))*(1-INDEX(Brandstoffacturen!$L$3:$L$14,K$39))*INDEX(Gegevens!$T$40:$T$49,GD!Z48))","v":2549.2121034355578},{"$f":"IF(INDEX(Brandstoffacturen!$B$22:$B$29,GD!AA48)=0,0,(L10*Brandstoffacturen!$P$3+Brandstoffacturen!$G$3)*(1+INDEX(Brandstoffacturen!$F$3:$F$14,L$39))*(1-INDEX(Brandstoffacturen!$L$3:$L$14,L$39))*INDEX(Gegevens!$T$40:$T$49,GD!AA48))","v":2884.9175533541788},{"$f":"IF(INDEX(Brandstoffacturen!$B$22:$B$29,GD!AB48)=0,0,(M10*Brandstoffacturen!$P$3+Brandstoffacturen!$G$3)*(1+INDEX(Brandstoffacturen!$F$3:$F$14,M$39))*(1-INDEX(Brandstoffacturen!$L$3:$L$14,M$39))*INDEX(Gegevens!$T$40:$T$49,GD!AB48))","v":2372.8115508182268},null,null,8,{"$f":"IF(OR(AND($A48=1,B$39=1),AND($A48=Titels!$O$12,B$39=Titels!$P$12),AND($A48=1,B$39=5),AND($A48=Titels!$O$14,B$39=Titels!$P$14),AND($A48=Titels!$O$15,B$39=Titels!$P$15),AND($A48=21,B$39=7),AND($A48=15,B$39=8),AND($A48=1,B$39=11),AND($A48=11,B$39=11),AND($A48=25,B$39=12)),8,WEEKDAY(CONCATENATE($P48,\"/\",B$39,\"/\",$B$1),2))","v":2},{"$f":"IF(OR(AND($A48=1,C$39=1),AND($A48=Titels!$O$12,C$39=Titels!$P$12),AND($A48=1,C$39=5),AND($A48=Titels!$O$14,C$39=Titels!$P$14),AND($A48=Titels!$O$15,C$39=Titels!$P$15),AND($A48=21,C$39=7),AND($A48=15,C$39=8),AND($A48=1,C$39=11),AND($A48=11,C$39=11),AND($A48=25,C$39=12)),8,WEEKDAY(CONCATENATE($P48,\"/\",C$39,\"/\",$B$1),2))","v":5},{"$f":"IF(OR(AND($A48=1,D$39=1),AND($A48=Titels!$O$12,D$39=Titels!$P$12),AND($A48=1,D$39=5),AND($A48=Titels!$O$14,D$39=Titels!$P$14),AND($A48=Titels!$O$15,D$39=Titels!$P$15),AND($A48=21,D$39=7),AND($A48=15,D$39=8),AND($A48=1,D$39=11),AND($A48=11,D$39=11),AND($A48=25,D$39=12)),8,WEEKDAY(CONCATENATE($P48,\"/\",D$39,\"/\",$B$1),2))","v":5},{"$f":"IF(OR(AND($A48=1,E$39=1),AND($A48=Titels!$O$12,E$39=Titels!$P$12),AND($A48=1,E$39=5),AND($A48=Titels!$O$14,E$39=Titels!$P$14),AND($A48=Titels!$O$15,E$39=Titels!$P$15),AND($A48=21,E$39=7),AND($A48=15,E$39=8),AND($A48=1,E$39=11),AND($A48=11,E$39=11),AND($A48=25,E$39=12)),8,WEEKDAY(CONCATENATE($P48,\"/\",E$39,\"/\",$B$1),2))","v":1},{"$f":"IF(OR(AND($A48=1,F$39=1),AND($A48=Titels!$O$12,F$39=Titels!$P$12),AND($A48=1,F$39=5),AND($A48=Titels!$O$14,F$39=Titels!$P$14),AND($A48=Titels!$O$15,F$39=Titels!$P$15),AND($A48=21,F$39=7),AND($A48=15,F$39=8),AND($A48=1,F$39=11),AND($A48=11,F$39=11),AND($A48=25,F$39=12)),8,WEEKDAY(CONCATENATE($P48,\"/\",F$39,\"/\",$B$1),2))","v":3},{"$f":"IF(OR(AND($A48=1,G$39=1),AND($A48=Titels!$O$12,G$39=Titels!$P$12),AND($A48=1,G$39=5),AND($A48=Titels!$O$14,G$39=Titels!$P$14),AND($A48=Titels!$O$15,G$39=Titels!$P$15),AND($A48=21,G$39=7),AND($A48=15,G$39=8),AND($A48=1,G$39=11),AND($A48=11,G$39=11),AND($A48=25,G$39=12)),8,WEEKDAY(CONCATENATE($P48,\"/\",G$39,\"/\",$B$1),2))","v":6},{"$f":"IF(OR(AND($A48=1,H$39=1),AND($A48=Titels!$O$12,H$39=Titels!$P$12),AND($A48=1,H$39=5),AND($A48=Titels!$O$14,H$39=Titels!$P$14),AND($A48=Titels!$O$15,H$39=Titels!$P$15),AND($A48=21,H$39=7),AND($A48=15,H$39=8),AND($A48=1,H$39=11),AND($A48=11,H$39=11),AND($A48=25,H$39=12)),8,WEEKDAY(CONCATENATE($P48,\"/\",H$39,\"/\",$B$1),2))","v":1},{"$f":"IF(OR(AND($A48=1,I$39=1),AND($A48=Titels!$O$12,I$39=Titels!$P$12),AND($A48=1,I$39=5),AND($A48=Titels!$O$14,I$39=Titels!$P$14),AND($A48=Titels!$O$15,I$39=Titels!$P$15),AND($A48=21,I$39=7),AND($A48=15,I$39=8),AND($A48=1,I$39=11),AND($A48=11,I$39=11),AND($A48=25,I$39=12)),8,WEEKDAY(CONCATENATE($P48,\"/\",I$39,\"/\",$B$1),2))","v":4},{"$f":"IF(OR(AND($A48=1,J$39=1),AND($A48=Titels!$O$12,J$39=Titels!$P$12),AND($A48=1,J$39=5),AND($A48=Titels!$O$14,J$39=Titels!$P$14),AND($A48=Titels!$O$15,J$39=Titels!$P$15),AND($A48=21,J$39=7),AND($A48=15,J$39=8),AND($A48=1,J$39=11),AND($A48=11,J$39=11),AND($A48=25,J$39=12)),8,WEEKDAY(CONCATENATE($P48,\"/\",J$39,\"/\",$B$1),2))","v":7},{"$f":"IF(OR(AND($A48=1,K$39=1),AND($A48=Titels!$O$12,K$39=Titels!$P$12),AND($A48=1,K$39=5),AND($A48=Titels!$O$14,K$39=Titels!$P$14),AND($A48=Titels!$O$15,K$39=Titels!$P$15),AND($A48=21,K$39=7),AND($A48=15,K$39=8),AND($A48=1,K$39=11),AND($A48=11,K$39=11),AND($A48=25,K$39=12)),8,WEEKDAY(CONCATENATE($P48,\"/\",K$39,\"/\",$B$1),2))","v":2},{"$f":"IF(OR(AND($A48=1,L$39=1),AND($A48=Titels!$O$12,L$39=Titels!$P$12),AND($A48=1,L$39=5),AND($A48=Titels!$O$14,L$39=Titels!$P$14),AND($A48=Titels!$O$15,L$39=Titels!$P$15),AND($A48=21,L$39=7),AND($A48=15,L$39=8),AND($A48=1,L$39=11),AND($A48=11,L$39=11),AND($A48=25,L$39=12)),8,WEEKDAY(CONCATENATE($P48,\"/\",L$39,\"/\",$B$1),2))","v":5},{"$f":"IF(OR(AND($A48=1,M$39=1),AND($A48=Titels!$O$12,M$39=Titels!$P$12),AND($A48=1,M$39=5),AND($A48=Titels!$O$14,M$39=Titels!$P$14),AND($A48=Titels!$O$15,M$39=Titels!$P$15),AND($A48=21,M$39=7),AND($A48=15,M$39=8),AND($A48=1,M$39=11),AND($A48=11,M$39=11),AND($A48=25,M$39=12)),8,WEEKDAY(CONCATENATE($P48,\"/\",M$39,\"/\",$B$1),2))","v":7}]
[9,{"$f":"IF(INDEX(Brandstoffacturen!$B$22:$B$29,GD!Q49)=0,0,(B11*Brandstoffacturen!$P$3+Brandstoffacturen!$G$3)*(1+INDEX(Brandstoffacturen!$F$3:$F$14,B$39))*(1-INDEX(Brandstoffacturen!$L$3:$L$14,B$39))*INDEX(Gegevens!$T$40:$T$49,GD!Q49))","v":2601.1977901278715},{"$f":"IF(INDEX(Brandstoffacturen!$B$22:$B$29,GD!R49)=0,0,(C11*Brandstoffacturen!$P$3+Brandstoffacturen!$G$3)*(1+INDEX(Brandstoffacturen!$F$3:$F$14,C$39))*(1-INDEX(Brandstoffacturen!$L$3:$L$14,C$39))*INDEX(Gegevens!$T$40:$T$49,GD!R49))","v":2682.9083202654347},{"$f":"IF(INDEX(Brandstoffacturen!$B$22:$B$29,GD!S49)=0,0,(D11*Brandstoffacturen!$P$3+Brandstoffacturen!$G$3)*(1+INDEX(Brandstoffacturen!$F$3:$F$14,D$39))*(1-INDEX(Brandstoffacturen!$L$3:$L$14,D$39))*INDEX(Gegevens!$T$40:$T$49,GD!S49))","v":2583.4750536163597},{"$f":"IF(INDEX(Brandstoffacturen!$B$22:$B$29,GD!T49)=0,0,(E11*Brandstoffacturen!$P$3+Brandstoffacturen!$G$3)*(1+INDEX(Brandstoffacturen!$F$3:$F$14,E$39))*(1-INDEX(Brandstoffacturen!$L$3:$L$14,E$39))*INDEX(Gegevens!$T$40:$T$49,GD!T49))","v":1897.5500498595752},{"$f":"IF(INDEX(Brandstoffacturen!$B$22:$B$29,GD!U49)=0,0,(F11*Brandstoffacturen!$P$3+Brandstoffacturen!$G$3)*(1+INDEX(Brandstoffacturen!$F$3:$F$14,F$39))*(1-INDEX(Brandstoffacturen!$L$3:$L$14,F$39))*INDEX(Gegevens!$T$40:$T$49,GD!U49))","v":1876.4441924105233},{"$f":"IF(INDEX(Brandstoffacturen!$B$22:$B$29,GD!V49)=0,0,(G11*Brandstoffacturen!$P$3+Brandstoffacturen!$G$3)*(1+INDEX(Brandstoffacturen!$F$3:$F$14,G$39))*(1-INDEX(Brandstoffacturen!$L$3:$L$14,G$39))*INDEX(Gegevens!$T$40:$T$49,GD!V49))","v":1441.6362814152449},{"$f":"IF(INDEX(Brandstoffacturen!$B$22:$B$29,GD!W49)=0,0,(H11*Brandstoffacturen!$P$3+Brandstoffacturen!$G$3)*(1+INDEX(Brandstoffacturen!$F$3:$F$14,H$39))*(1-INDEX(Brandstoffacturen!$L$3:$L$14,H$39))*INDEX(Gegevens!$T$40:$T$49,GD!W49))","v":1444.5650630025289},{"$f":"IF(INDEX(Brandstoffacturen!$B$22:$B$29,GD!X49)=0,0,(I11*Brandstoffacturen!$P$3+Brandstoffacturen!$G$3)*(1+INDEX(Brandstoffacturen!$F$3:$F$14,I$39))*(1-INDEX(Brandstoffacturen!$L$3:$L$14,I$39))*INDEX(Gegevens!$T$40:$T$49,GD!X49))","v":1622.7924030552142},{"$f":"IF(INDEX(Brandstoffacturen!$B$22:$B$29,GD!Y49)=0,0,(J11*Brandstoffacturen!$P$3+Brandstoffacturen!$G$3)*(1+INDEX(Brandstoffacturen!$F$3:$F$14,J$39))*(1-INDEX(Brandstoffacturen!$L$3:$L$14,J$39))*INDEX(Gegevens!$T$40:$T$49,GD!Y49))","v":2489.7551535857833},{"$f":"IF(INDEX(Brandstoffacturen!$B$22:$B$29,GD!Z49)=0,0,(K11*Brandstoffacturen!$P$3+Brandstoffacturen!$G$3)*(1+INDEX(Brandstoffacturen!$F$3:$F$14,K$39))*(1-INDEX(Brandstoffacturen!$L$3:$L$14,K$39))*INDEX(Gegevens!$T$40:$T$49,GD!Z49))","v":2793.6202580293757},{"$f":"IF(INDEX(Brandstoffacturen!$B$22:$B$29,GD!AA49)=0,0,(L11*Brandstoffacturen!$P$3+Brandstoffacturen!$G$3)*(1+INDEX(Brandstoffacturen!$F$3:$F$14,L$39))*(1-INDEX(Brandstoffacturen!$L$3:$L$14,L$39))*INDEX(Gegevens!$T$40:$T$49,GD!AA49))","v":2896.3063251654571},{"$f":"IF(INDEX(Brandstoffacturen!$B$22:$B$29,GD!AB49)=0,0,(M11*Brandstoffacturen!$P$3+Brandstoffacturen!$G$3)*(1+INDEX(Brandstoffacturen!$F$3:$F$14,M$39))*(1-INDEX(Brandstoffacturen!$L$3:$L$14,M$39))*INDEX(Gegevens!$T$40:$T$49,GD!AB49))","v":2668.9845885967388},null,null,9,{"$f":"IF(OR(AND($A49=1,B$39=1),AND($A49=Titels!$O$12,B$39=Titels!$P$12),AND($A49=1,B$39=5),AND($A49=Titels!$O$14,B$39=Titels!$P$14),AND($A49=Titels!$O$15,B$39=Titels!$P$15),AND($A49=21,B$39=7),AND($A49=15,B$39=8),AND($A49=1,B$39=11),AND($A49=11,B$39=11),AND($A49=25,B$39=12)),8,WEEKDAY(CONCATENATE($P49,\"/\",B$39,\"/\",$B$1),2))","v":3},{"$f":"IF(OR(AND($A49=1,C$39=1),AND($A49=Titels!$O$12,C$39=Titels!$P$12),AND($A49=1,C$39=5),AND($A49=Titels!$O$14,C$39=Titels!$P$14),AND($A49=Titels!$O$15,C$39=Titels!$P$15),AND($A49=21,C$39=7),AND($A49=15,C$39=8),AND($A49=1,C$39=11),AND($A49=11,C$39=11),AND($A49=25,C$39=12)),8,WEEKDAY(CONCATENATE($P49,\"/\",C$39,\"/\",$B$1),2))","v":6},{"$f":"IF(OR(AND($A49=1,D$39=1),AND($A49=Titels!$O$12,D$39=Titels!$P$12),AND($A49=1,D$39=5),AND($A49=Titels!$O$14,D$39=Titels!$P$14),AND($A49=Titels!$O$15,D$39=Titels!$P$15),AND($A49=21,D$39=7),AND($A49=15,D$39=8),AND($A49=1,D$39=11),AND($A49=11,D$39=11),AND($A49=25,D$39=12)),8,WEEKDAY(CONCATENATE($P49,\"/\",D$39,\"/\",$B$1),2))","v":6},{"$f":"IF(OR(AND($A49=1,E$39=1),AND($A49=Titels!$O$12,E$39=Titels!$P$12),AND($A49=1,E$39=5),AND($A49=Titels!$O$14,E$39=Titels!$P$14),AND($A49=Titels!$O$15,E$39=Titels!$P$15),AND($A49=21,E$39=7),AND($A49=15,E$39=8),AND($A49=1,E$39=11),AND($A49=11,E$39=11),AND($A49=25,E$39=12)),8,WEEKDAY(CONCATENATE($P49,\"/\",E$39,\"/\",$B$1),2))","v":2},{"$f":"IF(OR(AND($A49=1,F$39=1),AND($A49=Titels!$O$12,F$39=Titels!$P$12),AND($A49=1,F$39=5),AND($A49=Titels!$O$14,F$39=Titels!$P$14),AND($A49=Titels!$O$15,F$39=Titels!$P$15),AND($A49=21,F$39=7),AND($A49=15,F$39=8),AND($A49=1,F$39=11),AND($A49=11,F$39=11),AND($A49=25,F$39=12)),8,WEEKDAY(CONCATENATE($P49,\"/\",F$39,\"/\",$B$1),2))","v":4},{"$f":"IF(OR(AND($A49=1,G$39=1),AND($A49=Titels!$O$12,G$39=Titels!$P$12),AND($A49=1,G$39=5),AND($A49=Titels!$O$14,G$39=Titels!$P$14),AND($A49=Titels!$O$15,G$39=Titels!$P$15),AND($A49=21,G$39=7),AND($A49=15,G$39=8),AND($A49=1,G$39=11),AND($A49=11,G$39=11),AND($A49=25,G$39=12)),8,WEEKDAY(CONCATENATE($P49,\"/\",G$39,\"/\",$B$1),2))","v":7},{"$f":"IF(OR(AND($A49=1,H$39=1),AND($A49=Titels!$O$12,H$39=Titels!$P$12),AND($A49=1,H$39=5),AND($A49=Titels!$O$14,H$39=Titels!$P$14),AND($A49=Titels!$O$15,H$39=Titels!$P$15),AND($A49=21,H$39=7),AND($A49=15,H$39=8),AND($A49=1,H$39=11),AND($A49=11,H$39=11),AND($A49=25,H$39=12)),8,WEEKDAY(CONCATENATE($P49,\"/\",H$39,\"/\",$B$1),2))","v":2},{"$f":"IF(OR(AND($A49=1,I$39=1),AND($A49=Titels!$O$12,I$39=Titels!$P$12),AND($A49=1,I$39=5),AND($A49=Titels!$O$14,I$39=Titels!$P$14),AND($A49=Titels!$O$15,I$39=Titels!$P$15),AND($A49=21,I$39=7),AND($A49=15,I$39=8),AND($A49=1,I$39=11),AND($A49=11,I$39=11),AND($A49=25,I$39=12)),8,WEEKDAY(CONCATENATE($P49,\"/\",I$39,\"/\",$B$1),2))","v":5},{"$f":"IF(OR(AND($A49=1,J$39=1),AND($A49=Titels!$O$12,J$39=Titels!$P$12),AND($A49=1,J$39=5),AND($A49=Titels!$O$14,J$39=Titels!$P$14),AND($A49=Titels!$O$15,J$39=Titels!$P$15),AND($A49=21,J$39=7),AND($A49=15,J$39=8),AND($A49=1,J$39=11),AND($A49=11,J$39=11),AND($A49=25,J$39=12)),8,WEEKDAY(CONCATENATE($P49,\"/\",J$39,\"/\",$B$1),2))","v":1},{"$f":"IF(OR(AND($A49=1,K$39=1),AND($A49=Titels!$O$12,K$39=Titels!$P$12),AND($A49=1,K$39=5),AND($A49=Titels!$O$14,K$39=Titels!$P$14),AND($A49=Titels!$O$15,K$39=Titels!$P$15),AND($A49=21,K$39=7),AND($A49=15,K$39=8),AND($A49=1,K$39=11),AND($A49=11,K$39=11),AND($A49=25,K$39=12)),8,WEEKDAY(CONCATENATE($P49,\"/\",K$39,\"/\",$B$1),2))","v":3},{"$f":"IF(OR(AND($A49=1,L$39=1),AND($A49=Titels!$O$12,L$39=Titels!$P$12),AND($A49=1,L$39=5),AND($A49=Titels!$O$14,L$39=Titels!$P$14),AND($A49=Titels!$O$15,L$39=Titels!$P$15),AND($A49=21,L$39=7),AND($A49=15,L$39=8),AND($A49=1,L$39=11),AND($A49=11,L$39=11),AND($A49=25,L$39=12)),8,WEEKDAY(CONCATENATE($P49,\"/\",L$39,\"/\",$B$1),2))","v":6},{"$f":"IF(OR(AND($A49=1,M$39=1),AND($A49=Titels!$O$12,M$39=Titels!$P$12),AND($A49=1,M$39=5),AND($A49=Titels!$O$14,M$39=Titels!$P$14),AND($A49=Titels!$O$15,M$39=Titels!$P$15),AND($A49=21,M$39=7),AND($A49=15,M$39=8),AND($A49=1,M$39=11),AND($A49=11,M$39=11),AND($A49=25,M$39=12)),8,WEEKDAY(CONCATENATE($P49,\"/\",M$39,\"/\",$B$1),2))","v":1}]
[10,{"$f":"IF(INDEX(Brandstoffacturen!$B$22:$B$29,GD!Q50)=0,0,(B12*Brandstoffacturen!$P$3+Brandstoffacturen!$G$3)*(1+INDEX(Brandstoffacturen!$F$3:$F$14,B$39))*(1-INDEX(Brandstoffacturen!$L$3:$L$14,B$39))*INDEX(Gegevens!$T$40:$T$49,GD!Q50))","v":2709.0448850736311},{"$f":"IF(INDEX(Brandstoffacturen!$B$22:$B$29,GD!R50)=0,0,(C12*Brandstoffacturen!$P$3+Brandstoffacturen!$G$3)*(1+INDEX(Brandstoffacturen!$F$3:$F$14,C$39))*(1-INDEX(Brandstoffacturen!$L$3:$L$14,C$39))*INDEX(Gegevens!$T$40:$T$49,GD!R50))","v":2837.0218478801448},{"$f":"IF(INDEX(Brandstoffacturen!$B$22:$B$29,GD!S50)=0,0,(D12*Brandstoffacturen!$P$3+Brandstoffacturen!$G$3)*(1+INDEX(Brandstoffacturen!$F$3:$F$14,D$39))*(1-INDEX(Brandstoffacturen!$L$3:$L$14,D$39))*INDEX(Gegevens!$T$40:$T$49,GD!S50))","v":2803.5404288728314},{"$f":"IF(INDEX(Brandstoffacturen!$B$22:$B$29,GD!T50)=0,0,(E12*Brandstoffacturen!$P$3+Brandstoffacturen!$G$3)*(1+INDEX(Brandstoffacturen!$F$3:$F$14,E$39))*(1-INDEX(Brandstoffacturen!$L$3:$L$14,E$39))*INDEX(Gegevens!$T$40:$T$49,GD!T50))","v":1996.7978677577066},{"$f":"IF(INDEX(Brandstoffacturen!$B$22:$B$29,GD!U50)=0,0,(F12*Brandstoffacturen!$P$3+Brandstoffacturen!$G$3)*(1+INDEX(Brandstoffacturen!$F$3:$F$14,F$39))*(1-INDEX(Brandstoffacturen!$L$3:$L$14,F$39))*INDEX(Gegevens!$T$40:$T$49,GD!U50))","v":1809.5349864498028},{"$f":"IF(INDEX(Brandstoffacturen!$B$22:$B$29,GD!V50)=0,0,(G12*Brandstoffacturen!$P$3+Brandstoffacturen!$G$3)*(1+INDEX(Brandstoffacturen!$F$3:$F$14,G$39))*(1-INDEX(Brandstoffacturen!$L$3:$L$14,G$39))*INDEX(Gegevens!$T$40:$T$49,GD!V50))","v":1423.4237353940121},{"$f":"IF(INDEX(Brandstoffacturen!$B$22:$B$29,GD!W50)=0,0,(H12*Brandstoffacturen!$P$3+Brandstoffacturen!$G$3)*(1+INDEX(Brandstoffacturen!$F$3:$F$14,H$39))*(1-INDEX(Brandstoffacturen!$L$3:$L$14,H$39))*INDEX(Gegevens!$T$40:$T$49,GD!W50))","v":1444.5650630025289},{"$f":"IF(INDEX(Brandstoffacturen!$B$22:$B$29,GD!X50)=0,0,(I12*Brandstoffacturen!$P$3+Brandstoffacturen!$G$3)*(1+INDEX(Brandstoffacturen!$F$3:$F$14,I$39))*(1-INDEX(Brandstoffacturen!$L$3:$L$14,I$39))*INDEX(Gegevens!$T$40:$T$49,GD!X50))","v":1622.7924030552142},{"$f":"IF(INDEX(Brandstoffacturen!$B$22:$B$29,GD!Y50)=0,0,(J12*Brandstoffacturen!$P$3+Brandstoffacturen!$G$3)*(1+INDEX(Brandstoffacturen!$F$3:$F$14,J$39))*(1-INDEX(Brandstoffacturen!$L$3:$L$14,J$39))*INDEX(Gegevens!$T$40:$T$49,GD!Y50))","v":2088.8551631777805},{"$f":"IF(INDEX(Brandstoffacturen!$B$22:$B$29,GD!Z50)=0,0,(K12*Brandstoffacturen!$P$3+Brandstoffacturen!$G$3)*(1+INDEX(Brandstoffacturen!$F$3:$F$14,K$39))*(1-INDEX(Brandstoffacturen!$L$3:$L$14,K$39))*INDEX(Gegevens!$T$40:$T$49,GD!Z50))","v":2621.096854786681},{"$f":"IF(INDEX(Brandstoffacturen!$B$22:$B$29,GD!AA50)=0,0,(L12*Brandstoffacturen!$P$3+Brandstoffacturen!$G$3)*(1+INDEX(Brandstoffacturen!$F$3:$F$14,L$39))*(1-INDEX(Brandstoffacturen!$L$3:$L$14,L$39))*INDEX(Gegevens!$T$40:$T$49,GD!AA50))","v":2998.8052714669584},{"$f":"IF(INDEX(Brandstoffacturen!$B$22:$B$29,GD!AB50)=0,0,(M12*Brandstoffacturen!$P$3+Brandstoffacturen!$G$3)*(1+INDEX(Brandstoffacturen!$F$3:$F$14,M$39))*(1-INDEX(Brandstoffacturen!$L$3:$L$14,M$39))*INDEX(Gegevens!$T$40:$T$49,GD!AB50))","v":2866.4332804490809},null,null,10,{"$f":"IF(OR(AND($A50=1,B$39=1),AND($A50=Titels!$O$12,B$39=Titels!$P$12),AND($A50=1,B$39=5),AND($A50=Titels!$O$14,B$39=Titels!$P$14),AND($A50=Titels!$O$15,B$39=Titels!$P$15),AND($A50=21,B$39=7),AND($A50=15,B$39=8),AND($A50=1,B$39=11),AND($A50=11,B$39=11),AND($A50=25,B$39=12)),8,WEEKDAY(CONCATENATE($P50,\"/\",B$39,\"/\",$B$1),2))","v":4},{"$f":"IF(OR(AND($A50=1,C$39=1),AND($A50=Titels!$O$12,C$39=Titels!$P$12),AND($A50=1,C$39=5),AND($A50=Titels!$O$14,C$39=Titels!$P$14),AND($A50=Titels!$O$15,C$39=Titels!$P$15),AND($A50=21,C$39=7),AND($A50=15,C$39=8),AND($A50=1,C$39=11),AND($A50=11,C$39=11),AND($A50=25,C$39=12)),8,WEEKDAY(CONCATENATE($P50,\"/\",C$39,\"/\",$B$1),2))","v":7},{"$f":"IF(OR(AND($A50=1,D$39=1),AND($A50=Titels!$O$12,D$39=Titels!$P$12),AND($A50=1,D$39=5),AND($A50=Titels!$O$14,D$39=Titels!$P$14),AND($A50=Titels!$O$15,D$39=Titels!$P$15),AND($A50=21,D$39=7),AND($A50=15,D$39=8),AND($A50=1,D$39=11),AND($A50=11,D$39=11),AND($A50=25,D$39=12)),8,WEEKDAY(CONCATENATE($P50,\"/\",D$39,\"/\",$B$1),2))","v":7},{"$f":"IF(OR(AND($A50=1,E$39=1),AND($A50=Titels!$O$12,E$39=Titels!$P$12),AND($A50=1,E$39=5),AND($A50=Titels!$O$14,E$39=Titels!$P$14),AND($A50=Titels!$O$15,E$39=Titels!$P$15),AND($A50=21,E$39=7),AND($A50=15,E$39=8),AND($A50=1,E$39=11),AND($A50=11,E$39=11),AND($A50=25,E$39=12)),8,WEEKDAY(CONCATENATE($P50,\"/\",E$39,\"/\",$B$1),2))","v":3},{"$f":"IF(OR(AND($A50=1,F$39=1),AND($A50=Titels!$O$12,F$39=Titels!$P$12),AND($A50=1,F$39=5),AND($A50=Titels!$O$14,F$39=Titels!$P$14),AND($A50=Titels!$O$15,F$39=Titels!$P$15),AND($A50=21,F$39=7),AND($A50=15,F$39=8),AND($A50=1,F$39=11),AND($A50=11,F$39=11),AND($A50=25,F$39=12)),8,WEEKDAY(CONCATENATE($P50,\"/\",F$39,\"/\",$B$1),2))","v":5},{"$f":"IF(OR(AND($A50=1,G$39=1),AND($A50=Titels!$O$12,G$39=Titels!$P$12),AND($A50=1,G$39=5),AND($A50=Titels!$O$14,G$39=Titels!$P$14),AND($A50=Titels!$O$15,G$39=Titels!$P$15),AND($A50=21,G$39=7),AND($A50=15,G$39=8),AND($A50=1,G$39=11),AND($A50=11,G$39=11),AND($A50=25,G$39=12)),8,WEEKDAY(CONCATENATE($P50,\"/\",G$39,\"/\",$B$1),2))","v":1},{"$f":"IF(OR(AND($A50=1,H$39=1),AND($A50=Titels!$O$12,H$39=Titels!$P$12),AND($A50=1,H$39=5),AND($A50=Titels!$O$14,H$39=Titels!$P$14),AND($A50=Titels!$O$15,H$39=Titels!$P$15),AND($A50=21,H$39=7),AND($A50=15,H$39=8),AND($A50=1,H$39=11),AND($A50=11,H$39=11),AND($A50=25,H$39=12)),8,WEEKDAY(CONCATENATE($P50,\"/\",H$39,\"/\",$B$1),2))","v":3},{"$f":"IF(OR(AND($A50=1,I$39=1),AND($A50=Titels!$O$12,I$39=Titels!$P$12),AND($A50=1,I$39=5),AND($A50=Titels!$O$14,I$39=Titels!$P$14),AND($A50=Titels!$O$15,I$39=Titels!$P$15),AND($A50=21,I$39=7),AND($A50=15,I$39=8),AND($A50=1,I$39=11),AND($A50=11,I$39=11),AND($A50=25,I$39=12)),8,WEEKDAY(CONCATENATE($P50,\"/\",I$39,\"/\",$B$1),2))","v":6},{"$f":"IF(OR(AND($A50=1,J$39=1),AND($A50=Titels!$O$12,J$39=Titels!$P$12),AND($A50=1,J$39=5),AND($A50=Titels!$O$14,J$39=Titels!$P$14),AND($A50=Titels!$O$15,J$39=Titels!$P$15),AND($A50=21,J$39=7),AND($A50=15,J$39=8),AND($A50=1,J$39=11),AND($A50=11,J$39=11),AND($A50=25,J$39=12)),8,WEEKDAY(CONCATENATE($P50,\"/\",J$39,\"/\",$B$1),2))","v":2},{"$f":"IF(OR(AND($A50=1,K$39=1),AND($A50=Titels!$O$12,K$39=Titels!$P$12),AND($A50=1,K$39=5),AND($A50=Titels!$O$14,K$39=Titels!$P$14),AND($A50=Titels!$O$15,K$39=Titels!$P$15),AND($A50=21,K$39=7),AND($A50=15,K$39=8),AND($A50=1,K$39=11),AND($A50=11,K$39=11),AND($A50=25,K$39=12)),8,WEEKDAY(CONCATENATE($P50,\"/\",K$39,\"/\",$B$1),2))","v":4},{"$f":"IF(OR(AND($A50=1,L$39=1),AND($A50=Titels!$O$12,L$39=Titels!$P$12),AND($A50=1,L$39=5),AND($A50=Titels!$O$14,L$39=Titels!$P$14),AND($A50=Titels!$O$15,L$39=Titels!$P$15),AND($A50=21,L$39=7),AND($A50=15,L$39=8),AND($A50=1,L$39=11),AND($A50=11,L$39=11),AND($A50=25,L$39=12)),8,WEEKDAY(CONCATENATE($P50,\"/\",L$39,\"/\",$B$1),2))","v":7},{"$f":"IF(OR(AND($A50=1,M$39=1),AND($A50=Titels!$O$12,M$39=Titels!$P$12),AND($A50=1,M$39=5),AND($A50=Titels!$O$14,M$39=Titels!$P$14),AND($A50=Titels!$O$15,M$39=Titels!$P$15),AND($A50=21,M$39=7),AND($A50=15,M$39=8),AND($A50=1,M$39=11),AND($A50=11,M$39=11),AND($A50=25,M$39=12)),8,WEEKDAY(CONCATENATE($P50,\"/\",M$39,\"/\",$B$1),2))","v":2}]
[11,{"$f":"IF(INDEX(Brandstoffacturen!$B$22:$B$29,GD!Q51)=0,0,(B13*Brandstoffacturen!$P$3+Brandstoffacturen!$G$3)*(1+INDEX(Brandstoffacturen!$F$3:$F$14,B$39))*(1-INDEX(Brandstoffacturen!$L$3:$L$14,B$39))*INDEX(Gegevens!$T$40:$T$49,GD!Q51))","v":2532.5678206169332},{"$f":"IF(INDEX(Brandstoffacturen!$B$22:$B$29,GD!R51)=0,0,(C13*Brandstoffacturen!$P$3+Brandstoffacturen!$G$3)*(1+INDEX(Brandstoffacturen!$F$3:$F$14,C$39))*(1-INDEX(Brandstoffacturen!$L$3:$L$14,C$39))*INDEX(Gegevens!$T$40:$T$49,GD!R51))","v":3168.9586765887516},{"$f":"IF(INDEX(Brandstoffacturen!$B$22:$B$29,GD!S51)=0,0,(D13*Brandstoffacturen!$P$3+Brandstoffacturen!$G$3)*(1+INDEX(Brandstoffacturen!$F$3:$F$14,D$39))*(1-INDEX(Brandstoffacturen!$L$3:$L$14,D$39))*INDEX(Gegevens!$T$40:$T$49,GD!S51))","v":3121.4126375766245},{"$f":"IF(INDEX(Brandstoffacturen!$B$22:$B$29,GD!T51)=0,0,(E13*Brandstoffacturen!$P$3+Brandstoffacturen!$G$3)*(1+INDEX(Brandstoffacturen!$F$3:$F$14,E$39))*(1-INDEX(Brandstoffacturen!$L$3:$L$14,E$39))*INDEX(Gegevens!$T$40:$T$49,GD!T51))","v":2177.2484457543087},{"$f":"IF(INDEX(Brandstoffacturen!$B$22:$B$29,GD!U51)=0,0,(F13*Brandstoffacturen!$P$3+Brandstoffacturen!$G$3)*(1+INDEX(Brandstoffacturen!$F$3:$F$14,F$39))*(1-INDEX(Brandstoffacturen!$L$3:$L$14,F$39))*INDEX(Gegevens!$T$40:$T$49,GD!U51))","v":1866.8857344161349},{"$f":"IF(INDEX(Brandstoffacturen!$B$22:$B$29,GD!V51)=0,0,(G13*Brandstoffacturen!$P$3+Brandstoffacturen!$G$3)*(1+INDEX(Brandstoffacturen!$F$3:$F$14,G$39))*(1-INDEX(Brandstoffacturen!$L$3:$L$14,G$39))*INDEX(Gegevens!$T$40:$T$49,GD!V51))","v":1487.1676464683276},{"$f":"IF(INDEX(Brandstoffacturen!$B$22:$B$29,GD!W51)=0,0,(H13*Brandstoffacturen!$P$3+Brandstoffacturen!$G$3)*(1+INDEX(Brandstoffacturen!$F$3:$F$14,H$39))*(1-INDEX(Brandstoffacturen!$L$3:$L$14,H$39))*INDEX(Gegevens!$T$40:$T$49,GD!W51))","v":1444.5650630025289},{"$f":"IF(INDEX(Brandstoffacturen!$B$22:$B$29,GD!X51)=0,0,(I13*Brandstoffacturen!$P$3+Brandstoffacturen!$G$3)*(1+INDEX(Brandstoffacturen!$F$3:$F$14,I$39))*(1-INDEX(Brandstoffacturen!$L$3:$L$14,I$39))*INDEX(Gegevens!$T$40:$T$49,GD!X51))","v":1622.7924030552142},{"$f":"IF(INDEX(Brandstoffacturen!$B$22:$B$29,GD!Y51)=0,0,(J13*Brandstoffacturen!$P$3+Brandstoffacturen!$G$3)*(1+INDEX(Brandstoffacturen!$F$3:$F$14,J$39))*(1-INDEX(Brandstoffacturen!$L$3:$L$14,J$39))*INDEX(Gegevens!$T$40:$T$49,GD!Y51))","v":2088.8551631777805},{"$f":"IF(INDEX(Brandstoffacturen!$B$22:$B$29,GD!Z51)=0,0,(K13*Brandstoffacturen!$P$3+Brandstoffacturen!$G$3)*(1+INDEX(Brandstoffacturen!$F$3:$F$14,K$39))*(1-INDEX(Brandstoffacturen!$L$3:$L$14,K$39))*INDEX(Gegevens!$T$40:$T$49,GD!Z51))","v":2319.1808991119647},{"$f":"IF(INDEX(Brandstoffacturen!$B$22:$B$29,GD!AA51)=0,0,(L13*Brandstoffacturen!$P$3+Brandstoffacturen!$G$3)*(1+INDEX(Brandstoffacturen!$F$3:$F$14,L$39))*(1-INDEX(Brandstoffacturen!$L$3:$L$14,L$39))*INDEX(Gegevens!$T$40:$T$49,GD!AA51))","v":2862.1400097316232},{"$f":"IF(INDEX(Brandstoffacturen!$B$22:$B$29,GD!AB51)=0,0,(M13*Brandstoffacturen!$P$3+Brandstoffacturen!$G$3)*(1+INDEX(Brandstoffacturen!$F$3:$F$14,M$39))*(1-INDEX(Brandstoffacturen!$L$3:$L$14,M$39))*INDEX(Gegevens!$T$40:$T$49,GD!AB51))","v":2767.7089345229097},null,null,11,{"$f":"IF(OR(AND($A51=1,B$39=1),AND($A51=Titels!$O$12,B$39=Titels!$P$12),AND($A51=1,B$39=5),AND($A51=Titels!$O$14,B$39=Titels!$P$14),AND($A51=Titels!$O$15,B$39=Titels!$P$15),AND($A51=21,B$39=7),AND($A51=15,B$39=8),AND($A51=1,B$39=11),AND($A51=11,B$39=11),AND($A51=25,B$39=12)),8,WEEKDAY(CONCATENATE($P51,\"/\",B$39,\"/\",$B$1),2))","v":5},{"$f":"IF(OR(AND($A51=1,C$39=1),AND($A51=Titels!$O$12,C$39=Titels!$P$12),AND($A51=1,C$39=5),AND($A51=Titels!$O$14,C$39=Titels!$P$14),AND($A51=Titels!$O$15,C$39=Titels!$P$15),AND($A51=21,C$39=7),AND($A51=15,C$39=8),AND($A51=1,C$39=11),AND($A51=11,C$39=11),AND($A51=25,C$39=12)),8,WEEKDAY(CONCATENATE($P51,\"/\",C$39,\"/\",$B$1),2))","v":1},{"$f":"IF(OR(AND($A51=1,D$39=1),AND($A51=Titels!$O$12,D$39=Titels!$P$12),AND($A51=1,D$39=5),AND($A51=Titels!$O$14,D$39=Titels!$P$14),AND($A51=Titels!$O$15,D$39=Titels!$P$15),AND($A51=21,D$39=7),AND($A51=15,D$39=8),AND($A51=1,D$39=11),AND($A51=11,D$39=11),AND($A51=25,D$39=12)),8,WEEKDAY(CONCATENATE($P51,\"/\",D$39,\"/\",$B$1),2))","v":1},{"$f":"IF(OR(AND($A51=1,E$39=1),AND($A51=Titels!$O$12,E$39=Titels!$P$12),AND($A51=1,E$39=5),AND($A51=Titels!$O$14,E$39=Titels!$P$14),AND($A51=Titels!$O$15,E$39=Titels!$P$15),AND($A51=21,E$39=7),AND($A51=15,E$39=8),AND($A51=1,E$39=11),AND($A51=11,E$39=11),AND($A51=25,E$39=12)),8,WEEKDAY(CONCATENATE($P51,\"/\",E$39,\"/\",$B$1),2))","v":4},{"$f":"IF(OR(AND($A51=1,F$39=1),AND($A51=Titels!$O$12,F$39=Titels!$P$12),AND($A51=1,F$39=5),AND($A51=Titels!$O$14,F$39=Titels!$P$14),AND($A51=Titels!$O$15,F$39=Titels!$P$15),AND($A51=21,F$39=7),AND($A51=15,F$39=8),AND($A51=1,F$39=11),AND($A51=11,F$39=11),AND($A51=25,F$39=12)),8,WEEKDAY(CONCATENATE($P51,\"/\",F$39,\"/\",$B$1),2))","v":6},{"$f":"IF(OR(AND($A51=1,G$39=1),AND($A51=Titels!$O$12,G$39=Titels!$P$12),AND($A51=1,G$39=5),AND($A51=Titels!$O$14,G$39=Titels!$P$14),AND($A51=Titels!$O$15,G$39=Titels!$P$15),AND($A51=21,G$39=7),AND($A51=15,G$39=8),AND($A51=1,G$39=11),AND($A51=11,G$39=11),AND($A51=25,G$39=12)),8,WEEKDAY(CONCATENATE($P51,\"/\",G$39,\"/\",$B$1),2))","v":2},{"$f":"IF(OR(AND($A51=1,H$39=1),AND($A51=Titels!$O$12,H$39=Titels!$P$12),AND($A51=1,H$39=5),AND($A51=Titels!$O$14,H$39=Titels!$P$14),AND($A51=Titels!$O$15,H$39=Titels!$P$15),AND($A51=21,H$39=7),AND($A51=15,H$39=8),AND($A51=1,H$39=11),AND($A51=11,H$39=11),AND($A51=25,H$39=12)),8,WEEKDAY(CONCATENATE($P51,\"/\",H$39,\"/\",$B$1),2))","v":4},{"$f":"IF(OR(AND($A51=1,I$39=1),AND($A51=Titels!$O$12,I$39=Titels!$P$12),AND($A51=1,I$39=5),AND($A51=Titels!$O$14,I$39=Titels!$P$14),AND($A51=Titels!$O$15,I$39=Titels!$P$15),AND($A51=21,I$39=7),AND($A51=15,I$39=8),AND($A51=1,I$39=11),AND($A51=11,I$39=11),AND($A51=25,I$39=12)),8,WEEKDAY(CONCATENATE($P51,\"/\",I$39,\"/\",$B$1),2))","v":7},{"$f":"IF(OR(AND($A51=1,J$39=1),AND($A51=Titels!$O$12,J$39=Titels!$P$12),AND($A51=1,J$39=5),AND($A51=Titels!$O$14,J$39=Titels!$P$14),AND($A51=Titels!$O$15,J$39=Titels!$P$15),AND($A51=21,J$39=7),AND($A51=15,J$39=8),AND($A51=1,J$39=11),AND($A51=11,J$39=11),AND($A51=25,J$39=12)),8,WEEKDAY(CONCATENATE($P51,\"/\",J$39,\"/\",$B$1),2))","v":3},{"$f":"IF(OR(AND($A51=1,K$39=1),AND($A51=Titels!$O$12,K$39=Titels!$P$12),AND($A51=1,K$39=5),AND($A51=Titels!$O$14,K$39=Titels!$P$14),AND($A51=Titels!$O$15,K$39=Titels!$P$15),AND($A51=21,K$39=7),AND($A51=15,K$39=8),AND($A51=1,K$39=11),AND($A51=11,K$39=11),AND($A51=25,K$39=12)),8,WEEKDAY(CONCATENATE($P51,\"/\",K$39,\"/\",$B$1),2))","v":5},{"$f":"IF(OR(AND($A51=1,L$39=1),AND($A51=Titels!$O$12,L$39=Titels!$P$12),AND($A51=1,L$39=5),AND($A51=Titels!$O$14,L$39=Titels!$P$14),AND($A51=Titels!$O$15,L$39=Titels!$P$15),AND($A51=21,L$39=7),AND($A51=15,L$39=8),AND($A51=1,L$39=11),AND($A51=11,L$39=11),AND($A51=25,L$39=12)),8,WEEKDAY(CONCATENATE($P51,\"/\",L$39,\"/\",$B$1),2))","v":8},{"$f":"IF(OR(AND($A51=1,M$39=1),AND($A51=Titels!$O$12,M$39=Titels!$P$12),AND($A51=1,M$39=5),AND($A51=Titels!$O$14,M$39=Titels!$P$14),AND($A51=Titels!$O$15,M$39=Titels!$P$15),AND($A51=21,M$39=7),AND($A51=15,M$39=8),AND($A51=1,M$39=11),AND($A51=11,M$39=11),AND($A51=25,M$39=12)),8,WEEKDAY(CONCATENATE($P51,\"/\",M$39,\"/\",$B$1),2))","v":3}]
[12,{"$f":"IF(INDEX(Brandstoffacturen!$B$22:$B$29,GD!Q52)=0,0,(B14*Brandstoffacturen!$P$3+Brandstoffacturen!$G$3)*(1+INDEX(Brandstoffacturen!$F$3:$F$14,B$39))*(1-INDEX(Brandstoffacturen!$L$3:$L$14,B$39))*INDEX(Gegevens!$T$40:$T$49,GD!Q52))","v":2375.6993188776469},{"$f":"IF(INDEX(Brandstoffacturen!$B$22:$B$29,GD!R52)=0,0,(C14*Brandstoffacturen!$P$3+Brandstoffacturen!$G$3)*(1+INDEX(Brandstoffacturen!$F$3:$F$14,C$39))*(1-INDEX(Brandstoffacturen!$L$3:$L$14,C$39))*INDEX(Gegevens!$T$40:$T$49,GD!R52))","v":3216.378223547124},{"$f":"IF(INDEX(Brandstoffacturen!$B$22:$B$29,GD!S52)=0,0,(D14*Brandstoffacturen!$P$3+Brandstoffacturen!$G$3)*(1+INDEX(Brandstoffacturen!$F$3:$F$14,D$39))*(1-INDEX(Brandstoffacturen!$L$3:$L$14,D$39))*INDEX(Gegevens!$T$40:$T$49,GD!S52))","v":2901.3472623201519},{"$f":"IF(INDEX(Brandstoffacturen!$B$22:$B$29,GD!T52)=0,0,(E14*Brandstoffacturen!$P$3+Brandstoffacturen!$G$3)*(1+INDEX(Brandstoffacturen!$F$3:$F$14,E$39))*(1-INDEX(Brandstoffacturen!$L$3:$L$14,E$39))*INDEX(Gegevens!$T$40:$T$49,GD!T52))","v":2294.5413214521004},{"$f":"IF(INDEX(Brandstoffacturen!$B$22:$B$29,GD!U52)=0,0,(F14*Brandstoffacturen!$P$3+Brandstoffacturen!$G$3)*(1+INDEX(Brandstoffacturen!$F$3:$F$14,F$39))*(1-INDEX(Brandstoffacturen!$L$3:$L$14,F$39))*INDEX(Gegevens!$T$40:$T$49,GD!U52))","v":2010.2626043319651},{"$f":"IF(INDEX(Brandstoffacturen!$B$22:$B$29,GD!V52)=0,0,(G14*Brandstoffacturen!$P$3+Brandstoffacturen!$G$3)*(1+INDEX(Brandstoffacturen!$F$3:$F$14,G$39))*(1-INDEX(Brandstoffacturen!$L$3:$L$14,G$39))*INDEX(Gegevens!$T$40:$T$49,GD!V52))","v":1541.8052845320267},{"$f":"IF(INDEX(Brandstoffacturen!$B$22:$B$29,GD!W52)=0,0,(H14*Brandstoffacturen!$P$3+Brandstoffacturen!$G$3)*(1+INDEX(Brandstoffacturen!$F$3:$F$14,H$39))*(1-INDEX(Brandstoffacturen!$L$3:$L$14,H$39))*INDEX(Gegevens!$T$40:$T$49,GD!W52))","v":1444.5650630025289},{"$f":"IF(INDEX(Brandstoffacturen!$B$22:$B$29,GD!X52)=0,0,(I14*Brandstoffacturen!$P$3+Brandstoffacturen!$G$3)*(1+INDEX(Brandstoffacturen!$F$3:$F$14,I$39))*(1-INDEX(Brandstoffacturen!$L$3:$L$14,I$39))*INDEX(Gegevens!$T$40:$T$49,GD!X52))","v":1622.7924030552142},{"$f":"IF(INDEX(Brandstoffacturen!$B$22:$B$29,GD!Y52)=0,0,(J14*Brandstoffacturen!$P$3+Brandstoffacturen!$G$3)*(1+INDEX(Brandstoffacturen!$F$3:$F$14,J$39))*(1-INDEX(Brandstoffacturen!$L$3:$L$14,J$39))*INDEX(Gegevens!$T$40:$T$49,GD!Y52))","v":2088.8551631777805},{"$f":"IF(INDEX(Brandstoffacturen!$B$22:$B$29,GD!Z52)=0,0,(K14*Brandstoffacturen!$P$3+Brandstoffacturen!$G$3)*(1+INDEX(Brandstoffacturen!$F$3:$F$14,K$39))*(1-INDEX(Brandstoffacturen!$L$3:$L$14,K$39))*INDEX(Gegevens!$T$40:$T$49,GD!Z52))","v":2247.2961477608419},{"$f":"IF(INDEX(Brandstoffacturen!$B$22:$B$29,GD!AA52)=0,0,(L14*Brandstoffacturen!$P$3+Brandstoffacturen!$G$3)*(1+INDEX(Brandstoffacturen!$F$3:$F$14,L$39))*(1-INDEX(Brandstoffacturen!$L$3:$L$14,L$39))*INDEX(Gegevens!$T$40:$T$49,GD!AA52))","v":2941.8614124105684},{"$f":"IF(INDEX(Brandstoffacturen!$B$22:$B$29,GD!AB52)=0,0,(M14*Brandstoffacturen!$P$3+Brandstoffacturen!$G$3)*(1+INDEX(Brandstoffacturen!$F$3:$F$14,M$39))*(1-INDEX(Brandstoffacturen!$L$3:$L$14,M$39))*INDEX(Gegevens!$T$40:$T$49,GD!AB52))","v":2932.2495110665282},null,null,12,{"$f":"IF(OR(AND($A52=1,B$39=1),AND($A52=Titels!$O$12,B$39=Titels!$P$12),AND($A52=1,B$39=5),AND($A52=Titels!$O$14,B$39=Titels!$P$14),AND($A52=Titels!$O$15,B$39=Titels!$P$15),AND($A52=21,B$39=7),AND($A52=15,B$39=8),AND($A52=1,B$39=11),AND($A52=11,B$39=11),AND($A52=25,B$39=12)),8,WEEKDAY(CONCATENATE($P52,\"/\",B$39,\"/\",$B$1),2))","v":6},{"$f":"IF(OR(AND($A52=1,C$39=1),AND($A52=Titels!$O$12,C$39=Titels!$P$12),AND($A52=1,C$39=5),AND($A52=Titels!$O$14,C$39=Titels!$P$14),AND($A52=Titels!$O$15,C$39=Titels!$P$15),AND($A52=21,C$39=7),AND($A52=15,C$39=8),AND($A52=1,C$39=11),AND($A52=11,C$39=11),AND($A52=25,C$39=12)),8,WEEKDAY(CONCATENATE($P52,\"/\",C$39,\"/\",$B$1),2))","v":2},{"$f":"IF(OR(AND($A52=1,D$39=1),AND($A52=Titels!$O$12,D$39=Titels!$P$12),AND($A52=1,D$39=5),AND($A52=Titels!$O$14,D$39=Titels!$P$14),AND($A52=Titels!$O$15,D$39=Titels!$P$15),AND($A52=21,D$39=7),AND($A52=15,D$39=8),AND($A52=1,D$39=11),AND($A52=11,D$39=11),AND($A52=25,D$39=12)),8,WEEKDAY(CONCATENATE($P52,\"/\",D$39,\"/\",$B$1),2))","v":2},{"$f":"IF(OR(AND($A52=1,E$39=1),AND($A52=Titels!$O$12,E$39=Titels!$P$12),AND($A52=1,E$39=5),AND($A52=Titels!$O$14,E$39=Titels!$P$14),AND($A52=Titels!$O$15,E$39=Titels!$P$15),AND($A52=21,E$39=7),AND($A52=15,E$39=8),AND($A52=1,E$39=11),AND($A52=11,E$39=11),AND($A52=25,E$39=12)),8,WEEKDAY(CONCATENATE($P52,\"/\",E$39,\"/\",$B$1),2))","v":5},{"$f":"IF(OR(AND($A52=1,F$39=1),AND($A52=Titels!$O$12,F$39=Titels!$P$12),AND($A52=1,F$39=5),AND($A52=Titels!$O$14,F$39=Titels!$P$14),AND($A52=Titels!$O$15,F$39=Titels!$P$15),AND($A52=21,F$39=7),AND($A52=15,F$39=8),AND($A52=1,F$39=11),AND($A52=11,F$39=11),AND($A52=25,F$39=12)),8,WEEKDAY(CONCATENATE($P52,\"/\",F$39,\"/\",$B$1),2))","v":7},{"$f":"IF(OR(AND($A52=1,G$39=1),AND($A52=Titels!$O$12,G$39=Titels!$P$12),AND($A52=1,G$39=5),AND($A52=Titels!$O$14,G$39=Titels!$P$14),AND($A52=Titels!$O$15,G$39=Titels!$P$15),AND($A52=21,G$39=7),AND($A52=15,G$39=8),AND($A52=1,G$39=11),AND($A52=11,G$39=11),AND($A52=25,G$39=12)),8,WEEKDAY(CONCATENATE($P52,\"/\",G$39,\"/\",$B$1),2))","v":3},{"$f":"IF(OR(AND($A52=1,H$39=1),AND($A52=Titels!$O$12,H$39=Titels!$P$12),AND($A52=1,H$39=5),AND($A52=Titels!$O$14,H$39=Titels!$P$14),AND($A52=Titels!$O$15,H$39=Titels!$P$15),AND($A52=21,H$39=7),AND($A52=15,H$39=8),AND($A52=1,H$39=11),AND($A52=11,H$39=11),AND($A52=25,H$39=12)),8,WEEKDAY(CONCATENATE($P52,\"/\",H$39,\"/\",$B$1),2))","v":5},{"$f":"IF(OR(AND($A52=1,I$39=1),AND($A52=Titels!$O$12,I$39=Titels!$P$12),AND($A52=1,I$39=5),AND($A52=Titels!$O$14,I$39=Titels!$P$14),AND($A52=Titels!$O$15,I$39=Titels!$P$15),AND($A52=21,I$39=7),AND($A52=15,I$39=8),AND($A52=1,I$39=11),AND($A52=11,I$39=11),AND($A52=25,I$39=12)),8,WEEKDAY(CONCATENATE($P52,\"/\",I$39,\"/\",$B$1),2))","v":1},{"$f":"IF(OR(AND($A52=1,J$39=1),AND($A52=Titels!$O$12,J$39=Titels!$P$12),AND($A52=1,J$39=5),AND($A52=Titels!$O$14,J$39=Titels!$P$14),AND($A52=Titels!$O$15,J$39=Titels!$P$15),AND($A52=21,J$39=7),AND($A52=15,J$39=8),AND($A52=1,J$39=11),AND($A52=11,J$39=11),AND($A52=25,J$39=12)),8,WEEKDAY(CONCATENATE($P52,\"/\",J$39,\"/\",$B$1),2))","v":4},{"$f":"IF(OR(AND($A52=1,K$39=1),AND($A52=Titels!$O$12,K$39=Titels!$P$12),AND($A52=1,K$39=5),AND($A52=Titels!$O$14,K$39=Titels!$P$14),AND($A52=Titels!$O$15,K$39=Titels!$P$15),AND($A52=21,K$39=7),AND($A52=15,K$39=8),AND($A52=1,K$39=11),AND($A52=11,K$39=11),AND($A52=25,K$39=12)),8,WEEKDAY(CONCATENATE($P52,\"/\",K$39,\"/\",$B$1),2))","v":6},{"$f":"IF(OR(AND($A52=1,L$39=1),AND($A52=Titels!$O$12,L$39=Titels!$P$12),AND($A52=1,L$39=5),AND($A52=Titels!$O$14,L$39=Titels!$P$14),AND($A52=Titels!$O$15,L$39=Titels!$P$15),AND($A52=21,L$39=7),AND($A52=15,L$39=8),AND($A52=1,L$39=11),AND($A52=11,L$39=11),AND($A52=25,L$39=12)),8,WEEKDAY(CONCATENATE($P52,\"/\",L$39,\"/\",$B$1),2))","v":2},{"$f":"IF(OR(AND($A52=1,M$39=1),AND($A52=Titels!$O$12,M$39=Titels!$P$12),AND($A52=1,M$39=5),AND($A52=Titels!$O$14,M$39=Titels!$P$14),AND($A52=Titels!$O$15,M$39=Titels!$P$15),AND($A52=21,M$39=7),AND($A52=15,M$39=8),AND($A52=1,M$39=11),AND($A52=11,M$39=11),AND($A52=25,M$39=12)),8,WEEKDAY(CONCATENATE($P52,\"/\",M$39,\"/\",$B$1),2))","v":4}]
[13,{"$f":"IF(INDEX(Brandstoffacturen!$B$22:$B$29,GD!Q53)=0,0,(B15*Brandstoffacturen!$P$3+Brandstoffacturen!$G$3)*(1+INDEX(Brandstoffacturen!$F$3:$F$14,B$39))*(1-INDEX(Brandstoffacturen!$L$3:$L$14,B$39))*INDEX(Gegevens!$T$40:$T$49,GD!Q53))","v":2179.6136917035383},{"$f":"IF(INDEX(Brandstoffacturen!$B$22:$B$29,GD!R53)=0,0,(C15*Brandstoffacturen!$P$3+Brandstoffacturen!$G$3)*(1+INDEX(Brandstoffacturen!$F$3:$F$14,C$39))*(1-INDEX(Brandstoffacturen!$L$3:$L$14,C$39))*INDEX(Gegevens!$T$40:$T$49,GD!R53))","v":3204.523336807531},{"$f":"IF(INDEX(Brandstoffacturen!$B$22:$B$29,GD!S53)=0,0,(D15*Brandstoffacturen!$P$3+Brandstoffacturen!$G$3)*(1+INDEX(Brandstoffacturen!$F$3:$F$14,D$39))*(1-INDEX(Brandstoffacturen!$L$3:$L$14,D$39))*INDEX(Gegevens!$T$40:$T$49,GD!S53))","v":2913.5731165010675},{"$f":"IF(INDEX(Brandstoffacturen!$B$22:$B$29,GD!T53)=0,0,(E15*Brandstoffacturen!$P$3+Brandstoffacturen!$G$3)*(1+INDEX(Brandstoffacturen!$F$3:$F$14,E$39))*(1-INDEX(Brandstoffacturen!$L$3:$L$14,E$39))*INDEX(Gegevens!$T$40:$T$49,GD!T53))","v":2420.8567260497221},{"$f":"IF(INDEX(Brandstoffacturen!$B$22:$B$29,GD!U53)=0,0,(F15*Brandstoffacturen!$P$3+Brandstoffacturen!$G$3)*(1+INDEX(Brandstoffacturen!$F$3:$F$14,F$39))*(1-INDEX(Brandstoffacturen!$L$3:$L$14,F$39))*INDEX(Gegevens!$T$40:$T$49,GD!U53))","v":1876.4441924105233},{"$f":"IF(INDEX(Brandstoffacturen!$B$22:$B$29,GD!V53)=0,0,(G15*Brandstoffacturen!$P$3+Brandstoffacturen!$G$3)*(1+INDEX(Brandstoffacturen!$F$3:$F$14,G$39))*(1-INDEX(Brandstoffacturen!$L$3:$L$14,G$39))*INDEX(Gegevens!$T$40:$T$49,GD!V53))","v":1523.5927385107937},{"$f":"IF(INDEX(Brandstoffacturen!$B$22:$B$29,GD!W53)=0,0,(H15*Brandstoffacturen!$P$3+Brandstoffacturen!$G$3)*(1+INDEX(Brandstoffacturen!$F$3:$F$14,H$39))*(1-INDEX(Brandstoffacturen!$L$3:$L$14,H$39))*INDEX(Gegevens!$T$40:$T$49,GD!W53))","v":1444.5650630025289},{"$f":"IF(INDEX(Brandstoffacturen!$B$22:$B$29,GD!X53)=0,0,(I15*Brandstoffacturen!$P$3+Brandstoffacturen!$G$3)*(1+INDEX(Brandstoffacturen!$F$3:$F$14,I$39))*(1-INDEX(Brandstoffacturen!$L$3:$L$14,I$39))*INDEX(Gegevens!$T$40:$T$49,GD!X53))","v":1716.227908343569},{"$f":"IF(INDEX(Brandstoffacturen!$B$22:$B$29,GD!Y53)=0,0,(J15*Brandstoffacturen!$P$3+Brandstoffacturen!$G$3)*(1+INDEX(Brandstoffacturen!$F$3:$F$14,J$39))*(1-INDEX(Brandstoffacturen!$L$3:$L$14,J$39))*INDEX(Gegevens!$T$40:$T$49,GD!Y53))","v":2088.8551631777805},{"$f":"IF(INDEX(Brandstoffacturen!$B$22:$B$29,GD!Z53)=0,0,(K15*Brandstoffacturen!$P$3+Brandstoffacturen!$G$3)*(1+INDEX(Brandstoffacturen!$F$3:$F$14,K$39))*(1-INDEX(Brandstoffacturen!$L$3:$L$14,K$39))*INDEX(Gegevens!$T$40:$T$49,GD!Z53))","v":2247.2961477608419},{"$f":"IF(INDEX(Brandstoffacturen!$B$22:$B$29,GD!AA53)=0,0,(L15*Brandstoffacturen!$P$3+Brandstoffacturen!$G$3)*(1+INDEX(Brandstoffacturen!$F$3:$F$14,L$39))*(1-INDEX(Brandstoffacturen!$L$3:$L$14,L$39))*INDEX(Gegevens!$T$40:$T$49,GD!AA53))","v":2793.8073788639558},{"$f":"IF(INDEX(Brandstoffacturen!$B$22:$B$29,GD!AB53)=0,0,(M15*Brandstoffacturen!$P$3+Brandstoffacturen!$G$3)*(1+INDEX(Brandstoffacturen!$F$3:$F$14,M$39))*(1-INDEX(Brandstoffacturen!$L$3:$L$14,M$39))*INDEX(Gegevens!$T$40:$T$49,GD!AB53))","v":2756.7395627533356},null,null,13,{"$f":"IF(OR(AND($A53=1,B$39=1),AND($A53=Titels!$O$12,B$39=Titels!$P$12),AND($A53=1,B$39=5),AND($A53=Titels!$O$14,B$39=Titels!$P$14),AND($A53=Titels!$O$15,B$39=Titels!$P$15),AND($A53=21,B$39=7),AND($A53=15,B$39=8),AND($A53=1,B$39=11),AND($A53=11,B$39=11),AND($A53=25,B$39=12)),8,WEEKDAY(CONCATENATE($P53,\"/\",B$39,\"/\",$B$1),2))","v":7},{"$f":"IF(OR(AND($A53=1,C$39=1),AND($A53=Titels!$O$12,C$39=Titels!$P$12),AND($A53=1,C$39=5),AND($A53=Titels!$O$14,C$39=Titels!$P$14),AND($A53=Titels!$O$15,C$39=Titels!$P$15),AND($A53=21,C$39=7),AND($A53=15,C$39=8),AND($A53=1,C$39=11),AND($A53=11,C$39=11),AND($A53=25,C$39=12)),8,WEEKDAY(CONCATENATE($P53,\"/\",C$39,\"/\",$B$1),2))","v":3},{"$f":"IF(OR(AND($A53=1,D$39=1),AND($A53=Titels!$O$12,D$39=Titels!$P$12),AND($A53=1,D$39=5),AND($A53=Titels!$O$14,D$39=Titels!$P$14),AND($A53=Titels!$O$15,D$39=Titels!$P$15),AND($A53=21,D$39=7),AND($A53=15,D$39=8),AND($A53=1,D$39=11),AND($A53=11,D$39=11),AND($A53=25,D$39=12)),8,WEEKDAY(CONCATENATE($P53,\"/\",D$39,\"/\",$B$1),2))","v":3},{"$f":"IF(OR(AND($A53=1,E$39=1),AND($A53=Titels!$O$12,E$39=Titels!$P$12),AND($A53=1,E$39=5),AND($A53=Titels!$O$14,E$39=Titels!$P$14),AND($A53=Titels!$O$15,E$39=Titels!$P$15),AND($A53=21,E$39=7),AND($A53=15,E$39=8),AND($A53=1,E$39=11),AND($A53=11,E$39=11),AND($A53=25,E$39=12)),8,WEEKDAY(CONCATENATE($P53,\"/\",E$39,\"/\",$B$1),2))","v":6},{"$f":"IF(OR(AND($A53=1,F$39=1),AND($A53=Titels!$O$12,F$39=Titels!$P$12),AND($A53=1,F$39=5),AND($A53=Titels!$O$14,F$39=Titels!$P$14),AND($A53=Titels!$O$15,F$39=Titels!$P$15),AND($A53=21,F$39=7),AND($A53=15,F$39=8),AND($A53=1,F$39=11),AND($A53=11,F$39=11),AND($A53=25,F$39=12)),8,WEEKDAY(CONCATENATE($P53,\"/\",F$39,\"/\",$B$1),2))","v":1},{"$f":"IF(OR(AND($A53=1,G$39=1),AND($A53=Titels!$O$12,G$39=Titels!$P$12),AND($A53=1,G$39=5),AND($A53=Titels!$O$14,G$39=Titels!$P$14),AND($A53=Titels!$O$15,G$39=Titels!$P$15),AND($A53=21,G$39=7),AND($A53=15,G$39=8),AND($A53=1,G$39=11),AND($A53=11,G$39=11),AND($A53=25,G$39=12)),8,WEEKDAY(CONCATENATE($P53,\"/\",G$39,\"/\",$B$1),2))","v":4},{"$f":"IF(OR(AND($A53=1,H$39=1),AND($A53=Titels!$O$12,H$39=Titels!$P$12),AND($A53=1,H$39=5),AND($A53=Titels!$O$14,H$39=Titels!$P$14),AND($A53=Titels!$O$15,H$39=Titels!$P$15),AND($A53=21,H$39=7),AND($A53=15,H$39=8),AND($A53=1,H$39=11),AND($A53=11,H$39=11),AND($A53=25,H$39=12)),8,WEEKDAY(CONCATENATE($P53,\"/\",H$39,\"/\",$B$1),2))","v":6},{"$f":"IF(OR(AND($A53=1,I$39=1),AND($A53=Titels!$O$12,I$39=Titels!$P$12),AND($A53=1,I$39=5),AND($A53=Titels!$O$14,I$39=Titels!$P$14),AND($A53=Titels!$O$15,I$39=Titels!$P$15),AND($A53=21,I$39=7),AND($A53=15,I$39=8),AND($A53=1,I$39=11),AND($A53=11,I$39=11),AND($A53=25,I$39=12)),8,WEEKDAY(CONCATENATE($P53,\"/\",I$39,\"/\",$B$1),2))","v":2},{"$f":"IF(OR(AND($A53=1,J$39=1),AND($A53=Titels!$O$12,J$39=Titels!$P$12),AND($A53=1,J$39=5),AND($A53=Titels!$O$14,J$39=Titels!$P$14),AND($A53=Titels!$O$15,J$39=Titels!$P$15),AND($A53=21,J$39=7),AND($A53=15,J$39=8),AND($A53=1,J$39=11),AND($A53=11,J$39=11),AND($A53=25,J$39=12)),8,WEEKDAY(CONCATENATE($P53,\"/\",J$39,\"/\",$B$1),2))","v":5},{"$f":"IF(OR(AND($A53=1,K$39=1),AND($A53=Titels!$O$12,K$39=Titels!$P$12),AND($A53=1,K$39=5),AND($A53=Titels!$O$14,K$39=Titels!$P$14),AND($A53=Titels!$O$15,K$39=Titels!$P$15),AND($A53=21,K$39=7),AND($A53=15,K$39=8),AND($A53=1,K$39=11),AND($A53=11,K$39=11),AND($A53=25,K$39=12)),8,WEEKDAY(CONCATENATE($P53,\"/\",K$39,\"/\",$B$1),2))","v":7},{"$f":"IF(OR(AND($A53=1,L$39=1),AND($A53=Titels!$O$12,L$39=Titels!$P$12),AND($A53=1,L$39=5),AND($A53=Titels!$O$14,L$39=Titels!$P$14),AND($A53=Titels!$O$15,L$39=Titels!$P$15),AND($A53=21,L$39=7),AND($A53=15,L$39=8),AND($A53=1,L$39=11),AND($A53=11,L$39=11),AND($A53=25,L$39=12)),8,WEEKDAY(CONCATENATE($P53,\"/\",L$39,\"/\",$B$1),2))","v":3},{"$f":"IF(OR(AND($A53=1,M$39=1),AND($A53=Titels!$O$12,M$39=Titels!$P$12),AND($A53=1,M$39=5),AND($A53=Titels!$O$14,M$39=Titels!$P$14),AND($A53=Titels!$O$15,M$39=Titels!$P$15),AND($A53=21,M$39=7),AND($A53=15,M$39=8),AND($A53=1,M$39=11),AND($A53=11,M$39=11),AND($A53=25,M$39=12)),8,WEEKDAY(CONCATENATE($P53,\"/\",M$39,\"/\",$B$1),2))","v":5}]
[14,{"$f":"IF(INDEX(Brandstoffacturen!$B$22:$B$29,GD!Q54)=0,0,(B16*Brandstoffacturen!$P$3+Brandstoffacturen!$G$3)*(1+INDEX(Brandstoffacturen!$F$3:$F$14,B$39))*(1-INDEX(Brandstoffacturen!$L$3:$L$14,B$39))*INDEX(Gegevens!$T$40:$T$49,GD!Q54))","v":2424.7207256711736},{"$f":"IF(INDEX(Brandstoffacturen!$B$22:$B$29,GD!R54)=0,0,(C16*Brandstoffacturen!$P$3+Brandstoffacturen!$G$3)*(1+INDEX(Brandstoffacturen!$F$3:$F$14,C$39))*(1-INDEX(Brandstoffacturen!$L$3:$L$14,C$39))*INDEX(Gegevens!$T$40:$T$49,GD!R54))","v":2825.1669611405514},{"$f":"IF(INDEX(Brandstoffacturen!$B$22:$B$29,GD!S54)=0,0,(D16*Brandstoffacturen!$P$3+Brandstoffacturen!$G$3)*(1+INDEX(Brandstoffacturen!$F$3:$F$14,D$39))*(1-INDEX(Brandstoffacturen!$L$3:$L$14,D$39))*INDEX(Gegevens!$T$40:$T$49,GD!S54))","v":2766.862866330086},{"$f":"IF(INDEX(Brandstoffacturen!$B$22:$B$29,GD!T54)=0,0,(E16*Brandstoffacturen!$P$3+Brandstoffacturen!$G$3)*(1+INDEX(Brandstoffacturen!$F$3:$F$14,E$39))*(1-INDEX(Brandstoffacturen!$L$3:$L$14,E$39))*INDEX(Gegevens!$T$40:$T$49,GD!T54))","v":2366.7215526507416},{"$f":"IF(INDEX(Brandstoffacturen!$B$22:$B$29,GD!U54)=0,0,(F16*Brandstoffacturen!$P$3+Brandstoffacturen!$G$3)*(1+INDEX(Brandstoffacturen!$F$3:$F$14,F$39))*(1-INDEX(Brandstoffacturen!$L$3:$L$14,F$39))*INDEX(Gegevens!$T$40:$T$49,GD!U54))","v":1857.3272764217461},{"$f":"IF(INDEX(Brandstoffacturen!$B$22:$B$29,GD!V54)=0,0,(G16*Brandstoffacturen!$P$3+Brandstoffacturen!$G$3)*(1+INDEX(Brandstoffacturen!$F$3:$F$14,G$39))*(1-INDEX(Brandstoffacturen!$L$3:$L$14,G$39))*INDEX(Gegevens!$T$40:$T$49,GD!V54))","v":1423.4237353940121},{"$f":"IF(INDEX(Brandstoffacturen!$B$22:$B$29,GD!W54)=0,0,(H16*Brandstoffacturen!$P$3+Brandstoffacturen!$G$3)*(1+INDEX(Brandstoffacturen!$F$3:$F$14,H$39))*(1-INDEX(Brandstoffacturen!$L$3:$L$14,H$39))*INDEX(Gegevens!$T$40:$T$49,GD!W54))","v":1444.5650630025289},{"$f":"IF(INDEX(Brandstoffacturen!$B$22:$B$29,GD!X54)=0,0,(I16*Brandstoffacturen!$P$3+Brandstoffacturen!$G$3)*(1+INDEX(Brandstoffacturen!$F$3:$F$14,I$39))*(1-INDEX(Brandstoffacturen!$L$3:$L$14,I$39))*INDEX(Gegevens!$T$40:$T$49,GD!X54))","v":1622.7924030552142},{"$f":"IF(INDEX(Brandstoffacturen!$B$22:$B$29,GD!Y54)=0,0,(J16*Brandstoffacturen!$P$3+Brandstoffacturen!$G$3)*(1+INDEX(Brandstoffacturen!$F$3:$F$14,J$39))*(1-INDEX(Brandstoffacturen!$L$3:$L$14,J$39))*INDEX(Gegevens!$T$40:$T$49,GD!Y54))","v":2088.8551631777805},{"$f":"IF(INDEX(Brandstoffacturen!$B$22:$B$29,GD!Z54)=0,0,(K16*Brandstoffacturen!$P$3+Brandstoffacturen!$G$3)*(1+INDEX(Brandstoffacturen!$F$3:$F$14,K$39))*(1-INDEX(Brandstoffacturen!$L$3:$L$14,K$39))*INDEX(Gegevens!$T$40:$T$49,GD!Z54))","v":2247.2961477608419},{"$f":"IF(INDEX(Brandstoffacturen!$B$22:$B$29,GD!AA54)=0,0,(L16*Brandstoffacturen!$P$3+Brandstoffacturen!$G$3)*(1+INDEX(Brandstoffacturen!$F$3:$F$14,L$39))*(1-INDEX(Brandstoffacturen!$L$3:$L$14,L$39))*INDEX(Gegevens!$T$40:$T$49,GD!AA54))","v":2896.3063251654571},{"$f":"IF(INDEX(Brandstoffacturen!$B$22:$B$29,GD!AB54)=0,0,(M16*Brandstoffacturen!$P$3+Brandstoffacturen!$G$3)*(1+INDEX(Brandstoffacturen!$F$3:$F$14,M$39))*(1-INDEX(Brandstoffacturen!$L$3:$L$14,M$39))*INDEX(Gegevens!$T$40:$T$49,GD!AB54))","v":2668.9845885967388},null,null,14,{"$f":"IF(OR(AND($A54=1,B$39=1),AND($A54=Titels!$O$12,B$39=Titels!$P$12),AND($A54=1,B$39=5),AND($A54=Titels!$O$14,B$39=Titels!$P$14),AND($A54=Titels!$O$15,B$39=Titels!$P$15),AND($A54=21,B$39=7),AND($A54=15,B$39=8),AND($A54=1,B$39=11),AND($A54=11,B$39=11),AND($A54=25,B$39=12)),8,WEEKDAY(CONCATENATE($P54,\"/\",B$39,\"/\",$B$1),2))","v":1},{"$f":"IF(OR(AND($A54=1,C$39=1),AND($A54=Titels!$O$12,C$39=Titels!$P$12),AND($A54=1,C$39=5),AND($A54=Titels!$O$14,C$39=Titels!$P$14),AND($A54=Titels!$O$15,C$39=Titels!$P$15),AND($A54=21,C$39=7),AND($A54=15,C$39=8),AND($A54=1,C$39=11),AND($A54=11,C$39=11),AND($A54=25,C$39=12)),8,WEEKDAY(CONCATENATE($P54,\"/\",C$39,\"/\",$B$1),2))","v":4},{"$f":"IF(OR(AND($A54=1,D$39=1),AND($A54=Titels!$O$12,D$39=Titels!$P$12),AND($A54=1,D$39=5),AND($A54=Titels!$O$14,D$39=Titels!$P$14),AND($A54=Titels!$O$15,D$39=Titels!$P$15),AND($A54=21,D$39=7),AND($A54=15,D$39=8),AND($A54=1,D$39=11),AND($A54=11,D$39=11),AND($A54=25,D$39=12)),8,WEEKDAY(CONCATENATE($P54,\"/\",D$39,\"/\",$B$1),2))","v":4},{"$f":"IF(OR(AND($A54=1,E$39=1),AND($A54=Titels!$O$12,E$39=Titels!$P$12),AND($A54=1,E$39=5),AND($A54=Titels!$O$14,E$39=Titels!$P$14),AND($A54=Titels!$O$15,E$39=Titels!$P$15),AND($A54=21,E$39=7),AND($A54=15,E$39=8),AND($A54=1,E$39=11),AND($A54=11,E$39=11),AND($A54=25,E$39=12)),8,WEEKDAY(CONCATENATE($P54,\"/\",E$39,\"/\",$B$1),2))","v":7},{"$f":"IF(OR(AND($A54=1,F$39=1),AND($A54=Titels!$O$12,F$39=Titels!$P$12),AND($A54=1,F$39=5),AND($A54=Titels!$O$14,F$39=Titels!$P$14),AND($A54=Titels!$O$15,F$39=Titels!$P$15),AND($A54=21,F$39=7),AND($A54=15,F$39=8),AND($A54=1,F$39=11),AND($A54=11,F$39=11),AND($A54=25,F$39=12)),8,WEEKDAY(CONCATENATE($P54,\"/\",F$39,\"/\",$B$1),2))","v":2},{"$f":"IF(OR(AND($A54=1,G$39=1),AND($A54=Titels!$O$12,G$39=Titels!$P$12),AND($A54=1,G$39=5),AND($A54=Titels!$O$14,G$39=Titels!$P$14),AND($A54=Titels!$O$15,G$39=Titels!$P$15),AND($A54=21,G$39=7),AND($A54=15,G$39=8),AND($A54=1,G$39=11),AND($A54=11,G$39=11),AND($A54=25,G$39=12)),8,WEEKDAY(CONCATENATE($P54,\"/\",G$39,\"/\",$B$1),2))","v":5},{"$f":"IF(OR(AND($A54=1,H$39=1),AND($A54=Titels!$O$12,H$39=Titels!$P$12),AND($A54=1,H$39=5),AND($A54=Titels!$O$14,H$39=Titels!$P$14),AND($A54=Titels!$O$15,H$39=Titels!$P$15),AND($A54=21,H$39=7),AND($A54=15,H$39=8),AND($A54=1,H$39=11),AND($A54=11,H$39=11),AND($A54=25,H$39=12)),8,WEEKDAY(CONCATENATE($P54,\"/\",H$39,\"/\",$B$1),2))","v":7},{"$f":"IF(OR(AND($A54=1,I$39=1),AND($A54=Titels!$O$12,I$39=Titels!$P$12),AND($A54=1,I$39=5),AND($A54=Titels!$O$14,I$39=Titels!$P$14),AND($A54=Titels!$O$15,I$39=Titels!$P$15),AND($A54=21,I$39=7),AND($A54=15,I$39=8),AND($A54=1,I$39=11),AND($A54=11,I$39=11),AND($A54=25,I$39=12)),8,WEEKDAY(CONCATENATE($P54,\"/\",I$39,\"/\",$B$1),2))","v":3},{"$f":"IF(OR(AND($A54=1,J$39=1),AND($A54=Titels!$O$12,J$39=Titels!$P$12),AND($A54=1,J$39=5),AND($A54=Titels!$O$14,J$39=Titels!$P$14),AND($A54=Titels!$O$15,J$39=Titels!$P$15),AND($A54=21,J$39=7),AND($A54=15,J$39=8),AND($A54=1,J$39=11),AND($A54=11,J$39=11),AND($A54=25,J$39=12)),8,WEEKDAY(CONCATENATE($P54,\"/\",J$39,\"/\",$B$1),2))","v":6},{"$f":"IF(OR(AND($A54=1,K$39=1),AND($A54=Titels!$O$12,K$39=Titels!$P$12),AND($A54=1,K$39=5),AND($A54=Titels!$O$14,K$39=Titels!$P$14),AND($A54=Titels!$O$15,K$39=Titels!$P$15),AND($A54=21,K$39=7),AND($A54=15,K$39=8),AND($A54=1,K$39=11),AND($A54=11,K$39=11),AND($A54=25,K$39=12)),8,WEEKDAY(CONCATENATE($P54,\"/\",K$39,\"/\",$B$1),2))","v":1},{"$f":"IF(OR(AND($A54=1,L$39=1),AND($A54=Titels!$O$12,L$39=Titels!$P$12),AND($A54=1,L$39=5),AND($A54=Titels!$O$14,L$39=Titels!$P$14),AND($A54=Titels!$O$15,L$39=Titels!$P$15),AND($A54=21,L$39=7),AND($A54=15,L$39=8),AND($A54=1,L$39=11),AND($A54=11,L$39=11),AND($A54=25,L$39=12)),8,WEEKDAY(CONCATENATE($P54,\"/\",L$39,\"/\",$B$1),2))","v":4},{"$f":"IF(OR(AND($A54=1,M$39=1),AND($A54=Titels!$O$12,M$39=Titels!$P$12),AND($A54=1,M$39=5),AND($A54=Titels!$O$14,M$39=Titels!$P$14),AND($A54=Titels!$O$15,M$39=Titels!$P$15),AND($A54=21,M$39=7),AND($A54=15,M$39=8),AND($A54=1,M$39=11),AND($A54=11,M$39=11),AND($A54=25,M$39=12)),8,WEEKDAY(CONCATENATE($P54,\"/\",M$39,\"/\",$B$1),2))","v":6}]
[15,{"$f":"IF(INDEX(Brandstoffacturen!$B$22:$B$29,GD!Q55)=0,0,(B17*Brandstoffacturen!$P$3+Brandstoffacturen!$G$3)*(1+INDEX(Brandstoffacturen!$F$3:$F$14,B$39))*(1-INDEX(Brandstoffacturen!$L$3:$L$14,B$39))*INDEX(Gegevens!$T$40:$T$49,GD!Q55))","v":2483.5464138234061},{"$f":"IF(INDEX(Brandstoffacturen!$B$22:$B$29,GD!R55)=0,0,(C17*Brandstoffacturen!$P$3+Brandstoffacturen!$G$3)*(1+INDEX(Brandstoffacturen!$F$3:$F$14,C$39))*(1-INDEX(Brandstoffacturen!$L$3:$L$14,C$39))*INDEX(Gegevens!$T$40:$T$49,GD!R55))","v":2445.8105854735722},{"$f":"IF(INDEX(Brandstoffacturen!$B$22:$B$29,GD!S55)=0,0,(D17*Brandstoffacturen!$P$3+Brandstoffacturen!$G$3)*(1+INDEX(Brandstoffacturen!$F$3:$F$14,D$39))*(1-INDEX(Brandstoffacturen!$L$3:$L$14,D$39))*INDEX(Gegevens!$T$40:$T$49,GD!S55))","v":2534.5716368926992},{"$f":"IF(INDEX(Brandstoffacturen!$B$22:$B$29,GD!T55)=0,0,(E17*Brandstoffacturen!$P$3+Brandstoffacturen!$G$3)*(1+INDEX(Brandstoffacturen!$F$3:$F$14,E$39))*(1-INDEX(Brandstoffacturen!$L$3:$L$14,E$39))*INDEX(Gegevens!$T$40:$T$49,GD!T55))","v":1915.5951076592353},{"$f":"IF(INDEX(Brandstoffacturen!$B$22:$B$29,GD!U55)=0,0,(F17*Brandstoffacturen!$P$3+Brandstoffacturen!$G$3)*(1+INDEX(Brandstoffacturen!$F$3:$F$14,F$39))*(1-INDEX(Brandstoffacturen!$L$3:$L$14,F$39))*INDEX(Gegevens!$T$40:$T$49,GD!U55))","v":1752.1842384834702},{"$f":"IF(INDEX(Brandstoffacturen!$B$22:$B$29,GD!V55)=0,0,(G17*Brandstoffacturen!$P$3+Brandstoffacturen!$G$3)*(1+INDEX(Brandstoffacturen!$F$3:$F$14,G$39))*(1-INDEX(Brandstoffacturen!$L$3:$L$14,G$39))*INDEX(Gegevens!$T$40:$T$49,GD!V55))","v":1423.4237353940121},{"$f":"IF(INDEX(Brandstoffacturen!$B$22:$B$29,GD!W55)=0,0,(H17*Brandstoffacturen!$P$3+Brandstoffacturen!$G$3)*(1+INDEX(Brandstoffacturen!$F$3:$F$14,H$39))*(1-INDEX(Brandstoffacturen!$L$3:$L$14,H$39))*INDEX(Gegevens!$T$40:$T$49,GD!W55))","v":1463.0481099241233},{"$f":"IF(INDEX(Brandstoffacturen!$B$22:$B$29,GD!X55)=0,0,(I17*Brandstoffacturen!$P$3+Brandstoffacturen!$G$3)*(1+INDEX(Brandstoffacturen!$F$3:$F$14,I$39))*(1-INDEX(Brandstoffacturen!$L$3:$L$14,I$39))*INDEX(Gegevens!$T$40:$T$49,GD!X55))","v":1622.7924030552142},{"$f":"IF(INDEX(Brandstoffacturen!$B$22:$B$29,GD!Y55)=0,0,(J17*Brandstoffacturen!$P$3+Brandstoffacturen!$G$3)*(1+INDEX(Brandstoffacturen!$F$3:$F$14,J$39))*(1-INDEX(Brandstoffacturen!$L$3:$L$14,J$39))*INDEX(Gegevens!$T$40:$T$49,GD!Y55))","v":2088.8551631777805},{"$f":"IF(INDEX(Brandstoffacturen!$B$22:$B$29,GD!Z55)=0,0,(K17*Brandstoffacturen!$P$3+Brandstoffacturen!$G$3)*(1+INDEX(Brandstoffacturen!$F$3:$F$14,K$39))*(1-INDEX(Brandstoffacturen!$L$3:$L$14,K$39))*INDEX(Gegevens!$T$40:$T$49,GD!Z55))","v":2347.9347996524134},{"$f":"IF(INDEX(Brandstoffacturen!$B$22:$B$29,GD!AA55)=0,0,(L17*Brandstoffacturen!$P$3+Brandstoffacturen!$G$3)*(1+INDEX(Brandstoffacturen!$F$3:$F$14,L$39))*(1-INDEX(Brandstoffacturen!$L$3:$L$14,L$39))*INDEX(Gegevens!$T$40:$T$49,GD!AA55))","v":3089.9154459571823},{"$f":"IF(INDEX(Brandstoffacturen!$B$22:$B$29,GD!AB55)=0,0,(M17*Brandstoffacturen!$P$3+Brandstoffacturen!$G$3)*(1+INDEX(Brandstoffacturen!$F$3:$F$14,M$39))*(1-INDEX(Brandstoffacturen!$L$3:$L$14,M$39))*INDEX(Gegevens!$T$40:$T$49,GD!AB55))","v":2548.3214991314194},null,null,15,{"$f":"IF(OR(AND($A55=1,B$39=1),AND($A55=Titels!$O$12,B$39=Titels!$P$12),AND($A55=1,B$39=5),AND($A55=Titels!$O$14,B$39=Titels!$P$14),AND($A55=Titels!$O$15,B$39=Titels!$P$15),AND($A55=21,B$39=7),AND($A55=15,B$39=8),AND($A55=1,B$39=11),AND($A55=11,B$39=11),AND($A55=25,B$39=12)),8,WEEKDAY(CONCATENATE($P55,\"/\",B$39,\"/\",$B$1),2))","v":2},{"$f":"IF(OR(AND($A55=1,C$39=1),AND($A55=Titels!$O$12,C$39=Titels!$P$12),AND($A55=1,C$39=5),AND($A55=Titels!$O$14,C$39=Titels!$P$14),AND($A55=Titels!$O$15,C$39=Titels!$P$15),AND($A55=21,C$39=7),AND($A55=15,C$39=8),AND($A55=1,C$39=11),AND($A55=11,C$39=11),AND($A55=25,C$39=12)),8,WEEKDAY(CONCATENATE($P55,\"/\",C$39,\"/\",$B$1),2))","v":5},{"$f":"IF(OR(AND($A55=1,D$39=1),AND($A55=Titels!$O$12,D$39=Titels!$P$12),AND($A55=1,D$39=5),AND($A55=Titels!$O$14,D$39=Titels!$P$14),AND($A55=Titels!$O$15,D$39=Titels!$P$15),AND($A55=21,D$39=7),AND($A55=15,D$39=8),AND($A55=1,D$39=11),AND($A55=11,D$39=11),AND($A55=25,D$39=12)),8,WEEKDAY(CONCATENATE($P55,\"/\",D$39,\"/\",$B$1),2))","v":5},{"$f":"IF(OR(AND($A55=1,E$39=1),AND($A55=Titels!$O$12,E$39=Titels!$P$12),AND($A55=1,E$39=5),AND($A55=Titels!$O$14,E$39=Titels!$P$14),AND($A55=Titels!$O$15,E$39=Titels!$P$15),AND($A55=21,E$39=7),AND($A55=15,E$39=8),AND($A55=1,E$39=11),AND($A55=11,E$39=11),AND($A55=25,E$39=12)),8,WEEKDAY(CONCATENATE($P55,\"/\",E$39,\"/\",$B$1),2))","v":1},{"$f":"IF(OR(AND($A55=1,F$39=1),AND($A55=Titels!$O$12,F$39=Titels!$P$12),AND($A55=1,F$39=5),AND($A55=Titels!$O$14,F$39=Titels!$P$14),AND($A55=Titels!$O$15,F$39=Titels!$P$15),AND($A55=21,F$39=7),AND($A55=15,F$39=8),AND($A55=1,F$39=11),AND($A55=11,F$39=11),AND($A55=25,F$39=12)),8,WEEKDAY(CONCATENATE($P55,\"/\",F$39,\"/\",$B$1),2))","v":3},{"$f":"IF(OR(AND($A55=1,G$39=1),AND($A55=Titels!$O$12,G$39=Titels!$P$12),AND($A55=1,G$39=5),AND($A55=Titels!$O$14,G$39=Titels!$P$14),AND($A55=Titels!$O$15,G$39=Titels!$P$15),AND($A55=21,G$39=7),AND($A55=15,G$39=8),AND($A55=1,G$39=11),AND($A55=11,G$39=11),AND($A55=25,G$39=12)),8,WEEKDAY(CONCATENATE($P55,\"/\",G$39,\"/\",$B$1),2))","v":6},{"$f":"IF(OR(AND($A55=1,H$39=1),AND($A55=Titels!$O$12,H$39=Titels!$P$12),AND($A55=1,H$39=5),AND($A55=Titels!$O$14,H$39=Titels!$P$14),AND($A55=Titels!$O$15,H$39=Titels!$P$15),AND($A55=21,H$39=7),AND($A55=15,H$39=8),AND($A55=1,H$39=11),AND($A55=11,H$39=11),AND($A55=25,H$39=12)),8,WEEKDAY(CONCATENATE($P55,\"/\",H$39,\"/\",$B$1),2))","v":1},{"$f":"IF(OR(AND($A55=1,I$39=1),AND($A55=Titels!$O$12,I$39=Titels!$P$12),AND($A55=1,I$39=5),AND($A55=Titels!$O$14,I$39=Titels!$P$14),AND($A55=Titels!$O$15,I$39=Titels!$P$15),AND($A55=21,I$39=7),AND($A55=15,I$39=8),AND($A55=1,I$39=11),AND($A55=11,I$39=11),AND($A55=25,I$39=12)),8,WEEKDAY(CONCATENATE($P55,\"/\",I$39,\"/\",$B$1),2))","v":8},{"$f":"IF(OR(AND($A55=1,J$39=1),AND($A55=Titels!$O$12,J$39=Titels!$P$12),AND($A55=1,J$39=5),AND($A55=Titels!$O$14,J$39=Titels!$P$14),AND($A55=Titels!$O$15,J$39=Titels!$P$15),AND($A55=21,J$39=7),AND($A55=15,J$39=8),AND($A55=1,J$39=11),AND($A55=11,J$39=11),AND($A55=25,J$39=12)),8,WEEKDAY(CONCATENATE($P55,\"/\",J$39,\"/\",$B$1),2))","v":7},{"$f":"IF(OR(AND($A55=1,K$39=1),AND($A55=Titels!$O$12,K$39=Titels!$P$12),AND($A55=1,K$39=5),AND($A55=Titels!$O$14,K$39=Titels!$P$14),AND($A55=Titels!$O$15,K$39=Titels!$P$15),AND($A55=21,K$39=7),AND($A55=15,K$39=8),AND($A55=1,K$39=11),AND($A55=11,K$39=11),AND($A55=25,K$39=12)),8,WEEKDAY(CONCATENATE($P55,\"/\",K$39,\"/\",$B$1),2))","v":2},{"$f":"IF(OR(AND($A55=1,L$39=1),AND($A55=Titels!$O$12,L$39=Titels!$P$12),AND($A55=1,L$39=5),AND($A55=Titels!$O$14,L$39=Titels!$P$14),AND($A55=Titels!$O$15,L$39=Titels!$P$15),AND($A55=21,L$39=7),AND($A55=15,L$39=8),AND($A55=1,L$39=11),AND($A55=11,L$39=11),AND($A55=25,L$39=12)),8,WEEKDAY(CONCATENATE($P55,\"/\",L$39,\"/\",$B$1),2))","v":5},{"$f":"IF(OR(AND($A55=1,M$39=1),AND($A55=Titels!$O$12,M$39=Titels!$P$12),AND($A55=1,M$39=5),AND($A55=Titels!$O$14,M$39=Titels!$P$14),AND($A55=Titels!$O$15,M$39=Titels!$P$15),AND($A55=21,M$39=7),AND($A55=15,M$39=8),AND($A55=1,M$39=11),AND($A55=11,M$39=11),AND($A55=25,M$39=12)),8,WEEKDAY(CONCATENATE($P55,\"/\",M$39,\"/\",$B$1),2))","v":7}]
[16,{"$f":"IF(INDEX(Brandstoffacturen!$B$22:$B$29,GD!Q56)=0,0,(B18*Brandstoffacturen!$P$3+Brandstoffacturen!$G$3)*(1+INDEX(Brandstoffacturen!$F$3:$F$14,B$39))*(1-INDEX(Brandstoffacturen!$L$3:$L$14,B$39))*INDEX(Gegevens!$T$40:$T$49,GD!Q56))","v":2463.9378511059954},{"$f":"IF(INDEX(Brandstoffacturen!$B$22:$B$29,GD!R56)=0,0,(C18*Brandstoffacturen!$P$3+Brandstoffacturen!$G$3)*(1+INDEX(Brandstoffacturen!$F$3:$F$14,C$39))*(1-INDEX(Brandstoffacturen!$L$3:$L$14,C$39))*INDEX(Gegevens!$T$40:$T$49,GD!R56))","v":2611.7789998278759},{"$f":"IF(INDEX(Brandstoffacturen!$B$22:$B$29,GD!S56)=0,0,(D18*Brandstoffacturen!$P$3+Brandstoffacturen!$G$3)*(1+INDEX(Brandstoffacturen!$F$3:$F$14,D$39))*(1-INDEX(Brandstoffacturen!$L$3:$L$14,D$39))*INDEX(Gegevens!$T$40:$T$49,GD!S56))","v":2473.4423659881231},{"$f":"IF(INDEX(Brandstoffacturen!$B$22:$B$29,GD!T56)=0,0,(E18*Brandstoffacturen!$P$3+Brandstoffacturen!$G$3)*(1+INDEX(Brandstoffacturen!$F$3:$F$14,E$39))*(1-INDEX(Brandstoffacturen!$L$3:$L$14,E$39))*INDEX(Gegevens!$T$40:$T$49,GD!T56))","v":1626.8741828646716},{"$f":"IF(INDEX(Brandstoffacturen!$B$22:$B$29,GD!U56)=0,0,(F18*Brandstoffacturen!$P$3+Brandstoffacturen!$G$3)*(1+INDEX(Brandstoffacturen!$F$3:$F$14,F$39))*(1-INDEX(Brandstoffacturen!$L$3:$L$14,F$39))*INDEX(Gegevens!$T$40:$T$49,GD!U56))","v":1723.5088645003043},{"$f":"IF(INDEX(Brandstoffacturen!$B$22:$B$29,GD!V56)=0,0,(G18*Brandstoffacturen!$P$3+Brandstoffacturen!$G$3)*(1+INDEX(Brandstoffacturen!$F$3:$F$14,G$39))*(1-INDEX(Brandstoffacturen!$L$3:$L$14,G$39))*INDEX(Gegevens!$T$40:$T$49,GD!V56))","v":1423.4237353940121},{"$f":"IF(INDEX(Brandstoffacturen!$B$22:$B$29,GD!W56)=0,0,(H18*Brandstoffacturen!$P$3+Brandstoffacturen!$G$3)*(1+INDEX(Brandstoffacturen!$F$3:$F$14,H$39))*(1-INDEX(Brandstoffacturen!$L$3:$L$14,H$39))*INDEX(Gegevens!$T$40:$T$49,GD!W56))","v":1444.5650630025289},{"$f":"IF(INDEX(Brandstoffacturen!$B$22:$B$29,GD!X56)=0,0,(I18*Brandstoffacturen!$P$3+Brandstoffacturen!$G$3)*(1+INDEX(Brandstoffacturen!$F$3:$F$14,I$39))*(1-INDEX(Brandstoffacturen!$L$3:$L$14,I$39))*INDEX(Gegevens!$T$40:$T$49,GD!X56))","v":1622.7924030552142},{"$f":"IF(INDEX(Brandstoffacturen!$B$22:$B$29,GD!Y56)=0,0,(J18*Brandstoffacturen!$P$3+Brandstoffacturen!$G$3)*(1+INDEX(Brandstoffacturen!$F$3:$F$14,J$39))*(1-INDEX(Brandstoffacturen!$L$3:$L$14,J$39))*INDEX(Gegevens!$T$40:$T$49,GD!Y56))","v":2088.8551631777805},{"$f":"IF(INDEX(Brandstoffacturen!$B$22:$B$29,GD!Z56)=0,0,(K18*Brandstoffacturen!$P$3+Brandstoffacturen!$G$3)*(1+INDEX(Brandstoffacturen!$F$3:$F$14,K$39))*(1-INDEX(Brandstoffacturen!$L$3:$L$14,K$39))*INDEX(Gegevens!$T$40:$T$49,GD!Z56))","v":2606.7199045164562},{"$f":"IF(INDEX(Brandstoffacturen!$B$22:$B$29,GD!AA56)=0,0,(L18*Brandstoffacturen!$P$3+Brandstoffacturen!$G$3)*(1+INDEX(Brandstoffacturen!$F$3:$F$14,L$39))*(1-INDEX(Brandstoffacturen!$L$3:$L$14,L$39))*INDEX(Gegevens!$T$40:$T$49,GD!AA56))","v":3044.3603587120706},{"$f":"IF(INDEX(Brandstoffacturen!$B$22:$B$29,GD!AB56)=0,0,(M18*Brandstoffacturen!$P$3+Brandstoffacturen!$G$3)*(1+INDEX(Brandstoffacturen!$F$3:$F$14,M$39))*(1-INDEX(Brandstoffacturen!$L$3:$L$14,M$39))*INDEX(Gegevens!$T$40:$T$49,GD!AB56))","v":2504.4440120531208},null,null,16,{"$f":"IF(OR(AND($A56=1,B$39=1),AND($A56=Titels!$O$12,B$39=Titels!$P$12),AND($A56=1,B$39=5),AND($A56=Titels!$O$14,B$39=Titels!$P$14),AND($A56=Titels!$O$15,B$39=Titels!$P$15),AND($A56=21,B$39=7),AND($A56=15,B$39=8),AND($A56=1,B$39=11),AND($A56=11,B$39=11),AND($A56=25,B$39=12)),8,WEEKDAY(CONCATENATE($P56,\"/\",B$39,\"/\",$B$1),2))","v":3},{"$f":"IF(OR(AND($A56=1,C$39=1),AND($A56=Titels!$O$12,C$39=Titels!$P$12),AND($A56=1,C$39=5),AND($A56=Titels!$O$14,C$39=Titels!$P$14),AND($A56=Titels!$O$15,C$39=Titels!$P$15),AND($A56=21,C$39=7),AND($A56=15,C$39=8),AND($A56=1,C$39=11),AND($A56=11,C$39=11),AND($A56=25,C$39=12)),8,WEEKDAY(CONCATENATE($P56,\"/\",C$39,\"/\",$B$1),2))","v":6},{"$f":"IF(OR(AND($A56=1,D$39=1),AND($A56=Titels!$O$12,D$39=Titels!$P$12),AND($A56=1,D$39=5),AND($A56=Titels!$O$14,D$39=Titels!$P$14),AND($A56=Titels!$O$15,D$39=Titels!$P$15),AND($A56=21,D$39=7),AND($A56=15,D$39=8),AND($A56=1,D$39=11),AND($A56=11,D$39=11),AND($A56=25,D$39=12)),8,WEEKDAY(CONCATENATE($P56,\"/\",D$39,\"/\",$B$1),2))","v":6},{"$f":"IF(OR(AND($A56=1,E$39=1),AND($A56=Titels!$O$12,E$39=Titels!$P$12),AND($A56=1,E$39=5),AND($A56=Titels!$O$14,E$39=Titels!$P$14),AND($A56=Titels!$O$15,E$39=Titels!$P$15),AND($A56=21,E$39=7),AND($A56=15,E$39=8),AND($A56=1,E$39=11),AND($A56=11,E$39=11),AND($A56=25,E$39=12)),8,WEEKDAY(CONCATENATE($P56,\"/\",E$39,\"/\",$B$1),2))","v":2},{"$f":"IF(OR(AND($A56=1,F$39=1),AND($A56=Titels!$O$12,F$39=Titels!$P$12),AND($A56=1,F$39=5),AND($A56=Titels!$O$14,F$39=Titels!$P$14),AND($A56=Titels!$O$15,F$39=Titels!$P$15),AND($A56=21,F$39=7),AND($A56=15,F$39=8),AND($A56=1,F$39=11),AND($A56=11,F$39=11),AND($A56=25,F$39=12)),8,WEEKDAY(CONCATENATE($P56,\"/\",F$39,\"/\",$B$1),2))","v":4},{"$f":"IF(OR(AND($A56=1,G$39=1),AND($A56=Titels!$O$12,G$39=Titels!$P$12),AND($A56=1,G$39=5),AND($A56=Titels!$O$14,G$39=Titels!$P$14),AND($A56=Titels!$O$15,G$39=Titels!$P$15),AND($A56=21,G$39=7),AND($A56=15,G$39=8),AND($A56=1,G$39=11),AND($A56=11,G$39=11),AND($A56=25,G$39=12)),8,WEEKDAY(CONCATENATE($P56,\"/\",G$39,\"/\",$B$1),2))","v":7},{"$f":"IF(OR(AND($A56=1,H$39=1),AND($A56=Titels!$O$12,H$39=Titels!$P$12),AND($A56=1,H$39=5),AND($A56=Titels!$O$14,H$39=Titels!$P$14),AND($A56=Titels!$O$15,H$39=Titels!$P$15),AND($A56=21,H$39=7),AND($A56=15,H$39=8),AND($A56=1,H$39=11),AND($A56=11,H$39=11),AND($A56=25,H$39=12)),8,WEEKDAY(CONCATENATE($P56,\"/\",H$39,\"/\",$B$1),2))","v":2},{"$f":"IF(OR(AND($A56=1,I$39=1),AND($A56=Titels!$O$12,I$39=Titels!$P$12),AND($A56=1,I$39=5),AND($A56=Titels!$O$14,I$39=Titels!$P$14),AND($A56=Titels!$O$15,I$39=Titels!$P$15),AND($A56=21,I$39=7),AND($A56=15,I$39=8),AND($A56=1,I$39=11),AND($A56=11,I$39=11),AND($A56=25,I$39=12)),8,WEEKDAY(CONCATENATE($P56,\"/\",I$39,\"/\",$B$1),2))","v":5},{"$f":"IF(OR(AND($A56=1,J$39=1),AND($A56=Titels!$O$12,J$39=Titels!$P$12),AND($A56=1,J$39=5),AND($A56=Titels!$O$14,J$39=Titels!$P$14),AND($A56=Titels!$O$15,J$39=Titels!$P$15),AND($A56=21,J$39=7),AND($A56=15,J$39=8),AND($A56=1,J$39=11),AND($A56=11,J$39=11),AND($A56=25,J$39=12)),8,WEEKDAY(CONCATENATE($P56,\"/\",J$39,\"/\",$B$1),2))","v":1},{"$f":"IF(OR(AND($A56=1,K$39=1),AND($A56=Titels!$O$12,K$39=Titels!$P$12),AND($A56=1,K$39=5),AND($A56=Titels!$O$14,K$39=Titels!$P$14),AND($A56=Titels!$O$15,K$39=Titels!$P$15),AND($A56=21,K$39=7),AND($A56=15,K$39=8),AND($A56=1,K$39=11),AND($A56=11,K$39=11),AND($A56=25,K$39=12)),8,WEEKDAY(CONCATENATE($P56,\"/\",K$39,\"/\",$B$1),2))","v":3},{"$f":"IF(OR(AND($A56=1,L$39=1),AND($A56=Titels!$O$12,L$39=Titels!$P$12),AND($A56=1,L$39=5),AND($A56=Titels!$O$14,L$39=Titels!$P$14),AND($A56=Titels!$O$15,L$39=Titels!$P$15),AND($A56=21,L$39=7),AND($A56=15,L$39=8),AND($A56=1,L$39=11),AND($A56=11,L$39=11),AND($A56=25,L$39=12)),8,WEEKDAY(CONCATENATE($P56,\"/\",L$39,\"/\",$B$1),2))","v":6},{"$f":"IF(OR(AND($A56=1,M$39=1),AND($A56=Titels!$O$12,M$39=Titels!$P$12),AND($A56=1,M$39=5),AND($A56=Titels!$O$14,M$39=Titels!$P$14),AND($A56=Titels!$O$15,M$39=Titels!$P$15),AND($A56=21,M$39=7),AND($A56=15,M$39=8),AND($A56=1,M$39=11),AND($A56=11,M$39=11),AND($A56=25,M$39=12)),8,WEEKDAY(CONCATENATE($P56,\"/\",M$39,\"/\",$B$1),2))","v":1}]
[17,{"$f":"IF(INDEX(Brandstoffacturen!$B$22:$B$29,GD!Q57)=0,0,(B19*Brandstoffacturen!$P$3+Brandstoffacturen!$G$3)*(1+INDEX(Brandstoffacturen!$F$3:$F$14,B$39))*(1-INDEX(Brandstoffacturen!$L$3:$L$14,B$39))*INDEX(Gegevens!$T$40:$T$49,GD!Q57))","v":2669.8277596388093},{"$f":"IF(INDEX(Brandstoffacturen!$B$22:$B$29,GD!R57)=0,0,(C19*Brandstoffacturen!$P$3+Brandstoffacturen!$G$3)*(1+INDEX(Brandstoffacturen!$F$3:$F$14,C$39))*(1-INDEX(Brandstoffacturen!$L$3:$L$14,C$39))*INDEX(Gegevens!$T$40:$T$49,GD!R57))","v":2410.2459252547933},{"$f":"IF(INDEX(Brandstoffacturen!$B$22:$B$29,GD!S57)=0,0,(D19*Brandstoffacturen!$P$3+Brandstoffacturen!$G$3)*(1+INDEX(Brandstoffacturen!$F$3:$F$14,D$39))*(1-INDEX(Brandstoffacturen!$L$3:$L$14,D$39))*INDEX(Gegevens!$T$40:$T$49,GD!S57))","v":2962.476533224728},{"$f":"IF(INDEX(Brandstoffacturen!$B$22:$B$29,GD!T57)=0,0,(E19*Brandstoffacturen!$P$3+Brandstoffacturen!$G$3)*(1+INDEX(Brandstoffacturen!$F$3:$F$14,E$39))*(1-INDEX(Brandstoffacturen!$L$3:$L$14,E$39))*INDEX(Gegevens!$T$40:$T$49,GD!T57))","v":1699.0544140633126},{"$f":"IF(INDEX(Brandstoffacturen!$B$22:$B$29,GD!U57)=0,0,(F19*Brandstoffacturen!$P$3+Brandstoffacturen!$G$3)*(1+INDEX(Brandstoffacturen!$F$3:$F$14,F$39))*(1-INDEX(Brandstoffacturen!$L$3:$L$14,F$39))*INDEX(Gegevens!$T$40:$T$49,GD!U57))","v":1866.8857344161349},{"$f":"IF(INDEX(Brandstoffacturen!$B$22:$B$29,GD!V57)=0,0,(G19*Brandstoffacturen!$P$3+Brandstoffacturen!$G$3)*(1+INDEX(Brandstoffacturen!$F$3:$F$14,G$39))*(1-INDEX(Brandstoffacturen!$L$3:$L$14,G$39))*INDEX(Gegevens!$T$40:$T$49,GD!V57))","v":1423.4237353940121},{"$f":"IF(INDEX(Brandstoffacturen!$B$22:$B$29,GD!W57)=0,0,(H19*Brandstoffacturen!$P$3+Brandstoffacturen!$G$3)*(1+INDEX(Brandstoffacturen!$F$3:$F$14,H$39))*(1-INDEX(Brandstoffacturen!$L$3:$L$14,H$39))*INDEX(Gegevens!$T$40:$T$49,GD!W57))","v":1444.5650630025289},{"$f":"IF(INDEX(Brandstoffacturen!$B$22:$B$29,GD!X57)=0,0,(I19*Brandstoffacturen!$P$3+Brandstoffacturen!$G$3)*(1+INDEX(Brandstoffacturen!$F$3:$F$14,I$39))*(1-INDEX(Brandstoffacturen!$L$3:$L$14,I$39))*INDEX(Gegevens!$T$40:$T$49,GD!X57))","v":1622.7924030552142},{"$f":"IF(INDEX(Brandstoffacturen!$B$22:$B$29,GD!Y57)=0,0,(J19*Brandstoffacturen!$P$3+Brandstoffacturen!$G$3)*(1+INDEX(Brandstoffacturen!$F$3:$F$14,J$39))*(1-INDEX(Brandstoffacturen!$L$3:$L$14,J$39))*INDEX(Gegevens!$T$40:$T$49,GD!Y57))","v":2128.9451622185807},{"$f":"IF(INDEX(Brandstoffacturen!$B$22:$B$29,GD!Z57)=0,0,(K19*Brandstoffacturen!$P$3+Brandstoffacturen!$G$3)*(1+INDEX(Brandstoffacturen!$F$3:$F$14,K$39))*(1-INDEX(Brandstoffacturen!$L$3:$L$14,K$39))*INDEX(Gegevens!$T$40:$T$49,GD!Z57))","v":2506.0812526248842},{"$f":"IF(INDEX(Brandstoffacturen!$B$22:$B$29,GD!AA57)=0,0,(L19*Brandstoffacturen!$P$3+Brandstoffacturen!$G$3)*(1+INDEX(Brandstoffacturen!$F$3:$F$14,L$39))*(1-INDEX(Brandstoffacturen!$L$3:$L$14,L$39))*INDEX(Gegevens!$T$40:$T$49,GD!AA57))","v":2987.416499655681},{"$f":"IF(INDEX(Brandstoffacturen!$B$22:$B$29,GD!AB57)=0,0,(M19*Brandstoffacturen!$P$3+Brandstoffacturen!$G$3)*(1+INDEX(Brandstoffacturen!$F$3:$F$14,M$39))*(1-INDEX(Brandstoffacturen!$L$3:$L$14,M$39))*INDEX(Gegevens!$T$40:$T$49,GD!AB57))","v":2087.6078848092884},null,null,17,{"$f":"IF(OR(AND($A57=1,B$39=1),AND($A57=Titels!$O$12,B$39=Titels!$P$12),AND($A57=1,B$39=5),AND($A57=Titels!$O$14,B$39=Titels!$P$14),AND($A57=Titels!$O$15,B$39=Titels!$P$15),AND($A57=21,B$39=7),AND($A57=15,B$39=8),AND($A57=1,B$39=11),AND($A57=11,B$39=11),AND($A57=25,B$39=12)),8,WEEKDAY(CONCATENATE($P57,\"/\",B$39,\"/\",$B$1),2))","v":4},{"$f":"IF(OR(AND($A57=1,C$39=1),AND($A57=Titels!$O$12,C$39=Titels!$P$12),AND($A57=1,C$39=5),AND($A57=Titels!$O$14,C$39=Titels!$P$14),AND($A57=Titels!$O$15,C$39=Titels!$P$15),AND($A57=21,C$39=7),AND($A57=15,C$39=8),AND($A57=1,C$39=11),AND($A57=11,C$39=11),AND($A57=25,C$39=12)),8,WEEKDAY(CONCATENATE($P57,\"/\",C$39,\"/\",$B$1),2))","v":7},{"$f":"IF(OR(AND($A57=1,D$39=1),AND($A57=Titels!$O$12,D$39=Titels!$P$12),AND($A57=1,D$39=5),AND($A57=Titels!$O$14,D$39=Titels!$P$14),AND($A57=Titels!$O$15,D$39=Titels!$P$15),AND($A57=21,D$39=7),AND($A57=15,D$39=8),AND($A57=1,D$39=11),AND($A57=11,D$39=11),AND($A57=25,D$39=12)),8,WEEKDAY(CONCATENATE($P57,\"/\",D$39,\"/\",$B$1),2))","v":7},{"$f":"IF(OR(AND($A57=1,E$39=1),AND($A57=Titels!$O$12,E$39=Titels!$P$12),AND($A57=1,E$39=5),AND($A57=Titels!$O$14,E$39=Titels!$P$14),AND($A57=Titels!$O$15,E$39=Titels!$P$15),AND($A57=21,E$39=7),AND($A57=15,E$39=8),AND($A57=1,E$39=11),AND($A57=11,E$39=11),AND($A57=25,E$39=12)),8,WEEKDAY(CONCATENATE($P57,\"/\",E$39,\"/\",$B$1),2))","v":3},{"$f":"IF(OR(AND($A57=1,F$39=1),AND($A57=Titels!$O$12,F$39=Titels!$P$12),AND($A57=1,F$39=5),AND($A57=Titels!$O$14,F$39=Titels!$P$14),AND($A57=Titels!$O$15,F$39=Titels!$P$15),AND($A57=21,F$39=7),AND($A57=15,F$39=8),AND($A57=1,F$39=11),AND($A57=11,F$39=11),AND($A57=25,F$39=12)),8,WEEKDAY(CONCATENATE($P57,\"/\",F$39,\"/\",$B$1),2))","v":5},{"$f":"IF(OR(AND($A57=1,G$39=1),AND($A57=Titels!$O$12,G$39=Titels!$P$12),AND($A57=1,G$39=5),AND($A57=Titels!$O$14,G$39=Titels!$P$14),AND($A57=Titels!$O$15,G$39=Titels!$P$15),AND($A57=21,G$39=7),AND($A57=15,G$39=8),AND($A57=1,G$39=11),AND($A57=11,G$39=11),AND($A57=25,G$39=12)),8,WEEKDAY(CONCATENATE($P57,\"/\",G$39,\"/\",$B$1),2))","v":1},{"$f":"IF(OR(AND($A57=1,H$39=1),AND($A57=Titels!$O$12,H$39=Titels!$P$12),AND($A57=1,H$39=5),AND($A57=Titels!$O$14,H$39=Titels!$P$14),AND($A57=Titels!$O$15,H$39=Titels!$P$15),AND($A57=21,H$39=7),AND($A57=15,H$39=8),AND($A57=1,H$39=11),AND($A57=11,H$39=11),AND($A57=25,H$39=12)),8,WEEKDAY(CONCATENATE($P57,\"/\",H$39,\"/\",$B$1),2))","v":3},{"$f":"IF(OR(AND($A57=1,I$39=1),AND($A57=Titels!$O$12,I$39=Titels!$P$12),AND($A57=1,I$39=5),AND($A57=Titels!$O$14,I$39=Titels!$P$14),AND($A57=Titels!$O$15,I$39=Titels!$P$15),AND($A57=21,I$39=7),AND($A57=15,I$39=8),AND($A57=1,I$39=11),AND($A57=11,I$39=11),AND($A57=25,I$39=12)),8,WEEKDAY(CONCATENATE($P57,\"/\",I$39,\"/\",$B$1),2))","v":6},{"$f":"IF(OR(AND($A57=1,J$39=1),AND($A57=Titels!$O$12,J$39=Titels!$P$12),AND($A57=1,J$39=5),AND($A57=Titels!$O$14,J$39=Titels!$P$14),AND($A57=Titels!$O$15,J$39=Titels!$P$15),AND($A57=21,J$39=7),AND($A57=15,J$39=8),AND($A57=1,J$39=11),AND($A57=11,J$39=11),AND($A57=25,J$39=12)),8,WEEKDAY(CONCATENATE($P57,\"/\",J$39,\"/\",$B$1),2))","v":2},{"$f":"IF(OR(AND($A57=1,K$39=1),AND($A57=Titels!$O$12,K$39=Titels!$P$12),AND($A57=1,K$39=5),AND($A57=Titels!$O$14,K$39=Titels!$P$14),AND($A57=Titels!$O$15,K$39=Titels!$P$15),AND($A57=21,K$39=7),AND($A57=15,K$39=8),AND($A57=1,K$39=11),AND($A57=11,K$39=11),AND($A57=25,K$39=12)),8,WEEKDAY(CONCATENATE($P57,\"/\",K$39,\"/\",$B$1),2))","v":4},{"$f":"IF(OR(AND($A57=1,L$39=1),AND($A57=Titels!$O$12,L$39=Titels!$P$12),AND($A57=1,L$39=5),AND($A57=Titels!$O$14,L$39=Titels!$P$14),AND($A57=Titels!$O$15,L$39=Titels!$P$15),AND($A57=21,L$39=7),AND($A57=15,L$39=8),AND($A57=1,L$39=11),AND($A57=11,L$39=11),AND($A57=25,L$39=12)),8,WEEKDAY(CONCATENATE($P57,\"/\",L$39,\"/\",$B$1),2))","v":7},{"$f":"IF(OR(AND($A57=1,M$39=1),AND($A57=Titels!$O$12,M$39=Titels!$P$12),AND($A57=1,M$39=5),AND($A57=Titels!$O$14,M$39=Titels!$P$14),AND($A57=Titels!$O$15,M$39=Titels!$P$15),AND($A57=21,M$39=7),AND($A57=15,M$39=8),AND($A57=1,M$39=11),AND($A57=11,M$39=11),AND($A57=25,M$39=12)),8,WEEKDAY(CONCATENATE($P57,\"/\",M$39,\"/\",$B$1),2))","v":2}]
[18,{"$f":"IF(INDEX(Brandstoffacturen!$B$22:$B$29,GD!Q58)=0,0,(B20*Brandstoffacturen!$P$3+Brandstoffacturen!$G$3)*(1+INDEX(Brandstoffacturen!$F$3:$F$14,B$39))*(1-INDEX(Brandstoffacturen!$L$3:$L$14,B$39))*INDEX(Gegevens!$T$40:$T$49,GD!Q58))","v":3012.9776071934989},{"$f":"IF(INDEX(Brandstoffacturen!$B$22:$B$29,GD!R58)=0,0,(C20*Brandstoffacturen!$P$3+Brandstoffacturen!$G$3)*(1+INDEX(Brandstoffacturen!$F$3:$F$14,C$39))*(1-INDEX(Brandstoffacturen!$L$3:$L$14,C$39))*INDEX(Gegevens!$T$40:$T$49,GD!R58))","v":2493.2301324319451},{"$f":"IF(INDEX(Brandstoffacturen!$B$22:$B$29,GD!S58)=0,0,(D20*Brandstoffacturen!$P$3+Brandstoffacturen!$G$3)*(1+INDEX(Brandstoffacturen!$F$3:$F$14,D$39))*(1-INDEX(Brandstoffacturen!$L$3:$L$14,D$39))*INDEX(Gegevens!$T$40:$T$49,GD!S58))","v":3182.5419084811997},{"$f":"IF(INDEX(Brandstoffacturen!$B$22:$B$29,GD!T58)=0,0,(E20*Brandstoffacturen!$P$3+Brandstoffacturen!$G$3)*(1+INDEX(Brandstoffacturen!$F$3:$F$14,E$39))*(1-INDEX(Brandstoffacturen!$L$3:$L$14,E$39))*INDEX(Gegevens!$T$40:$T$49,GD!T58))","v":1410.3334892687487},{"$f":"IF(INDEX(Brandstoffacturen!$B$22:$B$29,GD!U58)=0,0,(F20*Brandstoffacturen!$P$3+Brandstoffacturen!$G$3)*(1+INDEX(Brandstoffacturen!$F$3:$F$14,F$39))*(1-INDEX(Brandstoffacturen!$L$3:$L$14,F$39))*INDEX(Gegevens!$T$40:$T$49,GD!U58))","v":1599.2489105732514},{"$f":"IF(INDEX(Brandstoffacturen!$B$22:$B$29,GD!V58)=0,0,(G20*Brandstoffacturen!$P$3+Brandstoffacturen!$G$3)*(1+INDEX(Brandstoffacturen!$F$3:$F$14,G$39))*(1-INDEX(Brandstoffacturen!$L$3:$L$14,G$39))*INDEX(Gegevens!$T$40:$T$49,GD!V58))","v":1423.4237353940121},{"$f":"IF(INDEX(Brandstoffacturen!$B$22:$B$29,GD!W58)=0,0,(H20*Brandstoffacturen!$P$3+Brandstoffacturen!$G$3)*(1+INDEX(Brandstoffacturen!$F$3:$F$14,H$39))*(1-INDEX(Brandstoffacturen!$L$3:$L$14,H$39))*INDEX(Gegevens!$T$40:$T$49,GD!W58))","v":1444.5650630025289},{"$f":"IF(INDEX(Brandstoffacturen!$B$22:$B$29,GD!X58)=0,0,(I20*Brandstoffacturen!$P$3+Brandstoffacturen!$G$3)*(1+INDEX(Brandstoffacturen!$F$3:$F$14,I$39))*(1-INDEX(Brandstoffacturen!$L$3:$L$14,I$39))*INDEX(Gegevens!$T$40:$T$49,GD!X58))","v":1622.7924030552142},{"$f":"IF(INDEX(Brandstoffacturen!$B$22:$B$29,GD!Y58)=0,0,(J20*Brandstoffacturen!$P$3+Brandstoffacturen!$G$3)*(1+INDEX(Brandstoffacturen!$F$3:$F$14,J$39))*(1-INDEX(Brandstoffacturen!$L$3:$L$14,J$39))*INDEX(Gegevens!$T$40:$T$49,GD!Y58))","v":2422.9384885177824},{"$f":"IF(INDEX(Brandstoffacturen!$B$22:$B$29,GD!Z58)=0,0,(K20*Brandstoffacturen!$P$3+Brandstoffacturen!$G$3)*(1+INDEX(Brandstoffacturen!$F$3:$F$14,K$39))*(1-INDEX(Brandstoffacturen!$L$3:$L$14,K$39))*INDEX(Gegevens!$T$40:$T$49,GD!Z58))","v":2549.2121034355578},{"$f":"IF(INDEX(Brandstoffacturen!$B$22:$B$29,GD!AA58)=0,0,(L20*Brandstoffacturen!$P$3+Brandstoffacturen!$G$3)*(1+INDEX(Brandstoffacturen!$F$3:$F$14,L$39))*(1-INDEX(Brandstoffacturen!$L$3:$L$14,L$39))*INDEX(Gegevens!$T$40:$T$49,GD!AA58))","v":2896.3063251654571},{"$f":"IF(INDEX(Brandstoffacturen!$B$22:$B$29,GD!AB58)=0,0,(M20*Brandstoffacturen!$P$3+Brandstoffacturen!$G$3)*(1+INDEX(Brandstoffacturen!$F$3:$F$14,M$39))*(1-INDEX(Brandstoffacturen!$L$3:$L$14,M$39))*INDEX(Gegevens!$T$40:$T$49,GD!AB58))","v":2493.4746402835467},null,null,18,{"$f":"IF(OR(AND($A58=1,B$39=1),AND($A58=Titels!$O$12,B$39=Titels!$P$12),AND($A58=1,B$39=5),AND($A58=Titels!$O$14,B$39=Titels!$P$14),AND($A58=Titels!$O$15,B$39=Titels!$P$15),AND($A58=21,B$39=7),AND($A58=15,B$39=8),AND($A58=1,B$39=11),AND($A58=11,B$39=11),AND($A58=25,B$39=12)),8,WEEKDAY(CONCATENATE($P58,\"/\",B$39,\"/\",$B$1),2))","v":5},{"$f":"IF(OR(AND($A58=1,C$39=1),AND($A58=Titels!$O$12,C$39=Titels!$P$12),AND($A58=1,C$39=5),AND($A58=Titels!$O$14,C$39=Titels!$P$14),AND($A58=Titels!$O$15,C$39=Titels!$P$15),AND($A58=21,C$39=7),AND($A58=15,C$39=8),AND($A58=1,C$39=11),AND($A58=11,C$39=11),AND($A58=25,C$39=12)),8,WEEKDAY(CONCATENATE($P58,\"/\",C$39,\"/\",$B$1),2))","v":1},{"$f":"IF(OR(AND($A58=1,D$39=1),AND($A58=Titels!$O$12,D$39=Titels!$P$12),AND($A58=1,D$39=5),AND($A58=Titels!$O$14,D$39=Titels!$P$14),AND($A58=Titels!$O$15,D$39=Titels!$P$15),AND($A58=21,D$39=7),AND($A58=15,D$39=8),AND($A58=1,D$39=11),AND($A58=11,D$39=11),AND($A58=25,D$39=12)),8,WEEKDAY(CONCATENATE($P58,\"/\",D$39,\"/\",$B$1),2))","v":1},{"$f":"IF(OR(AND($A58=1,E$39=1),AND($A58=Titels!$O$12,E$39=Titels!$P$12),AND($A58=1,E$39=5),AND($A58=Titels!$O$14,E$39=Titels!$P$14),AND($A58=Titels!$O$15,E$39=Titels!$P$15),AND($A58=21,E$39=7),AND($A58=15,E$39=8),AND($A58=1,E$39=11),AND($A58=11,E$39=11),AND($A58=25,E$39=12)),8,WEEKDAY(CONCATENATE($P58,\"/\",E$39,\"/\",$B$1),2))","v":4},{"$f":"IF(OR(AND($A58=1,F$39=1),AND($A58=Titels!$O$12,F$39=Titels!$P$12),AND($A58=1,F$39=5),AND($A58=Titels!$O$14,F$39=Titels!$P$14),AND($A58=Titels!$O$15,F$39=Titels!$P$15),AND($A58=21,F$39=7),AND($A58=15,F$39=8),AND($A58=1,F$39=11),AND($A58=11,F$39=11),AND($A58=25,F$39=12)),8,WEEKDAY(CONCATENATE($P58,\"/\",F$39,\"/\",$B$1),2))","v":6},{"$f":"IF(OR(AND($A58=1,G$39=1),AND($A58=Titels!$O$12,G$39=Titels!$P$12),AND($A58=1,G$39=5),AND($A58=Titels!$O$14,G$39=Titels!$P$14),AND($A58=Titels!$O$15,G$39=Titels!$P$15),AND($A58=21,G$39=7),AND($A58=15,G$39=8),AND($A58=1,G$39=11),AND($A58=11,G$39=11),AND($A58=25,G$39=12)),8,WEEKDAY(CONCATENATE($P58,\"/\",G$39,\"/\",$B$1),2))","v":2},{"$f":"IF(OR(AND($A58=1,H$39=1),AND($A58=Titels!$O$12,H$39=Titels!$P$12),AND($A58=1,H$39=5),AND($A58=Titels!$O$14,H$39=Titels!$P$14),AND($A58=Titels!$O$15,H$39=Titels!$P$15),AND($A58=21,H$39=7),AND($A58=15,H$39=8),AND($A58=1,H$39=11),AND($A58=11,H$39=11),AND($A58=25,H$39=12)),8,WEEKDAY(CONCATENATE($P58,\"/\",H$39,\"/\",$B$1),2))","v":4},{"$f":"IF(OR(AND($A58=1,I$39=1),AND($A58=Titels!$O$12,I$39=Titels!$P$12),AND($A58=1,I$39=5),AND($A58=Titels!$O$14,I$39=Titels!$P$14),AND($A58=Titels!$O$15,I$39=Titels!$P$15),AND($A58=21,I$39=7),AND($A58=15,I$39=8),AND($A58=1,I$39=11),AND($A58=11,I$39=11),AND($A58=25,I$39=12)),8,WEEKDAY(CONCATENATE($P58,\"/\",I$39,\"/\",$B$1),2))","v":7},{"$f":"IF(OR(AND($A58=1,J$39=1),AND($A58=Titels!$O$12,J$39=Titels!$P$12),AND($A58=1,J$39=5),AND($A58=Titels!$O$14,J$39=Titels!$P$14),AND($A58=Titels!$O$15,J$39=Titels!$P$15),AND($A58=21,J$39=7),AND($A58=15,J$39=8),AND($A58=1,J$39=11),AND($A58=11,J$39=11),AND($A58=25,J$39=12)),8,WEEKDAY(CONCATENATE($P58,\"/\",J$39,\"/\",$B$1),2))","v":3},{"$f":"IF(OR(AND($A58=1,K$39=1),AND($A58=Titels!$O$12,K$39=Titels!$P$12),AND($A58=1,K$39=5),AND($A58=Titels!$O$14,K$39=Titels!$P$14),AND($A58=Titels!$O$15,K$39=Titels!$P$15),AND($A58=21,K$39=7),AND($A58=15,K$39=8),AND($A58=1,K$39=11),AND($A58=11,K$39=11),AND($A58=25,K$39=12)),8,WEEKDAY(CONCATENATE($P58,\"/\",K$39,\"/\",$B$1),2))","v":5},{"$f":"IF(OR(AND($A58=1,L$39=1),AND($A58=Titels!$O$12,L$39=Titels!$P$12),AND($A58=1,L$39=5),AND($A58=Titels!$O$14,L$39=Titels!$P$14),AND($A58=Titels!$O$15,L$39=Titels!$P$15),AND($A58=21,L$39=7),AND($A58=15,L$39=8),AND($A58=1,L$39=11),AND($A58=11,L$39=11),AND($A58=25,L$39=12)),8,WEEKDAY(CONCATENATE($P58,\"/\",L$39,\"/\",$B$1),2))","v":1},{"$f":"IF(OR(AND($A58=1,M$39=1),AND($A58=Titels!$O$12,M$39=Titels!$P$12),AND($A58=1,M$39=5),AND($A58=Titels!$O$14,M$39=Titels!$P$14),AND($A58=Titels!$O$15,M$39=Titels!$P$15),AND($A58=21,M$39=7),AND($A58=15,M$39=8),AND($A58=1,M$39=11),AND($A58=11,M$39=11),AND($A58=25,M$39=12)),8,WEEKDAY(CONCATENATE($P58,\"/\",M$39,\"/\",$B$1),2))","v":3}]
[19,{"$f":"IF(INDEX(Brandstoffacturen!$B$22:$B$29,GD!Q59)=0,0,(B21*Brandstoffacturen!$P$3+Brandstoffacturen!$G$3)*(1+INDEX(Brandstoffacturen!$F$3:$F$14,B$39))*(1-INDEX(Brandstoffacturen!$L$3:$L$14,B$39))*INDEX(Gegevens!$T$40:$T$49,GD!Q59))","v":3091.4118580631425},{"$f":"IF(INDEX(Brandstoffacturen!$B$22:$B$29,GD!R59)=0,0,(C21*Brandstoffacturen!$P$3+Brandstoffacturen!$G$3)*(1+INDEX(Brandstoffacturen!$F$3:$F$14,C$39))*(1-INDEX(Brandstoffacturen!$L$3:$L$14,C$39))*INDEX(Gegevens!$T$40:$T$49,GD!R59))","v":2718.4729804842136},{"$f":"IF(INDEX(Brandstoffacturen!$B$22:$B$29,GD!S59)=0,0,(D21*Brandstoffacturen!$P$3+Brandstoffacturen!$G$3)*(1+INDEX(Brandstoffacturen!$F$3:$F$14,D$39))*(1-INDEX(Brandstoffacturen!$L$3:$L$14,D$39))*INDEX(Gegevens!$T$40:$T$49,GD!S59))","v":3011.379949948388},{"$f":"IF(INDEX(Brandstoffacturen!$B$22:$B$29,GD!T59)=0,0,(E21*Brandstoffacturen!$P$3+Brandstoffacturen!$G$3)*(1+INDEX(Brandstoffacturen!$F$3:$F$14,E$39))*(1-INDEX(Brandstoffacturen!$L$3:$L$14,E$39))*INDEX(Gegevens!$T$40:$T$49,GD!T59))","v":1410.3334892687487},{"$f":"IF(INDEX(Brandstoffacturen!$B$22:$B$29,GD!U59)=0,0,(F21*Brandstoffacturen!$P$3+Brandstoffacturen!$G$3)*(1+INDEX(Brandstoffacturen!$F$3:$F$14,F$39))*(1-INDEX(Brandstoffacturen!$L$3:$L$14,F$39))*INDEX(Gegevens!$T$40:$T$49,GD!U59))","v":1608.80736856764},{"$f":"IF(INDEX(Brandstoffacturen!$B$22:$B$29,GD!V59)=0,0,(G21*Brandstoffacturen!$P$3+Brandstoffacturen!$G$3)*(1+INDEX(Brandstoffacturen!$F$3:$F$14,G$39))*(1-INDEX(Brandstoffacturen!$L$3:$L$14,G$39))*INDEX(Gegevens!$T$40:$T$49,GD!V59))","v":1423.4237353940121},{"$f":"IF(INDEX(Brandstoffacturen!$B$22:$B$29,GD!W59)=0,0,(H21*Brandstoffacturen!$P$3+Brandstoffacturen!$G$3)*(1+INDEX(Brandstoffacturen!$F$3:$F$14,H$39))*(1-INDEX(Brandstoffacturen!$L$3:$L$14,H$39))*INDEX(Gegevens!$T$40:$T$49,GD!W59))","v":1444.5650630025289},{"$f":"IF(INDEX(Brandstoffacturen!$B$22:$B$29,GD!X59)=0,0,(I21*Brandstoffacturen!$P$3+Brandstoffacturen!$G$3)*(1+INDEX(Brandstoffacturen!$F$3:$F$14,I$39))*(1-INDEX(Brandstoffacturen!$L$3:$L$14,I$39))*INDEX(Gegevens!$T$40:$T$49,GD!X59))","v":1622.7924030552142},{"$f":"IF(INDEX(Brandstoffacturen!$B$22:$B$29,GD!Y59)=0,0,(J21*Brandstoffacturen!$P$3+Brandstoffacturen!$G$3)*(1+INDEX(Brandstoffacturen!$F$3:$F$14,J$39))*(1-INDEX(Brandstoffacturen!$L$3:$L$14,J$39))*INDEX(Gegevens!$T$40:$T$49,GD!Y59))","v":2449.6651545449827},{"$f":"IF(INDEX(Brandstoffacturen!$B$22:$B$29,GD!Z59)=0,0,(K21*Brandstoffacturen!$P$3+Brandstoffacturen!$G$3)*(1+INDEX(Brandstoffacturen!$F$3:$F$14,K$39))*(1-INDEX(Brandstoffacturen!$L$3:$L$14,K$39))*INDEX(Gegevens!$T$40:$T$49,GD!Z59))","v":2736.1124569484768},{"$f":"IF(INDEX(Brandstoffacturen!$B$22:$B$29,GD!AA59)=0,0,(L21*Brandstoffacturen!$P$3+Brandstoffacturen!$G$3)*(1+INDEX(Brandstoffacturen!$F$3:$F$14,L$39))*(1-INDEX(Brandstoffacturen!$L$3:$L$14,L$39))*INDEX(Gegevens!$T$40:$T$49,GD!AA59))","v":3124.0817613910162},{"$f":"IF(INDEX(Brandstoffacturen!$B$22:$B$29,GD!AB59)=0,0,(M21*Brandstoffacturen!$P$3+Brandstoffacturen!$G$3)*(1+INDEX(Brandstoffacturen!$F$3:$F$14,M$39))*(1-INDEX(Brandstoffacturen!$L$3:$L$14,M$39))*INDEX(Gegevens!$T$40:$T$49,GD!AB59))","v":2010.8222824222669},null,null,19,{"$f":"IF(OR(AND($A59=1,B$39=1),AND($A59=Titels!$O$12,B$39=Titels!$P$12),AND($A59=1,B$39=5),AND($A59=Titels!$O$14,B$39=Titels!$P$14),AND($A59=Titels!$O$15,B$39=Titels!$P$15),AND($A59=21,B$39=7),AND($A59=15,B$39=8),AND($A59=1,B$39=11),AND($A59=11,B$39=11),AND($A59=25,B$39=12)),8,WEEKDAY(CONCATENATE($P59,\"/\",B$39,\"/\",$B$1),2))","v":6},{"$f":"IF(OR(AND($A59=1,C$39=1),AND($A59=Titels!$O$12,C$39=Titels!$P$12),AND($A59=1,C$39=5),AND($A59=Titels!$O$14,C$39=Titels!$P$14),AND($A59=Titels!$O$15,C$39=Titels!$P$15),AND($A59=21,C$39=7),AND($A59=15,C$39=8),AND($A59=1,C$39=11),AND($A59=11,C$39=11),AND($A59=25,C$39=12)),8,WEEKDAY(CONCATENATE($P59,\"/\",C$39,\"/\",$B$1),2))","v":2},{"$f":"IF(OR(AND($A59=1,D$39=1),AND($A59=Titels!$O$12,D$39=Titels!$P$12),AND($A59=1,D$39=5),AND($A59=Titels!$O$14,D$39=Titels!$P$14),AND($A59=Titels!$O$15,D$39=Titels!$P$15),AND($A59=21,D$39=7),AND($A59=15,D$39=8),AND($A59=1,D$39=11),AND($A59=11,D$39=11),AND($A59=25,D$39=12)),8,WEEKDAY(CONCATENATE($P59,\"/\",D$39,\"/\",$B$1),2))","v":2},{"$f":"IF(OR(AND($A59=1,E$39=1),AND($A59=Titels!$O$12,E$39=Titels!$P$12),AND($A59=1,E$39=5),AND($A59=Titels!$O$14,E$39=Titels!$P$14),AND($A59=Titels!$O$15,E$39=Titels!$P$15),AND($A59=21,E$39=7),AND($A59=15,E$39=8),AND($A59=1,E$39=11),AND($A59=11,E$39=11),AND($A59=25,E$39=12)),8,WEEKDAY(CONCATENATE($P59,\"/\",E$39,\"/\",$B$1),2))","v":5},{"$f":"IF(OR(AND($A59=1,F$39=1),AND($A59=Titels!$O$12,F$39=Titels!$P$12),AND($A59=1,F$39=5),AND($A59=Titels!$O$14,F$39=Titels!$P$14),AND($A59=Titels!$O$15,F$39=Titels!$P$15),AND($A59=21,F$39=7),AND($A59=15,F$39=8),AND($A59=1,F$39=11),AND($A59=11,F$39=11),AND($A59=25,F$39=12)),8,WEEKDAY(CONCATENATE($P59,\"/\",F$39,\"/\",$B$1),2))","v":7},{"$f":"IF(OR(AND($A59=1,G$39=1),AND($A59=Titels!$O$12,G$39=Titels!$P$12),AND($A59=1,G$39=5),AND($A59=Titels!$O$14,G$39=Titels!$P$14),AND($A59=Titels!$O$15,G$39=Titels!$P$15),AND($A59=21,G$39=7),AND($A59=15,G$39=8),AND($A59=1,G$39=11),AND($A59=11,G$39=11),AND($A59=25,G$39=12)),8,WEEKDAY(CONCATENATE($P59,\"/\",G$39,\"/\",$B$1),2))","v":3},{"$f":"IF(OR(AND($A59=1,H$39=1),AND($A59=Titels!$O$12,H$39=Titels!$P$12),AND($A59=1,H$39=5),AND($A59=Titels!$O$14,H$39=Titels!$P$14),AND($A59=Titels!$O$15,H$39=Titels!$P$15),AND($A59=21,H$39=7),AND($A59=15,H$39=8),AND($A59=1,H$39=11),AND($A59=11,H$39=11),AND($A59=25,H$39=12)),8,WEEKDAY(CONCATENATE($P59,\"/\",H$39,\"/\",$B$1),2))","v":5},{"$f":"IF(OR(AND($A59=1,I$39=1),AND($A59=Titels!$O$12,I$39=Titels!$P$12),AND($A59=1,I$39=5),AND($A59=Titels!$O$14,I$39=Titels!$P$14),AND($A59=Titels!$O$15,I$39=Titels!$P$15),AND($A59=21,I$39=7),AND($A59=15,I$39=8),AND($A59=1,I$39=11),AND($A59=11,I$39=11),AND($A59=25,I$39=12)),8,WEEKDAY(CONCATENATE($P59,\"/\",I$39,\"/\",$B$1),2))","v":1},{"$f":"IF(OR(AND($A59=1,J$39=1),AND($A59=Titels!$O$12,J$39=Titels!$P$12),AND($A59=1,J$39=5),AND($A59=Titels!$O$14,J$39=Titels!$P$14),AND($A59=Titels!$O$15,J$39=Titels!$P$15),AND($A59=21,J$39=7),AND($A59=15,J$39=8),AND($A59=1,J$39=11),AND($A59=11,J$39=11),AND($A59=25,J$39=12)),8,WEEKDAY(CONCATENATE($P59,\"/\",J$39,\"/\",$B$1),2))","v":4},{"$f":"IF(OR(AND($A59=1,K$39=1),AND($A59=Titels!$O$12,K$39=Titels!$P$12),AND($A59=1,K$39=5),AND($A59=Titels!$O$14,K$39=Titels!$P$14),AND($A59=Titels!$O$15,K$39=Titels!$P$15),AND($A59=21,K$39=7),AND($A59=15,K$39=8),AND($A59=1,K$39=11),AND($A59=11,K$39=11),AND($A59=25,K$39=12)),8,WEEKDAY(CONCATENATE($P59,\"/\",K$39,\"/\",$B$1),2))","v":6},{"$f":"IF(OR(AND($A59=1,L$39=1),AND($A59=Titels!$O$12,L$39=Titels!$P$12),AND($A59=1,L$39=5),AND($A59=Titels!$O$14,L$39=Titels!$P$14),AND($A59=Titels!$O$15,L$39=Titels!$P$15),AND($A59=21,L$39=7),AND($A59=15,L$39=8),AND($A59=1,L$39=11),AND($A59=11,L$39=11),AND($A59=25,L$39=12)),8,WEEKDAY(CONCATENATE($P59,\"/\",L$39,\"/\",$B$1),2))","v":2},{"$f":"IF(OR(AND($A59=1,M$39=1),AND($A59=Titels!$O$12,M$39=Titels!$P$12),AND($A59=1,M$39=5),AND($A59=Titels!$O$14,M$39=Titels!$P$14),AND($A59=Titels!$O$15,M$39=Titels!$P$15),AND($A59=21,M$39=7),AND($A59=15,M$39=8),AND($A59=1,M$39=11),AND($A59=11,M$39=11),AND($A59=25,M$39=12)),8,WEEKDAY(CONCATENATE($P59,\"/\",M$39,\"/\",$B$1),2))","v":4}]
[20,{"$f":"IF(INDEX(Brandstoffacturen!$B$22:$B$29,GD!Q60)=0,0,(B22*Brandstoffacturen!$P$3+Brandstoffacturen!$G$3)*(1+INDEX(Brandstoffacturen!$F$3:$F$14,B$39))*(1-INDEX(Brandstoffacturen!$L$3:$L$14,B$39))*INDEX(Gegevens!$T$40:$T$49,GD!Q60))","v":3179.650390291491},{"$f":"IF(INDEX(Brandstoffacturen!$B$22:$B$29,GD!R60)=0,0,(C22*Brandstoffacturen!$P$3+Brandstoffacturen!$G$3)*(1+INDEX(Brandstoffacturen!$F$3:$F$14,C$39))*(1-INDEX(Brandstoffacturen!$L$3:$L$14,C$39))*INDEX(Gegevens!$T$40:$T$49,GD!R60))","v":2765.8925274425865},{"$f":"IF(INDEX(Brandstoffacturen!$B$22:$B$29,GD!S60)=0,0,(D22*Brandstoffacturen!$P$3+Brandstoffacturen!$G$3)*(1+INDEX(Brandstoffacturen!$F$3:$F$14,D$39))*(1-INDEX(Brandstoffacturen!$L$3:$L$14,D$39))*INDEX(Gegevens!$T$40:$T$49,GD!S60))","v":2632.3784703400202},{"$f":"IF(INDEX(Brandstoffacturen!$B$22:$B$29,GD!T60)=0,0,(E22*Brandstoffacturen!$P$3+Brandstoffacturen!$G$3)*(1+INDEX(Brandstoffacturen!$F$3:$F$14,E$39))*(1-INDEX(Brandstoffacturen!$L$3:$L$14,E$39))*INDEX(Gegevens!$T$40:$T$49,GD!T60))","v":1410.3334892687487},{"$f":"IF(INDEX(Brandstoffacturen!$B$22:$B$29,GD!U60)=0,0,(F22*Brandstoffacturen!$P$3+Brandstoffacturen!$G$3)*(1+INDEX(Brandstoffacturen!$F$3:$F$14,F$39))*(1-INDEX(Brandstoffacturen!$L$3:$L$14,F$39))*INDEX(Gegevens!$T$40:$T$49,GD!U60))","v":1847.7688184273572},{"$f":"IF(INDEX(Brandstoffacturen!$B$22:$B$29,GD!V60)=0,0,(G22*Brandstoffacturen!$P$3+Brandstoffacturen!$G$3)*(1+INDEX(Brandstoffacturen!$F$3:$F$14,G$39))*(1-INDEX(Brandstoffacturen!$L$3:$L$14,G$39))*INDEX(Gegevens!$T$40:$T$49,GD!V60))","v":1423.4237353940121},{"$f":"IF(INDEX(Brandstoffacturen!$B$22:$B$29,GD!W60)=0,0,(H22*Brandstoffacturen!$P$3+Brandstoffacturen!$G$3)*(1+INDEX(Brandstoffacturen!$F$3:$F$14,H$39))*(1-INDEX(Brandstoffacturen!$L$3:$L$14,H$39))*INDEX(Gegevens!$T$40:$T$49,GD!W60))","v":1444.5650630025289},{"$f":"IF(INDEX(Brandstoffacturen!$B$22:$B$29,GD!X60)=0,0,(I22*Brandstoffacturen!$P$3+Brandstoffacturen!$G$3)*(1+INDEX(Brandstoffacturen!$F$3:$F$14,I$39))*(1-INDEX(Brandstoffacturen!$L$3:$L$14,I$39))*INDEX(Gegevens!$T$40:$T$49,GD!X60))","v":1622.7924030552142},{"$f":"IF(INDEX(Brandstoffacturen!$B$22:$B$29,GD!Y60)=0,0,(J22*Brandstoffacturen!$P$3+Brandstoffacturen!$G$3)*(1+INDEX(Brandstoffacturen!$F$3:$F$14,J$39))*(1-INDEX(Brandstoffacturen!$L$3:$L$14,J$39))*INDEX(Gegevens!$T$40:$T$49,GD!Y60))","v":2275.9418253681815},{"$f":"IF(INDEX(Brandstoffacturen!$B$22:$B$29,GD!Z60)=0,0,(K22*Brandstoffacturen!$P$3+Brandstoffacturen!$G$3)*(1+INDEX(Brandstoffacturen!$F$3:$F$14,K$39))*(1-INDEX(Brandstoffacturen!$L$3:$L$14,K$39))*INDEX(Gegevens!$T$40:$T$49,GD!Z60))","v":2879.8819596507228},{"$f":"IF(INDEX(Brandstoffacturen!$B$22:$B$29,GD!AA60)=0,0,(L22*Brandstoffacturen!$P$3+Brandstoffacturen!$G$3)*(1+INDEX(Brandstoffacturen!$F$3:$F$14,L$39))*(1-INDEX(Brandstoffacturen!$L$3:$L$14,L$39))*INDEX(Gegevens!$T$40:$T$49,GD!AA60))","v":3317.690882182741},{"$f":"IF(INDEX(Brandstoffacturen!$B$22:$B$29,GD!AB60)=0,0,(M22*Brandstoffacturen!$P$3+Brandstoffacturen!$G$3)*(1+INDEX(Brandstoffacturen!$F$3:$F$14,M$39))*(1-INDEX(Brandstoffacturen!$L$3:$L$14,M$39))*INDEX(Gegevens!$T$40:$T$49,GD!AB60))","v":2164.3934871963106},null,null,20,{"$f":"IF(OR(AND($A60=1,B$39=1),AND($A60=Titels!$O$12,B$39=Titels!$P$12),AND($A60=1,B$39=5),AND($A60=Titels!$O$14,B$39=Titels!$P$14),AND($A60=Titels!$O$15,B$39=Titels!$P$15),AND($A60=21,B$39=7),AND($A60=15,B$39=8),AND($A60=1,B$39=11),AND($A60=11,B$39=11),AND($A60=25,B$39=12)),8,WEEKDAY(CONCATENATE($P60,\"/\",B$39,\"/\",$B$1),2))","v":7},{"$f":"IF(OR(AND($A60=1,C$39=1),AND($A60=Titels!$O$12,C$39=Titels!$P$12),AND($A60=1,C$39=5),AND($A60=Titels!$O$14,C$39=Titels!$P$14),AND($A60=Titels!$O$15,C$39=Titels!$P$15),AND($A60=21,C$39=7),AND($A60=15,C$39=8),AND($A60=1,C$39=11),AND($A60=11,C$39=11),AND($A60=25,C$39=12)),8,WEEKDAY(CONCATENATE($P60,\"/\",C$39,\"/\",$B$1),2))","v":3},{"$f":"IF(OR(AND($A60=1,D$39=1),AND($A60=Titels!$O$12,D$39=Titels!$P$12),AND($A60=1,D$39=5),AND($A60=Titels!$O$14,D$39=Titels!$P$14),AND($A60=Titels!$O$15,D$39=Titels!$P$15),AND($A60=21,D$39=7),AND($A60=15,D$39=8),AND($A60=1,D$39=11),AND($A60=11,D$39=11),AND($A60=25,D$39=12)),8,WEEKDAY(CONCATENATE($P60,\"/\",D$39,\"/\",$B$1),2))","v":3},{"$f":"IF(OR(AND($A60=1,E$39=1),AND($A60=Titels!$O$12,E$39=Titels!$P$12),AND($A60=1,E$39=5),AND($A60=Titels!$O$14,E$39=Titels!$P$14),AND($A60=Titels!$O$15,E$39=Titels!$P$15),AND($A60=21,E$39=7),AND($A60=15,E$39=8),AND($A60=1,E$39=11),AND($A60=11,E$39=11),AND($A60=25,E$39=12)),8,WEEKDAY(CONCATENATE($P60,\"/\",E$39,\"/\",$B$1),2))","v":6},{"$f":"IF(OR(AND($A60=1,F$39=1),AND($A60=Titels!$O$12,F$39=Titels!$P$12),AND($A60=1,F$39=5),AND($A60=Titels!$O$14,F$39=Titels!$P$14),AND($A60=Titels!$O$15,F$39=Titels!$P$15),AND($A60=21,F$39=7),AND($A60=15,F$39=8),AND($A60=1,F$39=11),AND($A60=11,F$39=11),AND($A60=25,F$39=12)),8,WEEKDAY(CONCATENATE($P60,\"/\",F$39,\"/\",$B$1),2))","v":1},{"$f":"IF(OR(AND($A60=1,G$39=1),AND($A60=Titels!$O$12,G$39=Titels!$P$12),AND($A60=1,G$39=5),AND($A60=Titels!$O$14,G$39=Titels!$P$14),AND($A60=Titels!$O$15,G$39=Titels!$P$15),AND($A60=21,G$39=7),AND($A60=15,G$39=8),AND($A60=1,G$39=11),AND($A60=11,G$39=11),AND($A60=25,G$39=12)),8,WEEKDAY(CONCATENATE($P60,\"/\",G$39,\"/\",$B$1),2))","v":4},{"$f":"IF(OR(AND($A60=1,H$39=1),AND($A60=Titels!$O$12,H$39=Titels!$P$12),AND($A60=1,H$39=5),AND($A60=Titels!$O$14,H$39=Titels!$P$14),AND($A60=Titels!$O$15,H$39=Titels!$P$15),AND($A60=21,H$39=7),AND($A60=15,H$39=8),AND($A60=1,H$39=11),AND($A60=11,H$39=11),AND($A60=25,H$39=12)),8,WEEKDAY(CONCATENATE($P60,\"/\",H$39,\"/\",$B$1),2))","v":6},{"$f":"IF(OR(AND($A60=1,I$39=1),AND($A60=Titels!$O$12,I$39=Titels!$P$12),AND($A60=1,I$39=5),AND($A60=Titels!$O$14,I$39=Titels!$P$14),AND($A60=Titels!$O$15,I$39=Titels!$P$15),AND($A60=21,I$39=7),AND($A60=15,I$39=8),AND($A60=1,I$39=11),AND($A60=11,I$39=11),AND($A60=25,I$39=12)),8,WEEKDAY(CONCATENATE($P60,\"/\",I$39,\"/\",$B$1),2))","v":2},{"$f":"IF(OR(AND($A60=1,J$39=1),AND($A60=Titels!$O$12,J$39=Titels!$P$12),AND($A60=1,J$39=5),AND($A60=Titels!$O$14,J$39=Titels!$P$14),AND($A60=Titels!$O$15,J$39=Titels!$P$15),AND($A60=21,J$39=7),AND($A60=15,J$39=8),AND($A60=1,J$39=11),AND($A60=11,J$39=11),AND($A60=25,J$39=12)),8,WEEKDAY(CONCATENATE($P60,\"/\",J$39,\"/\",$B$1),2))","v":5},{"$f":"IF(OR(AND($A60=1,K$39=1),AND($A60=Titels!$O$12,K$39=Titels!$P$12),AND($A60=1,K$39=5),AND($A60=Titels!$O$14,K$39=Titels!$P$14),AND($A60=Titels!$O$15,K$39=Titels!$P$15),AND($A60=21,K$39=7),AND($A60=15,K$39=8),AND($A60=1,K$39=11),AND($A60=11,K$39=11),AND($A60=25,K$39=12)),8,WEEKDAY(CONCATENATE($P60,\"/\",K$39,\"/\",$B$1),2))","v":7},{"$f":"IF(OR(AND($A60=1,L$39=1),AND($A60=Titels!$O$12,L$39=Titels!$P$12),AND($A60=1,L$39=5),AND($A60=Titels!$O$14,L$39=Titels!$P$14),AND($A60=Titels!$O$15,L$39=Titels!$P$15),AND($A60=21,L$39=7),AND($A60=15,L$39=8),AND($A60=1,L$39=11),AND($A60=11,L$39=11),AND($A60=25,L$39=12)),8,WEEKDAY(CONCATENATE($P60,\"/\",L$39,\"/\",$B$1),2))","v":3},{"$f":"IF(OR(AND($A60=1,M$39=1),AND($A60=Titels!$O$12,M$39=Titels!$P$12),AND($A60=1,M$39=5),AND($A60=Titels!$O$14,M$39=Titels!$P$14),AND($A60=Titels!$O$15,M$39=Titels!$P$15),AND($A60=21,M$39=7),AND($A60=15,M$39=8),AND($A60=1,M$39=11),AND($A60=11,M$39=11),AND($A60=25,M$39=12)),8,WEEKDAY(CONCATENATE($P60,\"/\",M$39,\"/\",$B$1),2))","v":5}]
[21,{"$f":"IF(INDEX(Brandstoffacturen!$B$22:$B$29,GD!Q61)=0,0,(B23*Brandstoffacturen!$P$3+Brandstoffacturen!$G$3)*(1+INDEX(Brandstoffacturen!$F$3:$F$14,B$39))*(1-INDEX(Brandstoffacturen!$L$3:$L$14,B$39))*INDEX(Gegevens!$T$40:$T$49,GD!Q61))","v":3228.6717970850186},{"$f":"IF(INDEX(Brandstoffacturen!$B$22:$B$29,GD!R61)=0,0,(C23*Brandstoffacturen!$P$3+Brandstoffacturen!$G$3)*(1+INDEX(Brandstoffacturen!$F$3:$F$14,C$39))*(1-INDEX(Brandstoffacturen!$L$3:$L$14,C$39))*INDEX(Gegevens!$T$40:$T$49,GD!R61))","v":2516.9399059111311},{"$f":"IF(INDEX(Brandstoffacturen!$B$22:$B$29,GD!S61)=0,0,(D23*Brandstoffacturen!$P$3+Brandstoffacturen!$G$3)*(1+INDEX(Brandstoffacturen!$F$3:$F$14,D$39))*(1-INDEX(Brandstoffacturen!$L$3:$L$14,D$39))*INDEX(Gegevens!$T$40:$T$49,GD!S61))","v":2559.0233452545299},{"$f":"IF(INDEX(Brandstoffacturen!$B$22:$B$29,GD!T61)=0,0,(E23*Brandstoffacturen!$P$3+Brandstoffacturen!$G$3)*(1+INDEX(Brandstoffacturen!$F$3:$F$14,E$39))*(1-INDEX(Brandstoffacturen!$L$3:$L$14,E$39))*INDEX(Gegevens!$T$40:$T$49,GD!T61))","v":1410.3334892687487},{"$f":"IF(INDEX(Brandstoffacturen!$B$22:$B$29,GD!U61)=0,0,(F23*Brandstoffacturen!$P$3+Brandstoffacturen!$G$3)*(1+INDEX(Brandstoffacturen!$F$3:$F$14,F$39))*(1-INDEX(Brandstoffacturen!$L$3:$L$14,F$39))*INDEX(Gegevens!$T$40:$T$49,GD!U61))","v":1704.3919485115268},{"$f":"IF(INDEX(Brandstoffacturen!$B$22:$B$29,GD!V61)=0,0,(G23*Brandstoffacturen!$P$3+Brandstoffacturen!$G$3)*(1+INDEX(Brandstoffacturen!$F$3:$F$14,G$39))*(1-INDEX(Brandstoffacturen!$L$3:$L$14,G$39))*INDEX(Gegevens!$T$40:$T$49,GD!V61))","v":1423.4237353940121},{"$f":"IF(INDEX(Brandstoffacturen!$B$22:$B$29,GD!W61)=0,0,(H23*Brandstoffacturen!$P$3+Brandstoffacturen!$G$3)*(1+INDEX(Brandstoffacturen!$F$3:$F$14,H$39))*(1-INDEX(Brandstoffacturen!$L$3:$L$14,H$39))*INDEX(Gegevens!$T$40:$T$49,GD!W61))","v":1444.5650630025289},{"$f":"IF(INDEX(Brandstoffacturen!$B$22:$B$29,GD!X61)=0,0,(I23*Brandstoffacturen!$P$3+Brandstoffacturen!$G$3)*(1+INDEX(Brandstoffacturen!$F$3:$F$14,I$39))*(1-INDEX(Brandstoffacturen!$L$3:$L$14,I$39))*INDEX(Gegevens!$T$40:$T$49,GD!X61))","v":1622.7924030552142},{"$f":"IF(INDEX(Brandstoffacturen!$B$22:$B$29,GD!Y61)=0,0,(J23*Brandstoffacturen!$P$3+Brandstoffacturen!$G$3)*(1+INDEX(Brandstoffacturen!$F$3:$F$14,J$39))*(1-INDEX(Brandstoffacturen!$L$3:$L$14,J$39))*INDEX(Gegevens!$T$40:$T$49,GD!Y61))","v":2088.8551631777805},{"$f":"IF(INDEX(Brandstoffacturen!$B$22:$B$29,GD!Z61)=0,0,(K23*Brandstoffacturen!$P$3+Brandstoffacturen!$G$3)*(1+INDEX(Brandstoffacturen!$F$3:$F$14,K$39))*(1-INDEX(Brandstoffacturen!$L$3:$L$14,K$39))*INDEX(Gegevens!$T$40:$T$49,GD!Z61))","v":2750.4894072187017},{"$f":"IF(INDEX(Brandstoffacturen!$B$22:$B$29,GD!AA61)=0,0,(L23*Brandstoffacturen!$P$3+Brandstoffacturen!$G$3)*(1+INDEX(Brandstoffacturen!$F$3:$F$14,L$39))*(1-INDEX(Brandstoffacturen!$L$3:$L$14,L$39))*INDEX(Gegevens!$T$40:$T$49,GD!AA61))","v":3249.3582513150736},{"$f":"IF(INDEX(Brandstoffacturen!$B$22:$B$29,GD!AB61)=0,0,(M23*Brandstoffacturen!$P$3+Brandstoffacturen!$G$3)*(1+INDEX(Brandstoffacturen!$F$3:$F$14,M$39))*(1-INDEX(Brandstoffacturen!$L$3:$L$14,M$39))*INDEX(Gegevens!$T$40:$T$49,GD!AB61))","v":2537.3521273618444},null,null,21,{"$f":"IF(OR(AND($A61=1,B$39=1),AND($A61=Titels!$O$12,B$39=Titels!$P$12),AND($A61=1,B$39=5),AND($A61=Titels!$O$14,B$39=Titels!$P$14),AND($A61=Titels!$O$15,B$39=Titels!$P$15),AND($A61=21,B$39=7),AND($A61=15,B$39=8),AND($A61=1,B$39=11),AND($A61=11,B$39=11),AND($A61=25,B$39=12)),8,WEEKDAY(CONCATENATE($P61,\"/\",B$39,\"/\",$B$1),2))","v":1},{"$f":"IF(OR(AND($A61=1,C$39=1),AND($A61=Titels!$O$12,C$39=Titels!$P$12),AND($A61=1,C$39=5),AND($A61=Titels!$O$14,C$39=Titels!$P$14),AND($A61=Titels!$O$15,C$39=Titels!$P$15),AND($A61=21,C$39=7),AND($A61=15,C$39=8),AND($A61=1,C$39=11),AND($A61=11,C$39=11),AND($A61=25,C$39=12)),8,WEEKDAY(CONCATENATE($P61,\"/\",C$39,\"/\",$B$1),2))","v":4},{"$f":"IF(OR(AND($A61=1,D$39=1),AND($A61=Titels!$O$12,D$39=Titels!$P$12),AND($A61=1,D$39=5),AND($A61=Titels!$O$14,D$39=Titels!$P$14),AND($A61=Titels!$O$15,D$39=Titels!$P$15),AND($A61=21,D$39=7),AND($A61=15,D$39=8),AND($A61=1,D$39=11),AND($A61=11,D$39=11),AND($A61=25,D$39=12)),8,WEEKDAY(CONCATENATE($P61,\"/\",D$39,\"/\",$B$1),2))","v":4},{"$f":"IF(OR(AND($A61=1,E$39=1),AND($A61=Titels!$O$12,E$39=Titels!$P$12),AND($A61=1,E$39=5),AND($A61=Titels!$O$14,E$39=Titels!$P$14),AND($A61=Titels!$O$15,E$39=Titels!$P$15),AND($A61=21,E$39=7),AND($A61=15,E$39=8),AND($A61=1,E$39=11),AND($A61=11,E$39=11),AND($A61=25,E$39=12)),8,WEEKDAY(CONCATENATE($P61,\"/\",E$39,\"/\",$B$1),2))","v":7},{"$f":"IF(OR(AND($A61=1,F$39=1),AND($A61=Titels!$O$12,F$39=Titels!$P$12),AND($A61=1,F$39=5),AND($A61=Titels!$O$14,F$39=Titels!$P$14),AND($A61=Titels!$O$15,F$39=Titels!$P$15),AND($A61=21,F$39=7),AND($A61=15,F$39=8),AND($A61=1,F$39=11),AND($A61=11,F$39=11),AND($A61=25,F$39=12)),8,WEEKDAY(CONCATENATE($P61,\"/\",F$39,\"/\",$B$1),2))","v":2},{"$f":"IF(OR(AND($A61=1,G$39=1),AND($A61=Titels!$O$12,G$39=Titels!$P$12),AND($A61=1,G$39=5),AND($A61=Titels!$O$14,G$39=Titels!$P$14),AND($A61=Titels!$O$15,G$39=Titels!$P$15),AND($A61=21,G$39=7),AND($A61=15,G$39=8),AND($A61=1,G$39=11),AND($A61=11,G$39=11),AND($A61=25,G$39=12)),8,WEEKDAY(CONCATENATE($P61,\"/\",G$39,\"/\",$B$1),2))","v":5},{"$f":"IF(OR(AND($A61=1,H$39=1),AND($A61=Titels!$O$12,H$39=Titels!$P$12),AND($A61=1,H$39=5),AND($A61=Titels!$O$14,H$39=Titels!$P$14),AND($A61=Titels!$O$15,H$39=Titels!$P$15),AND($A61=21,H$39=7),AND($A61=15,H$39=8),AND($A61=1,H$39=11),AND($A61=11,H$39=11),AND($A61=25,H$39=12)),8,WEEKDAY(CONCATENATE($P61,\"/\",H$39,\"/\",$B$1),2))","v":8},{"$f":"IF(OR(AND($A61=1,I$39=1),AND($A61=Titels!$O$12,I$39=Titels!$P$12),AND($A61=1,I$39=5),AND($A61=Titels!$O$14,I$39=Titels!$P$14),AND($A61=Titels!$O$15,I$39=Titels!$P$15),AND($A61=21,I$39=7),AND($A61=15,I$39=8),AND($A61=1,I$39=11),AND($A61=11,I$39=11),AND($A61=25,I$39=12)),8,WEEKDAY(CONCATENATE($P61,\"/\",I$39,\"/\",$B$1),2))","v":3},{"$f":"IF(OR(AND($A61=1,J$39=1),AND($A61=Titels!$O$12,J$39=Titels!$P$12),AND($A61=1,J$39=5),AND($A61=Titels!$O$14,J$39=Titels!$P$14),AND($A61=Titels!$O$15,J$39=Titels!$P$15),AND($A61=21,J$39=7),AND($A61=15,J$39=8),AND($A61=1,J$39=11),AND($A61=11,J$39=11),AND($A61=25,J$39=12)),8,WEEKDAY(CONCATENATE($P61,\"/\",J$39,\"/\",$B$1),2))","v":6},{"$f":"IF(OR(AND($A61=1,K$39=1),AND($A61=Titels!$O$12,K$39=Titels!$P$12),AND($A61=1,K$39=5),AND($A61=Titels!$O$14,K$39=Titels!$P$14),AND($A61=Titels!$O$15,K$39=Titels!$P$15),AND($A61=21,K$39=7),AND($A61=15,K$39=8),AND($A61=1,K$39=11),AND($A61=11,K$39=11),AND($A61=25,K$39=12)),8,WEEKDAY(CONCATENATE($P61,\"/\",K$39,\"/\",$B$1),2))","v":1},{"$f":"IF(OR(AND($A61=1,L$39=1),AND($A61=Titels!$O$12,L$39=Titels!$P$12),AND($A61=1,L$39=5),AND($A61=Titels!$O$14,L$39=Titels!$P$14),AND($A61=Titels!$O$15,L$39=Titels!$P$15),AND($A61=21,L$39=7),AND($A61=15,L$39=8),AND($A61=1,L$39=11),AND($A61=11,L$39=11),AND($A61=25,L$39=12)),8,WEEKDAY(CONCATENATE($P61,\"/\",L$39,\"/\",$B$1),2))","v":4},{"$f":"IF(OR(AND($A61=1,M$39=1),AND($A61=Titels!$O$12,M$39=Titels!$P$12),AND($A61=1,M$39=5),AND($A61=Titels!$O$14,M$39=Titels!$P$14),AND($A61=Titels!$O$15,M$39=Titels!$P$15),AND($A61=21,M$39=7),AND($A61=15,M$39=8),AND($A61=1,M$39=11),AND($A61=11,M$39=11),AND($A61=25,M$39=12)),8,WEEKDAY(CONCATENATE($P61,\"/\",M$39,\"/\",$B$1),2))","v":6}]
[22,{"$f":"IF(INDEX(Brandstoffacturen!$B$22:$B$29,GD!Q62)=0,0,(B24*Brandstoffacturen!$P$3+Brandstoffacturen!$G$3)*(1+INDEX(Brandstoffacturen!$F$3:$F$14,B$39))*(1-INDEX(Brandstoffacturen!$L$3:$L$14,B$39))*INDEX(Gegevens!$T$40:$T$49,GD!Q62))","v":3160.0418275740803},{"$f":"IF(INDEX(Brandstoffacturen!$B$22:$B$29,GD!R62)=0,0,(C24*Brandstoffacturen!$P$3+Brandstoffacturen!$G$3)*(1+INDEX(Brandstoffacturen!$F$3:$F$14,C$39))*(1-INDEX(Brandstoffacturen!$L$3:$L$14,C$39))*INDEX(Gegevens!$T$40:$T$49,GD!R62))","v":2623.6338865674693},{"$f":"IF(INDEX(Brandstoffacturen!$B$22:$B$29,GD!S62)=0,0,(D24*Brandstoffacturen!$P$3+Brandstoffacturen!$G$3)*(1+INDEX(Brandstoffacturen!$F$3:$F$14,D$39))*(1-INDEX(Brandstoffacturen!$L$3:$L$14,D$39))*INDEX(Gegevens!$T$40:$T$49,GD!S62))","v":2326.7321158171421},{"$f":"IF(INDEX(Brandstoffacturen!$B$22:$B$29,GD!T62)=0,0,(E24*Brandstoffacturen!$P$3+Brandstoffacturen!$G$3)*(1+INDEX(Brandstoffacturen!$F$3:$F$14,E$39))*(1-INDEX(Brandstoffacturen!$L$3:$L$14,E$39))*INDEX(Gegevens!$T$40:$T$49,GD!T62))","v":1410.3334892687487},{"$f":"IF(INDEX(Brandstoffacturen!$B$22:$B$29,GD!U62)=0,0,(F24*Brandstoffacturen!$P$3+Brandstoffacturen!$G$3)*(1+INDEX(Brandstoffacturen!$F$3:$F$14,F$39))*(1-INDEX(Brandstoffacturen!$L$3:$L$14,F$39))*INDEX(Gegevens!$T$40:$T$49,GD!U62))","v":1589.6904525788627},{"$f":"IF(INDEX(Brandstoffacturen!$B$22:$B$29,GD!V62)=0,0,(G24*Brandstoffacturen!$P$3+Brandstoffacturen!$G$3)*(1+INDEX(Brandstoffacturen!$F$3:$F$14,G$39))*(1-INDEX(Brandstoffacturen!$L$3:$L$14,G$39))*INDEX(Gegevens!$T$40:$T$49,GD!V62))","v":1423.4237353940121},{"$f":"IF(INDEX(Brandstoffacturen!$B$22:$B$29,GD!W62)=0,0,(H24*Brandstoffacturen!$P$3+Brandstoffacturen!$G$3)*(1+INDEX(Brandstoffacturen!$F$3:$F$14,H$39))*(1-INDEX(Brandstoffacturen!$L$3:$L$14,H$39))*INDEX(Gegevens!$T$40:$T$49,GD!W62))","v":1444.5650630025289},{"$f":"IF(INDEX(Brandstoffacturen!$B$22:$B$29,GD!X62)=0,0,(I24*Brandstoffacturen!$P$3+Brandstoffacturen!$G$3)*(1+INDEX(Brandstoffacturen!$F$3:$F$14,I$39))*(1-INDEX(Brandstoffacturen!$L$3:$L$14,I$39))*INDEX(Gegevens!$T$40:$T$49,GD!X62))","v":1622.7924030552142},{"$f":"IF(INDEX(Brandstoffacturen!$B$22:$B$29,GD!Y62)=0,0,(J24*Brandstoffacturen!$P$3+Brandstoffacturen!$G$3)*(1+INDEX(Brandstoffacturen!$F$3:$F$14,J$39))*(1-INDEX(Brandstoffacturen!$L$3:$L$14,J$39))*INDEX(Gegevens!$T$40:$T$49,GD!Y62))","v":2088.8551631777805},{"$f":"IF(INDEX(Brandstoffacturen!$B$22:$B$29,GD!Z62)=0,0,(K24*Brandstoffacturen!$P$3+Brandstoffacturen!$G$3)*(1+INDEX(Brandstoffacturen!$F$3:$F$14,K$39))*(1-INDEX(Brandstoffacturen!$L$3:$L$14,K$39))*INDEX(Gegevens!$T$40:$T$49,GD!Z62))","v":2678.6046558675789},{"$f":"IF(INDEX(Brandstoffacturen!$B$22:$B$29,GD!AA62)=0,0,(L24*Brandstoffacturen!$P$3+Brandstoffacturen!$G$3)*(1+INDEX(Brandstoffacturen!$F$3:$F$14,L$39))*(1-INDEX(Brandstoffacturen!$L$3:$L$14,L$39))*INDEX(Gegevens!$T$40:$T$49,GD!AA62))","v":2634.3645735060645},{"$f":"IF(INDEX(Brandstoffacturen!$B$22:$B$29,GD!AB62)=0,0,(M24*Brandstoffacturen!$P$3+Brandstoffacturen!$G$3)*(1+INDEX(Brandstoffacturen!$F$3:$F$14,M$39))*(1-INDEX(Brandstoffacturen!$L$3:$L$14,M$39))*INDEX(Gegevens!$T$40:$T$49,GD!AB62))","v":2515.4133838226958},null,null,22,{"$f":"IF(OR(AND($A62=1,B$39=1),AND($A62=Titels!$O$12,B$39=Titels!$P$12),AND($A62=1,B$39=5),AND($A62=Titels!$O$14,B$39=Titels!$P$14),AND($A62=Titels!$O$15,B$39=Titels!$P$15),AND($A62=21,B$39=7),AND($A62=15,B$39=8),AND($A62=1,B$39=11),AND($A62=11,B$39=11),AND($A62=25,B$39=12)),8,WEEKDAY(CONCATENATE($P62,\"/\",B$39,\"/\",$B$1),2))","v":2},{"$f":"IF(OR(AND($A62=1,C$39=1),AND($A62=Titels!$O$12,C$39=Titels!$P$12),AND($A62=1,C$39=5),AND($A62=Titels!$O$14,C$39=Titels!$P$14),AND($A62=Titels!$O$15,C$39=Titels!$P$15),AND($A62=21,C$39=7),AND($A62=15,C$39=8),AND($A62=1,C$39=11),AND($A62=11,C$39=11),AND($A62=25,C$39=12)),8,WEEKDAY(CONCATENATE($P62,\"/\",C$39,\"/\",$B$1),2))","v":5},{"$f":"IF(OR(AND($A62=1,D$39=1),AND($A62=Titels!$O$12,D$39=Titels!$P$12),AND($A62=1,D$39=5),AND($A62=Titels!$O$14,D$39=Titels!$P$14),AND($A62=Titels!$O$15,D$39=Titels!$P$15),AND($A62=21,D$39=7),AND($A62=15,D$39=8),AND($A62=1,D$39=11),AND($A62=11,D$39=11),AND($A62=25,D$39=12)),8,WEEKDAY(CONCATENATE($P62,\"/\",D$39,\"/\",$B$1),2))","v":5},{"$f":"IF(OR(AND($A62=1,E$39=1),AND($A62=Titels!$O$12,E$39=Titels!$P$12),AND($A62=1,E$39=5),AND($A62=Titels!$O$14,E$39=Titels!$P$14),AND($A62=Titels!$O$15,E$39=Titels!$P$15),AND($A62=21,E$39=7),AND($A62=15,E$39=8),AND($A62=1,E$39=11),AND($A62=11,E$39=11),AND($A62=25,E$39=12)),8,WEEKDAY(CONCATENATE($P62,\"/\",E$39,\"/\",$B$1),2))","v":1},{"$f":"IF(OR(AND($A62=1,F$39=1),AND($A62=Titels!$O$12,F$39=Titels!$P$12),AND($A62=1,F$39=5),AND($A62=Titels!$O$14,F$39=Titels!$P$14),AND($A62=Titels!$O$15,F$39=Titels!$P$15),AND($A62=21,F$39=7),AND($A62=15,F$39=8),AND($A62=1,F$39=11),AND($A62=11,F$39=11),AND($A62=25,F$39=12)),8,WEEKDAY(CONCATENATE($P62,\"/\",F$39,\"/\",$B$1),2))","v":3},{"$f":"IF(OR(AND($A62=1,G$39=1),AND($A62=Titels!$O$12,G$39=Titels!$P$12),AND($A62=1,G$39=5),AND($A62=Titels!$O$14,G$39=Titels!$P$14),AND($A62=Titels!$O$15,G$39=Titels!$P$15),AND($A62=21,G$39=7),AND($A62=15,G$39=8),AND($A62=1,G$39=11),AND($A62=11,G$39=11),AND($A62=25,G$39=12)),8,WEEKDAY(CONCATENATE($P62,\"/\",G$39,\"/\",$B$1),2))","v":6},{"$f":"IF(OR(AND($A62=1,H$39=1),AND($A62=Titels!$O$12,H$39=Titels!$P$12),AND($A62=1,H$39=5),AND($A62=Titels!$O$14,H$39=Titels!$P$14),AND($A62=Titels!$O$15,H$39=Titels!$P$15),AND($A62=21,H$39=7),AND($A62=15,H$39=8),AND($A62=1,H$39=11),AND($A62=11,H$39=11),AND($A62=25,H$39=12)),8,WEEKDAY(CONCATENATE($P62,\"/\",H$39,\"/\",$B$1),2))","v":1},{"$f":"IF(OR(AND($A62=1,I$39=1),AND($A62=Titels!$O$12,I$39=Titels!$P$12),AND($A62=1,I$39=5),AND($A62=Titels!$O$14,I$39=Titels!$P$14),AND($A62=Titels!$O$15,I$39=Titels!$P$15),AND($A62=21,I$39=7),AND($A62=15,I$39=8),AND($A62=1,I$39=11),AND($A62=11,I$39=11),AND($A62=25,I$39=12)),8,WEEKDAY(CONCATENATE($P62,\"/\",I$39,\"/\",$B$1),2))","v":4},{"$f":"IF(OR(AND($A62=1,J$39=1),AND($A62=Titels!$O$12,J$39=Titels!$P$12),AND($A62=1,J$39=5),AND($A62=Titels!$O$14,J$39=Titels!$P$14),AND($A62=Titels!$O$15,J$39=Titels!$P$15),AND($A62=21,J$39=7),AND($A62=15,J$39=8),AND($A62=1,J$39=11),AND($A62=11,J$39=11),AND($A62=25,J$39=12)),8,WEEKDAY(CONCATENATE($P62,\"/\",J$39,\"/\",$B$1),2))","v":7},{"$f":"IF(OR(AND($A62=1,K$39=1),AND($A62=Titels!$O$12,K$39=Titels!$P$12),AND($A62=1,K$39=5),AND($A62=Titels!$O$14,K$39=Titels!$P$14),AND($A62=Titels!$O$15,K$39=Titels!$P$15),AND($A62=21,K$39=7),AND($A62=15,K$39=8),AND($A62=1,K$39=11),AND($A62=11,K$39=11),AND($A62=25,K$39=12)),8,WEEKDAY(CONCATENATE($P62,\"/\",K$39,\"/\",$B$1),2))","v":2},{"$f":"IF(OR(AND($A62=1,L$39=1),AND($A62=Titels!$O$12,L$39=Titels!$P$12),AND($A62=1,L$39=5),AND($A62=Titels!$O$14,L$39=Titels!$P$14),AND($A62=Titels!$O$15,L$39=Titels!$P$15),AND($A62=21,L$39=7),AND($A62=15,L$39=8),AND($A62=1,L$39=11),AND($A62=11,L$39=11),AND($A62=25,L$39=12)),8,WEEKDAY(CONCATENATE($P62,\"/\",L$39,\"/\",$B$1),2))","v":5},{"$f":"IF(OR(AND($A62=1,M$39=1),AND($A62=Titels!$O$12,M$39=Titels!$P$12),AND($A62=1,M$39=5),AND($A62=Titels!$O$14,M$39=Titels!$P$14),AND($A62=Titels!$O$15,M$39=Titels!$P$15),AND($A62=21,M$39=7),AND($A62=15,M$39=8),AND($A62=1,M$39=11),AND($A62=11,M$39=11),AND($A62=25,M$39=12)),8,WEEKDAY(CONCATENATE($P62,\"/\",M$39,\"/\",$B$1),2))","v":7}]
[23,{"$f":"IF(INDEX(Brandstoffacturen!$B$22:$B$29,GD!Q63)=0,0,(B25*Brandstoffacturen!$P$3+Brandstoffacturen!$G$3)*(1+INDEX(Brandstoffacturen!$F$3:$F$14,B$39))*(1-INDEX(Brandstoffacturen!$L$3:$L$14,B$39))*INDEX(Gegevens!$T$40:$T$49,GD!Q63))","v":3081.6075767044372},{"$f":"IF(INDEX(Brandstoffacturen!$B$22:$B$29,GD!R63)=0,0,(C25*Brandstoffacturen!$P$3+Brandstoffacturen!$G$3)*(1+INDEX(Brandstoffacturen!$F$3:$F$14,C$39))*(1-INDEX(Brandstoffacturen!$L$3:$L$14,C$39))*INDEX(Gegevens!$T$40:$T$49,GD!R63))","v":2671.0534335258412},{"$f":"IF(INDEX(Brandstoffacturen!$B$22:$B$29,GD!S63)=0,0,(D25*Brandstoffacturen!$P$3+Brandstoffacturen!$G$3)*(1+INDEX(Brandstoffacturen!$F$3:$F$14,D$39))*(1-INDEX(Brandstoffacturen!$L$3:$L$14,D$39))*INDEX(Gegevens!$T$40:$T$49,GD!S63))","v":2632.3784703400202},{"$f":"IF(INDEX(Brandstoffacturen!$B$22:$B$29,GD!T63)=0,0,(E25*Brandstoffacturen!$P$3+Brandstoffacturen!$G$3)*(1+INDEX(Brandstoffacturen!$F$3:$F$14,E$39))*(1-INDEX(Brandstoffacturen!$L$3:$L$14,E$39))*INDEX(Gegevens!$T$40:$T$49,GD!T63))","v":1410.3334892687487},{"$f":"IF(INDEX(Brandstoffacturen!$B$22:$B$29,GD!U63)=0,0,(F25*Brandstoffacturen!$P$3+Brandstoffacturen!$G$3)*(1+INDEX(Brandstoffacturen!$F$3:$F$14,F$39))*(1-INDEX(Brandstoffacturen!$L$3:$L$14,F$39))*INDEX(Gegevens!$T$40:$T$49,GD!U63))","v":1494.1058726349756},{"$f":"IF(INDEX(Brandstoffacturen!$B$22:$B$29,GD!V63)=0,0,(G25*Brandstoffacturen!$P$3+Brandstoffacturen!$G$3)*(1+INDEX(Brandstoffacturen!$F$3:$F$14,G$39))*(1-INDEX(Brandstoffacturen!$L$3:$L$14,G$39))*INDEX(Gegevens!$T$40:$T$49,GD!V63))","v":1423.4237353940121},{"$f":"IF(INDEX(Brandstoffacturen!$B$22:$B$29,GD!W63)=0,0,(H25*Brandstoffacturen!$P$3+Brandstoffacturen!$G$3)*(1+INDEX(Brandstoffacturen!$F$3:$F$14,H$39))*(1-INDEX(Brandstoffacturen!$L$3:$L$14,H$39))*INDEX(Gegevens!$T$40:$T$49,GD!W63))","v":1444.5650630025289},{"$f":"IF(INDEX(Brandstoffacturen!$B$22:$B$29,GD!X63)=0,0,(I25*Brandstoffacturen!$P$3+Brandstoffacturen!$G$3)*(1+INDEX(Brandstoffacturen!$F$3:$F$14,I$39))*(1-INDEX(Brandstoffacturen!$L$3:$L$14,I$39))*INDEX(Gegevens!$T$40:$T$49,GD!X63))","v":1622.7924030552142},{"$f":"IF(INDEX(Brandstoffacturen!$B$22:$B$29,GD!Y63)=0,0,(J25*Brandstoffacturen!$P$3+Brandstoffacturen!$G$3)*(1+INDEX(Brandstoffacturen!$F$3:$F$14,J$39))*(1-INDEX(Brandstoffacturen!$L$3:$L$14,J$39))*INDEX(Gegevens!$T$40:$T$49,GD!Y63))","v":2088.8551631777805},{"$f":"IF(INDEX(Brandstoffacturen!$B$22:$B$29,GD!Z63)=0,0,(K25*Brandstoffacturen!$P$3+Brandstoffacturen!$G$3)*(1+INDEX(Brandstoffacturen!$F$3:$F$14,K$39))*(1-INDEX(Brandstoffacturen!$L$3:$L$14,K$39))*INDEX(Gegevens!$T$40:$T$49,GD!Z63))","v":2491.7043023546594},{"$f":"IF(INDEX(Brandstoffacturen!$B$22:$B$29,GD!AA63)=0,0,(L25*Brandstoffacturen!$P$3+Brandstoffacturen!$G$3)*(1+INDEX(Brandstoffacturen!$F$3:$F$14,L$39))*(1-INDEX(Brandstoffacturen!$L$3:$L$14,L$39))*INDEX(Gegevens!$T$40:$T$49,GD!AA63))","v":2714.0859761850102},{"$f":"IF(INDEX(Brandstoffacturen!$B$22:$B$29,GD!AB63)=0,0,(M25*Brandstoffacturen!$P$3+Brandstoffacturen!$G$3)*(1+INDEX(Brandstoffacturen!$F$3:$F$14,M$39))*(1-INDEX(Brandstoffacturen!$L$3:$L$14,M$39))*INDEX(Gegevens!$T$40:$T$49,GD!AB63))","v":2537.3521273618444},null,null,23,{"$f":"IF(OR(AND($A63=1,B$39=1),AND($A63=Titels!$O$12,B$39=Titels!$P$12),AND($A63=1,B$39=5),AND($A63=Titels!$O$14,B$39=Titels!$P$14),AND($A63=Titels!$O$15,B$39=Titels!$P$15),AND($A63=21,B$39=7),AND($A63=15,B$39=8),AND($A63=1,B$39=11),AND($A63=11,B$39=11),AND($A63=25,B$39=12)),8,WEEKDAY(CONCATENATE($P63,\"/\",B$39,\"/\",$B$1),2))","v":3},{"$f":"IF(OR(AND($A63=1,C$39=1),AND($A63=Titels!$O$12,C$39=Titels!$P$12),AND($A63=1,C$39=5),AND($A63=Titels!$O$14,C$39=Titels!$P$14),AND($A63=Titels!$O$15,C$39=Titels!$P$15),AND($A63=21,C$39=7),AND($A63=15,C$39=8),AND($A63=1,C$39=11),AND($A63=11,C$39=11),AND($A63=25,C$39=12)),8,WEEKDAY(CONCATENATE($P63,\"/\",C$39,\"/\",$B$1),2))","v":6},{"$f":"IF(OR(AND($A63=1,D$39=1),AND($A63=Titels!$O$12,D$39=Titels!$P$12),AND($A63=1,D$39=5),AND($A63=Titels!$O$14,D$39=Titels!$P$14),AND($A63=Titels!$O$15,D$39=Titels!$P$15),AND($A63=21,D$39=7),AND($A63=15,D$39=8),AND($A63=1,D$39=11),AND($A63=11,D$39=11),AND($A63=25,D$39=12)),8,WEEKDAY(CONCATENATE($P63,\"/\",D$39,\"/\",$B$1),2))","v":6},{"$f":"IF(OR(AND($A63=1,E$39=1),AND($A63=Titels!$O$12,E$39=Titels!$P$12),AND($A63=1,E$39=5),AND($A63=Titels!$O$14,E$39=Titels!$P$14),AND($A63=Titels!$O$15,E$39=Titels!$P$15),AND($A63=21,E$39=7),AND($A63=15,E$39=8),AND($A63=1,E$39=11),AND($A63=11,E$39=11),AND($A63=25,E$39=12)),8,WEEKDAY(CONCATENATE($P63,\"/\",E$39,\"/\",$B$1),2))","v":2},{"$f":"IF(OR(AND($A63=1,F$39=1),AND($A63=Titels!$O$12,F$39=Titels!$P$12),AND($A63=1,F$39=5),AND($A63=Titels!$O$14,F$39=Titels!$P$14),AND($A63=Titels!$O$15,F$39=Titels!$P$15),AND($A63=21,F$39=7),AND($A63=15,F$39=8),AND($A63=1,F$39=11),AND($A63=11,F$39=11),AND($A63=25,F$39=12)),8,WEEKDAY(CONCATENATE($P63,\"/\",F$39,\"/\",$B$1),2))","v":4},{"$f":"IF(OR(AND($A63=1,G$39=1),AND($A63=Titels!$O$12,G$39=Titels!$P$12),AND($A63=1,G$39=5),AND($A63=Titels!$O$14,G$39=Titels!$P$14),AND($A63=Titels!$O$15,G$39=Titels!$P$15),AND($A63=21,G$39=7),AND($A63=15,G$39=8),AND($A63=1,G$39=11),AND($A63=11,G$39=11),AND($A63=25,G$39=12)),8,WEEKDAY(CONCATENATE($P63,\"/\",G$39,\"/\",$B$1),2))","v":7},{"$f":"IF(OR(AND($A63=1,H$39=1),AND($A63=Titels!$O$12,H$39=Titels!$P$12),AND($A63=1,H$39=5),AND($A63=Titels!$O$14,H$39=Titels!$P$14),AND($A63=Titels!$O$15,H$39=Titels!$P$15),AND($A63=21,H$39=7),AND($A63=15,H$39=8),AND($A63=1,H$39=11),AND($A63=11,H$39=11),AND($A63=25,H$39=12)),8,WEEKDAY(CONCATENATE($P63,\"/\",H$39,\"/\",$B$1),2))","v":2},{"$f":"IF(OR(AND($A63=1,I$39=1),AND($A63=Titels!$O$12,I$39=Titels!$P$12),AND($A63=1,I$39=5),AND($A63=Titels!$O$14,I$39=Titels!$P$14),AND($A63=Titels!$O$15,I$39=Titels!$P$15),AND($A63=21,I$39=7),AND($A63=15,I$39=8),AND($A63=1,I$39=11),AND($A63=11,I$39=11),AND($A63=25,I$39=12)),8,WEEKDAY(CONCATENATE($P63,\"/\",I$39,\"/\",$B$1),2))","v":5},{"$f":"IF(OR(AND($A63=1,J$39=1),AND($A63=Titels!$O$12,J$39=Titels!$P$12),AND($A63=1,J$39=5),AND($A63=Titels!$O$14,J$39=Titels!$P$14),AND($A63=Titels!$O$15,J$39=Titels!$P$15),AND($A63=21,J$39=7),AND($A63=15,J$39=8),AND($A63=1,J$39=11),AND($A63=11,J$39=11),AND($A63=25,J$39=12)),8,WEEKDAY(CONCATENATE($P63,\"/\",J$39,\"/\",$B$1),2))","v":1},{"$f":"IF(OR(AND($A63=1,K$39=1),AND($A63=Titels!$O$12,K$39=Titels!$P$12),AND($A63=1,K$39=5),AND($A63=Titels!$O$14,K$39=Titels!$P$14),AND($A63=Titels!$O$15,K$39=Titels!$P$15),AND($A63=21,K$39=7),AND($A63=15,K$39=8),AND($A63=1,K$39=11),AND($A63=11,K$39=11),AND($A63=25,K$39=12)),8,WEEKDAY(CONCATENATE($P63,\"/\",K$39,\"/\",$B$1),2))","v":3},{"$f":"IF(OR(AND($A63=1,L$39=1),AND($A63=Titels!$O$12,L$39=Titels!$P$12),AND($A63=1,L$39=5),AND($A63=Titels!$O$14,L$39=Titels!$P$14),AND($A63=Titels!$O$15,L$39=Titels!$P$15),AND($A63=21,L$39=7),AND($A63=15,L$39=8),AND($A63=1,L$39=11),AND($A63=11,L$39=11),AND($A63=25,L$39=12)),8,WEEKDAY(CONCATENATE($P63,\"/\",L$39,\"/\",$B$1),2))","v":6},{"$f":"IF(OR(AND($A63=1,M$39=1),AND($A63=Titels!$O$12,M$39=Titels!$P$12),AND($A63=1,M$39=5),AND($A63=Titels!$O$14,M$39=Titels!$P$14),AND($A63=Titels!$O$15,M$39=Titels!$P$15),AND($A63=21,M$39=7),AND($A63=15,M$39=8),AND($A63=1,M$39=11),AND($A63=11,M$39=11),AND($A63=25,M$39=12)),8,WEEKDAY(CONCATENATE($P63,\"/\",M$39,\"/\",$B$1),2))","v":1}]
[24,{"$f":"IF(INDEX(Brandstoffacturen!$B$22:$B$29,GD!Q64)=0,0,(B26*Brandstoffacturen!$P$3+Brandstoffacturen!$G$3)*(1+INDEX(Brandstoffacturen!$F$3:$F$14,B$39))*(1-INDEX(Brandstoffacturen!$L$3:$L$14,B$39))*INDEX(Gegevens!$T$40:$T$49,GD!Q64))","v":3052.1947326283207},{"$f":"IF(INDEX(Brandstoffacturen!$B$22:$B$29,GD!R64)=0,0,(C26*Brandstoffacturen!$P$3+Brandstoffacturen!$G$3)*(1+INDEX(Brandstoffacturen!$F$3:$F$14,C$39))*(1-INDEX(Brandstoffacturen!$L$3:$L$14,C$39))*INDEX(Gegevens!$T$40:$T$49,GD!R64))","v":2623.6338865674693},{"$f":"IF(INDEX(Brandstoffacturen!$B$22:$B$29,GD!S64)=0,0,(D26*Brandstoffacturen!$P$3+Brandstoffacturen!$G$3)*(1+INDEX(Brandstoffacturen!$F$3:$F$14,D$39))*(1-INDEX(Brandstoffacturen!$L$3:$L$14,D$39))*INDEX(Gegevens!$T$40:$T$49,GD!S64))","v":2779.0887205110016},{"$f":"IF(INDEX(Brandstoffacturen!$B$22:$B$29,GD!T64)=0,0,(E26*Brandstoffacturen!$P$3+Brandstoffacturen!$G$3)*(1+INDEX(Brandstoffacturen!$F$3:$F$14,E$39))*(1-INDEX(Brandstoffacturen!$L$3:$L$14,E$39))*INDEX(Gegevens!$T$40:$T$49,GD!T64))","v":1410.3334892687487},{"$f":"IF(INDEX(Brandstoffacturen!$B$22:$B$29,GD!U64)=0,0,(F26*Brandstoffacturen!$P$3+Brandstoffacturen!$G$3)*(1+INDEX(Brandstoffacturen!$F$3:$F$14,F$39))*(1-INDEX(Brandstoffacturen!$L$3:$L$14,F$39))*INDEX(Gegevens!$T$40:$T$49,GD!U64))","v":1494.1058726349756},{"$f":"IF(INDEX(Brandstoffacturen!$B$22:$B$29,GD!V64)=0,0,(G26*Brandstoffacturen!$P$3+Brandstoffacturen!$G$3)*(1+INDEX(Brandstoffacturen!$F$3:$F$14,G$39))*(1-INDEX(Brandstoffacturen!$L$3:$L$14,G$39))*INDEX(Gegevens!$T$40:$T$49,GD!V64))","v":1423.4237353940121},{"$f":"IF(INDEX(Brandstoffacturen!$B$22:$B$29,GD!W64)=0,0,(H26*Brandstoffacturen!$P$3+Brandstoffacturen!$G$3)*(1+INDEX(Brandstoffacturen!$F$3:$F$14,H$39))*(1-INDEX(Brandstoffacturen!$L$3:$L$14,H$39))*INDEX(Gegevens!$T$40:$T$49,GD!W64))","v":1444.5650630025289},{"$f":"IF(INDEX(Brandstoffacturen!$B$22:$B$29,GD!X64)=0,0,(I26*Brandstoffacturen!$P$3+Brandstoffacturen!$G$3)*(1+INDEX(Brandstoffacturen!$F$3:$F$14,I$39))*(1-INDEX(Brandstoffacturen!$L$3:$L$14,I$39))*INDEX(Gegevens!$T$40:$T$49,GD!X64))","v":1622.7924030552142},{"$f":"IF(INDEX(Brandstoffacturen!$B$22:$B$29,GD!Y64)=0,0,(J26*Brandstoffacturen!$P$3+Brandstoffacturen!$G$3)*(1+INDEX(Brandstoffacturen!$F$3:$F$14,J$39))*(1-INDEX(Brandstoffacturen!$L$3:$L$14,J$39))*INDEX(Gegevens!$T$40:$T$49,GD!Y64))","v":2088.8551631777805},{"$f":"IF(INDEX(Brandstoffacturen!$B$22:$B$29,GD!Z64)=0,0,(K26*Brandstoffacturen!$P$3+Brandstoffacturen!$G$3)*(1+INDEX(Brandstoffacturen!$F$3:$F$14,K$39))*(1-INDEX(Brandstoffacturen!$L$3:$L$14,K$39))*INDEX(Gegevens!$T$40:$T$49,GD!Z64))","v":2247.2961477608419},{"$f":"IF(INDEX(Brandstoffacturen!$B$22:$B$29,GD!AA64)=0,0,(L26*Brandstoffacturen!$P$3+Brandstoffacturen!$G$3)*(1+INDEX(Brandstoffacturen!$F$3:$F$14,L$39))*(1-INDEX(Brandstoffacturen!$L$3:$L$14,L$39))*INDEX(Gegevens!$T$40:$T$49,GD!AA64))","v":2645.7533453173423},{"$f":"IF(INDEX(Brandstoffacturen!$B$22:$B$29,GD!AB64)=0,0,(M26*Brandstoffacturen!$P$3+Brandstoffacturen!$G$3)*(1+INDEX(Brandstoffacturen!$F$3:$F$14,M$39))*(1-INDEX(Brandstoffacturen!$L$3:$L$14,M$39))*INDEX(Gegevens!$T$40:$T$49,GD!AB64))","v":2416.689037896525},null,null,24,{"$f":"IF(OR(AND($A64=1,B$39=1),AND($A64=Titels!$O$12,B$39=Titels!$P$12),AND($A64=1,B$39=5),AND($A64=Titels!$O$14,B$39=Titels!$P$14),AND($A64=Titels!$O$15,B$39=Titels!$P$15),AND($A64=21,B$39=7),AND($A64=15,B$39=8),AND($A64=1,B$39=11),AND($A64=11,B$39=11),AND($A64=25,B$39=12)),8,WEEKDAY(CONCATENATE($P64,\"/\",B$39,\"/\",$B$1),2))","v":4},{"$f":"IF(OR(AND($A64=1,C$39=1),AND($A64=Titels!$O$12,C$39=Titels!$P$12),AND($A64=1,C$39=5),AND($A64=Titels!$O$14,C$39=Titels!$P$14),AND($A64=Titels!$O$15,C$39=Titels!$P$15),AND($A64=21,C$39=7),AND($A64=15,C$39=8),AND($A64=1,C$39=11),AND($A64=11,C$39=11),AND($A64=25,C$39=12)),8,WEEKDAY(CONCATENATE($P64,\"/\",C$39,\"/\",$B$1),2))","v":7},{"$f":"IF(OR(AND($A64=1,D$39=1),AND($A64=Titels!$O$12,D$39=Titels!$P$12),AND($A64=1,D$39=5),AND($A64=Titels!$O$14,D$39=Titels!$P$14),AND($A64=Titels!$O$15,D$39=Titels!$P$15),AND($A64=21,D$39=7),AND($A64=15,D$39=8),AND($A64=1,D$39=11),AND($A64=11,D$39=11),AND($A64=25,D$39=12)),8,WEEKDAY(CONCATENATE($P64,\"/\",D$39,\"/\",$B$1),2))","v":7},{"$f":"IF(OR(AND($A64=1,E$39=1),AND($A64=Titels!$O$12,E$39=Titels!$P$12),AND($A64=1,E$39=5),AND($A64=Titels!$O$14,E$39=Titels!$P$14),AND($A64=Titels!$O$15,E$39=Titels!$P$15),AND($A64=21,E$39=7),AND($A64=15,E$39=8),AND($A64=1,E$39=11),AND($A64=11,E$39=11),AND($A64=25,E$39=12)),8,WEEKDAY(CONCATENATE($P64,\"/\",E$39,\"/\",$B$1),2))","v":3},{"$f":"IF(OR(AND($A64=1,F$39=1),AND($A64=Titels!$O$12,F$39=Titels!$P$12),AND($A64=1,F$39=5),AND($A64=Titels!$O$14,F$39=Titels!$P$14),AND($A64=Titels!$O$15,F$39=Titels!$P$15),AND($A64=21,F$39=7),AND($A64=15,F$39=8),AND($A64=1,F$39=11),AND($A64=11,F$39=11),AND($A64=25,F$39=12)),8,WEEKDAY(CONCATENATE($P64,\"/\",F$39,\"/\",$B$1),2))","v":5},{"$f":"IF(OR(AND($A64=1,G$39=1),AND($A64=Titels!$O$12,G$39=Titels!$P$12),AND($A64=1,G$39=5),AND($A64=Titels!$O$14,G$39=Titels!$P$14),AND($A64=Titels!$O$15,G$39=Titels!$P$15),AND($A64=21,G$39=7),AND($A64=15,G$39=8),AND($A64=1,G$39=11),AND($A64=11,G$39=11),AND($A64=25,G$39=12)),8,WEEKDAY(CONCATENATE($P64,\"/\",G$39,\"/\",$B$1),2))","v":1},{"$f":"IF(OR(AND($A64=1,H$39=1),AND($A64=Titels!$O$12,H$39=Titels!$P$12),AND($A64=1,H$39=5),AND($A64=Titels!$O$14,H$39=Titels!$P$14),AND($A64=Titels!$O$15,H$39=Titels!$P$15),AND($A64=21,H$39=7),AND($A64=15,H$39=8),AND($A64=1,H$39=11),AND($A64=11,H$39=11),AND($A64=25,H$39=12)),8,WEEKDAY(CONCATENATE($P64,\"/\",H$39,\"/\",$B$1),2))","v":3},{"$f":"IF(OR(AND($A64=1,I$39=1),AND($A64=Titels!$O$12,I$39=Titels!$P$12),AND($A64=1,I$39=5),AND($A64=Titels!$O$14,I$39=Titels!$P$14),AND($A64=Titels!$O$15,I$39=Titels!$P$15),AND($A64=21,I$39=7),AND($A64=15,I$39=8),AND($A64=1,I$39=11),AND($A64=11,I$39=11),AND($A64=25,I$39=12)),8,WEEKDAY(CONCATENATE($P64,\"/\",I$39,\"/\",$B$1),2))","v":6},{"$f":"IF(OR(AND($A64=1,J$39=1),AND($A64=Titels!$O$12,J$39=Titels!$P$12),AND($A64=1,J$39=5),AND($A64=Titels!$O$14,J$39=Titels!$P$14),AND($A64=Titels!$O$15,J$39=Titels!$P$15),AND($A64=21,J$39=7),AND($A64=15,J$39=8),AND($A64=1,J$39=11),AND($A64=11,J$39=11),AND($A64=25,J$39=12)),8,WEEKDAY(CONCATENATE($P64,\"/\",J$39,\"/\",$B$1),2))","v":2},{"$f":"IF(OR(AND($A64=1,K$39=1),AND($A64=Titels!$O$12,K$39=Titels!$P$12),AND($A64=1,K$39=5),AND($A64=Titels!$O$14,K$39=Titels!$P$14),AND($A64=Titels!$O$15,K$39=Titels!$P$15),AND($A64=21,K$39=7),AND($A64=15,K$39=8),AND($A64=1,K$39=11),AND($A64=11,K$39=11),AND($A64=25,K$39=12)),8,WEEKDAY(CONCATENATE($P64,\"/\",K$39,\"/\",$B$1),2))","v":4},{"$f":"IF(OR(AND($A64=1,L$39=1),AND($A64=Titels!$O$12,L$39=Titels!$P$12),AND($A64=1,L$39=5),AND($A64=Titels!$O$14,L$39=Titels!$P$14),AND($A64=Titels!$O$15,L$39=Titels!$P$15),AND($A64=21,L$39=7),AND($A64=15,L$39=8),AND($A64=1,L$39=11),AND($A64=11,L$39=11),AND($A64=25,L$39=12)),8,WEEKDAY(CONCATENATE($P64,\"/\",L$39,\"/\",$B$1),2))","v":7},{"$f":"IF(OR(AND($A64=1,M$39=1),AND($A64=Titels!$O$12,M$39=Titels!$P$12),AND($A64=1,M$39=5),AND($A64=Titels!$O$14,M$39=Titels!$P$14),AND($A64=Titels!$O$15,M$39=Titels!$P$15),AND($A64=21,M$39=7),AND($A64=15,M$39=8),AND($A64=1,M$39=11),AND($A64=11,M$39=11),AND($A64=25,M$39=12)),8,WEEKDAY(CONCATENATE($P64,\"/\",M$39,\"/\",$B$1),2))","v":2}]
[25,{"$f":"IF(INDEX(Brandstoffacturen!$B$22:$B$29,GD!Q65)=0,0,(B27*Brandstoffacturen!$P$3+Brandstoffacturen!$G$3)*(1+INDEX(Brandstoffacturen!$F$3:$F$14,B$39))*(1-INDEX(Brandstoffacturen!$L$3:$L$14,B$39))*INDEX(Gegevens!$T$40:$T$49,GD!Q65))","v":2924.7390749651504},{"$f":"IF(INDEX(Brandstoffacturen!$B$22:$B$29,GD!R65)=0,0,(C27*Brandstoffacturen!$P$3+Brandstoffacturen!$G$3)*(1+INDEX(Brandstoffacturen!$F$3:$F$14,C$39))*(1-INDEX(Brandstoffacturen!$L$3:$L$14,C$39))*INDEX(Gegevens!$T$40:$T$49,GD!R65))","v":2315.4068313380485},{"$f":"IF(INDEX(Brandstoffacturen!$B$22:$B$29,GD!S65)=0,0,(D27*Brandstoffacturen!$P$3+Brandstoffacturen!$G$3)*(1+INDEX(Brandstoffacturen!$F$3:$F$14,D$39))*(1-INDEX(Brandstoffacturen!$L$3:$L$14,D$39))*INDEX(Gegevens!$T$40:$T$49,GD!S65))","v":2913.5731165010675},{"$f":"IF(INDEX(Brandstoffacturen!$B$22:$B$29,GD!T65)=0,0,(E27*Brandstoffacturen!$P$3+Brandstoffacturen!$G$3)*(1+INDEX(Brandstoffacturen!$F$3:$F$14,E$39))*(1-INDEX(Brandstoffacturen!$L$3:$L$14,E$39))*INDEX(Gegevens!$T$40:$T$49,GD!T65))","v":1726.1220007628028},{"$f":"IF(INDEX(Brandstoffacturen!$B$22:$B$29,GD!U65)=0,0,(F27*Brandstoffacturen!$P$3+Brandstoffacturen!$G$3)*(1+INDEX(Brandstoffacturen!$F$3:$F$14,F$39))*(1-INDEX(Brandstoffacturen!$L$3:$L$14,F$39))*INDEX(Gegevens!$T$40:$T$49,GD!U65))","v":1675.7165745283608},{"$f":"IF(INDEX(Brandstoffacturen!$B$22:$B$29,GD!V65)=0,0,(G27*Brandstoffacturen!$P$3+Brandstoffacturen!$G$3)*(1+INDEX(Brandstoffacturen!$F$3:$F$14,G$39))*(1-INDEX(Brandstoffacturen!$L$3:$L$14,G$39))*INDEX(Gegevens!$T$40:$T$49,GD!V65))","v":1423.4237353940121},{"$f":"IF(INDEX(Brandstoffacturen!$B$22:$B$29,GD!W65)=0,0,(H27*Brandstoffacturen!$P$3+Brandstoffacturen!$G$3)*(1+INDEX(Brandstoffacturen!$F$3:$F$14,H$39))*(1-INDEX(Brandstoffacturen!$L$3:$L$14,H$39))*INDEX(Gegevens!$T$40:$T$49,GD!W65))","v":1444.5650630025289},{"$f":"IF(INDEX(Brandstoffacturen!$B$22:$B$29,GD!X65)=0,0,(I27*Brandstoffacturen!$P$3+Brandstoffacturen!$G$3)*(1+INDEX(Brandstoffacturen!$F$3:$F$14,I$39))*(1-INDEX(Brandstoffacturen!$L$3:$L$14,I$39))*INDEX(Gegevens!$T$40:$T$49,GD!X65))","v":1622.7924030552142},{"$f":"IF(INDEX(Brandstoffacturen!$B$22:$B$29,GD!Y65)=0,0,(J27*Brandstoffacturen!$P$3+Brandstoffacturen!$G$3)*(1+INDEX(Brandstoffacturen!$F$3:$F$14,J$39))*(1-INDEX(Brandstoffacturen!$L$3:$L$14,J$39))*INDEX(Gegevens!$T$40:$T$49,GD!Y65))","v":2128.9451622185807},{"$f":"IF(INDEX(Brandstoffacturen!$B$22:$B$29,GD!Z65)=0,0,(K27*Brandstoffacturen!$P$3+Brandstoffacturen!$G$3)*(1+INDEX(Brandstoffacturen!$F$3:$F$14,K$39))*(1-INDEX(Brandstoffacturen!$L$3:$L$14,K$39))*INDEX(Gegevens!$T$40:$T$49,GD!Z65))","v":2477.327352084435},{"$f":"IF(INDEX(Brandstoffacturen!$B$22:$B$29,GD!AA65)=0,0,(L27*Brandstoffacturen!$P$3+Brandstoffacturen!$G$3)*(1+INDEX(Brandstoffacturen!$F$3:$F$14,L$39))*(1-INDEX(Brandstoffacturen!$L$3:$L$14,L$39))*INDEX(Gegevens!$T$40:$T$49,GD!AA65))","v":2497.6993117707293},{"$f":"IF(INDEX(Brandstoffacturen!$B$22:$B$29,GD!AB65)=0,0,(M27*Brandstoffacturen!$P$3+Brandstoffacturen!$G$3)*(1+INDEX(Brandstoffacturen!$F$3:$F$14,M$39))*(1-INDEX(Brandstoffacturen!$L$3:$L$14,M$39))*INDEX(Gegevens!$T$40:$T$49,GD!AB65))","v":2679.9539603663138},null,null,25,{"$f":"IF(OR(AND($A65=1,B$39=1),AND($A65=Titels!$O$12,B$39=Titels!$P$12),AND($A65=1,B$39=5),AND($A65=Titels!$O$14,B$39=Titels!$P$14),AND($A65=Titels!$O$15,B$39=Titels!$P$15),AND($A65=21,B$39=7),AND($A65=15,B$39=8),AND($A65=1,B$39=11),AND($A65=11,B$39=11),AND($A65=25,B$39=12)),8,WEEKDAY(CONCATENATE($P65,\"/\",B$39,\"/\",$B$1),2))","v":5},{"$f":"IF(OR(AND($A65=1,C$39=1),AND($A65=Titels!$O$12,C$39=Titels!$P$12),AND($A65=1,C$39=5),AND($A65=Titels!$O$14,C$39=Titels!$P$14),AND($A65=Titels!$O$15,C$39=Titels!$P$15),AND($A65=21,C$39=7),AND($A65=15,C$39=8),AND($A65=1,C$39=11),AND($A65=11,C$39=11),AND($A65=25,C$39=12)),8,WEEKDAY(CONCATENATE($P65,\"/\",C$39,\"/\",$B$1),2))","v":1},{"$f":"IF(OR(AND($A65=1,D$39=1),AND($A65=Titels!$O$12,D$39=Titels!$P$12),AND($A65=1,D$39=5),AND($A65=Titels!$O$14,D$39=Titels!$P$14),AND($A65=Titels!$O$15,D$39=Titels!$P$15),AND($A65=21,D$39=7),AND($A65=15,D$39=8),AND($A65=1,D$39=11),AND($A65=11,D$39=11),AND($A65=25,D$39=12)),8,WEEKDAY(CONCATENATE($P65,\"/\",D$39,\"/\",$B$1),2))","v":1},{"$f":"IF(OR(AND($A65=1,E$39=1),AND($A65=Titels!$O$12,E$39=Titels!$P$12),AND($A65=1,E$39=5),AND($A65=Titels!$O$14,E$39=Titels!$P$14),AND($A65=Titels!$O$15,E$39=Titels!$P$15),AND($A65=21,E$39=7),AND($A65=15,E$39=8),AND($A65=1,E$39=11),AND($A65=11,E$39=11),AND($A65=25,E$39=12)),8,WEEKDAY(CONCATENATE($P65,\"/\",E$39,\"/\",$B$1),2))","v":4},{"$f":"IF(OR(AND($A65=1,F$39=1),AND($A65=Titels!$O$12,F$39=Titels!$P$12),AND($A65=1,F$39=5),AND($A65=Titels!$O$14,F$39=Titels!$P$14),AND($A65=Titels!$O$15,F$39=Titels!$P$15),AND($A65=21,F$39=7),AND($A65=15,F$39=8),AND($A65=1,F$39=11),AND($A65=11,F$39=11),AND($A65=25,F$39=12)),8,WEEKDAY(CONCATENATE($P65,\"/\",F$39,\"/\",$B$1),2))","v":6},{"$f":"IF(OR(AND($A65=1,G$39=1),AND($A65=Titels!$O$12,G$39=Titels!$P$12),AND($A65=1,G$39=5),AND($A65=Titels!$O$14,G$39=Titels!$P$14),AND($A65=Titels!$O$15,G$39=Titels!$P$15),AND($A65=21,G$39=7),AND($A65=15,G$39=8),AND($A65=1,G$39=11),AND($A65=11,G$39=11),AND($A65=25,G$39=12)),8,WEEKDAY(CONCATENATE($P65,\"/\",G$39,\"/\",$B$1),2))","v":2},{"$f":"IF(OR(AND($A65=1,H$39=1),AND($A65=Titels!$O$12,H$39=Titels!$P$12),AND($A65=1,H$39=5),AND($A65=Titels!$O$14,H$39=Titels!$P$14),AND($A65=Titels!$O$15,H$39=Titels!$P$15),AND($A65=21,H$39=7),AND($A65=15,H$39=8),AND($A65=1,H$39=11),AND($A65=11,H$39=11),AND($A65=25,H$39=12)),8,WEEKDAY(CONCATENATE($P65,\"/\",H$39,\"/\",$B$1),2))","v":4},{"$f":"IF(OR(AND($A65=1,I$39=1),AND($A65=Titels!$O$12,I$39=Titels!$P$12),AND($A65=1,I$39=5),AND($A65=Titels!$O$14,I$39=Titels!$P$14),AND($A65=Titels!$O$15,I$39=Titels!$P$15),AND($A65=21,I$39=7),AND($A65=15,I$39=8),AND($A65=1,I$39=11),AND($A65=11,I$39=11),AND($A65=25,I$39=12)),8,WEEKDAY(CONCATENATE($P65,\"/\",I$39,\"/\",$B$1),2))","v":7},{"$f":"IF(OR(AND($A65=1,J$39=1),AND($A65=Titels!$O$12,J$39=Titels!$P$12),AND($A65=1,J$39=5),AND($A65=Titels!$O$14,J$39=Titels!$P$14),AND($A65=Titels!$O$15,J$39=Titels!$P$15),AND($A65=21,J$39=7),AND($A65=15,J$39=8),AND($A65=1,J$39=11),AND($A65=11,J$39=11),AND($A65=25,J$39=12)),8,WEEKDAY(CONCATENATE($P65,\"/\",J$39,\"/\",$B$1),2))","v":3},{"$f":"IF(OR(AND($A65=1,K$39=1),AND($A65=Titels!$O$12,K$39=Titels!$P$12),AND($A65=1,K$39=5),AND($A65=Titels!$O$14,K$39=Titels!$P$14),AND($A65=Titels!$O$15,K$39=Titels!$P$15),AND($A65=21,K$39=7),AND($A65=15,K$39=8),AND($A65=1,K$39=11),AND($A65=11,K$39=11),AND($A65=25,K$39=12)),8,WEEKDAY(CONCATENATE($P65,\"/\",K$39,\"/\",$B$1),2))","v":5},{"$f":"IF(OR(AND($A65=1,L$39=1),AND($A65=Titels!$O$12,L$39=Titels!$P$12),AND($A65=1,L$39=5),AND($A65=Titels!$O$14,L$39=Titels!$P$14),AND($A65=Titels!$O$15,L$39=Titels!$P$15),AND($A65=21,L$39=7),AND($A65=15,L$39=8),AND($A65=1,L$39=11),AND($A65=11,L$39=11),AND($A65=25,L$39=12)),8,WEEKDAY(CONCATENATE($P65,\"/\",L$39,\"/\",$B$1),2))","v":1},{"$f":"IF(OR(AND($A65=1,M$39=1),AND($A65=Titels!$O$12,M$39=Titels!$P$12),AND($A65=1,M$39=5),AND($A65=Titels!$O$14,M$39=Titels!$P$14),AND($A65=Titels!$O$15,M$39=Titels!$P$15),AND($A65=21,M$39=7),AND($A65=15,M$39=8),AND($A65=1,M$39=11),AND($A65=11,M$39=11),AND($A65=25,M$39=12)),8,WEEKDAY(CONCATENATE($P65,\"/\",M$39,\"/\",$B$1),2))","v":8}]
[26,{"$f":"IF(INDEX(Brandstoffacturen!$B$22:$B$29,GD!Q66)=0,0,(B28*Brandstoffacturen!$P$3+Brandstoffacturen!$G$3)*(1+INDEX(Brandstoffacturen!$F$3:$F$14,B$39))*(1-INDEX(Brandstoffacturen!$L$3:$L$14,B$39))*INDEX(Gegevens!$T$40:$T$49,GD!Q66))","v":2395.307881595058},{"$f":"IF(INDEX(Brandstoffacturen!$B$22:$B$29,GD!R66)=0,0,(C28*Brandstoffacturen!$P$3+Brandstoffacturen!$G$3)*(1+INDEX(Brandstoffacturen!$F$3:$F$14,C$39))*(1-INDEX(Brandstoffacturen!$L$3:$L$14,C$39))*INDEX(Gegevens!$T$40:$T$49,GD!R66))","v":2267.9872843796761},{"$f":"IF(INDEX(Brandstoffacturen!$B$22:$B$29,GD!S66)=0,0,(D28*Brandstoffacturen!$P$3+Brandstoffacturen!$G$3)*(1+INDEX(Brandstoffacturen!$F$3:$F$14,D$39))*(1-INDEX(Brandstoffacturen!$L$3:$L$14,D$39))*INDEX(Gegevens!$T$40:$T$49,GD!S66))","v":2827.9921372346616},{"$f":"IF(INDEX(Brandstoffacturen!$B$22:$B$29,GD!T66)=0,0,(E28*Brandstoffacturen!$P$3+Brandstoffacturen!$G$3)*(1+INDEX(Brandstoffacturen!$F$3:$F$14,E$39))*(1-INDEX(Brandstoffacturen!$L$3:$L$14,E$39))*INDEX(Gegevens!$T$40:$T$49,GD!T66))","v":1662.9642984639922},{"$f":"IF(INDEX(Brandstoffacturen!$B$22:$B$29,GD!U66)=0,0,(F28*Brandstoffacturen!$P$3+Brandstoffacturen!$G$3)*(1+INDEX(Brandstoffacturen!$F$3:$F$14,F$39))*(1-INDEX(Brandstoffacturen!$L$3:$L$14,F$39))*INDEX(Gegevens!$T$40:$T$49,GD!U66))","v":1494.1058726349756},{"$f":"IF(INDEX(Brandstoffacturen!$B$22:$B$29,GD!V66)=0,0,(G28*Brandstoffacturen!$P$3+Brandstoffacturen!$G$3)*(1+INDEX(Brandstoffacturen!$F$3:$F$14,G$39))*(1-INDEX(Brandstoffacturen!$L$3:$L$14,G$39))*INDEX(Gegevens!$T$40:$T$49,GD!V66))","v":1423.4237353940121},{"$f":"IF(INDEX(Brandstoffacturen!$B$22:$B$29,GD!W66)=0,0,(H28*Brandstoffacturen!$P$3+Brandstoffacturen!$G$3)*(1+INDEX(Brandstoffacturen!$F$3:$F$14,H$39))*(1-INDEX(Brandstoffacturen!$L$3:$L$14,H$39))*INDEX(Gegevens!$T$40:$T$49,GD!W66))","v":1444.5650630025289},{"$f":"IF(INDEX(Brandstoffacturen!$B$22:$B$29,GD!X66)=0,0,(I28*Brandstoffacturen!$P$3+Brandstoffacturen!$G$3)*(1+INDEX(Brandstoffacturen!$F$3:$F$14,I$39))*(1-INDEX(Brandstoffacturen!$L$3:$L$14,I$39))*INDEX(Gegevens!$T$40:$T$49,GD!X66))","v":1622.7924030552142},{"$f":"IF(INDEX(Brandstoffacturen!$B$22:$B$29,GD!Y66)=0,0,(J28*Brandstoffacturen!$P$3+Brandstoffacturen!$G$3)*(1+INDEX(Brandstoffacturen!$F$3:$F$14,J$39))*(1-INDEX(Brandstoffacturen!$L$3:$L$14,J$39))*INDEX(Gegevens!$T$40:$T$49,GD!Y66))","v":2088.8551631777805},{"$f":"IF(INDEX(Brandstoffacturen!$B$22:$B$29,GD!Z66)=0,0,(K28*Brandstoffacturen!$P$3+Brandstoffacturen!$G$3)*(1+INDEX(Brandstoffacturen!$F$3:$F$14,K$39))*(1-INDEX(Brandstoffacturen!$L$3:$L$14,K$39))*INDEX(Gegevens!$T$40:$T$49,GD!Z66))","v":2247.2961477608419},{"$f":"IF(INDEX(Brandstoffacturen!$B$22:$B$29,GD!AA66)=0,0,(L28*Brandstoffacturen!$P$3+Brandstoffacturen!$G$3)*(1+INDEX(Brandstoffacturen!$F$3:$F$14,L$39))*(1-INDEX(Brandstoffacturen!$L$3:$L$14,L$39))*INDEX(Gegevens!$T$40:$T$49,GD!AA66))","v":2292.7014191677267},{"$f":"IF(INDEX(Brandstoffacturen!$B$22:$B$29,GD!AB66)=0,0,(M28*Brandstoffacturen!$P$3+Brandstoffacturen!$G$3)*(1+INDEX(Brandstoffacturen!$F$3:$F$14,M$39))*(1-INDEX(Brandstoffacturen!$L$3:$L$14,M$39))*INDEX(Gegevens!$T$40:$T$49,GD!AB66))","v":2899.3413957578045},null,null,26,{"$f":"IF(OR(AND($A66=1,B$39=1),AND($A66=Titels!$O$12,B$39=Titels!$P$12),AND($A66=1,B$39=5),AND($A66=Titels!$O$14,B$39=Titels!$P$14),AND($A66=Titels!$O$15,B$39=Titels!$P$15),AND($A66=21,B$39=7),AND($A66=15,B$39=8),AND($A66=1,B$39=11),AND($A66=11,B$39=11),AND($A66=25,B$39=12)),8,WEEKDAY(CONCATENATE($P66,\"/\",B$39,\"/\",$B$1),2))","v":6},{"$f":"IF(OR(AND($A66=1,C$39=1),AND($A66=Titels!$O$12,C$39=Titels!$P$12),AND($A66=1,C$39=5),AND($A66=Titels!$O$14,C$39=Titels!$P$14),AND($A66=Titels!$O$15,C$39=Titels!$P$15),AND($A66=21,C$39=7),AND($A66=15,C$39=8),AND($A66=1,C$39=11),AND($A66=11,C$39=11),AND($A66=25,C$39=12)),8,WEEKDAY(CONCATENATE($P66,\"/\",C$39,\"/\",$B$1),2))","v":2},{"$f":"IF(OR(AND($A66=1,D$39=1),AND($A66=Titels!$O$12,D$39=Titels!$P$12),AND($A66=1,D$39=5),AND($A66=Titels!$O$14,D$39=Titels!$P$14),AND($A66=Titels!$O$15,D$39=Titels!$P$15),AND($A66=21,D$39=7),AND($A66=15,D$39=8),AND($A66=1,D$39=11),AND($A66=11,D$39=11),AND($A66=25,D$39=12)),8,WEEKDAY(CONCATENATE($P66,\"/\",D$39,\"/\",$B$1),2))","v":2},{"$f":"IF(OR(AND($A66=1,E$39=1),AND($A66=Titels!$O$12,E$39=Titels!$P$12),AND($A66=1,E$39=5),AND($A66=Titels!$O$14,E$39=Titels!$P$14),AND($A66=Titels!$O$15,E$39=Titels!$P$15),AND($A66=21,E$39=7),AND($A66=15,E$39=8),AND($A66=1,E$39=11),AND($A66=11,E$39=11),AND($A66=25,E$39=12)),8,WEEKDAY(CONCATENATE($P66,\"/\",E$39,\"/\",$B$1),2))","v":5},{"$f":"IF(OR(AND($A66=1,F$39=1),AND($A66=Titels!$O$12,F$39=Titels!$P$12),AND($A66=1,F$39=5),AND($A66=Titels!$O$14,F$39=Titels!$P$14),AND($A66=Titels!$O$15,F$39=Titels!$P$15),AND($A66=21,F$39=7),AND($A66=15,F$39=8),AND($A66=1,F$39=11),AND($A66=11,F$39=11),AND($A66=25,F$39=12)),8,WEEKDAY(CONCATENATE($P66,\"/\",F$39,\"/\",$B$1),2))","v":7},{"$f":"IF(OR(AND($A66=1,G$39=1),AND($A66=Titels!$O$12,G$39=Titels!$P$12),AND($A66=1,G$39=5),AND($A66=Titels!$O$14,G$39=Titels!$P$14),AND($A66=Titels!$O$15,G$39=Titels!$P$15),AND($A66=21,G$39=7),AND($A66=15,G$39=8),AND($A66=1,G$39=11),AND($A66=11,G$39=11),AND($A66=25,G$39=12)),8,WEEKDAY(CONCATENATE($P66,\"/\",G$39,\"/\",$B$1),2))","v":3},{"$f":"IF(OR(AND($A66=1,H$39=1),AND($A66=Titels!$O$12,H$39=Titels!$P$12),AND($A66=1,H$39=5),AND($A66=Titels!$O$14,H$39=Titels!$P$14),AND($A66=Titels!$O$15,H$39=Titels!$P$15),AND($A66=21,H$39=7),AND($A66=15,H$39=8),AND($A66=1,H$39=11),AND($A66=11,H$39=11),AND($A66=25,H$39=12)),8,WEEKDAY(CONCATENATE($P66,\"/\",H$39,\"/\",$B$1),2))","v":5},{"$f":"IF(OR(AND($A66=1,I$39=1),AND($A66=Titels!$O$12,I$39=Titels!$P$12),AND($A66=1,I$39=5),AND($A66=Titels!$O$14,I$39=Titels!$P$14),AND($A66=Titels!$O$15,I$39=Titels!$P$15),AND($A66=21,I$39=7),AND($A66=15,I$39=8),AND($A66=1,I$39=11),AND($A66=11,I$39=11),AND($A66=25,I$39=12)),8,WEEKDAY(CONCATENATE($P66,\"/\",I$39,\"/\",$B$1),2))","v":1},{"$f":"IF(OR(AND($A66=1,J$39=1),AND($A66=Titels!$O$12,J$39=Titels!$P$12),AND($A66=1,J$39=5),AND($A66=Titels!$O$14,J$39=Titels!$P$14),AND($A66=Titels!$O$15,J$39=Titels!$P$15),AND($A66=21,J$39=7),AND($A66=15,J$39=8),AND($A66=1,J$39=11),AND($A66=11,J$39=11),AND($A66=25,J$39=12)),8,WEEKDAY(CONCATENATE($P66,\"/\",J$39,\"/\",$B$1),2))","v":4},{"$f":"IF(OR(AND($A66=1,K$39=1),AND($A66=Titels!$O$12,K$39=Titels!$P$12),AND($A66=1,K$39=5),AND($A66=Titels!$O$14,K$39=Titels!$P$14),AND($A66=Titels!$O$15,K$39=Titels!$P$15),AND($A66=21,K$39=7),AND($A66=15,K$39=8),AND($A66=1,K$39=11),AND($A66=11,K$39=11),AND($A66=25,K$39=12)),8,WEEKDAY(CONCATENATE($P66,\"/\",K$39,\"/\",$B$1),2))","v":6},{"$f":"IF(OR(AND($A66=1,L$39=1),AND($A66=Titels!$O$12,L$39=Titels!$P$12),AND($A66=1,L$39=5),AND($A66=Titels!$O$14,L$39=Titels!$P$14),AND($A66=Titels!$O$15,L$39=Titels!$P$15),AND($A66=21,L$39=7),AND($A66=15,L$39=8),AND($A66=1,L$39=11),AND($A66=11,L$39=11),AND($A66=25,L$39=12)),8,WEEKDAY(CONCATENATE($P66,\"/\",L$39,\"/\",$B$1),2))","v":2},{"$f":"IF(OR(AND($A66=1,M$39=1),AND($A66=Titels!$O$12,M$39=Titels!$P$12),AND($A66=1,M$39=5),AND($A66=Titels!$O$14,M$39=Titels!$P$14),AND($A66=Titels!$O$15,M$39=Titels!$P$15),AND($A66=21,M$39=7),AND($A66=15,M$39=8),AND($A66=1,M$39=11),AND($A66=11,M$39=11),AND($A66=25,M$39=12)),8,WEEKDAY(CONCATENATE($P66,\"/\",M$39,\"/\",$B$1),2))","v":4}]
[27,{"$f":"IF(INDEX(Brandstoffacturen!$B$22:$B$29,GD!Q67)=0,0,(B29*Brandstoffacturen!$P$3+Brandstoffacturen!$G$3)*(1+INDEX(Brandstoffacturen!$F$3:$F$14,B$39))*(1-INDEX(Brandstoffacturen!$L$3:$L$14,B$39))*INDEX(Gegevens!$T$40:$T$49,GD!Q67))","v":2522.7635392582279},{"$f":"IF(INDEX(Brandstoffacturen!$B$22:$B$29,GD!R67)=0,0,(C29*Brandstoffacturen!$P$3+Brandstoffacturen!$G$3)*(1+INDEX(Brandstoffacturen!$F$3:$F$14,C$39))*(1-INDEX(Brandstoffacturen!$L$3:$L$14,C$39))*INDEX(Gegevens!$T$40:$T$49,GD!R67))","v":2244.2775109004901},{"$f":"IF(INDEX(Brandstoffacturen!$B$22:$B$29,GD!S67)=0,0,(D29*Brandstoffacturen!$P$3+Brandstoffacturen!$G$3)*(1+INDEX(Brandstoffacturen!$F$3:$F$14,D$39))*(1-INDEX(Brandstoffacturen!$L$3:$L$14,D$39))*INDEX(Gegevens!$T$40:$T$49,GD!S67))","v":2791.3145746919163},{"$f":"IF(INDEX(Brandstoffacturen!$B$22:$B$29,GD!T67)=0,0,(E29*Brandstoffacturen!$P$3+Brandstoffacturen!$G$3)*(1+INDEX(Brandstoffacturen!$F$3:$F$14,E$39))*(1-INDEX(Brandstoffacturen!$L$3:$L$14,E$39))*INDEX(Gegevens!$T$40:$T$49,GD!T67))","v":1879.5049920599147},{"$f":"IF(INDEX(Brandstoffacturen!$B$22:$B$29,GD!U67)=0,0,(F29*Brandstoffacturen!$P$3+Brandstoffacturen!$G$3)*(1+INDEX(Brandstoffacturen!$F$3:$F$14,F$39))*(1-INDEX(Brandstoffacturen!$L$3:$L$14,F$39))*INDEX(Gegevens!$T$40:$T$49,GD!U67))","v":1494.1058726349756},{"$f":"IF(INDEX(Brandstoffacturen!$B$22:$B$29,GD!V67)=0,0,(G29*Brandstoffacturen!$P$3+Brandstoffacturen!$G$3)*(1+INDEX(Brandstoffacturen!$F$3:$F$14,G$39))*(1-INDEX(Brandstoffacturen!$L$3:$L$14,G$39))*INDEX(Gegevens!$T$40:$T$49,GD!V67))","v":1423.4237353940121},{"$f":"IF(INDEX(Brandstoffacturen!$B$22:$B$29,GD!W67)=0,0,(H29*Brandstoffacturen!$P$3+Brandstoffacturen!$G$3)*(1+INDEX(Brandstoffacturen!$F$3:$F$14,H$39))*(1-INDEX(Brandstoffacturen!$L$3:$L$14,H$39))*INDEX(Gegevens!$T$40:$T$49,GD!W67))","v":1444.5650630025289},{"$f":"IF(INDEX(Brandstoffacturen!$B$22:$B$29,GD!X67)=0,0,(I29*Brandstoffacturen!$P$3+Brandstoffacturen!$G$3)*(1+INDEX(Brandstoffacturen!$F$3:$F$14,I$39))*(1-INDEX(Brandstoffacturen!$L$3:$L$14,I$39))*INDEX(Gegevens!$T$40:$T$49,GD!X67))","v":1622.7924030552142},{"$f":"IF(INDEX(Brandstoffacturen!$B$22:$B$29,GD!Y67)=0,0,(J29*Brandstoffacturen!$P$3+Brandstoffacturen!$G$3)*(1+INDEX(Brandstoffacturen!$F$3:$F$14,J$39))*(1-INDEX(Brandstoffacturen!$L$3:$L$14,J$39))*INDEX(Gegevens!$T$40:$T$49,GD!Y67))","v":2088.8551631777805},{"$f":"IF(INDEX(Brandstoffacturen!$B$22:$B$29,GD!Z67)=0,0,(K29*Brandstoffacturen!$P$3+Brandstoffacturen!$G$3)*(1+INDEX(Brandstoffacturen!$F$3:$F$14,K$39))*(1-INDEX(Brandstoffacturen!$L$3:$L$14,K$39))*INDEX(Gegevens!$T$40:$T$49,GD!Z67))","v":3153.0440147849895},{"$f":"IF(INDEX(Brandstoffacturen!$B$22:$B$29,GD!AA67)=0,0,(L29*Brandstoffacturen!$P$3+Brandstoffacturen!$G$3)*(1+INDEX(Brandstoffacturen!$F$3:$F$14,L$39))*(1-INDEX(Brandstoffacturen!$L$3:$L$14,L$39))*INDEX(Gegevens!$T$40:$T$49,GD!AA67))","v":2326.8677346015602},{"$f":"IF(INDEX(Brandstoffacturen!$B$22:$B$29,GD!AB67)=0,0,(M29*Brandstoffacturen!$P$3+Brandstoffacturen!$G$3)*(1+INDEX(Brandstoffacturen!$F$3:$F$14,M$39))*(1-INDEX(Brandstoffacturen!$L$3:$L$14,M$39))*INDEX(Gegevens!$T$40:$T$49,GD!AB67))","v":2679.9539603663138},null,null,27,{"$f":"IF(OR(AND($A67=1,B$39=1),AND($A67=Titels!$O$12,B$39=Titels!$P$12),AND($A67=1,B$39=5),AND($A67=Titels!$O$14,B$39=Titels!$P$14),AND($A67=Titels!$O$15,B$39=Titels!$P$15),AND($A67=21,B$39=7),AND($A67=15,B$39=8),AND($A67=1,B$39=11),AND($A67=11,B$39=11),AND($A67=25,B$39=12)),8,WEEKDAY(CONCATENATE($P67,\"/\",B$39,\"/\",$B$1),2))","v":7},{"$f":"IF(OR(AND($A67=1,C$39=1),AND($A67=Titels!$O$12,C$39=Titels!$P$12),AND($A67=1,C$39=5),AND($A67=Titels!$O$14,C$39=Titels!$P$14),AND($A67=Titels!$O$15,C$39=Titels!$P$15),AND($A67=21,C$39=7),AND($A67=15,C$39=8),AND($A67=1,C$39=11),AND($A67=11,C$39=11),AND($A67=25,C$39=12)),8,WEEKDAY(CONCATENATE($P67,\"/\",C$39,\"/\",$B$1),2))","v":3},{"$f":"IF(OR(AND($A67=1,D$39=1),AND($A67=Titels!$O$12,D$39=Titels!$P$12),AND($A67=1,D$39=5),AND($A67=Titels!$O$14,D$39=Titels!$P$14),AND($A67=Titels!$O$15,D$39=Titels!$P$15),AND($A67=21,D$39=7),AND($A67=15,D$39=8),AND($A67=1,D$39=11),AND($A67=11,D$39=11),AND($A67=25,D$39=12)),8,WEEKDAY(CONCATENATE($P67,\"/\",D$39,\"/\",$B$1),2))","v":3},{"$f":"IF(OR(AND($A67=1,E$39=1),AND($A67=Titels!$O$12,E$39=Titels!$P$12),AND($A67=1,E$39=5),AND($A67=Titels!$O$14,E$39=Titels!$P$14),AND($A67=Titels!$O$15,E$39=Titels!$P$15),AND($A67=21,E$39=7),AND($A67=15,E$39=8),AND($A67=1,E$39=11),AND($A67=11,E$39=11),AND($A67=25,E$39=12)),8,WEEKDAY(CONCATENATE($P67,\"/\",E$39,\"/\",$B$1),2))","v":6},{"$f":"IF(OR(AND($A67=1,F$39=1),AND($A67=Titels!$O$12,F$39=Titels!$P$12),AND($A67=1,F$39=5),AND($A67=Titels!$O$14,F$39=Titels!$P$14),AND($A67=Titels!$O$15,F$39=Titels!$P$15),AND($A67=21,F$39=7),AND($A67=15,F$39=8),AND($A67=1,F$39=11),AND($A67=11,F$39=11),AND($A67=25,F$39=12)),8,WEEKDAY(CONCATENATE($P67,\"/\",F$39,\"/\",$B$1),2))","v":1},{"$f":"IF(OR(AND($A67=1,G$39=1),AND($A67=Titels!$O$12,G$39=Titels!$P$12),AND($A67=1,G$39=5),AND($A67=Titels!$O$14,G$39=Titels!$P$14),AND($A67=Titels!$O$15,G$39=Titels!$P$15),AND($A67=21,G$39=7),AND($A67=15,G$39=8),AND($A67=1,G$39=11),AND($A67=11,G$39=11),AND($A67=25,G$39=12)),8,WEEKDAY(CONCATENATE($P67,\"/\",G$39,\"/\",$B$1),2))","v":4},{"$f":"IF(OR(AND($A67=1,H$39=1),AND($A67=Titels!$O$12,H$39=Titels!$P$12),AND($A67=1,H$39=5),AND($A67=Titels!$O$14,H$39=Titels!$P$14),AND($A67=Titels!$O$15,H$39=Titels!$P$15),AND($A67=21,H$39=7),AND($A67=15,H$39=8),AND($A67=1,H$39=11),AND($A67=11,H$39=11),AND($A67=25,H$39=12)),8,WEEKDAY(CONCATENATE($P67,\"/\",H$39,\"/\",$B$1),2))","v":6},{"$f":"IF(OR(AND($A67=1,I$39=1),AND($A67=Titels!$O$12,I$39=Titels!$P$12),AND($A67=1,I$39=5),AND($A67=Titels!$O$14,I$39=Titels!$P$14),AND($A67=Titels!$O$15,I$39=Titels!$P$15),AND($A67=21,I$39=7),AND($A67=15,I$39=8),AND($A67=1,I$39=11),AND($A67=11,I$39=11),AND($A67=25,I$39=12)),8,WEEKDAY(CONCATENATE($P67,\"/\",I$39,\"/\",$B$1),2))","v":2},{"$f":"IF(OR(AND($A67=1,J$39=1),AND($A67=Titels!$O$12,J$39=Titels!$P$12),AND($A67=1,J$39=5),AND($A67=Titels!$O$14,J$39=Titels!$P$14),AND($A67=Titels!$O$15,J$39=Titels!$P$15),AND($A67=21,J$39=7),AND($A67=15,J$39=8),AND($A67=1,J$39=11),AND($A67=11,J$39=11),AND($A67=25,J$39=12)),8,WEEKDAY(CONCATENATE($P67,\"/\",J$39,\"/\",$B$1),2))","v":5},{"$f":"IF(OR(AND($A67=1,K$39=1),AND($A67=Titels!$O$12,K$39=Titels!$P$12),AND($A67=1,K$39=5),AND($A67=Titels!$O$14,K$39=Titels!$P$14),AND($A67=Titels!$O$15,K$39=Titels!$P$15),AND($A67=21,K$39=7),AND($A67=15,K$39=8),AND($A67=1,K$39=11),AND($A67=11,K$39=11),AND($A67=25,K$39=12)),8,WEEKDAY(CONCATENATE($P67,\"/\",K$39,\"/\",$B$1),2))","v":7},{"$f":"IF(OR(AND($A67=1,L$39=1),AND($A67=Titels!$O$12,L$39=Titels!$P$12),AND($A67=1,L$39=5),AND($A67=Titels!$O$14,L$39=Titels!$P$14),AND($A67=Titels!$O$15,L$39=Titels!$P$15),AND($A67=21,L$39=7),AND($A67=15,L$39=8),AND($A67=1,L$39=11),AND($A67=11,L$39=11),AND($A67=25,L$39=12)),8,WEEKDAY(CONCATENATE($P67,\"/\",L$39,\"/\",$B$1),2))","v":3},{"$f":"IF(OR(AND($A67=1,M$39=1),AND($A67=Titels!$O$12,M$39=Titels!$P$12),AND($A67=1,M$39=5),AND($A67=Titels!$O$14,M$39=Titels!$P$14),AND($A67=Titels!$O$15,M$39=Titels!$P$15),AND($A67=21,M$39=7),AND($A67=15,M$39=8),AND($A67=1,M$39=11),AND($A67=11,M$39=11),AND($A67=25,M$39=12)),8,WEEKDAY(CONCATENATE($P67,\"/\",M$39,\"/\",$B$1),2))","v":5}]
[28,{"$f":"IF(INDEX(Brandstoffacturen!$B$22:$B$29,GD!Q68)=0,0,(B30*Brandstoffacturen!$P$3+Brandstoffacturen!$G$3)*(1+INDEX(Brandstoffacturen!$F$3:$F$14,B$39))*(1-INDEX(Brandstoffacturen!$L$3:$L$14,B$39))*INDEX(Gegevens!$T$40:$T$49,GD!Q68))","v":2748.2620105084529},{"$f":"IF(INDEX(Brandstoffacturen!$B$22:$B$29,GD!R68)=0,0,(C30*Brandstoffacturen!$P$3+Brandstoffacturen!$G$3)*(1+INDEX(Brandstoffacturen!$F$3:$F$14,C$39))*(1-INDEX(Brandstoffacturen!$L$3:$L$14,C$39))*INDEX(Gegevens!$T$40:$T$49,GD!R68))","v":2611.7789998278759},{"$f":"IF(INDEX(Brandstoffacturen!$B$22:$B$29,GD!S68)=0,0,(D30*Brandstoffacturen!$P$3+Brandstoffacturen!$G$3)*(1+INDEX(Brandstoffacturen!$F$3:$F$14,D$39))*(1-INDEX(Brandstoffacturen!$L$3:$L$14,D$39))*INDEX(Gegevens!$T$40:$T$49,GD!S68))","v":2632.3784703400202},{"$f":"IF(INDEX(Brandstoffacturen!$B$22:$B$29,GD!T68)=0,0,(E30*Brandstoffacturen!$P$3+Brandstoffacturen!$G$3)*(1+INDEX(Brandstoffacturen!$F$3:$F$14,E$39))*(1-INDEX(Brandstoffacturen!$L$3:$L$14,E$39))*INDEX(Gegevens!$T$40:$T$49,GD!T68))","v":2005.8203966575365},{"$f":"IF(INDEX(Brandstoffacturen!$B$22:$B$29,GD!U68)=0,0,(F30*Brandstoffacturen!$P$3+Brandstoffacturen!$G$3)*(1+INDEX(Brandstoffacturen!$F$3:$F$14,F$39))*(1-INDEX(Brandstoffacturen!$L$3:$L$14,F$39))*INDEX(Gegevens!$T$40:$T$49,GD!U68))","v":1799.9765284554139},{"$f":"IF(INDEX(Brandstoffacturen!$B$22:$B$29,GD!V68)=0,0,(G30*Brandstoffacturen!$P$3+Brandstoffacturen!$G$3)*(1+INDEX(Brandstoffacturen!$F$3:$F$14,G$39))*(1-INDEX(Brandstoffacturen!$L$3:$L$14,G$39))*INDEX(Gegevens!$T$40:$T$49,GD!V68))","v":1423.4237353940121},{"$f":"IF(INDEX(Brandstoffacturen!$B$22:$B$29,GD!W68)=0,0,(H30*Brandstoffacturen!$P$3+Brandstoffacturen!$G$3)*(1+INDEX(Brandstoffacturen!$F$3:$F$14,H$39))*(1-INDEX(Brandstoffacturen!$L$3:$L$14,H$39))*INDEX(Gegevens!$T$40:$T$49,GD!W68))","v":1444.5650630025289},{"$f":"IF(INDEX(Brandstoffacturen!$B$22:$B$29,GD!X68)=0,0,(I30*Brandstoffacturen!$P$3+Brandstoffacturen!$G$3)*(1+INDEX(Brandstoffacturen!$F$3:$F$14,I$39))*(1-INDEX(Brandstoffacturen!$L$3:$L$14,I$39))*INDEX(Gegevens!$T$40:$T$49,GD!X68))","v":1622.7924030552142},{"$f":"IF(INDEX(Brandstoffacturen!$B$22:$B$29,GD!Y68)=0,0,(J30*Brandstoffacturen!$P$3+Brandstoffacturen!$G$3)*(1+INDEX(Brandstoffacturen!$F$3:$F$14,J$39))*(1-INDEX(Brandstoffacturen!$L$3:$L$14,J$39))*INDEX(Gegevens!$T$40:$T$49,GD!Y68))","v":2182.3984942729808},{"$f":"IF(INDEX(Brandstoffacturen!$B$22:$B$29,GD!Z68)=0,0,(K30*Brandstoffacturen!$P$3+Brandstoffacturen!$G$3)*(1+INDEX(Brandstoffacturen!$F$3:$F$14,K$39))*(1-INDEX(Brandstoffacturen!$L$3:$L$14,K$39))*INDEX(Gegevens!$T$40:$T$49,GD!Z68))","v":3282.4365672170106},{"$f":"IF(INDEX(Brandstoffacturen!$B$22:$B$29,GD!AA68)=0,0,(L30*Brandstoffacturen!$P$3+Brandstoffacturen!$G$3)*(1+INDEX(Brandstoffacturen!$F$3:$F$14,L$39))*(1-INDEX(Brandstoffacturen!$L$3:$L$14,L$39))*INDEX(Gegevens!$T$40:$T$49,GD!AA68))","v":2452.144224525618},{"$f":"IF(INDEX(Brandstoffacturen!$B$22:$B$29,GD!AB68)=0,0,(M30*Brandstoffacturen!$P$3+Brandstoffacturen!$G$3)*(1+INDEX(Brandstoffacturen!$F$3:$F$14,M$39))*(1-INDEX(Brandstoffacturen!$L$3:$L$14,M$39))*INDEX(Gegevens!$T$40:$T$49,GD!AB68))","v":2987.0963699144004},null,null,28,{"$f":"IF(OR(AND($A68=1,B$39=1),AND($A68=Titels!$O$12,B$39=Titels!$P$12),AND($A68=1,B$39=5),AND($A68=Titels!$O$14,B$39=Titels!$P$14),AND($A68=Titels!$O$15,B$39=Titels!$P$15),AND($A68=21,B$39=7),AND($A68=15,B$39=8),AND($A68=1,B$39=11),AND($A68=11,B$39=11),AND($A68=25,B$39=12)),8,WEEKDAY(CONCATENATE($P68,\"/\",B$39,\"/\",$B$1),2))","v":1},{"$f":"IF(OR(AND($A68=1,C$39=1),AND($A68=Titels!$O$12,C$39=Titels!$P$12),AND($A68=1,C$39=5),AND($A68=Titels!$O$14,C$39=Titels!$P$14),AND($A68=Titels!$O$15,C$39=Titels!$P$15),AND($A68=21,C$39=7),AND($A68=15,C$39=8),AND($A68=1,C$39=11),AND($A68=11,C$39=11),AND($A68=25,C$39=12)),8,WEEKDAY(CONCATENATE($P68,\"/\",C$39,\"/\",$B$1),2))","v":4},{"$f":"IF(OR(AND($A68=1,D$39=1),AND($A68=Titels!$O$12,D$39=Titels!$P$12),AND($A68=1,D$39=5),AND($A68=Titels!$O$14,D$39=Titels!$P$14),AND($A68=Titels!$O$15,D$39=Titels!$P$15),AND($A68=21,D$39=7),AND($A68=15,D$39=8),AND($A68=1,D$39=11),AND($A68=11,D$39=11),AND($A68=25,D$39=12)),8,WEEKDAY(CONCATENATE($P68,\"/\",D$39,\"/\",$B$1),2))","v":4},{"$f":"IF(OR(AND($A68=1,E$39=1),AND($A68=Titels!$O$12,E$39=Titels!$P$12),AND($A68=1,E$39=5),AND($A68=Titels!$O$14,E$39=Titels!$P$14),AND($A68=Titels!$O$15,E$39=Titels!$P$15),AND($A68=21,E$39=7),AND($A68=15,E$39=8),AND($A68=1,E$39=11),AND($A68=11,E$39=11),AND($A68=25,E$39=12)),8,WEEKDAY(CONCATENATE($P68,\"/\",E$39,\"/\",$B$1),2))","v":7},{"$f":"IF(OR(AND($A68=1,F$39=1),AND($A68=Titels!$O$12,F$39=Titels!$P$12),AND($A68=1,F$39=5),AND($A68=Titels!$O$14,F$39=Titels!$P$14),AND($A68=Titels!$O$15,F$39=Titels!$P$15),AND($A68=21,F$39=7),AND($A68=15,F$39=8),AND($A68=1,F$39=11),AND($A68=11,F$39=11),AND($A68=25,F$39=12)),8,WEEKDAY(CONCATENATE($P68,\"/\",F$39,\"/\",$B$1),2))","v":2},{"$f":"IF(OR(AND($A68=1,G$39=1),AND($A68=Titels!$O$12,G$39=Titels!$P$12),AND($A68=1,G$39=5),AND($A68=Titels!$O$14,G$39=Titels!$P$14),AND($A68=Titels!$O$15,G$39=Titels!$P$15),AND($A68=21,G$39=7),AND($A68=15,G$39=8),AND($A68=1,G$39=11),AND($A68=11,G$39=11),AND($A68=25,G$39=12)),8,WEEKDAY(CONCATENATE($P68,\"/\",G$39,\"/\",$B$1),2))","v":5},{"$f":"IF(OR(AND($A68=1,H$39=1),AND($A68=Titels!$O$12,H$39=Titels!$P$12),AND($A68=1,H$39=5),AND($A68=Titels!$O$14,H$39=Titels!$P$14),AND($A68=Titels!$O$15,H$39=Titels!$P$15),AND($A68=21,H$39=7),AND($A68=15,H$39=8),AND($A68=1,H$39=11),AND($A68=11,H$39=11),AND($A68=25,H$39=12)),8,WEEKDAY(CONCATENATE($P68,\"/\",H$39,\"/\",$B$1),2))","v":7},{"$f":"IF(OR(AND($A68=1,I$39=1),AND($A68=Titels!$O$12,I$39=Titels!$P$12),AND($A68=1,I$39=5),AND($A68=Titels!$O$14,I$39=Titels!$P$14),AND($A68=Titels!$O$15,I$39=Titels!$P$15),AND($A68=21,I$39=7),AND($A68=15,I$39=8),AND($A68=1,I$39=11),AND($A68=11,I$39=11),AND($A68=25,I$39=12)),8,WEEKDAY(CONCATENATE($P68,\"/\",I$39,\"/\",$B$1),2))","v":3},{"$f":"IF(OR(AND($A68=1,J$39=1),AND($A68=Titels!$O$12,J$39=Titels!$P$12),AND($A68=1,J$39=5),AND($A68=Titels!$O$14,J$39=Titels!$P$14),AND($A68=Titels!$O$15,J$39=Titels!$P$15),AND($A68=21,J$39=7),AND($A68=15,J$39=8),AND($A68=1,J$39=11),AND($A68=11,J$39=11),AND($A68=25,J$39=12)),8,WEEKDAY(CONCATENATE($P68,\"/\",J$39,\"/\",$B$1),2))","v":6},{"$f":"IF(OR(AND($A68=1,K$39=1),AND($A68=Titels!$O$12,K$39=Titels!$P$12),AND($A68=1,K$39=5),AND($A68=Titels!$O$14,K$39=Titels!$P$14),AND($A68=Titels!$O$15,K$39=Titels!$P$15),AND($A68=21,K$39=7),AND($A68=15,K$39=8),AND($A68=1,K$39=11),AND($A68=11,K$39=11),AND($A68=25,K$39=12)),8,WEEKDAY(CONCATENATE($P68,\"/\",K$39,\"/\",$B$1),2))","v":1},{"$f":"IF(OR(AND($A68=1,L$39=1),AND($A68=Titels!$O$12,L$39=Titels!$P$12),AND($A68=1,L$39=5),AND($A68=Titels!$O$14,L$39=Titels!$P$14),AND($A68=Titels!$O$15,L$39=Titels!$P$15),AND($A68=21,L$39=7),AND($A68=15,L$39=8),AND($A68=1,L$39=11),AND($A68=11,L$39=11),AND($A68=25,L$39=12)),8,WEEKDAY(CONCATENATE($P68,\"/\",L$39,\"/\",$B$1),2))","v":4},{"$f":"IF(OR(AND($A68=1,M$39=1),AND($A68=Titels!$O$12,M$39=Titels!$P$12),AND($A68=1,M$39=5),AND($A68=Titels!$O$14,M$39=Titels!$P$14),AND($A68=Titels!$O$15,M$39=Titels!$P$15),AND($A68=21,M$39=7),AND($A68=15,M$39=8),AND($A68=1,M$39=11),AND($A68=11,M$39=11),AND($A68=25,M$39=12)),8,WEEKDAY(CONCATENATE($P68,\"/\",M$39,\"/\",$B$1),2))","v":6}]
[29,{"$f":"IF(INDEX(Brandstoffacturen!$B$22:$B$29,GD!Q69)=0,0,(B31*Brandstoffacturen!$P$3+Brandstoffacturen!$G$3)*(1+INDEX(Brandstoffacturen!$F$3:$F$14,B$39))*(1-INDEX(Brandstoffacturen!$L$3:$L$14,B$39))*INDEX(Gegevens!$T$40:$T$49,GD!Q69))","v":2865.9133868129179},{"$f":"IF(I1=2,\"\",IF(INDEX(Brandstoffacturen!$B$22:$B$29,GD!R69)=0,0,(C31*Brandstoffacturen!$P$3+Brandstoffacturen!$G$3)*(1+INDEX(Brandstoffacturen!$F$3:$F$14,C$39))*(1-INDEX(Brandstoffacturen!$L$3:$L$14,C$39))*INDEX(Gegevens!$T$40:$T$49,GD!R69)))","v":""},{"$f":"IF(INDEX(Brandstoffacturen!$B$22:$B$29,GD!S69)=0,0,(D31*Brandstoffacturen!$P$3+Brandstoffacturen!$G$3)*(1+INDEX(Brandstoffacturen!$F$3:$F$14,D$39))*(1-INDEX(Brandstoffacturen!$L$3:$L$14,D$39))*INDEX(Gegevens!$T$40:$T$49,GD!S69))","v":2387.8613867217177},{"$f":"IF(INDEX(Brandstoffacturen!$B$22:$B$29,GD!T69)=0,0,(E31*Brandstoffacturen!$P$3+Brandstoffacturen!$G$3)*(1+INDEX(Brandstoffacturen!$F$3:$F$14,E$39))*(1-INDEX(Brandstoffacturen!$L$3:$L$14,E$39))*INDEX(Gegevens!$T$40:$T$49,GD!T69))","v":1825.369818660934},{"$f":"IF(INDEX(Brandstoffacturen!$B$22:$B$29,GD!U69)=0,0,(F31*Brandstoffacturen!$P$3+Brandstoffacturen!$G$3)*(1+INDEX(Brandstoffacturen!$F$3:$F$14,F$39))*(1-INDEX(Brandstoffacturen!$L$3:$L$14,F$39))*INDEX(Gegevens!$T$40:$T$49,GD!U69))","v":1589.6904525788627},{"$f":"IF(INDEX(Brandstoffacturen!$B$22:$B$29,GD!V69)=0,0,(G31*Brandstoffacturen!$P$3+Brandstoffacturen!$G$3)*(1+INDEX(Brandstoffacturen!$F$3:$F$14,G$39))*(1-INDEX(Brandstoffacturen!$L$3:$L$14,G$39))*INDEX(Gegevens!$T$40:$T$49,GD!V69))","v":1423.4237353940121},{"$f":"IF(INDEX(Brandstoffacturen!$B$22:$B$29,GD!W69)=0,0,(H31*Brandstoffacturen!$P$3+Brandstoffacturen!$G$3)*(1+INDEX(Brandstoffacturen!$F$3:$F$14,H$39))*(1-INDEX(Brandstoffacturen!$L$3:$L$14,H$39))*INDEX(Gegevens!$T$40:$T$49,GD!W69))","v":1444.5650630025289},{"$f":"IF(INDEX(Brandstoffacturen!$B$22:$B$29,GD!X69)=0,0,(I31*Brandstoffacturen!$P$3+Brandstoffacturen!$G$3)*(1+INDEX(Brandstoffacturen!$F$3:$F$14,I$39))*(1-INDEX(Brandstoffacturen!$L$3:$L$14,I$39))*INDEX(Gegevens!$T$40:$T$49,GD!X69))","v":1622.7924030552142},{"$f":"IF(INDEX(Brandstoffacturen!$B$22:$B$29,GD!Y69)=0,0,(J31*Brandstoffacturen!$P$3+Brandstoffacturen!$G$3)*(1+INDEX(Brandstoffacturen!$F$3:$F$14,J$39))*(1-INDEX(Brandstoffacturen!$L$3:$L$14,J$39))*INDEX(Gegevens!$T$40:$T$49,GD!Y69))","v":2088.8551631777805},{"$f":"IF(INDEX(Brandstoffacturen!$B$22:$B$29,GD!Z69)=0,0,(K31*Brandstoffacturen!$P$3+Brandstoffacturen!$G$3)*(1+INDEX(Brandstoffacturen!$F$3:$F$14,K$39))*(1-INDEX(Brandstoffacturen!$L$3:$L$14,K$39))*INDEX(Gegevens!$T$40:$T$49,GD!Z69))","v":3282.4365672170106},{"$f":"IF(INDEX(Brandstoffacturen!$B$22:$B$29,GD!AA69)=0,0,(L31*Brandstoffacturen!$P$3+Brandstoffacturen!$G$3)*(1+INDEX(Brandstoffacturen!$F$3:$F$14,L$39))*(1-INDEX(Brandstoffacturen!$L$3:$L$14,L$39))*INDEX(Gegevens!$T$40:$T$49,GD!AA69))","v":2839.3624661090676},{"$f":"IF(INDEX(Brandstoffacturen!$B$22:$B$29,GD!AB69)=0,0,(M31*Brandstoffacturen!$P$3+Brandstoffacturen!$G$3)*(1+INDEX(Brandstoffacturen!$F$3:$F$14,M$39))*(1-INDEX(Brandstoffacturen!$L$3:$L$14,M$39))*INDEX(Gegevens!$T$40:$T$49,GD!AB69))","v":3118.7288311492953},null,null,29,{"$f":"IF(OR(AND($A69=1,B$39=1),AND($A69=Titels!$O$12,B$39=Titels!$P$12),AND($A69=1,B$39=5),AND($A69=Titels!$O$14,B$39=Titels!$P$14),AND($A69=Titels!$O$15,B$39=Titels!$P$15),AND($A69=21,B$39=7),AND($A69=15,B$39=8),AND($A69=1,B$39=11),AND($A69=11,B$39=11),AND($A69=25,B$39=12)),8,WEEKDAY(CONCATENATE($P69,\"/\",B$39,\"/\",$B$1),2))","v":2},{"$f":"IF(I1=1,IF(OR(AND($A69=1,C$39=1),AND($A69=Titels!$O$12,C$39=Titels!$P$12),AND($A69=1,C$39=5),AND($A69=Titels!$O$14,C$39=Titels!$P$14),AND($A69=Titels!$O$15,C$39=Titels!$P$15),AND($A69=21,C$39=7),AND($A69=15,C$39=8),AND($A69=1,C$39=11),AND($A69=11,C$39=11),AND($A69=25,C$39=12)),8,WEEKDAY(CONCATENATE($P69,\"/\",C$39,\"/\",$B$1),2)),\"\")","v":""},{"$f":"IF(OR(AND($A69=1,D$39=1),AND($A69=Titels!$O$12,D$39=Titels!$P$12),AND($A69=1,D$39=5),AND($A69=Titels!$O$14,D$39=Titels!$P$14),AND($A69=Titels!$O$15,D$39=Titels!$P$15),AND($A69=21,D$39=7),AND($A69=15,D$39=8),AND($A69=1,D$39=11),AND($A69=11,D$39=11),AND($A69=25,D$39=12)),8,WEEKDAY(CONCATENATE($P69,\"/\",D$39,\"/\",$B$1),2))","v":5},{"$f":"IF(OR(AND($A69=1,E$39=1),AND($A69=Titels!$O$12,E$39=Titels!$P$12),AND($A69=1,E$39=5),AND($A69=Titels!$O$14,E$39=Titels!$P$14),AND($A69=Titels!$O$15,E$39=Titels!$P$15),AND($A69=21,E$39=7),AND($A69=15,E$39=8),AND($A69=1,E$39=11),AND($A69=11,E$39=11),AND($A69=25,E$39=12)),8,WEEKDAY(CONCATENATE($P69,\"/\",E$39,\"/\",$B$1),2))","v":1},{"$f":"IF(OR(AND($A69=1,F$39=1),AND($A69=Titels!$O$12,F$39=Titels!$P$12),AND($A69=1,F$39=5),AND($A69=Titels!$O$14,F$39=Titels!$P$14),AND($A69=Titels!$O$15,F$39=Titels!$P$15),AND($A69=21,F$39=7),AND($A69=15,F$39=8),AND($A69=1,F$39=11),AND($A69=11,F$39=11),AND($A69=25,F$39=12)),8,WEEKDAY(CONCATENATE($P69,\"/\",F$39,\"/\",$B$1),2))","v":3},{"$f":"IF(OR(AND($A69=1,G$39=1),AND($A69=Titels!$O$12,G$39=Titels!$P$12),AND($A69=1,G$39=5),AND($A69=Titels!$O$14,G$39=Titels!$P$14),AND($A69=Titels!$O$15,G$39=Titels!$P$15),AND($A69=21,G$39=7),AND($A69=15,G$39=8),AND($A69=1,G$39=11),AND($A69=11,G$39=11),AND($A69=25,G$39=12)),8,WEEKDAY(CONCATENATE($P69,\"/\",G$39,\"/\",$B$1),2))","v":6},{"$f":"IF(OR(AND($A69=1,H$39=1),AND($A69=Titels!$O$12,H$39=Titels!$P$12),AND($A69=1,H$39=5),AND($A69=Titels!$O$14,H$39=Titels!$P$14),AND($A69=Titels!$O$15,H$39=Titels!$P$15),AND($A69=21,H$39=7),AND($A69=15,H$39=8),AND($A69=1,H$39=11),AND($A69=11,H$39=11),AND($A69=25,H$39=12)),8,WEEKDAY(CONCATENATE($P69,\"/\",H$39,\"/\",$B$1),2))","v":1},{"$f":"IF(OR(AND($A69=1,I$39=1),AND($A69=Titels!$O$12,I$39=Titels!$P$12),AND($A69=1,I$39=5),AND($A69=Titels!$O$14,I$39=Titels!$P$14),AND($A69=Titels!$O$15,I$39=Titels!$P$15),AND($A69=21,I$39=7),AND($A69=15,I$39=8),AND($A69=1,I$39=11),AND($A69=11,I$39=11),AND($A69=25,I$39=12)),8,WEEKDAY(CONCATENATE($P69,\"/\",I$39,\"/\",$B$1),2))","v":4},{"$f":"IF(OR(AND($A69=1,J$39=1),AND($A69=Titels!$O$12,J$39=Titels!$P$12),AND($A69=1,J$39=5),AND($A69=Titels!$O$14,J$39=Titels!$P$14),AND($A69=Titels!$O$15,J$39=Titels!$P$15),AND($A69=21,J$39=7),AND($A69=15,J$39=8),AND($A69=1,J$39=11),AND($A69=11,J$39=11),AND($A69=25,J$39=12)),8,WEEKDAY(CONCATENATE($P69,\"/\",J$39,\"/\",$B$1),2))","v":7},{"$f":"IF(OR(AND($A69=1,K$39=1),AND($A69=Titels!$O$12,K$39=Titels!$P$12),AND($A69=1,K$39=5),AND($A69=Titels!$O$14,K$39=Titels!$P$14),AND($A69=Titels!$O$15,K$39=Titels!$P$15),AND($A69=21,K$39=7),AND($A69=15,K$39=8),AND($A69=1,K$39=11),AND($A69=11,K$39=11),AND($A69=25,K$39=12)),8,WEEKDAY(CONCATENATE($P69,\"/\",K$39,\"/\",$B$1),2))","v":2},{"$f":"IF(OR(AND($A69=1,L$39=1),AND($A69=Titels!$O$12,L$39=Titels!$P$12),AND($A69=1,L$39=5),AND($A69=Titels!$O$14,L$39=Titels!$P$14),AND($A69=Titels!$O$15,L$39=Titels!$P$15),AND($A69=21,L$39=7),AND($A69=15,L$39=8),AND($A69=1,L$39=11),AND($A69=11,L$39=11),AND($A69=25,L$39=12)),8,WEEKDAY(CONCATENATE($P69,\"/\",L$39,\"/\",$B$1),2))","v":5},{"$f":"IF(OR(AND($A69=1,M$39=1),AND($A69=Titels!$O$12,M$39=Titels!$P$12),AND($A69=1,M$39=5),AND($A69=Titels!$O$14,M$39=Titels!$P$14),AND($A69=Titels!$O$15,M$39=Titels!$P$15),AND($A69=21,M$39=7),AND($A69=15,M$39=8),AND($A69=1,M$39=11),AND($A69=11,M$39=11),AND($A69=25,M$39=12)),8,WEEKDAY(CONCATENATE($P69,\"/\",M$39,\"/\",$B$1),2))","v":7}]
[30,{"$f":"IF(INDEX(Brandstoffacturen!$B$22:$B$29,GD!Q70)=0,0,(B32*Brandstoffacturen!$P$3+Brandstoffacturen!$G$3)*(1+INDEX(Brandstoffacturen!$F$3:$F$14,B$39))*(1-INDEX(Brandstoffacturen!$L$3:$L$14,B$39))*INDEX(Gegevens!$T$40:$T$49,GD!Q70))","v":2993.3690444760882},null,{"$f":"IF(INDEX(Brandstoffacturen!$B$22:$B$29,GD!S70)=0,0,(D32*Brandstoffacturen!$P$3+Brandstoffacturen!$G$3)*(1+INDEX(Brandstoffacturen!$F$3:$F$14,D$39))*(1-INDEX(Brandstoffacturen!$L$3:$L$14,D$39))*INDEX(Gegevens!$T$40:$T$49,GD!S70))","v":2131.1184489225006},{"$f":"IF(INDEX(Brandstoffacturen!$B$22:$B$29,GD!T70)=0,0,(E32*Brandstoffacturen!$P$3+Brandstoffacturen!$G$3)*(1+INDEX(Brandstoffacturen!$F$3:$F$14,E$39))*(1-INDEX(Brandstoffacturen!$L$3:$L$14,E$39))*INDEX(Gegevens!$T$40:$T$49,GD!T70))","v":1735.1445296626332},{"$f":"IF(INDEX(Brandstoffacturen!$B$22:$B$29,GD!U70)=0,0,(F32*Brandstoffacturen!$P$3+Brandstoffacturen!$G$3)*(1+INDEX(Brandstoffacturen!$F$3:$F$14,F$39))*(1-INDEX(Brandstoffacturen!$L$3:$L$14,F$39))*INDEX(Gegevens!$T$40:$T$49,GD!U70))","v":1494.1058726349756},{"$f":"IF(INDEX(Brandstoffacturen!$B$22:$B$29,GD!V70)=0,0,(G32*Brandstoffacturen!$P$3+Brandstoffacturen!$G$3)*(1+INDEX(Brandstoffacturen!$F$3:$F$14,G$39))*(1-INDEX(Brandstoffacturen!$L$3:$L$14,G$39))*INDEX(Gegevens!$T$40:$T$49,GD!V70))","v":1423.4237353940121},{"$f":"IF(INDEX(Brandstoffacturen!$B$22:$B$29,GD!W70)=0,0,(H32*Brandstoffacturen!$P$3+Brandstoffacturen!$G$3)*(1+INDEX(Brandstoffacturen!$F$3:$F$14,H$39))*(1-INDEX(Brandstoffacturen!$L$3:$L$14,H$39))*INDEX(Gegevens!$T$40:$T$49,GD!W70))","v":1444.5650630025289},{"$f":"IF(INDEX(Brandstoffacturen!$B$22:$B$29,GD!X70)=0,0,(I32*Brandstoffacturen!$P$3+Brandstoffacturen!$G$3)*(1+INDEX(Brandstoffacturen!$F$3:$F$14,I$39))*(1-INDEX(Brandstoffacturen!$L$3:$L$14,I$39))*INDEX(Gegevens!$T$40:$T$49,GD!X70))","v":1622.7924030552142},{"$f":"IF(INDEX(Brandstoffacturen!$B$22:$B$29,GD!Y70)=0,0,(J32*Brandstoffacturen!$P$3+Brandstoffacturen!$G$3)*(1+INDEX(Brandstoffacturen!$F$3:$F$14,J$39))*(1-INDEX(Brandstoffacturen!$L$3:$L$14,J$39))*INDEX(Gegevens!$T$40:$T$49,GD!Y70))","v":2155.6718282457809},{"$f":"IF(INDEX(Brandstoffacturen!$B$22:$B$29,GD!Z70)=0,0,(K32*Brandstoffacturen!$P$3+Brandstoffacturen!$G$3)*(1+INDEX(Brandstoffacturen!$F$3:$F$14,K$39))*(1-INDEX(Brandstoffacturen!$L$3:$L$14,K$39))*INDEX(Gegevens!$T$40:$T$49,GD!Z70))","v":3670.6142245130745},{"$f":"IF(INDEX(Brandstoffacturen!$B$22:$B$29,GD!AA70)=0,0,(L32*Brandstoffacturen!$P$3+Brandstoffacturen!$G$3)*(1+INDEX(Brandstoffacturen!$F$3:$F$14,L$39))*(1-INDEX(Brandstoffacturen!$L$3:$L$14,L$39))*INDEX(Gegevens!$T$40:$T$49,GD!AA70))","v":3169.6368486361275},{"$f":"IF(INDEX(Brandstoffacturen!$B$22:$B$29,GD!AB70)=0,0,(M32*Brandstoffacturen!$P$3+Brandstoffacturen!$G$3)*(1+INDEX(Brandstoffacturen!$F$3:$F$14,M$39))*(1-INDEX(Brandstoffacturen!$L$3:$L$14,M$39))*INDEX(Gegevens!$T$40:$T$49,GD!AB70))","v":2800.6170498316337},null,null,30,{"$f":"IF(OR(AND($A70=1,B$39=1),AND($A70=Titels!$O$12,B$39=Titels!$P$12),AND($A70=1,B$39=5),AND($A70=Titels!$O$14,B$39=Titels!$P$14),AND($A70=Titels!$O$15,B$39=Titels!$P$15),AND($A70=21,B$39=7),AND($A70=15,B$39=8),AND($A70=1,B$39=11),AND($A70=11,B$39=11),AND($A70=25,B$39=12)),8,WEEKDAY(CONCATENATE($P70,\"/\",B$39,\"/\",$B$1),2))","v":3},null,{"$f":"IF(OR(AND($A70=1,D$39=1),AND($A70=Titels!$O$12,D$39=Titels!$P$12),AND($A70=1,D$39=5),AND($A70=Titels!$O$14,D$39=Titels!$P$14),AND($A70=Titels!$O$15,D$39=Titels!$P$15),AND($A70=21,D$39=7),AND($A70=15,D$39=8),AND($A70=1,D$39=11),AND($A70=11,D$39=11),AND($A70=25,D$39=12)),8,WEEKDAY(CONCATENATE($P70,\"/\",D$39,\"/\",$B$1),2))","v":6},{"$f":"IF(OR(AND($A70=1,E$39=1),AND($A70=Titels!$O$12,E$39=Titels!$P$12),AND($A70=1,E$39=5),AND($A70=Titels!$O$14,E$39=Titels!$P$14),AND($A70=Titels!$O$15,E$39=Titels!$P$15),AND($A70=21,E$39=7),AND($A70=15,E$39=8),AND($A70=1,E$39=11),AND($A70=11,E$39=11),AND($A70=25,E$39=12)),8,WEEKDAY(CONCATENATE($P70,\"/\",E$39,\"/\",$B$1),2))","v":2},{"$f":"IF(OR(AND($A70=1,F$39=1),AND($A70=Titels!$O$12,F$39=Titels!$P$12),AND($A70=1,F$39=5),AND($A70=Titels!$O$14,F$39=Titels!$P$14),AND($A70=Titels!$O$15,F$39=Titels!$P$15),AND($A70=21,F$39=7),AND($A70=15,F$39=8),AND($A70=1,F$39=11),AND($A70=11,F$39=11),AND($A70=25,F$39=12)),8,WEEKDAY(CONCATENATE($P70,\"/\",F$39,\"/\",$B$1),2))","v":4},{"$f":"IF(OR(AND($A70=1,G$39=1),AND($A70=Titels!$O$12,G$39=Titels!$P$12),AND($A70=1,G$39=5),AND($A70=Titels!$O$14,G$39=Titels!$P$14),AND($A70=Titels!$O$15,G$39=Titels!$P$15),AND($A70=21,G$39=7),AND($A70=15,G$39=8),AND($A70=1,G$39=11),AND($A70=11,G$39=11),AND($A70=25,G$39=12)),8,WEEKDAY(CONCATENATE($P70,\"/\",G$39,\"/\",$B$1),2))","v":7},{"$f":"IF(OR(AND($A70=1,H$39=1),AND($A70=Titels!$O$12,H$39=Titels!$P$12),AND($A70=1,H$39=5),AND($A70=Titels!$O$14,H$39=Titels!$P$14),AND($A70=Titels!$O$15,H$39=Titels!$P$15),AND($A70=21,H$39=7),AND($A70=15,H$39=8),AND($A70=1,H$39=11),AND($A70=11,H$39=11),AND($A70=25,H$39=12)),8,WEEKDAY(CONCATENATE($P70,\"/\",H$39,\"/\",$B$1),2))","v":2},{"$f":"IF(OR(AND($A70=1,I$39=1),AND($A70=Titels!$O$12,I$39=Titels!$P$12),AND($A70=1,I$39=5),AND($A70=Titels!$O$14,I$39=Titels!$P$14),AND($A70=Titels!$O$15,I$39=Titels!$P$15),AND($A70=21,I$39=7),AND($A70=15,I$39=8),AND($A70=1,I$39=11),AND($A70=11,I$39=11),AND($A70=25,I$39=12)),8,WEEKDAY(CONCATENATE($P70,\"/\",I$39,\"/\",$B$1),2))","v":5},{"$f":"IF(OR(AND($A70=1,J$39=1),AND($A70=Titels!$O$12,J$39=Titels!$P$12),AND($A70=1,J$39=5),AND($A70=Titels!$O$14,J$39=Titels!$P$14),AND($A70=Titels!$O$15,J$39=Titels!$P$15),AND($A70=21,J$39=7),AND($A70=15,J$39=8),AND($A70=1,J$39=11),AND($A70=11,J$39=11),AND($A70=25,J$39=12)),8,WEEKDAY(CONCATENATE($P70,\"/\",J$39,\"/\",$B$1),2))","v":1},{"$f":"IF(OR(AND($A70=1,K$39=1),AND($A70=Titels!$O$12,K$39=Titels!$P$12),AND($A70=1,K$39=5),AND($A70=Titels!$O$14,K$39=Titels!$P$14),AND($A70=Titels!$O$15,K$39=Titels!$P$15),AND($A70=21,K$39=7),AND($A70=15,K$39=8),AND($A70=1,K$39=11),AND($A70=11,K$39=11),AND($A70=25,K$39=12)),8,WEEKDAY(CONCATENATE($P70,\"/\",K$39,\"/\",$B$1),2))","v":3},{"$f":"IF(OR(AND($A70=1,L$39=1),AND($A70=Titels!$O$12,L$39=Titels!$P$12),AND($A70=1,L$39=5),AND($A70=Titels!$O$14,L$39=Titels!$P$14),AND($A70=Titels!$O$15,L$39=Titels!$P$15),AND($A70=21,L$39=7),AND($A70=15,L$39=8),AND($A70=1,L$39=11),AND($A70=11,L$39=11),AND($A70=25,L$39=12)),8,WEEKDAY(CONCATENATE($P70,\"/\",L$39,\"/\",$B$1),2))","v":6},{"$f":"IF(OR(AND($A70=1,M$39=1),AND($A70=Titels!$O$12,M$39=Titels!$P$12),AND($A70=1,M$39=5),AND($A70=Titels!$O$14,M$39=Titels!$P$14),AND($A70=Titels!$O$15,M$39=Titels!$P$15),AND($A70=21,M$39=7),AND($A70=15,M$39=8),AND($A70=1,M$39=11),AND($A70=11,M$39=11),AND($A70=25,M$39=12)),8,WEEKDAY(CONCATENATE($P70,\"/\",M$39,\"/\",$B$1),2))","v":1}]
[31,{"$f":"IF(INDEX(Brandstoffacturen!$B$22:$B$29,GD!Q71)=0,0,(B33*Brandstoffacturen!$P$3+Brandstoffacturen!$G$3)*(1+INDEX(Brandstoffacturen!$F$3:$F$14,B$39))*(1-INDEX(Brandstoffacturen!$L$3:$L$14,B$39))*INDEX(Gegevens!$T$40:$T$49,GD!Q71))","v":3209.0632343676075},null,{"$f":"IF(INDEX(Brandstoffacturen!$B$22:$B$29,GD!S71)=0,0,(D33*Brandstoffacturen!$P$3+Brandstoffacturen!$G$3)*(1+INDEX(Brandstoffacturen!$F$3:$F$14,D$39))*(1-INDEX(Brandstoffacturen!$L$3:$L$14,D$39))*INDEX(Gegevens!$T$40:$T$49,GD!S71))","v":2510.1199285308685},null,{"$f":"IF(INDEX(Brandstoffacturen!$B$22:$B$29,GD!U71)=0,0,(F33*Brandstoffacturen!$P$3+Brandstoffacturen!$G$3)*(1+INDEX(Brandstoffacturen!$F$3:$F$14,F$39))*(1-INDEX(Brandstoffacturen!$L$3:$L$14,F$39))*INDEX(Gegevens!$T$40:$T$49,GD!U71))","v":1494.1058726349756},null,{"$f":"IF(INDEX(Brandstoffacturen!$B$22:$B$29,GD!W71)=0,0,(H33*Brandstoffacturen!$P$3+Brandstoffacturen!$G$3)*(1+INDEX(Brandstoffacturen!$F$3:$F$14,H$39))*(1-INDEX(Brandstoffacturen!$L$3:$L$14,H$39))*INDEX(Gegevens!$T$40:$T$49,GD!W71))","v":1444.5650630025289},{"$f":"IF(INDEX(Brandstoffacturen!$B$22:$B$29,GD!X71)=0,0,(I33*Brandstoffacturen!$P$3+Brandstoffacturen!$G$3)*(1+INDEX(Brandstoffacturen!$F$3:$F$14,I$39))*(1-INDEX(Brandstoffacturen!$L$3:$L$14,I$39))*INDEX(Gegevens!$T$40:$T$49,GD!X71))","v":1622.7924030552142},null,{"$f":"IF(INDEX(Brandstoffacturen!$B$22:$B$29,GD!Z71)=0,0,(K33*Brandstoffacturen!$P$3+Brandstoffacturen!$G$3)*(1+INDEX(Brandstoffacturen!$F$3:$F$14,K$39))*(1-INDEX(Brandstoffacturen!$L$3:$L$14,K$39))*INDEX(Gegevens!$T$40:$T$49,GD!Z71))","v":3684.9911747832994},null,{"$f":"IF(INDEX(Brandstoffacturen!$B$22:$B$29,GD!AB71)=0,0,(M33*Brandstoffacturen!$P$3+Brandstoffacturen!$G$3)*(1+INDEX(Brandstoffacturen!$F$3:$F$14,M$39))*(1-INDEX(Brandstoffacturen!$L$3:$L$14,M$39))*INDEX(Gegevens!$T$40:$T$49,GD!AB71))","v":2965.1576263752518},null,null,31,{"$f":"IF(OR(AND($A71=1,B$39=1),AND($A71=Titels!$O$12,B$39=Titels!$P$12),AND($A71=1,B$39=5),AND($A71=Titels!$O$14,B$39=Titels!$P$14),AND($A71=Titels!$O$15,B$39=Titels!$P$15),AND($A71=21,B$39=7),AND($A71=15,B$39=8),AND($A71=1,B$39=11),AND($A71=11,B$39=11),AND($A71=25,B$39=12)),8,WEEKDAY(CONCATENATE($P71,\"/\",B$39,\"/\",$B$1),2))","v":4},null,{"$f":"IF(OR(AND($A71=1,D$39=1),AND($A71=Titels!$O$12,D$39=Titels!$P$12),AND($A71=1,D$39=5),AND($A71=Titels!$O$14,D$39=Titels!$P$14),AND($A71=Titels!$O$15,D$39=Titels!$P$15),AND($A71=21,D$39=7),AND($A71=15,D$39=8),AND($A71=1,D$39=11),AND($A71=11,D$39=11),AND($A71=25,D$39=12)),8,WEEKDAY(CONCATENATE($P71,\"/\",D$39,\"/\",$B$1),2))","v":7},null,{"$f":"IF(OR(AND($A71=1,F$39=1),AND($A71=Titels!$O$12,F$39=Titels!$P$12),AND($A71=1,F$39=5),AND($A71=Titels!$O$14,F$39=Titels!$P$14),AND($A71=Titels!$O$15,F$39=Titels!$P$15),AND($A71=21,F$39=7),AND($A71=15,F$39=8),AND($A71=1,F$39=11),AND($A71=11,F$39=11),AND($A71=25,F$39=12)),8,WEEKDAY(CONCATENATE($P71,\"/\",F$39,\"/\",$B$1),2))","v":5},null,{"$f":"IF(OR(AND($A71=1,H$39=1),AND($A71=Titels!$O$12,H$39=Titels!$P$12),AND($A71=1,H$39=5),AND($A71=Titels!$O$14,H$39=Titels!$P$14),AND($A71=Titels!$O$15,H$39=Titels!$P$15),AND($A71=21,H$39=7),AND($A71=15,H$39=8),AND($A71=1,H$39=11),AND($A71=11,H$39=11),AND($A71=25,H$39=12)),8,WEEKDAY(CONCATENATE($P71,\"/\",H$39,\"/\",$B$1),2))","v":3},{"$f":"IF(OR(AND($A71=1,I$39=1),AND($A71=Titels!$O$12,I$39=Titels!$P$12),AND($A71=1,I$39=5),AND($A71=Titels!$O$14,I$39=Titels!$P$14),AND($A71=Titels!$O$15,I$39=Titels!$P$15),AND($A71=21,I$39=7),AND($A71=15,I$39=8),AND($A71=1,I$39=11),AND($A71=11,I$39=11),AND($A71=25,I$39=12)),8,WEEKDAY(CONCATENATE($P71,\"/\",I$39,\"/\",$B$1),2))","v":6},null,{"$f":"IF(OR(AND($A71=1,K$39=1),AND($A71=Titels!$O$12,K$39=Titels!$P$12),AND($A71=1,K$39=5),AND($A71=Titels!$O$14,K$39=Titels!$P$14),AND($A71=Titels!$O$15,K$39=Titels!$P$15),AND($A71=21,K$39=7),AND($A71=15,K$39=8),AND($A71=1,K$39=11),AND($A71=11,K$39=11),AND($A71=25,K$39=12)),8,WEEKDAY(CONCATENATE($P71,\"/\",K$39,\"/\",$B$1),2))","v":4},null,{"$f":"IF(OR(AND($A71=1,M$39=1),AND($A71=Titels!$O$12,M$39=Titels!$P$12),AND($A71=1,M$39=5),AND($A71=Titels!$O$14,M$39=Titels!$P$14),AND($A71=Titels!$O$15,M$39=Titels!$P$15),AND($A71=21,M$39=7),AND($A71=15,M$39=8),AND($A71=1,M$39=11),AND($A71=11,M$39=11),AND($A71=25,M$39=12)),8,WEEKDAY(CONCATENATE($P71,\"/\",M$39,\"/\",$B$1),2))","v":2}]
[null,{"$f":"SUM(B41:B71)","v":83999.999999999956},{"$f":"SUM(C41:C71)","v":78440.801254518214},83999.999999999971,54589.666510731251,55999.999999999985,43376.576264605974,44799.999999999978,50400.000000000015,65111.144836822226,83999.999999999985,82219.793312339782,83999.999999999985]
["week",null,null,null,null,null,null,null,null,null,null,null,null,null,null,null,null,null,null,null,{"$f":"IF(MONTH(INDEX(Titels!$E$14:$J$14,Gegevens!$B$19))=5,WEEKDAY(INDEX(Titels!$E14:$J14,Gegevens!$B$19),2),0)","v":4},{"$f":"IF(MONTH(INDEX(Titels!$E$14:$J$14,Gegevens!$B$19))=6,WEEKDAY(INDEX(Titels!$E14:$J14,Gegevens!$B$19),2),0)","v":0}]
["dagen","januari","februari","maart","april","mei","juni","juli","augustus","september","oktober","november","december",null,null,"feestdag",{"$f":"WEEKDAY(INDEX(Titels!$E11:$J11,Gegevens!$B$19),2)","v":7},null,{"$f":"IF(MONTH(INDEX(Titels!$E$12:$J$12,Gegevens!$B$19))=3,WEEKDAY(INDEX(Titels!$E12:$J12,Gegevens!$B$19),2),0)","v":0},{"$f":"IF(MONTH(INDEX(Titels!$E$12:$J$12,Gegevens!$B$19))=4,WEEKDAY(INDEX(Titels!$E12:$J12,Gegevens!$B$19),2),0)","v":1},{"$f":"WEEKDAY(INDEX(Titels!$E13:$J13,Gegevens!$B$19),2)","v":1},null,{"$f":"WEEKDAY(INDEX(Titels!$E16:$J16,Gegevens!$B$19),2)","v":5},{"$f":"WEEKDAY(INDEX(Titels!$E17:$J17,Gegevens!$B$19),2)","v":2},null,null,{"$f":"WEEKDAY(INDEX(Titels!$E18:$J18,Gegevens!$B$19),2)","v":3},{"$f":"WEEKDAY(INDEX(Titels!$E20:$J20,Gegevens!$B$19),2)","v":1}]
[1,{"$f":"INDEX(Brandstoffacturen!$B$22:$B$29,Q41)","v":4062.5000000000005},{"$f":"INDEX(Brandstoffacturen!$B$22:$B$29,R41)","v":3375.0000000000032},{"$f":"INDEX(Brandstoffacturen!$B$22:$B$29,S41)","v":3375.0000000000032},{"$f":"INDEX(Brandstoffacturen!$B$22:$B$29,T41)","v":3375.0000000000032},{"$f":"INDEX(Brandstoffacturen!$B$22:$B$29,U41)","v":4062.5000000000005},{"$f":"INDEX(Brandstoffacturen!$B$22:$B$29,V41)","v":4062.5000000000005},{"$f":"INDEX(Brandstoffacturen!$B$22:$B$29,W41)","v":3375.0000000000032},{"$f":"INDEX(Brandstoffacturen!$B$22:$B$29,X41)","v":3375.0000000000032},{"$f":"INDEX(Brandstoffacturen!$B$22:$B$29,Y41)","v":4062.5000000000005},{"$f":"INDEX(Brandstoffacturen!$B$22:$B$29,Z41)","v":3375.0000000000032},{"$f":"INDEX(Brandstoffacturen!$B$22:$B$29,AA41)","v":4062.5000000000005},{"$f":"INDEX(Brandstoffacturen!$B$22:$B$29,AB41)","v":4062.5000000000005},null,null,null,null,null,null,null,{"$f":"IF(MONTH(INDEX(Titels!$E$15:$J$15,Gegevens!$B$19))=5,WEEKDAY(INDEX(Titels!$E15:$J15,Gegevens!$B$19),2),0)","v":0},{"$f":"IF(MONTH(INDEX(Titels!$E$15:$J$15,Gegevens!$B$19))=6,WEEKDAY(INDEX(Titels!$E15:$J15,Gegevens!$B$19),2),0)","v":1},null,null,null,null,{"$f":"WEEKDAY(INDEX(Titels!$E19:$J19,Gegevens!$B$19),2)","v":6}]
[2,{"$f":"INDEX(Brandstoffacturen!$B$22:$B$29,Q42)","v":3375.0000000000032},{"$f":"INDEX(Brandstoffacturen!$B$22:$B$29,R42)","v":4062.5000000000005},{"$f":"INDEX(Brandstoffacturen!$B$22:$B$29,S42)","v":4062.5000000000005},{"$f":"INDEX(Brandstoffacturen!$B$22:$B$29,T42)","v":3375.0000000000032},{"$f":"INDEX(Brandstoffacturen!$B$22:$B$29,U42)","v":3375.0000000000032},{"$f":"INDEX(Brandstoffacturen!$B$22:$B$29,V42)","v":4062.5000000000005},{"$f":"INDEX(Brandstoffacturen!$B$22:$B$29,W42)","v":3375.0000000000032},{"$f":"INDEX(Brandstoffacturen!$B$22:$B$29,X42)","v":3375.0000000000032},{"$f":"INDEX(Brandstoffacturen!$B$22:$B$29,Y42)","v":3375.0000000000032},{"$f":"INDEX(Brandstoffacturen!$B$22:$B$29,Z42)","v":3375.0000000000032},{"$f":"INDEX(Brandstoffacturen!$B$22:$B$29,AA42)","v":4062.5000000000005},{"$f":"INDEX(Brandstoffacturen!$B$22:$B$29,AB42)","v":3375.0000000000032},null,1,"maandag",{"$f":"SUMIF(Q$41:Q$71,$O76)/$O76-IF(Q$74=$O76,1,0)","v":4},{"$f":"SUMIF(R$41:R$71,$O76)/$O76-IF(R$74=$O76,1,0)","v":4},4,4,{"$f":"SUMIF(U$41:U$71,$O76)/$O76-IF(U$74=$O76,1,0)-IF(U$75=$O76,1,0)-IF(U$73=$O76,1,0)","v":3},{"$f":"SUMIF(V$41:V$71,$O76)/$O76-IF(V$74=$O76,1,0)-IF(V$75=$O76,1,0)","v":3},5,4,5,4,{"$f":"SUMIF(AA$41:AA$71,$O76)/$O76-IF(AA$74=$O76,1,0)-IF(AA$75=$O76,1,0)","v":3},4,{"$f":"SUM(Q76:AB76)","v":47}]
[3,{"$f":"INDEX(Brandstoffacturen!$B$22:$B$29,Q43)","v":3375.0000000000032},{"$f":"INDEX(Brandstoffacturen!$B$22:$B$29,R43)","v":4062.5000000000005},{"$f":"INDEX(Brandstoffacturen!$B$22:$B$29,S43)","v":4062.5000000000005},{"$f":"INDEX(Brandstoffacturen!$B$22:$B$29,T43)","v":3375.0000000000032},{"$f":"INDEX(Brandstoffacturen!$B$22:$B$29,U43)","v":3375.0000000000032},{"$f":"INDEX(Brandstoffacturen!$B$22:$B$29,V43)","v":3375.0000000000032},{"$f":"INDEX(Brandstoffacturen!$B$22:$B$29,W43)","v":3375.0000000000032},{"$f":"INDEX(Brandstoffacturen!$B$22:$B$29,X43)","v":4062.5000000000005},{"$f":"INDEX(Brandstoffacturen!$B$22:$B$29,Y43)","v":3375.0000000000032},{"$f":"INDEX(Brandstoffacturen!$B$22:$B$29,Z43)","v":3375.0000000000032},{"$f":"INDEX(Brandstoffacturen!$B$22:$B$29,AA43)","v":4062.5000000000005},{"$f":"INDEX(Brandstoffacturen!$B$22:$B$29,AB43)","v":3375.0000000000032},null,2,"dinsdag",4,4,4,5,{"$f":"SUMIF(U$41:U$71,$O77)/$O77-IF(U$74=$O77,1,0)-IF(U$75=$O77,1,0)-IF(U$73=$O77,1,0)","v":4},4,5,3,4,5,{"$f":"SUMIF(AA$41:AA$71,$O77)/$O77-IF(AA$74=$O77,1,0)-IF(AA$75=$O77,1,0)","v":4},5,{"$f":"SUM(Q77:AB77)","v":51}]
[4,{"$f":"INDEX(Brandstoffacturen!$B$22:$B$29,Q44)","v":3375.0000000000032},{"$f":"INDEX(Brandstoffacturen!$B$22:$B$29,R44)","v":3375.0000000000032},{"$f":"INDEX(Brandstoffacturen!$B$22:$B$29,S44)","v":3375.0000000000032},{"$f":"INDEX(Brandstoffacturen!$B$22:$B$29,T44)","v":3375.0000000000032},{"$f":"INDEX(Brandstoffacturen!$B$22:$B$29,U44)","v":4062.5000000000005},{"$f":"INDEX(Brandstoffacturen!$B$22:$B$29,V44)","v":3375.0000000000032},{"$f":"INDEX(Brandstoffacturen!$B$22:$B$29,W44)","v":3375.0000000000032},{"$f":"INDEX(Brandstoffacturen!$B$22:$B$29,X44)","v":4062.5000000000005},{"$f":"INDEX(Brandstoffacturen!$B$22:$B$29,Y44)","v":3375.0000000000032},{"$f":"INDEX(Brandstoffacturen!$B$22:$B$29,Z44)","v":3375.0000000000032},{"$f":"INDEX(Brandstoffacturen!$B$22:$B$29,AA44)","v":3375.0000000000032},{"$f":"INDEX(Brandstoffacturen!$B$22:$B$29,AB44)","v":3375.0000000000032},null,3,"woensdag",5,4,4,4,4,4,5,4,4,5,3,3,49]
[5,{"$f":"INDEX(Brandstoffacturen!$B$22:$B$29,Q45)","v":4062.5000000000005},{"$f":"INDEX(Brandstoffacturen!$B$22:$B$29,R45)","v":3375.0000000000032},{"$f":"INDEX(Brandstoffacturen!$B$22:$B$29,S45)","v":3375.0000000000032},{"$f":"INDEX(Brandstoffacturen!$B$22:$B$29,T45)","v":3375.0000000000032},{"$f":"INDEX(Brandstoffacturen!$B$22:$B$29,U45)","v":4062.5000000000005},{"$f":"INDEX(Brandstoffacturen!$B$22:$B$29,V45)","v":3375.0000000000032},{"$f":"INDEX(Brandstoffacturen!$B$22:$B$29,W45)","v":3375.0000000000032},{"$f":"INDEX(Brandstoffacturen!$B$22:$B$29,X45)","v":3375.0000000000032},{"$f":"INDEX(Brandstoffacturen!$B$22:$B$29,Y45)","v":3375.0000000000032},{"$f":"INDEX(Brandstoffacturen!$B$22:$B$29,Z45)","v":4062.5000000000005},{"$f":"INDEX(Brandstoffacturen!$B$22:$B$29,AA45)","v":3375.0000000000032},{"$f":"INDEX(Brandstoffacturen!$B$22:$B$29,AB45)","v":3375.0000000000032},null,4,"donderdag",5,4,4,4,4,4,4,4,4,5,4,4,50]
[6,{"$f":"INDEX(Brandstoffacturen!$B$22:$B$29,Q46)","v":4062.5000000000005},{"$f":"INDEX(Brandstoffacturen!$B$22:$B$29,R46)","v":3375.0000000000032},{"$f":"INDEX(Brandstoffacturen!$B$22:$B$29,S46)","v":3375.0000000000032},{"$f":"INDEX(Brandstoffacturen!$B$22:$B$29,T46)","v":4062.5000000000005},{"$f":"INDEX(Brandstoffacturen!$B$22:$B$29,U46)","v":3375.0000000000032},{"$f":"INDEX(Brandstoffacturen!$B$22:$B$29,V46)","v":3375.0000000000032},{"$f":"INDEX(Brandstoffacturen!$B$22:$B$29,W46)","v":4062.5000000000005},{"$f":"INDEX(Brandstoffacturen!$B$22:$B$29,X46)","v":3375.0000000000032},{"$f":"INDEX(Brandstoffacturen!$B$22:$B$29,Y46)","v":3375.0000000000032},{"$f":"INDEX(Brandstoffacturen!$B$22:$B$29,Z46)","v":4062.5000000000005},{"$f":"INDEX(Brandstoffacturen!$B$22:$B$29,AA46)","v":3375.0000000000032},{"$f":"INDEX(Brandstoffacturen!$B$22:$B$29,AB46)","v":3375.0000000000032},null,5,"vrijdag",4,4,5,4,5,4,3,5,4,4,4,4,50]
[7,{"$f":"INDEX(Brandstoffacturen!$B$22:$B$29,Q47)","v":3375.0000000000032},{"$f":"INDEX(Brandstoffacturen!$B$22:$B$29,R47)","v":3375.0000000000032},{"$f":"INDEX(Brandstoffacturen!$B$22:$B$29,S47)","v":3375.0000000000032},{"$f":"INDEX(Brandstoffacturen!$B$22:$B$29,T47)","v":4062.5000000000005},{"$f":"INDEX(Brandstoffacturen!$B$22:$B$29,U47)","v":3375.0000000000032},{"$f":"INDEX(Brandstoffacturen!$B$22:$B$29,V47)","v":3375.0000000000032},{"$f":"INDEX(Brandstoffacturen!$B$22:$B$29,W47)","v":4062.5000000000005},{"$f":"INDEX(Brandstoffacturen!$B$22:$B$29,X47)","v":3375.0000000000032},{"$f":"INDEX(Brandstoffacturen!$B$22:$B$29,Y47)","v":4062.5000000000005},{"$f":"INDEX(Brandstoffacturen!$B$22:$B$29,Z47)","v":3375.0000000000032},{"$f":"INDEX(Brandstoffacturen!$B$22:$B$29,AA47)","v":3375.0000000000032},{"$f":"INDEX(Brandstoffacturen!$B$22:$B$29,AB47)","v":4062.5000000000005},null,6,"zaterdag",4,4,5,4,4,5,4,5,4,4,4,4,51]
[8,{"$f":"INDEX(Brandstoffacturen!$B$22:$B$29,Q48)","v":3375.0000000000032},{"$f":"INDEX(Brandstoffacturen!$B$22:$B$29,R48)","v":3375.0000000000032},{"$f":"INDEX(Brandstoffacturen!$B$22:$B$29,S48)","v":3375.0000000000032},{"$f":"INDEX(Brandstoffacturen!$B$22:$B$29,T48)","v":3375.0000000000032},{"$f":"INDEX(Brandstoffacturen!$B$22:$B$29,U48)","v":3375.0000000000032},{"$f":"INDEX(Brandstoffacturen!$B$22:$B$29,V48)","v":4062.5000000000005},{"$f":"INDEX(Brandstoffacturen!$B$22:$B$29,W48)","v":3375.0000000000032},{"$f":"INDEX(Brandstoffacturen!$B$22:$B$29,X48)","v":3375.0000000000032},{"$f":"INDEX(Brandstoffacturen!$B$22:$B$29,Y48)","v":4062.5000000000005},{"$f":"INDEX(Brandstoffacturen!$B$22:$B$29,Z48)","v":3375.0000000000032},{"$f":"INDEX(Brandstoffacturen!$B$22:$B$29,AA48)","v":3375.0000000000032},{"$f":"INDEX(Brandstoffacturen!$B$22:$B$29,AB48)","v":4062.5000000000005},null,7,"zondag",{"$f":"SUMIF(Q$41:Q$71,$O82)/$O82-IF(Q$74=$O82,1,0)","v":3},4,5,4,4,5,3,4,5,4,4,5,50]
[9,{"$f":"INDEX(Brandstoffacturen!$B$22:$B$29,Q49)","v":3375.0000000000032},{"$f":"INDEX(Brandstoffacturen!$B$22:$B$29,R49)","v":4062.5000000000005},{"$f":"INDEX(Brandstoffacturen!$B$22:$B$29,S49)","v":4062.5000000000005},{"$f":"INDEX(Brandstoffacturen!$B$22:$B$29,T49)","v":3375.0000000000032},{"$f":"INDEX(Brandstoffacturen!$B$22:$B$29,U49)","v":3375.0000000000032},{"$f":"INDEX(Brandstoffacturen!$B$22:$B$29,V49)","v":4062.5000000000005},{"$f":"INDEX(Brandstoffacturen!$B$22:$B$29,W49)","v":3375.0000000000032},{"$f":"INDEX(Brandstoffacturen!$B$22:$B$29,X49)","v":3375.0000000000032},{"$f":"INDEX(Brandstoffacturen!$B$22:$B$29,Y49)","v":3375.0000000000032},{"$f":"INDEX(Brandstoffacturen!$B$22:$B$29,Z49)","v":3375.0000000000032},{"$f":"INDEX(Brandstoffacturen!$B$22:$B$29,AA49)","v":4062.5000000000005},{"$f":"INDEX(Brandstoffacturen!$B$22:$B$29,AB49)","v":3375.0000000000032},null,null,null,{"$f":"SUM(Q76:Q82)","v":29},{"$f":"SUM(R76:R82)","v":28},31,29,28,29,29,29,30,31,26,29,348]
[10,{"$f":"INDEX(Brandstoffacturen!$B$22:$B$29,Q50)","v":3375.0000000000032},{"$f":"INDEX(Brandstoffacturen!$B$22:$B$29,R50)","v":4062.5000000000005},{"$f":"INDEX(Brandstoffacturen!$B$22:$B$29,S50)","v":4062.5000000000005},{"$f":"INDEX(Brandstoffacturen!$B$22:$B$29,T50)","v":3375.0000000000032},{"$f":"INDEX(Brandstoffacturen!$B$22:$B$29,U50)","v":3375.0000000000032},{"$f":"INDEX(Brandstoffacturen!$B$22:$B$29,V50)","v":3375.0000000000032},{"$f":"INDEX(Brandstoffacturen!$B$22:$B$29,W50)","v":3375.0000000000032},{"$f":"INDEX(Brandstoffacturen!$B$22:$B$29,X50)","v":4062.5000000000005},{"$f":"INDEX(Brandstoffacturen!$B$22:$B$29,Y50)","v":3375.0000000000032},{"$f":"INDEX(Brandstoffacturen!$B$22:$B$29,Z50)","v":3375.0000000000032},{"$f":"INDEX(Brandstoffacturen!$B$22:$B$29,AA50)","v":4062.5000000000005},{"$f":"INDEX(Brandstoffacturen!$B$22:$B$29,AB50)","v":3375.0000000000032},null,null,null,null,null,null,null,{"$f":"Titels!O13","v":1},null,null,null,null,null,{"$f":"Titels!O18","v":1}]
[11,{"$f":"INDEX(Brandstoffacturen!$B$22:$B$29,Q51)","v":3375.0000000000032},{"$f":"INDEX(Brandstoffacturen!$B$22:$B$29,R51)","v":3375.0000000000032},{"$f":"INDEX(Brandstoffacturen!$B$22:$B$29,S51)","v":3375.0000000000032},{"$f":"INDEX(Brandstoffacturen!$B$22:$B$29,T51)","v":3375.0000000000032},{"$f":"INDEX(Brandstoffacturen!$B$22:$B$29,U51)","v":4062.5000000000005},{"$f":"INDEX(Brandstoffacturen!$B$22:$B$29,V51)","v":3375.0000000000032},{"$f":"INDEX(Brandstoffacturen!$B$22:$B$29,W51)","v":3375.0000000000032},{"$f":"INDEX(Brandstoffacturen!$B$22:$B$29,X51)","v":4062.5000000000005},{"$f":"INDEX(Brandstoffacturen!$B$22:$B$29,Y51)","v":3375.0000000000032},{"$f":"INDEX(Brandstoffacturen!$B$22:$B$29,Z51)","v":3375.0000000000032},{"$f":"INDEX(Brandstoffacturen!$B$22:$B$29,AA51)","v":4062.5000000000005},{"$f":"INDEX(Brandstoffacturen!$B$22:$B$29,AB51)","v":3375.0000000000032},null,null,"date",{"$f":"Titels!O11","v":1},null,{"$f":"IF(Titels!P12=3,Titels!O12,)","v":0},{"$f":"IF(Titels!P12=4,Titels!O12,)","v":0},{"$f":"Titels!O14","v":30},{"$f":"IF(Titels!P15=6,Titels!O15,)","v":0},{"$f":"Titels!O16","v":21},{"$f":"Titels!O17","v":15},null,null,{"$f":"Titels!O19","v":11},{"$f":"Titels!O20","v":25}]
[12,{"$f":"INDEX(Brandstoffacturen!$B$22:$B$29,Q52)","v":4062.5000000000005},{"$f":"INDEX(Brandstoffacturen!$B$22:$B$29,R52)","v":3375.0000000000032},{"$f":"INDEX(Brandstoffacturen!$B$22:$B$29,S52)","v":3375.0000000000032},{"$f":"INDEX(Brandstoffacturen!$B$22:$B$29,T52)","v":3375.0000000000032},{"$f":"INDEX(Brandstoffacturen!$B$22:$B$29,U52)","v":4062.5000000000005},{"$f":"INDEX(Brandstoffacturen!$B$22:$B$29,V52)","v":3375.0000000000032},{"$f":"INDEX(Brandstoffacturen!$B$22:$B$29,W52)","v":3375.0000000000032},{"$f":"INDEX(Brandstoffacturen!$B$22:$B$29,X52)","v":3375.0000000000032},{"$f":"INDEX(Brandstoffacturen!$B$22:$B$29,Y52)","v":3375.0000000000032},{"$f":"INDEX(Brandstoffacturen!$B$22:$B$29,Z52)","v":4062.5000000000005},{"$f":"INDEX(Brandstoffacturen!$B$22:$B$29,AA52)","v":3375.0000000000032},{"$f":"INDEX(Brandstoffacturen!$B$22:$B$29,AB52)","v":3375.0000000000032},null,null,null,null,null,null,null,{"$f":"IF(Titels!P15=5,Titels!O15,)","v":0}]
[13,{"$f":"INDEX(Brandstoffacturen!$B$22:$B$29,Q53)","v":4062.5000000000005},{"$f":"INDEX(Brandstoffacturen!$B$22:$B$29,R53)","v":3375.0000000000032},{"$f":"INDEX(Brandstoffacturen!$B$22:$B$29,S53)","v":3375.0000000000032},{"$f":"INDEX(Brandstoffacturen!$B$22:$B$29,T53)","v":4062.5000000000005},{"$f":"INDEX(Brandstoffacturen!$B$22:$B$29,U53)","v":3375.0000000000032},{"$f":"INDEX(Brandstoffacturen!$B$22:$B$29,V53)","v":3375.0000000000032},{"$f":"INDEX(Brandstoffacturen!$B$22:$B$29,W53)","v":4062.5000000000005},{"$f":"INDEX(Brandstoffacturen!$B$22:$B$29,X53)","v":3375.0000000000032},{"$f":"INDEX(Brandstoffacturen!$B$22:$B$29,Y53)","v":3375.0000000000032},{"$f":"INDEX(Brandstoffacturen!$B$22:$B$29,Z53)","v":4062.5000000000005},{"$f":"INDEX(Brandstoffacturen!$B$22:$B$29,AA53)","v":3375.0000000000032},{"$f":"INDEX(Brandstoffacturen!$B$22:$B$29,AB53)","v":3375.0000000000032}]
[14,{"$f":"INDEX(Brandstoffacturen!$B$22:$B$29,Q54)","v":3375.0000000000032},{"$f":"INDEX(Brandstoffacturen!$B$22:$B$29,R54)","v":3375.0000000000032},{"$f":"INDEX(Brandstoffacturen!$B$22:$B$29,S54)","v":3375.0000000000032},{"$f":"INDEX(Brandstoffacturen!$B$22:$B$29,T54)","v":4062.5000000000005},{"$f":"INDEX(Brandstoffacturen!$B$22:$B$29,U54)","v":3375.0000000000032},{"$f":"INDEX(Brandstoffacturen!$B$22:$B$29,V54)","v":3375.0000000000032},{"$f":"INDEX(Brandstoffacturen!$B$22:$B$29,W54)","v":4062.5000000000005},{"$f":"INDEX(Brandstoffacturen!$B$22:$B$29,X54)","v":3375.0000000000032},{"$f":"INDEX(Brandstoffacturen!$B$22:$B$29,Y54)","v":4062.5000000000005},{"$f":"INDEX(Brandstoffacturen!$B$22:$B$29,Z54)","v":3375.0000000000032},{"$f":"INDEX(Brandstoffacturen!$B$22:$B$29,AA54)","v":3375.0000000000032},{"$f":"INDEX(Brandstoffacturen!$B$22:$B$29,AB54)","v":4062.5000000000005}]
[15,{"$f":"INDEX(Brandstoffacturen!$B$22:$B$29,Q55)","v":3375.0000000000032},{"$f":"INDEX(Brandstoffacturen!$B$22:$B$29,R55)","v":3375.0000000000032},{"$f":"INDEX(Brandstoffacturen!$B$22:$B$29,S55)","v":3375.0000000000032},{"$f":"INDEX(Brandstoffacturen!$B$22:$B$29,T55)","v":3375.0000000000032},{"$f":"INDEX(Brandstoffacturen!$B$22:$B$29,U55)","v":3375.0000000000032},{"$f":"INDEX(Brandstoffacturen!$B$22:$B$29,V55)","v":4062.5000000000005},{"$f":"INDEX(Brandstoffacturen!$B$22:$B$29,W55)","v":3375.0000000000032},{"$f":"INDEX(Brandstoffacturen!$B$22:$B$29,X55)","v":4062.5000000000005},{"$f":"INDEX(Brandstoffacturen!$B$22:$B$29,Y55)","v":4062.5000000000005},{"$f":"INDEX(Brandstoffacturen!$B$22:$B$29,Z55)","v":3375.0000000000032},{"$f":"INDEX(Brandstoffacturen!$B$22:$B$29,AA55)","v":3375.0000000000032},{"$f":"INDEX(Brandstoffacturen!$B$22:$B$29,AB55)","v":4062.5000000000005}]
[16,{"$f":"INDEX(Brandstoffacturen!$B$22:$B$29,Q56)","v":3375.0000000000032},{"$f":"INDEX(Brandstoffacturen!$B$22:$B$29,R56)","v":4062.5000000000005},{"$f":"INDEX(Brandstoffacturen!$B$22:$B$29,S56)","v":4062.5000000000005},{"$f":"INDEX(Brandstoffacturen!$B$22:$B$29,T56)","v":3375.0000000000032},{"$f":"INDEX(Brandstoffacturen!$B$22:$B$29,U56)","v":3375.0000000000032},{"$f":"INDEX(Brandstoffacturen!$B$22:$B$29,V56)","v":4062.5000000000005},{"$f":"INDEX(Brandstoffacturen!$B$22:$B$29,W56)","v":3375.0000000000032},{"$f":"INDEX(Brandstoffacturen!$B$22:$B$29,X56)","v":3375.0000000000032},{"$f":"INDEX(Brandstoffacturen!$B$22:$B$29,Y56)","v":3375.0000000000032},{"$f":"INDEX(Brandstoffacturen!$B$22:$B$29,Z56)","v":3375.0000000000032},{"$f":"INDEX(Brandstoffacturen!$B$22:$B$29,AA56)","v":4062.5000000000005},{"$f":"INDEX(Brandstoffacturen!$B$22:$B$29,AB56)","v":3375.0000000000032}]
[17,{"$f":"INDEX(Brandstoffacturen!$B$22:$B$29,Q57)","v":3375.0000000000032},{"$f":"INDEX(Brandstoffacturen!$B$22:$B$29,R57)","v":4062.5000000000005},{"$f":"INDEX(Brandstoffacturen!$B$22:$B$29,S57)","v":4062.5000000000005},{"$f":"INDEX(Brandstoffacturen!$B$22:$B$29,T57)","v":3375.0000000000032},{"$f":"INDEX(Brandstoffacturen!$B$22:$B$29,U57)","v":3375.0000000000032},{"$f":"INDEX(Brandstoffacturen!$B$22:$B$29,V57)","v":3375.0000000000032},{"$f":"INDEX(Brandstoffacturen!$B$22:$B$29,W57)","v":3375.0000000000032},{"$f":"INDEX(Brandstoffacturen!$B$22:$B$29,X57)","v":4062.5000000000005},{"$f":"INDEX(Brandstoffacturen!$B$22:$B$29,Y57)","v":3375.0000000000032},{"$f":"INDEX(Brandstoffacturen!$B$22:$B$29,Z57)","v":3375.0000000000032},{"$f":"INDEX(Brandstoffacturen!$B$22:$B$29,AA57)","v":4062.5000000000005},{"$f":"INDEX(Brandstoffacturen!$B$22:$B$29,AB57)","v":3375.0000000000032}]
[18,{"$f":"INDEX(Brandstoffacturen!$B$22:$B$29,Q58)","v":3375.0000000000032},{"$f":"INDEX(Brandstoffacturen!$B$22:$B$29,R58)","v":3375.0000000000032},{"$f":"INDEX(Brandstoffacturen!$B$22:$B$29,S58)","v":3375.0000000000032},{"$f":"INDEX(Brandstoffacturen!$B$22:$B$29,T58)","v":3375.0000000000032},{"$f":"INDEX(Brandstoffacturen!$B$22:$B$29,U58)","v":4062.5000000000005},{"$f":"INDEX(Brandstoffacturen!$B$22:$B$29,V58)","v":3375.0000000000032},{"$f":"INDEX(Brandstoffacturen!$B$22:$B$29,W58)","v":3375.0000000000032},{"$f":"INDEX(Brandstoffacturen!$B$22:$B$29,X58)","v":4062.5000000000005},{"$f":"INDEX(Brandstoffacturen!$B$22:$B$29,Y58)","v":3375.0000000000032},{"$f":"INDEX(Brandstoffacturen!$B$22:$B$29,Z58)","v":3375.0000000000032},{"$f":"INDEX(Brandstoffacturen!$B$22:$B$29,AA58)","v":3375.0000000000032},{"$f":"INDEX(Brandstoffacturen!$B$22:$B$29,AB58)","v":3375.0000000000032}]
[19,{"$f":"INDEX(Brandstoffacturen!$B$22:$B$29,Q59)","v":4062.5000000000005},{"$f":"INDEX(Brandstoffacturen!$B$22:$B$29,R59)","v":3375.0000000000032},{"$f":"INDEX(Brandstoffacturen!$B$22:$B$29,S59)","v":3375.0000000000032},{"$f":"INDEX(Brandstoffacturen!$B$22:$B$29,T59)","v":3375.0000000000032},{"$f":"INDEX(Brandstoffacturen!$B$22:$B$29,U59)","v":4062.5000000000005},{"$f":"INDEX(Brandstoffacturen!$B$22:$B$29,V59)","v":3375.0000000000032},{"$f":"INDEX(Brandstoffacturen!$B$22:$B$29,W59)","v":3375.0000000000032},{"$f":"INDEX(Brandstoffacturen!$B$22:$B$29,X59)","v":3375.0000000000032},{"$f":"INDEX(Brandstoffacturen!$B$22:$B$29,Y59)","v":3375.0000000000032},{"$f":"INDEX(Brandstoffacturen!$B$22:$B$29,Z59)","v":4062.5000000000005},{"$f":"INDEX(Brandstoffacturen!$B$22:$B$29,AA59)","v":3375.0000000000032},{"$f":"INDEX(Brandstoffacturen!$B$22:$B$29,AB59)","v":3375.0000000000032}]
[20,{"$f":"INDEX(Brandstoffacturen!$B$22:$B$29,Q60)","v":4062.5000000000005},{"$f":"INDEX(Brandstoffacturen!$B$22:$B$29,R60)","v":3375.0000000000032},{"$f":"INDEX(Brandstoffacturen!$B$22:$B$29,S60)","v":3375.0000000000032},{"$f":"INDEX(Brandstoffacturen!$B$22:$B$29,T60)","v":4062.5000000000005},{"$f":"INDEX(Brandstoffacturen!$B$22:$B$29,U60)","v":3375.0000000000032},{"$f":"INDEX(Brandstoffacturen!$B$22:$B$29,V60)","v":3375.0000000000032},{"$f":"INDEX(Brandstoffacturen!$B$22:$B$29,W60)","v":4062.5000000000005},{"$f":"INDEX(Brandstoffacturen!$B$22:$B$29,X60)","v":3375.0000000000032},{"$f":"INDEX(Brandstoffacturen!$B$22:$B$29,Y60)","v":3375.0000000000032},{"$f":"INDEX(Brandstoffacturen!$B$22:$B$29,Z60)","v":4062.5000000000005},{"$f":"INDEX(Brandstoffacturen!$B$22:$B$29,AA60)","v":3375.0000000000032},{"$f":"INDEX(Brandstoffacturen!$B$22:$B$29,AB60)","v":3375.0000000000032}]
[21,{"$f":"INDEX(Brandstoffacturen!$B$22:$B$29,Q61)","v":3375.0000000000032},{"$f":"INDEX(Brandstoffacturen!$B$22:$B$29,R61)","v":3375.0000000000032},{"$f":"INDEX(Brandstoffacturen!$B$22:$B$29,S61)","v":3375.0000000000032},{"$f":"INDEX(Brandstoffacturen!$B$22:$B$29,T61)","v":4062.5000000000005},{"$f":"INDEX(Brandstoffacturen!$B$22:$B$29,U61)","v":3375.0000000000032},{"$f":"INDEX(Brandstoffacturen!$B$22:$B$29,V61)","v":3375.0000000000032},{"$f":"INDEX(Brandstoffacturen!$B$22:$B$29,W61)","v":4062.5000000000005},{"$f":"INDEX(Brandstoffacturen!$B$22:$B$29,X61)","v":3375.0000000000032},{"$f":"INDEX(Brandstoffacturen!$B$22:$B$29,Y61)","v":4062.5000000000005},{"$f":"INDEX(Brandstoffacturen!$B$22:$B$29,Z61)","v":3375.0000000000032},{"$f":"INDEX(Brandstoffacturen!$B$22:$B$29,AA61)","v":3375.0000000000032},{"$f":"INDEX(Brandstoffacturen!$B$22:$B$29,AB61)","v":4062.5000000000005}]
[22,{"$f":"INDEX(Brandstoffacturen!$B$22:$B$29,Q62)","v":3375.0000000000032},{"$f":"INDEX(Brandstoffacturen!$B$22:$B$29,R62)","v":3375.0000000000032},{"$f":"INDEX(Brandstoffacturen!$B$22:$B$29,S62)","v":3375.0000000000032},{"$f":"INDEX(Brandstoffacturen!$B$22:$B$29,T62)","v":3375.0000000000032},{"$f":"INDEX(Brandstoffacturen!$B$22:$B$29,U62)","v":3375.0000000000032},{"$f":"INDEX(Brandstoffacturen!$B$22:$B$29,V62)","v":4062.5000000000005},{"$f":"INDEX(Brandstoffacturen!$B$22:$B$29,W62)","v":3375.0000000000032},{"$f":"INDEX(Brandstoffacturen!$B$22:$B$29,X62)","v":3375.0000000000032},{"$f":"INDEX(Brandstoffacturen!$B$22:$B$29,Y62)","v":4062.5000000000005},{"$f":"INDEX(Brandstoffacturen!$B$22:$B$29,Z62)","v":3375.0000000000032},{"$f":"INDEX(Brandstoffacturen!$B$22:$B$29,AA62)","v":3375.0000000000032},{"$f":"INDEX(Brandstoffacturen!$B$22:$B$29,AB62)","v":4062.5000000000005}]
[23,{"$f":"INDEX(Brandstoffacturen!$B$22:$B$29,Q63)","v":3375.0000000000032},{"$f":"INDEX(Brandstoffacturen!$B$22:$B$29,R63)","v":4062.5000000000005},{"$f":"INDEX(Brandstoffacturen!$B$22:$B$29,S63)","v":4062.5000000000005},{"$f":"INDEX(Brandstoffacturen!$B$22:$B$29,T63)","v":3375.0000000000032},{"$f":"INDEX(Brandstoffacturen!$B$22:$B$29,U63)","v":3375.0000000000032},{"$f":"INDEX(Brandstoffacturen!$B$22:$B$29,V63)","v":4062.5000000000005},{"$f":"INDEX(Brandstoffacturen!$B$22:$B$29,W63)","v":3375.0000000000032},{"$f":"INDEX(Brandstoffacturen!$B$22:$B$29,X63)","v":3375.0000000000032},{"$f":"INDEX(Brandstoffacturen!$B$22:$B$29,Y63)","v":3375.0000000000032},{"$f":"INDEX(Brandstoffacturen!$B$22:$B$29,Z63)","v":3375.0000000000032},{"$f":"INDEX(Brandstoffacturen!$B$22:$B$29,AA63)","v":4062.5000000000005},{"$f":"INDEX(Brandstoffacturen!$B$22:$B$29,AB63)","v":3375.0000000000032}]
[24,{"$f":"INDEX(Brandstoffacturen!$B$22:$B$29,Q64)","v":3375.0000000000032},{"$f":"INDEX(Brandstoffacturen!$B$22:$B$29,R64)","v":4062.5000000000005},{"$f":"INDEX(Brandstoffacturen!$B$22:$B$29,S64)","v":4062.5000000000005},{"$f":"INDEX(Brandstoffacturen!$B$22:$B$29,T64)","v":3375.0000000000032},{"$f":"INDEX(Brandstoffacturen!$B$22:$B$29,U64)","v":3375.0000000000032},{"$f":"INDEX(Brandstoffacturen!$B$22:$B$29,V64)","v":3375.0000000000032},{"$f":"INDEX(Brandstoffacturen!$B$22:$B$29,W64)","v":3375.0000000000032},{"$f":"INDEX(Brandstoffacturen!$B$22:$B$29,X64)","v":4062.5000000000005},{"$f":"INDEX(Brandstoffacturen!$B$22:$B$29,Y64)","v":3375.0000000000032},{"$f":"INDEX(Brandstoffacturen!$B$22:$B$29,Z64)","v":3375.0000000000032},{"$f":"INDEX(Brandstoffacturen!$B$22:$B$29,AA64)","v":4062.5000000000005},{"$f":"INDEX(Brandstoffacturen!$B$22:$B$29,AB64)","v":3375.0000000000032}]
[25,{"$f":"INDEX(Brandstoffacturen!$B$22:$B$29,Q65)","v":3375.0000000000032},{"$f":"INDEX(Brandstoffacturen!$B$22:$B$29,R65)","v":3375.0000000000032},{"$f":"INDEX(Brandstoffacturen!$B$22:$B$29,S65)","v":3375.0000000000032},{"$f":"INDEX(Brandstoffacturen!$B$22:$B$29,T65)","v":3375.0000000000032},{"$f":"INDEX(Brandstoffacturen!$B$22:$B$29,U65)","v":4062.5000000000005},{"$f":"INDEX(Brandstoffacturen!$B$22:$B$29,V65)","v":3375.0000000000032},{"$f":"INDEX(Brandstoffacturen!$B$22:$B$29,W65)","v":3375.0000000000032},{"$f":"INDEX(Brandstoffacturen!$B$22:$B$29,X65)","v":4062.5000000000005},{"$f":"INDEX(Brandstoffacturen!$B$22:$B$29,Y65)","v":3375.0000000000032},{"$f":"INDEX(Brandstoffacturen!$B$22:$B$29,Z65)","v":3375.0000000000032},{"$f":"INDEX(Brandstoffacturen!$B$22:$B$29,AA65)","v":3375.0000000000032},{"$f":"INDEX(Brandstoffacturen!$B$22:$B$29,AB65)","v":4062.5000000000005}]
[26,{"$f":"INDEX(Brandstoffacturen!$B$22:$B$29,Q66)","v":4062.5000000000005},{"$f":"INDEX(Brandstoffacturen!$B$22:$B$29,R66)","v":3375.0000000000032},{"$f":"INDEX(Brandstoffacturen!$B$22:$B$29,S66)","v":3375.0000000000032},{"$f":"INDEX(Brandstoffacturen!$B$22:$B$29,T66)","v":3375.0000000000032},{"$f":"INDEX(Brandstoffacturen!$B$22:$B$29,U66)","v":4062.5000000000005},{"$f":"INDEX(Brandstoffacturen!$B$22:$B$29,V66)","v":3375.0000000000032},{"$f":"INDEX(Brandstoffacturen!$B$22:$B$29,W66)","v":3375.0000000000032},{"$f":"INDEX(Brandstoffacturen!$B$22:$B$29,X66)","v":3375.0000000000032},{"$f":"INDEX(Brandstoffacturen!$B$22:$B$29,Y66)","v":3375.0000000000032},{"$f":"INDEX(Brandstoffacturen!$B$22:$B$29,Z66)","v":4062.5000000000005},{"$f":"INDEX(Brandstoffacturen!$B$22:$B$29,AA66)","v":3375.0000000000032},{"$f":"INDEX(Brandstoffacturen!$B$22:$B$29,AB66)","v":3375.0000000000032}]
[27,{"$f":"INDEX(Brandstoffacturen!$B$22:$B$29,Q67)","v":4062.5000000000005},{"$f":"INDEX(Brandstoffacturen!$B$22:$B$29,R67)","v":3375.0000000000032},{"$f":"INDEX(Brandstoffacturen!$B$22:$B$29,S67)","v":3375.0000000000032},{"$f":"INDEX(Brandstoffacturen!$B$22:$B$29,T67)","v":4062.5000000000005},{"$f":"INDEX(Brandstoffacturen!$B$22:$B$29,U67)","v":3375.0000000000032},{"$f":"INDEX(Brandstoffacturen!$B$22:$B$29,V67)","v":3375.0000000000032},{"$f":"INDEX(Brandstoffacturen!$B$22:$B$29,W67)","v":4062.5000000000005},{"$f":"INDEX(Brandstoffacturen!$B$22:$B$29,X67)","v":3375.0000000000032},{"$f":"INDEX(Brandstoffacturen!$B$22:$B$29,Y67)","v":3375.0000000000032},{"$f":"INDEX(Brandstoffacturen!$B$22:$B$29,Z67)","v":4062.5000000000005},{"$f":"INDEX(Brandstoffacturen!$B$22:$B$29,AA67)","v":3375.0000000000032},{"$f":"INDEX(Brandstoffacturen!$B$22:$B$29,AB67)","v":3375.0000000000032}]
[28,{"$f":"INDEX(Brandstoffacturen!$B$22:$B$29,Q68)","v":3375.0000000000032},{"$f":"INDEX(Brandstoffacturen!$B$22:$B$29,R68)","v":3375.0000000000032},{"$f":"INDEX(Brandstoffacturen!$B$22:$B$29,S68)","v":3375.0000000000032},{"$f":"INDEX(Brandstoffacturen!$B$22:$B$29,T68)","v":4062.5000000000005},{"$f":"INDEX(Brandstoffacturen!$B$22:$B$29,U68)","v":3375.0000000000032},{"$f":"INDEX(Brandstoffacturen!$B$22:$B$29,V68)","v":3375.0000000000032},{"$f":"INDEX(Brandstoffacturen!$B$22:$B$29,W68)","v":4062.5000000000005},{"$f":"INDEX(Brandstoffacturen!$B$22:$B$29,X68)","v":3375.0000000000032},{"$f":"INDEX(Brandstoffacturen!$B$22:$B$29,Y68)","v":4062.5000000000005},{"$f":"INDEX(Brandstoffacturen!$B$22:$B$29,Z68)","v":3375.0000000000032},{"$f":"INDEX(Brandstoffacturen!$B$22:$B$29,AA68)","v":3375.0000000000032},{"$f":"INDEX(Brandstoffacturen!$B$22:$B$29,AB68)","v":4062.5000000000005}]
[29,{"$f":"INDEX(Brandstoffacturen!$B$22:$B$29,Q69)","v":3375.0000000000032},{"$f":"IF(I1=2,\"\",INDEX(Brandstoffacturen!$B$22:$B$29,R69))","v":""},{"$f":"INDEX(Brandstoffacturen!$B$22:$B$29,S69)","v":3375.0000000000032},{"$f":"INDEX(Brandstoffacturen!$B$22:$B$29,T69)","v":3375.0000000000032},{"$f":"INDEX(Brandstoffacturen!$B$22:$B$29,U69)","v":3375.0000000000032},{"$f":"INDEX(Brandstoffacturen!$B$22:$B$29,V69)","v":4062.5000000000005},{"$f":"INDEX(Brandstoffacturen!$B$22:$B$29,W69)","v":3375.0000000000032},{"$f":"INDEX(Brandstoffacturen!$B$22:$B$29,X69)","v":3375.0000000000032},{"$f":"INDEX(Brandstoffacturen!$B$22:$B$29,Y69)","v":4062.5000000000005},{"$f":"INDEX(Brandstoffacturen!$B$22:$B$29,Z69)","v":3375.0000000000032},{"$f":"INDEX(Brandstoffacturen!$B$22:$B$29,AA69)","v":3375.0000000000032},{"$f":"INDEX(Brandstoffacturen!$B$22:$B$29,AB69)","v":4062.5000000000005}]
[30,{"$f":"INDEX(Brandstoffacturen!$B$22:$B$29,Q70)","v":3375.0000000000032},null,{"$f":"INDEX(Brandstoffacturen!$B$22:$B$29,S70)","v":4062.5000000000005},{"$f":"INDEX(Brandstoffacturen!$B$22:$B$29,T70)","v":3375.0000000000032},{"$f":"INDEX(Brandstoffacturen!$B$22:$B$29,U70)","v":3375.0000000000032},{"$f":"INDEX(Brandstoffacturen!$B$22:$B$29,V70)","v":4062.5000000000005},{"$f":"INDEX(Brandstoffacturen!$B$22:$B$29,W70)","v":3375.0000000000032},{"$f":"INDEX(Brandstoffacturen!$B$22:$B$29,X70)","v":3375.0000000000032},{"$f":"INDEX(Brandstoffacturen!$B$22:$B$29,Y70)","v":3375.0000000000032},{"$f":"INDEX(Brandstoffacturen!$B$22:$B$29,Z70)","v":3375.0000000000032},{"$f":"INDEX(Brandstoffacturen!$B$22:$B$29,AA70)","v":4062.5000000000005},{"$f":"INDEX(Brandstoffacturen!$B$22:$B$29,AB70)","v":3375.0000000000032}]
[31,{"$f":"INDEX(Brandstoffacturen!$B$22:$B$29,Q71)","v":3375.0000000000032},null,{"$f":"INDEX(Brandstoffacturen!$B$22:$B$29,S71)","v":4062.5000000000005},null,{"$f":"INDEX(Brandstoffacturen!$B$22:$B$29,U71)","v":3375.0000000000032},null,{"$f":"INDEX(Brandstoffacturen!$B$22:$B$29,W71)","v":3375.0000000000032},{"$f":"INDEX(Brandstoffacturen!$B$22:$B$29,X71)","v":4062.5000000000005},null,{"$f":"INDEX(Brandstoffacturen!$B$22:$B$29,Z71)","v":3375.0000000000032},null,{"$f":"INDEX(Brandstoffacturen!$B$22:$B$29,AB71)","v":3375.0000000000032}]
[null,{"$f":"SUM(B75:B105)","v":110812.50000000003},{"$f":"SUM(C75:C105)","v":100000.00000000003},{"$f":"SUM(D75:D105)","v":111500.00000000003},106750.00000000003,110812.50000000003,108125.00000000003,110125.00000000003,111500.00000000003,107437.50000000003,110125.00000000003,108812.50000000003,111500.00000000003]
[null,"extrapolatie factor thermisch"]
["dagen","januari","februari","maart","april","mei","juni","juli","augustus","september","oktober","november","december"]
[1,{"$f":"IF(B75=0,0,(B41-B75)/B75)","v":-0.41762583691841448},{"$f":"IF(C75=0,0,(C41-C75)/C75)","v":-1.1873454535392122E-2},{"$f":"IF(D75=0,0,(D41-D75)/D75)","v":-0.13671907659227711},{"$f":"IF(E75=0,0,(E41-E75)/E75)","v":-0.44845631577473988},-0.52634178895200823,-0.64961877282608937,-0.57198072207332518,-0.51917262131697406,-0.48582026752546947,-0.33413447473752894,-0.43844611757379737,-0.22151229089782334]
[2,{"$f":"IF(B76=0,0,(B42-B76)/B76)","v":-0.25541947914088275},-0.16158611412169532,-0.33397326881833583,-0.46182302525596969,-0.39587022864736909,-0.64961877282608937,-0.57198072207332518,-0.51917262131697406,-0.38107995165102859,-0.13392213023366115,-0.50012069722871788,-9.8683487774142029E-2]
[3,-0.23217970110543298,-0.1790948699217097,-0.4122187355761926,-0.3308292723399176,-0.39870236434941025,-0.57824481914251535,-0.57198072207332518,-0.60054340847871646,-0.38107995165102859,-0.10410327041393602,-0.43564272758948269,-6.2931461265899269E-2]
[4,-0.20022500630668955,1.9739576770189546E-2,-0.1946786815980969,-0.33617595613240964,-0.42046348501416436,-0.57824481914251535,-0.57198072207332518,-0.60054340847871646,-0.38107995165102859,-0.21059919834152532,-0.31055770826620505,-8.2432566634031756E-2]
[5,-0.37659869030967807,-3.997392680702018E-2,-0.14396402721800458,-0.40300950353855858,-0.42752203861002058,-0.57554666417640676,-0.57198072207332518,-0.51917262131697406,-0.29793032401085034,-0.27695021274298565,-0.2464431410323441,-1.7428882073589985E-2]
[6,-0.3597051593531394,-0.11373766652004394,-0.25626076191678043,-0.55512005886491722,-0.31940256469225975,-0.52158356485423485,-0.64441475372245449,-0.51917262131697406,-0.31772785440136897,-0.32295645360770425,-0.25319204284643465,-0.16043698810656171]
[7,-0.2873741739396265,-0.1945265243009745,-0.1946786815980969,-0.60620145325164765,-0.39587022864736909,-0.55935773437975522,-0.64441475372245449,-0.51917262131697406,-0.4430576018819492,-0.15948115293628248,-0.20932418105484565,-0.4078228514149046]
[8,-0.29318411844848891,-0.1945265243009745,-0.17656630503377807,-0.44043629008600194,-0.41569517856165678,-0.62272024331780684,-0.57198072207332518,-0.51917262131697406,-0.42332098696955528,-0.24467789527835396,-0.14520961382098485,-0.41592331056782117]
[9,-0.22927472885100178,-0.33959179808850848,-0.36406767910981924,-0.43776294818975603,-0.44401653558206766,-0.64513568457470905,-0.57198072207332518,-0.51917262131697406,-0.26229476930791673,-0.17226066428759318,-0.28706305842081065,-0.20918975152689295]
[10,-0.1973200340522582,-0.3016561605218106,-0.3098977405851493,-0.40835618733105045,-0.46384148549635523,-0.57824481914251535,-0.57198072207332518,-0.60054340847871646,-0.38107995165102859,-0.22337870969283599,-0.26183254856197957,-0.15068643542249532]
[11,-0.24960953463202049,-6.1049281010741155E-2,-7.5136996273593604E-2,-0.35488934940613137,-0.54045889614372078,-0.55935773437975522,-0.57198072207332518,-0.60054340847871646,-0.38107995165102859,-0.31283528915201114,-0.29547322837375439,-0.17993809347469422]
[12,-0.41521247535319467,-4.6999044874927128E-2,-0.14034155190514097,-0.32013590475493386,-0.5051661281644394,-0.54316880458310368,-0.57198072207332518,-0.51917262131697406,-0.38107995165102859,-0.44681940978194667,-0.12833735928575835,-0.13118533005436284]
[13,-0.46347970665759064,-5.0511603908880598E-2,-0.13671907659227711,-0.4040968058954531,-0.44401653558206766,-0.54856511451532086,-0.64441475372245449,-0.49148802715746154,-0.38107995165102859,-0.44681940978194667,-0.1722052210773472,-0.18318827770271615]
[14,-0.28156422943076409,-0.16291349299539296,-0.18018878034664196,-0.41742238703981749,-0.44968080698614982,-0.57824481914251535,-0.64441475372245449,-0.51917262131697406,-0.48582026752546947,-0.33413447473752894,-0.14183516291393944,-0.34301917819157207]
[15,-0.2641343959041767,-0.2753153820819052,-0.2490158112910528,-0.43241626439726416,-0.48083429970860192,-0.64961877282608937,-0.56650426372618612,-0.60054340847871646,-0.48582026752546947,-0.30431561491780407,-8.4469497494169057E-2,-0.37272086175226604]
[16,-0.26994434041303911,-0.35710055388852296,-0.39115264837215435,-0.51796320507713478,-0.48933070681472512,-0.64961877282608937,-0.57198072207332518,-0.51917262131697406,-0.38107995165102859,-0.22763854680993964,-0.25061898862472115,-0.25794251494722414]
[17,-0.20893992306998319,-0.40670869532189713,-0.27077500720622089,-0.49657646990716708,-0.44684867128410871,-0.57824481914251535,-0.57198072207332518,-0.60054340847871646,-0.36920143341671746,-0.25745740662966465,-0.26463593854629397,-0.38144951561206325]
[18,-0.10726589416489006,-0.26126514594609102,-5.7024619709275054E-2,-0.58212341058703776,-0.60633872970504576,-0.57824481914251535,-0.57198072207332518,-0.60054340847871646,-0.28209229969843552,-0.24467789527835396,-0.14183516291393944,-0.26119269917524612]
[19,-0.23903708109214961,-0.1945265243009745,-0.10773927408936736,-0.58212341058703776,-0.60398587850642715,-0.57824481914251535,-0.57198072207332518,-0.51917262131697406,-0.27417328754222803,-0.32649539521268267,-7.4346144773033099E-2,-0.40420080520821777]
[20,-0.21731682700517152,-0.18047628816516034,-0.22003600878814292,-0.65284098725692352,-0.45251294268819098,-0.57824481914251535,-0.64441475372245449,-0.51917262131697406,-0.32564686655757646,-0.2911059791628991,-1.6980479353262853E-2,-0.35869822601590856]
[21,-4.3356504567402789E-2,-0.25424002787818412,-0.24177086066532519,-0.65284098725692352,-0.49499497821880734,-0.57824481914251535,-0.64441475372245449,-0.51917262131697406,-0.48582026752546947,-0.18504017563890399,-3.7227184795534649E-2,-0.37542101480323836]
[22,-6.3691310348421529E-2,-0.22262699657260243,-0.31059789160973633,-0.58212341058703776,-0.52898060664330038,-0.64961877282608937,{"$f":"IF(H96=0,0,(H62-H96)/H96)","v":-0.57198072207332518},-0.51917262131697406,-0.48582026752546947,-0.20633936122442181,-0.21944753377598161,-0.38082132090518267]
[23,-8.6931088383871327E-2,-0.34250992405517761,-0.35202991499322589,-0.58212341058703776,-0.55730196366371132,-0.64961877282608937,-0.57198072207332518,-0.51917262131697406,-0.38107995165102859,-0.2617172437467683,-0.33191729816984372,-0.24819196226315793]
[24,-9.5646005147165092E-2,-0.35418242792185378,-0.31591662264344583,-0.58212341058703776,-0.55730196366371132,-0.57824481914251535,-0.57198072207332518,-0.60054340847871646,-0.38107995165102859,-0.33413447473752894,-0.34873763807573122,-0.2839439887714007]
[25,-0.13341064445477108,-0.31395353145539368,-0.13671907659227711,-0.48855644421842925,-0.58751592011609588,-0.57824481914251535,-0.57198072207332518,-0.60054340847871646,-0.36920143341671746,-0.26597708086387178,-0.25994094466052536,-0.34031902514059975]
[26,-0.41038575222275503,-0.3280037675912077,-0.16207640378232327,-0.50726983749215093,-0.63222009288985215,-0.57824481914251535,-0.57198072207332518,-0.51917262131697406,-0.38107995165102859,-0.44681940978194667,-0.32068106098734089,-0.14093588273842908]
[27,-0.37901205187489784,-0.33502888565911465,-0.17294382972091449,-0.537352617339098,-0.55730196366371132,-0.57824481914251535,-0.64441475372245449,-0.51917262131697406,-0.38107995165102859,-0.22386608866831037,-0.31055770826620505,-0.20593956729887072]
[28,-0.18570014503453322,-0.22613955560655602,-0.22003600878814292,-0.50625959466891413,-0.46667362119839639,-0.57824481914251535,-0.64441475372245449,-0.51917262131697406,-0.46279421679434324,-2.7426202306071842E-2,-0.27343874828870646,-0.26471473971337844]
[29,-0.15084047798135847,{"$error":"#VALUE!"},-0.29248551504541764,-0.45914968335972378,-0.52898060664330038,-0.64961877282608937,-0.57198072207332518,-0.51917262131697406,-0.48582026752546947,-2.7426202306071842E-2,-0.15870741744916597,-0.23231290310171201]
[30,-0.11307583867375247,null,-0.4754169971883076,-0.48588310232218324,-0.55730196366371132,-0.64961877282608937,-0.57198072207332518,-0.51917262131697406,-0.36128242126050997,8.7589399855724767E-2,-0.219781698797261,-0.17018754079062784]
[31,-4.9166449076265342E-2,null,-0.38212432528470935,null,-0.55730196366371132,null,-0.57198072207332518,-0.60054340847871646,null,9.1849236972828416E-2,null,-0.12143477737029661]

{"sheet":"Titels","index":7,"n_rows":50,"n_cols":15,"rows_kept":50,"cut":false,"hidden":false,"merged":[]}
["Titres",null,null,"Opgelet : Dit blad niet gebruiken !"]
["Année ?",2019,null,"Profiel ","A - Dag, 5 d. op 7 (kantoren, scholen, diensten)"]
[null,2018,null,null,"B - Dag, 6 d. op 7 (handelszaken, kultuur)"]
[null,2017,null,null,"C - Dag, 7 d. op 7 (sportcentra)"]
[null,2016,null,null,"D - Continu, 7 d. op 7 (zorg, horeca)"]
[null,2015,null,null,"E - Dag, 5 d. op 7 (KMO, wasserijen, enz…, zeer regelmatig verbruik)"]
[null,2014,null,null,"F - Dag, 7 d. op 7 (collectieve huisvesting)"]
[null,2013,null,null,"Gemeten profiel"]
[null,2012]
["feestdagen ?",null,2019,2018,2017,2016,2015,2014,2013,2012,null,null,2006,2007,{"$f":"INDEX(E10:J10,Gegevens!$B$19)","v":2017}]
[null,null,{"$f":"DATEVALUE(\"1/01/\"&C$10)","v":"2019-01-01"},"2018-01-01","2017-01-01","2016-01-01","2015-01-01","2014-01-01","2013-01-01","2012-01-01","Nouvel an",null,{"$f":"DATEVALUE(\"1/01/\"&M$10)","v":"2006-01-01"},{"$f":"DATEVALUE(\"1/01/\"&N$10)","v":"2007-01-01"},{"$f":"DAY(INDEX(C11:J11,Gegevens!$B$19))","v":1}]
[null,null,{"$f":"DATEVALUE(\"22/04/\"&C$10)","v":"2019-04-22"},{"$f":"DATEVALUE(\"2/04/\"&D$10)","v":"2018-04-02"},{"$f":"DATEVALUE(\"17/04/\"&E$10)","v":"2017-04-17"},{"$f":"DATEVALUE(\"28/03/\"&F$10)","v":"2016-03-28"},{"$f":"DATEVALUE(\"6/04/\"&G$10)","v":"2015-04-06"},{"$f":"DATEVALUE(\"21/04/\"&H$10)","v":"2014-04-21"},{"$f":"DATEVALUE(\"1/04/\"&I$10)","v":"2013-04-01"},{"$f":"DATEVALUE(\"9/04/\"&J$10)","v":"2012-04-09"},"Pâques",null,{"$f":"DATEVALUE(\"17/04/\"&M$10)","v":"2006-04-17"},{"$f":"DATEVALUE(\"9/04/\"&N$10)","v":"2007-04-09"},{"$f":"DAY(INDEX(C12:J12,Gegevens!$B$19))","v":22}]
[null,null,{"$f":"DATEVALUE(\"1/05/\"&C$10)","v":"2019-05-01"},"2018-05-01","2017-05-01","2016-05-01","2015-05-01","2014-05-01","2013-05-01","2012-05-01","1er mai",null,{"$f":"DATEVALUE(\"1/05/\"&M$10)","v":"2006-05-01"},{"$f":"DATEVALUE(\"1/05/\"&N$10)","v":"2007-05-01"},{"$f":"DAY(INDEX(C13:J13,Gegevens!$B$19))","v":1}]
[null,null,{"$f":"C12+38","v":"2019-05-30"},"2018-05-10","2017-05-25","2016-05-05","2015-05-14","2014-05-29","2013-05-09","2012-05-17","Ascension",{"$f":"J14-J12","v":38},{"$f":"M12+38","v":"2006-05-25"},{"$f":"N12+38","v":"2007-05-17"},{"$f":"DAY(INDEX(C14:J14,Gegevens!$B$19))","v":30}]
[null,null,{"$f":"C12+49","v":"2019-06-10"},"2018-05-21","2017-06-05","2016-05-16","2015-05-25","2014-06-09","2013-05-20","2012-05-28","Pentecôte",{"$f":"J15-J12","v":49},{"$f":"DATEVALUE(\"4/06/\"&M$10)","v":"2006-06-04"},{"$f":"DATEVALUE(\"4/06/\"&N$10)","v":"2007-06-04"},{"$f":"DAY(INDEX(C15:J15,Gegevens!$B$19))","v":10}]
[null,null,{"$f":"DATEVALUE(\"21/07/\"&C$10)","v":"2019-07-21"},"2018-07-21","2017-07-21","2016-07-21","2015-07-21","2014-07-21","2013-07-21","2012-07-21","Fête nationale",null,{"$f":"DATEVALUE(\"21/07/\"&M$10)","v":"2006-07-21"},{"$f":"DATEVALUE(\"21/07/\"&N$10)","v":"2007-07-21"},{"$f":"DAY(INDEX(C16:J16,Gegevens!$B$19))","v":21}]
[null,null,{"$f":"DATEVALUE(\"15/8/\"&C$10)","v":"2019-08-15"},"2018-08-15","2017-08-15","2016-08-15","2015-08-15","2014-08-15","2013-08-15","2012-08-15","Assomption",null,{"$f":"DATEVALUE(\"15/8/\"&M$10)","v":"2006-08-15"},{"$f":"DATEVALUE(\"15/8/\"&N$10)","v":"2007-08-15"},{"$f":"DAY(INDEX(C17:J17,Gegevens!$B$19))","v":15}]
[null,null,{"$f":"DATEVALUE(\"1/11/\"&C$10)","v":"2019-11-01"},"2018-11-01","2017-11-01","2016-11-01","2015-11-01","2014-11-01","2013-11-01","2012-11-01","Toussaint",null,{"$f":"DATEVALUE(\"1/11/\"&M$10)","v":"2006-11-01"},{"$f":"DATEVALUE(\"1/11/\"&N$10)","v":"2007-11-01"},{"$f":"DAY(INDEX(C18:J18,Gegevens!$B$19))","v":1}]
[null,null,{"$f":"DATEVALUE(\"11/11/\"&C$10)","v":"2019-11-11"},"2018-11-11","2017-11-11","2016-11-11","2015-11-11","2014-11-11","2013-11-11","2012-11-11","Armistice",null,{"$f":"DATEVALUE(\"11/11/\"&M$10)","v":"2006-11-11"},{"$f":"DATEVALUE(\"11/11/\"&N$10)","v":"2007-11-11"},{"$f":"DAY(INDEX(C19:J19,Gegevens!$B$19))","v":11}]
[null,null,{"$f":"DATEVALUE(\"25/12/\"&C$10)","v":"2019-12-25"},"2018-12-25","2017-12-25","2016-12-25","2015-12-25","2014-12-25","2013-12-25","2012-12-25","Noël",null,{"$f":"DATEVALUE(\"25/12/\"&M$10)","v":"2006-12-25"},{"$f":"DATEVALUE(\"25/12/\"&N$10)","v":"2007-12-25"},{"$f":"DAY(INDEX(C20:J20,Gegevens!$B$19))","v":25}]
[]
["Meteo Station ?"]
[null,"1180 - Ukkel"]
[null,"1320 - Beauvechain"]
[null,"4000 - Liège (Monsin)"]
[null,"4557 - Scry"]
[null,"4780 - St Vith"]
[null,"4890 - Thimister"]
[null,"4970 - Francorchamps"]
[null,"5020 - Malonne"]
[null,"5030 - Ernage"]
[null,"5540 - Hastière"]
[null,"5550 - Sugny"]
[null,"5580 - Rochefort"]
[null,"5590 - Ciney"]
[null,"5640 - St Gérard"]
[null,"5670 - Dourbes"]
[null,"6500 - Thirimont"]
[null,"6640 - Sibret"]
[null,"6660 - Nadrin"]
[null,"6700 - Arlon"]
[null,"6800 - Libramont"]
[null,"6836 - Dohan"]
[null,"7170 - La Hestre"]
[null,"7390 - Wasmuel"]
[null,"7730 - Néchin"]
[]
["gekend elek profiel"]
[null,"ja"]
[null,"Neen"]

{"sheet":"Gegevens","index":8,"n_rows":798,"n_cols":37,"rows_kept":798,"cut":false,"hidden":false,"merged":[[28,13,28,14],[14,2,14,14],[6,21,6,24],[15,2,15,14]]}
[]
[]
[]
[]
[]
[]
[]
[null,null,null,null,null,null,null,null,null,null,null,null,null,null,"Opgelet : Dit blad niet gebruiken !"]
[]
[]
[]
[]
[]
[]
[null,null,{"$f":"'Thermisch optimum'!I11","v":"… naam van het project …"}]
[null,null,"De gevens in de blauwe vakjes inbrengen."]
[]
[null,null,null,null,null,null,null,null,null,null,null,null,null,null,null,null,null,null,"Elektriciteitsfacturen :",null,null,null,null,null,null,"Maandelijkse  "]
[null,1,"Jaar van de extrapolatie:",null,null,null,null,null,null,null,null,null,null,null,null,null,null,null,"Begin van de normale uren : ",null,7,"uur",null,null,null,"branstofverbruiken :"]
[null,null,null,null,null,null,null,null,null,null,null,null,null,null,null,null,null,null,null,"kWh normale uren","kWh stille uren","kW piek",null,null,null,"kWh OVW"]
[null,1,"Dichtstbijzijnde weerkundig station:",null,null,null,null,null,null,null,null,null,null,null,null,null,null,null,"januari",null,null,null,null,null,null,{"$f":"'Thermisch optimum'!J30","v":150000}]
[null,null,null,null,null,null,null,null,null,null,null,null,null,null,null,null,null,null,"februari",null,null,null,null,null,null,{"$f":"'Thermisch optimum'!J31","v":150000}]
[null,null,"Start temperatuur van de ketels :",null,null,15,"°C",null,null,null,null,null,null,null,null,null,null,null,"maart",null,null,null,null,null,null,{"$f":"'Thermisch optimum'!J32","v":150000}]
[null,null,null,null,null,null,null,null,null,null,null,null,null,null,null,null,null,null,"april",null,null,null,null,null,null,{"$f":"'Thermisch optimum'!J33","v":100000}]
[null,null,"Seizoen rendement van de ketels :",null,null,{"$f":"'Thermisch optimum'!G18*(1-'Thermisch optimum'!G20)","v":0.55999999999999994},"%",null,null,null,null,null,null,null,null,null,null,null,"mei",null,null,null,null,null,null,{"$f":"'Thermisch optimum'!J34","v":100000}]
[null,null,null,null,null,null,null,null,null,null,null,null,null,null,null,null,null,null,"juni",null,null,null,null,null,null,{"$f":"'Thermisch optimum'!J35","v":80000}]
[null,null,"Energiemetingen van een week :",null,null,null,null,null,null,null,null,null,null,null,null,null,null,null,"juli",null,null,null,null,null,null,{"$f":"'Thermisch optimum'!J36","v":80000}]
[null,null,null,null,null,null,null,null,null,null,null,null,null,null,null,null,null,null,"augustus",null,null,null,null,null,null,{"$f":"'Thermisch optimum'!J37","v":90000}]
[null,null,"Eerste dag van de metingen",null,null,"2011-01-04",null,null,null,null,null,null,null,"Meting van een feestdag :",null,null,null,null,"september",null,null,null,null,null,null,{"$f":"'Thermisch optimum'!J38","v":120000}]
[null,null,null,null,"kW elektrisch","kW Thermisch",1,2,3,4,5,6,null,"kW elektrisch","kW warmte",null,null,null,"october",null,null,null,null,null,null,{"$f":"'Thermisch optimum'!J39","v":150000}]
[null,null,"maandag",{"$f":"IF(F29=\"\",38718,F29)","v":"2011-01-04"},null,{"$f":"IF('Thermisch optimum'!$A$23=7,'Thermisch optimum'!D27,INDEX(G31:L702,B31,('Thermisch optimum'!$A$23)))","v":74.175824175824189},122,154.23795180722888,122.4,143.56650000000002,45.019776092561827,74.175824175824189,null,null,{"$f":"F607","v":89.285714285714306},null,null,null,"november",null,null,null,null,null,null,{"$f":"'Thermisch optimum'!J40","v":150000},null,null,null,null,null,null,null,null,null,{"$f":"IF(AND(HOUR(D31)>=$U$19,HOUR(D31)<($U$19+15)),E31,0)","v":0},{"$f":"IF(AJ31=0,E31,0)","v":0}]
[null,null,"maandag",{"$f":"D31+1/96","v":"2011-01-04T00:15:00"},null,{"$f":"IF('Thermisch optimum'!$A$23=7,'Thermisch optimum'!D28,INDEX(G32:L703,B32,('Thermisch optimum'!$A$23)))","v":74.175824175824189},121.67832167832168,154.23795180722888,122.4,143.56650000000002,45.019776092561827,74.175824175824189,null,null,89.285714285714306,null,null,null,"december",null,null,null,null,null,null,{"$f":"'Thermisch optimum'!J41","v":150000},null,null,null,null,null,null,null,null,null,0,0]
[null,null,"maandag",{"$f":"D32+1/96","v":"2011-01-04T00:30:00"},null,{"$f":"IF('Thermisch optimum'!$A$23=7,'Thermisch optimum'!D29,INDEX(G33:L704,B33,('Thermisch optimum'!$A$23)))","v":74.175824175824189},121.67832167832168,154.23795180722888,122.4,143.56650000000002,45.019776092561827,74.175824175824189,null,null,89.285714285714306,null,null,null,"TOTAAL :",{"$f":"SUM(T21:T32)","v":0},{"$f":"SUM(U21:U32)","v":0},null,null,null,null,{"$f":"SUM(Z21:Z32)","v":1470000},null,null,null,null,null,null,null,null,null,0,0]
[null,null,"maandag","2011-01-04T00:45:00",null,{"$f":"IF('Thermisch optimum'!$A$23=7,'Thermisch optimum'!D30,INDEX(G34:L705,B34,('Thermisch optimum'!$A$23)))","v":74.175824175824189},121.67832167832168,154.23795180722888,122.4,143.56650000000002,45.019776092561827,74.175824175824189,null,null,89.285714285714306,null,null,null,null,null,{"$f":"T33+U33","v":0},null,null,null,null,null,null,null,null,null,null,null,null,null,null,0,0]
[null,null,"maandag","2011-01-04T01:00:00",null,{"$f":"IF('Thermisch optimum'!$A$23=7,'Thermisch optimum'!D31,INDEX(G35:L706,B35,('Thermisch optimum'!$A$23)))","v":80.919080919080912},126.02397602397603,143.28614457831324,124.92,146.95450000000002,45.019776092561827,80.919080919080912,null,null,97.402597402597408,null,null,null,null,null,null,null,null,null,null,null,null,null,null,null,null,null,null,null,null,0,0]
[null,null,"maandag","2011-01-04T01:15:00",null,{"$f":"IF('Thermisch optimum'!$A$23=7,'Thermisch optimum'!D32,INDEX(G36:L707,B36,('Thermisch optimum'!$A$23)))","v":80.919080919080912},126.02397602397603,143.28614457831324,124.92,146.95450000000002,45.019776092561827,80.919080919080912,null,null,97.402597402597408,null,null,null,null,null,null,null,null,null,null,null,null,null,null,null,null,null,null,null,null,0,0]
[null,null,"maandag","2011-01-04T01:30:00",null,{"$f":"IF('Thermisch optimum'!$A$23=7,'Thermisch optimum'!D33,INDEX(G37:L708,B37,('Thermisch optimum'!$A$23)))","v":80.919080919080912},126.02397602397603,143.28614457831324,124.92,146.95450000000002,45.019776092561827,80.919080919080912,null,null,97.402597402597408,null,null,null,null,null,null,null,null,null,null,null,null,null,null,null,null,null,null,null,null,0,0]
[null,null,"maandag","2011-01-04T01:45:00",null,{"$f":"IF('Thermisch optimum'!$A$23=7,'Thermisch optimum'!D34,INDEX(G38:L709,B38,('Thermisch optimum'!$A$23)))","v":80.919080919080912},126.02397602397603,143.28614457831324,124.92,146.95450000000002,45.019776092561827,80.919080919080912,null,null,97.402597402597408,null,null,null,"Reductiefactor voor wekelijkse warmteprofiel",null,null,null,null,null,null,null,null,null,null,null,null,null,null,null,null,0,0]
[null,null,"maandag","2011-01-04T02:00:00",null,{"$f":"IF('Thermisch optimum'!$A$23=7,'Thermisch optimum'!D35,INDEX(G39:L710,B39,('Thermisch optimum'!$A$23)))","v":84.290709290709302},134.71528471528472,144.19879518072287,123.48,153.30700000000002,45.019776092561827,84.290709290709302,null,null,101.46103896103898,null,null,null,null,null,null,null,null,null,null,null,null,null,null,null,null,null,null,null,null,0,0]
[null,null,"maandag","2011-01-04T02:15:00",null,{"$f":"IF('Thermisch optimum'!$A$23=7,'Thermisch optimum'!D36,INDEX(G40:L711,B40,('Thermisch optimum'!$A$23)))","v":84.290709290709302},134.71528471528472,144.19879518072287,123.48,153.30700000000002,45.019776092561827,84.290709290709302,null,null,101.46103896103898,null,null,null,"maandag",1,null,null,null,null,null,null,null,null,null,null,null,null,null,null,null,0,0]
[null,null,"maandag","2011-01-04T02:30:00",null,{"$f":"IF('Thermisch optimum'!$A$23=7,'Thermisch optimum'!D37,INDEX(G41:L712,B41,('Thermisch optimum'!$A$23)))","v":84.290709290709302},134.71528471528472,144.19879518072287,123.48,153.30700000000002,45.019776092561827,84.290709290709302,null,null,101.46103896103898,null,null,null,"dinsdag",1,null,null,null,null,null,null,null,null,null,null,null,null,null,null,null,0,0]
[null,null,"maandag","2011-01-04T02:45:00",null,{"$f":"IF('Thermisch optimum'!$A$23=7,'Thermisch optimum'!D38,INDEX(G42:L713,B42,('Thermisch optimum'!$A$23)))","v":84.290709290709302},134.71528471528472,144.19879518072287,123.48,153.30700000000002,45.019776092561827,84.290709290709302,null,null,101.46103896103898,null,null,null,"woensdag",1,null,null,null,null,null,null,null,null,null,null,null,null,null,null,null,0,0]
[null,null,"maandag","2011-01-04T03:00:00",null,{"$f":"IF('Thermisch optimum'!$A$23=7,'Thermisch optimum'!D39,INDEX(G43:L714,B43,('Thermisch optimum'!$A$23)))","v":94.405594405594414},139.06093906093909,134.61596385542165,126,160.92999999999998,45.019776092561827,94.405594405594414,null,null,113.63636363636365,null,null,null,"donderdag",1,null,null,null,null,null,null,null,null,null,null,null,null,null,null,null,0,0]
[null,null,"maandag","2011-01-04T03:15:00",null,{"$f":"IF('Thermisch optimum'!$A$23=7,'Thermisch optimum'!D40,INDEX(G44:L715,B44,('Thermisch optimum'!$A$23)))","v":94.405594405594414},139.06093906093909,134.61596385542165,126,160.92999999999998,45.019776092561827,94.405594405594414,null,null,113.63636363636365,null,null,null,"vrijdag",1,null,null,null,null,null,null,null,null,null,null,null,null,null,null,null,0,0]
[null,null,"maandag","2011-01-04T03:30:00",null,{"$f":"IF('Thermisch optimum'!$A$23=7,'Thermisch optimum'!D41,INDEX(G45:L716,B45,('Thermisch optimum'!$A$23)))","v":94.405594405594414},139.06093906093909,134.61596385542165,126,160.92999999999998,45.019776092561827,94.405594405594414,null,null,113.63636363636365,null,null,null,"zaterdag",1,null,null,null,null,null,null,null,null,null,null,null,null,null,null,null,0,0]
[null,null,"maandag","2011-01-04T03:45:00",null,{"$f":"IF('Thermisch optimum'!$A$23=7,'Thermisch optimum'!D42,INDEX(G46:L717,B46,('Thermisch optimum'!$A$23)))","v":94.405594405594414},139.06093906093909,134.61596385542165,126,160.92999999999998,45.019776092561827,94.405594405594414,null,null,113.63636363636365,null,null,null,"zondag",1,null,null,null,null,null,null,null,null,null,null,null,null,null,null,null,0,0]
[null,null,"maandag",{"$f":"D46+1/96","v":"2011-01-04T04:00:00"},null,{"$f":"IF('Thermisch optimum'!$A$23=7,'Thermisch optimum'!D43,INDEX(G47:L718,B47,('Thermisch optimum'!$A$23)))","v":138.23676323676324},208.59140859140857,146.48042168674695,132.12,197.77450000000005,180.07910437024731,138.23676323676324,null,null,166.39610389610388,null,null,null,"feestdag",1,null,null,null,null,null,null,null,null,null,null,null,null,null,null,null,0,0]
[null,null,"maandag","2011-01-04T04:15:00",null,{"$f":"IF('Thermisch optimum'!$A$23=7,'Thermisch optimum'!D44,INDEX(G48:L719,B48,('Thermisch optimum'!$A$23)))","v":138.23676323676324},208.59140859140857,146.48042168674695,132.12,197.77450000000005,180.07910437024731,138.23676323676324,null,null,166.39610389610388,null,null,null,null,null,null,null,null,null,null,null,null,null,null,null,null,null,null,null,null,0,0]
[null,null,"maandag","2011-01-04T04:30:00",null,{"$f":"IF('Thermisch optimum'!$A$23=7,'Thermisch optimum'!D45,INDEX(G49:L720,B49,('Thermisch optimum'!$A$23)))","v":138.23676323676324},208.59140859140857,146.48042168674695,132.12,197.77450000000005,180.07910437024731,138.23676323676324,null,null,166.39610389610388,null,null,null,null,null,null,null,null,null,null,null,null,null,null,null,null,null,null,null,null,0,0]
[null,null,"maandag","2011-01-04T04:45:00",null,{"$f":"IF('Thermisch optimum'!$A$23=7,'Thermisch optimum'!D46,INDEX(G50:L721,B50,('Thermisch optimum'!$A$23)))","v":138.23676323676324},208.59140859140857,146.48042168674695,132.12,197.77450000000005,180.07910437024731,138.23676323676324,null,null,166.39610389610388,null,null,null,null,null,null,null,null,null,null,null,null,null,null,null,null,null,null,null,null,0,0]
[null,null,"maandag","2011-01-04T05:00:00",null,{"$f":"IF('Thermisch optimum'!$A$23=7,'Thermisch optimum'!D47,INDEX(G51:L722,B51,('Thermisch optimum'!$A$23)))","v":165.20979020979024},351.998001998002,148.76204819277106,141.84,275.69850000000002,387.17007439603168,165.20979020979024,null,null,198.86363636363637,null,null,null,null,null,null,null,null,null,null,null,null,null,null,null,null,null,null,null,null,0,0]
[null,null,"maandag","2011-01-04T05:15:00",null,{"$f":"IF('Thermisch optimum'!$A$23=7,'Thermisch optimum'!D48,INDEX(G52:L723,B52,('Thermisch optimum'!$A$23)))","v":165.20979020979024},351.998001998002,148.76204819277106,141.84,275.69850000000002,387.17007439603168,165.20979020979024,null,null,198.86363636363637,null,null,null,null,null,null,null,null,null,null,null,null,null,null,null,null,null,null,null,null,0,0]
[null,null,"maandag","2011-01-04T05:30:00",null,{"$f":"IF('Thermisch optimum'!$A$23=7,'Thermisch optimum'!D49,INDEX(G53:L724,B53,('Thermisch optimum'!$A$23)))","v":165.20979020979024},351.998001998002,148.76204819277106,141.84,275.69850000000002,387.17007439603168,165.20979020979024,null,null,198.86363636363637,null,null,null,null,null,null,null,null,null,null,null,null,null,null,null,null,null,null,null,null,0,0]
[null,null,"maandag","2011-01-04T05:45:00",null,{"$f":"IF('Thermisch optimum'!$A$23=7,'Thermisch optimum'!D50,INDEX(G54:L725,B54,('Thermisch optimum'!$A$23)))","v":165.20979020979024},351.998001998002,148.76204819277106,141.84,275.69850000000002,387.17007439603168,165.20979020979024,null,null,198.86363636363637,null,null,null,null,null,null,null,null,null,null,null,null,null,null,null,null,null,null,null,null,0,0]
[null,null,"maandag","2011-01-04T06:00:00",null,{"$f":"IF('Thermisch optimum'!$A$23=7,'Thermisch optimum'!D51,INDEX(G55:L726,B55,('Thermisch optimum'!$A$23)))","v":168.5814185814186},321.57842157842163,147.84939759036143,152.28,259.60550000000001,373.66414156826306,168.5814185814186,null,null,202.92207792207796,null,null,null,null,null,null,null,null,null,null,null,null,null,null,null,null,null,null,null,null,0,0]
[null,null,"maandag","2011-01-04T06:15:00",null,{"$f":"IF('Thermisch optimum'!$A$23=7,'Thermisch optimum'!D52,INDEX(G56:L727,B56,('Thermisch optimum'!$A$23)))","v":168.5814185814186},321.57842157842163,147.84939759036143,152.28,259.60550000000001,373.66414156826306,168.5814185814186,null,null,202.92207792207796,null,null,null,null,null,null,null,null,null,null,null,null,null,null,null,null,null,null,null,null,0,0]
[null,null,"maandag","2011-01-04T06:30:00",null,{"$f":"IF('Thermisch optimum'!$A$23=7,'Thermisch optimum'!D53,INDEX(G57:L728,B57,('Thermisch optimum'!$A$23)))","v":168.5814185814186},321.57842157842163,147.84939759036143,152.28,259.60550000000001,373.66414156826306,168.5814185814186,null,null,202.92207792207796,null,null,null,null,null,null,null,null,null,null,null,null,null,null,null,null,null,null,null,null,0,0]
[null,null,"maandag","2011-01-04T06:45:00",null,{"$f":"IF('Thermisch optimum'!$A$23=7,'Thermisch optimum'!D54,INDEX(G58:L729,B58,('Thermisch optimum'!$A$23)))","v":168.5814185814186},321.57842157842163,147.84939759036143,152.28,259.60550000000001,373.66414156826306,168.5814185814186,null,null,202.92207792207796,null,null,null,null,null,null,null,null,null,null,null,null,null,null,null,null,null,null,null,null,0,0]
[null,null,"maandag","2011-01-04T07:00:00",null,{"$f":"IF('Thermisch optimum'!$A$23=7,'Thermisch optimum'!D55,INDEX(G59:L730,B59,('Thermisch optimum'!$A$23)))","v":168.5814185814186},278.12187812187818,156.97590361445779,170.28000000000003,238.43050000000002,364.66018634975075,168.5814185814186,null,null,202.92207792207796,null,null,null,null,null,null,null,null,null,null,null,null,null,null,null,null,null,null,null,null,0,0]
[null,null,"maandag","2011-01-04T07:15:00",null,{"$f":"IF('Thermisch optimum'!$A$23=7,'Thermisch optimum'!D56,INDEX(G60:L731,B60,('Thermisch optimum'!$A$23)))","v":168.5814185814186},278.12187812187818,156.97590361445779,170.28000000000003,238.43050000000002,364.66018634975075,168.5814185814186,null,null,202.92207792207796,null,null,null,null,null,null,null,null,null,null,null,null,null,null,null,null,null,null,null,null,0,0]
[null,null,"maandag","2011-01-04T07:30:00",null,{"$f":"IF('Thermisch optimum'!$A$23=7,'Thermisch optimum'!D57,INDEX(G61:L732,B61,('Thermisch optimum'!$A$23)))","v":168.5814185814186},278.12187812187818,156.97590361445779,170.28000000000003,238.43050000000002,364.66018634975075,168.5814185814186,null,null,202.92207792207796,null,null,null,null,null,null,null,null,null,null,null,null,null,null,null,null,null,null,null,null,0,0]
[null,null,"maandag","2011-01-04T07:45:00",null,{"$f":"IF('Thermisch optimum'!$A$23=7,'Thermisch optimum'!D58,INDEX(G62:L733,B62,('Thermisch optimum'!$A$23)))","v":168.5814185814186},278.12187812187818,156.97590361445779,170.28000000000003,238.43050000000002,364.66018634975075,168.5814185814186,null,null,202.92207792207796,null,null,null,null,null,null,null,null,null,null,null,null,null,null,null,null,null,null,null,null,0,0]
[null,null,"maandag","2011-01-04T08:00:00",null,{"$f":"IF('Thermisch optimum'!$A$23=7,'Thermisch optimum'!D59,INDEX(G63:L734,B63,('Thermisch optimum'!$A$23)))","v":171.95304695304696},239.01098901098899,257.82379518072287,169.20000000000002,221.4905,360.15820874049462,171.95304695304696,null,null,{"$f":"F639","v":206.98051948051946},null,null,null,null,null,null,null,null,null,null,null,null,null,null,null,null,null,null,null,null,0,0]
[null,null,"maandag","2011-01-04T08:15:00",null,{"$f":"IF('Thermisch optimum'!$A$23=7,'Thermisch optimum'!D60,INDEX(G64:L735,B64,('Thermisch optimum'!$A$23)))","v":171.95304695304696},239.01098901098899,257.82379518072287,169.20000000000002,221.4905,360.15820874049462,171.95304695304696,null,null,206.98051948051946,null,null,null,null,null,null,null,null,null,null,null,null,null,null,null,null,null,null,null,null,0,0]
[null,null,"maandag","2011-01-04T08:30:00",null,{"$f":"IF('Thermisch optimum'!$A$23=7,'Thermisch optimum'!D61,INDEX(G65:L736,B65,('Thermisch optimum'!$A$23)))","v":171.95304695304696},239.01098901098899,257.82379518072287,169.20000000000002,221.4905,360.15820874049462,171.95304695304696,null,null,206.98051948051946,null,null,null,null,null,null,null,null,null,null,null,null,null,null,null,null,null,null,null,null,0,0]
[null,null,"maandag","2011-01-04T08:45:00",null,{"$f":"IF('Thermisch optimum'!$A$23=7,'Thermisch optimum'!D62,INDEX(G66:L737,B66,('Thermisch optimum'!$A$23)))","v":171.95304695304696},239.01098901098899,257.82379518072287,169.20000000000002,221.4905,360.15820874049462,171.95304695304696,null,null,206.98051948051946,null,null,null,null,null,null,null,null,null,null,null,null,null,null,null,null,null,null,null,null,0,0]
[null,null,"maandag","2011-01-04T09:00:00",null,{"$f":"IF('Thermisch optimum'!$A$23=7,'Thermisch optimum'!D63,INDEX(G67:L738,B67,('Thermisch optimum'!$A$23)))","v":168.5814185814186},221.62837162837158,330.37951807228904,169.20000000000002,206.66800000000001,346.65227591272605,168.5814185814186,null,null,202.92207792207796,null,null,null,null,null,null,null,null,null,null,null,null,null,null,null,null,null,null,null,null,0,0]
[null,null,"maandag","2011-01-04T09:15:00",null,{"$f":"IF('Thermisch optimum'!$A$23=7,'Thermisch optimum'!D64,INDEX(G68:L739,B68,('Thermisch optimum'!$A$23)))","v":168.5814185814186},221.62837162837158,330.37951807228904,169.20000000000002,206.66800000000001,346.65227591272605,168.5814185814186,null,null,202.92207792207796,null,null,null,null,null,null,null,null,null,null,null,null,null,null,null,null,null,null,null,null,0,0]
[null,null,"maandag","2011-01-04T09:30:00",null,{"$f":"IF('Thermisch optimum'!$A$23=7,'Thermisch optimum'!D65,INDEX(G69:L740,B69,('Thermisch optimum'!$A$23)))","v":168.5814185814186},221.62837162837158,330.37951807228904,169.20000000000002,206.66800000000001,346.65227591272605,168.5814185814186,null,null,202.92207792207796,null,null,null,null,null,null,null,null,null,null,null,null,null,null,null,null,null,null,null,null,0,0]
[null,null,"maandag","2011-01-04T09:45:00",null,{"$f":"IF('Thermisch optimum'!$A$23=7,'Thermisch optimum'!D66,INDEX(G70:L741,B70,('Thermisch optimum'!$A$23)))","v":168.5814185814186},221.62837162837158,330.37951807228904,169.20000000000002,206.66800000000001,346.65227591272605,168.5814185814186,null,null,202.92207792207796,null,null,null,null,null,null,null,null,null,null,null,null,null,null,null,null,null,null,null,null,0,0]
[null,null,"maandag","2011-01-04T10:00:00",null,{"$f":"IF('Thermisch optimum'!$A$23=7,'Thermisch optimum'!D67,INDEX(G71:L742,B71,('Thermisch optimum'!$A$23)))","v":161.83816183816182},195.55444555444555,291.13554216867465,169.20000000000002,188.45750000000004,342.15029830346987,161.83816183816182,null,null,194.80519480519482,null,null,null,null,null,null,null,null,null,null,null,null,null,null,null,null,null,null,null,null,0,0]
[null,null,"maandag","2011-01-04T10:15:00",null,{"$f":"IF('Thermisch optimum'!$A$23=7,'Thermisch optimum'!D68,INDEX(G72:L743,B72,('Thermisch optimum'!$A$23)))","v":161.83816183816182},195.55444555444555,291.13554216867465,169.20000000000002,188.45750000000004,342.15029830346987,161.83816183816182,null,null,194.80519480519482,null,null,null,null,null,null,null,null,null,null,null,null,null,null,null,null,null,null,null,null,0,0]
[null,null,"maandag","2011-01-04T10:30:00",null,{"$f":"IF('Thermisch optimum'!$A$23=7,'Thermisch optimum'!D69,INDEX(G73:L744,B73,('Thermisch optimum'!$A$23)))","v":161.83816183816182},195.55444555444555,291.13554216867465,169.20000000000002,188.45750000000004,342.15029830346987,161.83816183816182,null,null,194.80519480519482,null,null,null,null,null,null,null,null,null,null,null,null,null,null,null,null,null,null,null,null,0,0]
[null,null,"maandag","2011-01-04T10:45:00",null,{"$f":"IF('Thermisch optimum'!$A$23=7,'Thermisch optimum'!D70,INDEX(G74:L745,B74,('Thermisch optimum'!$A$23)))","v":161.83816183816182},195.55444555444555,291.13554216867465,169.20000000000002,188.45750000000004,342.15029830346987,161.83816183816182,null,null,194.80519480519482,null,null,null,null,null,null,null,null,null,null,null,null,null,null,null,null,null,null,null,null,0,0]
[null,null,"maandag","2011-01-04T11:00:00",null,{"$f":"IF('Thermisch optimum'!$A$23=7,'Thermisch optimum'!D71,INDEX(G75:L746,B75,('Thermisch optimum'!$A$23)))","v":151.72327672327677},195.55444555444555,290.67921686746979,165.96,181.6815,337.64832069421368,151.72327672327677,null,null,182.6298701298702,null,null,null,null,null,null,null,null,null,null,null,null,null,null,null,null,null,null,null,null,0,0]
[null,null,"maandag","2011-01-04T11:15:00",null,{"$f":"IF('Thermisch optimum'!$A$23=7,'Thermisch optimum'!D72,INDEX(G76:L747,B76,('Thermisch optimum'!$A$23)))","v":151.72327672327677},195.55444555444555,290.67921686746979,165.96,181.6815,337.64832069421368,151.72327672327677,null,null,182.6298701298702,null,null,null,null,null,null,null,null,null,null,null,null,null,null,null,null,null,null,null,null,0,0]
[null,null,"maandag","2011-01-04T11:30:00",null,{"$f":"IF('Thermisch optimum'!$A$23=7,'Thermisch optimum'!D73,INDEX(G77:L748,B77,('Thermisch optimum'!$A$23)))","v":151.72327672327677},195.55444555444555,290.67921686746979,165.96,181.6815,337.64832069421368,151.72327672327677,null,null,182.6298701298702,null,null,null,null,null,null,null,null,null,null,null,null,null,null,null,null,null,null,null,null,0,0]
[null,null,"maandag","2011-01-04T11:45:00",null,{"$f":"IF('Thermisch optimum'!$A$23=7,'Thermisch optimum'!D74,INDEX(G78:L749,B78,('Thermisch optimum'!$A$23)))","v":151.72327672327677},195.55444555444555,290.67921686746979,165.96,181.6815,337.64832069421368,151.72327672327677,null,null,182.6298701298702,null,null,null,null,null,null,null,null,null,null,null,null,null,null,null,null,null,null,null,null,0,0]
[null,null,"maandag","2011-01-04T12:00:00",null,{"$f":"IF('Thermisch optimum'!$A$23=7,'Thermisch optimum'!D75,INDEX(G79:L750,B79,('Thermisch optimum'!$A$23)))","v":148.35164835164838},182.51748251748253,272.42620481927702,161.28000000000003,174.05850000000001,333.14634308495749,148.35164835164838,null,null,178.57142857142861,null,null,null,null,null,null,null,null,null,null,null,null,null,null,null,null,null,null,null,null,0,0]
[null,null,"maandag","2011-01-04T12:15:00",null,{"$f":"IF('Thermisch optimum'!$A$23=7,'Thermisch optimum'!D76,INDEX(G80:L751,B80,('Thermisch optimum'!$A$23)))","v":148.35164835164838},182.51748251748253,272.42620481927702,161.28000000000003,174.05850000000001,333.14634308495749,148.35164835164838,null,null,178.57142857142861,null,null,null,null,null,null,null,null,null,null,null,null,null,null,null,null,null,null,null,null,0,0]
[null,null,"maandag","2011-01-04T12:30:00",null,{"$f":"IF('Thermisch optimum'!$A$23=7,'Thermisch optimum'!D77,INDEX(G81:L752,B81,('Thermisch optimum'!$A$23)))","v":148.35164835164838},182.51748251748253,272.42620481927702,161.28000000000003,174.05850000000001,333.14634308495749,148.35164835164838,null,null,178.57142857142861,null,null,null,null,null,null,null,null,null,null,null,null,null,null,null,null,null,null,null,null,0,0]
[null,null,"maandag","2011-01-04T12:45:00",null,{"$f":"IF('Thermisch optimum'!$A$23=7,'Thermisch optimum'!D78,INDEX(G82:L753,B82,('Thermisch optimum'!$A$23)))","v":148.35164835164838},182.51748251748253,272.42620481927702,161.28000000000003,174.05850000000001,333.14634308495749,148.35164835164838,null,null,178.57142857142861,null,null,null,null,null,null,null,null,null,null,null,null,null,null,null,null,null,null,null,null,0,0]
[null,null,"maandag","2011-01-04T13:00:00",null,{"$f":"IF('Thermisch optimum'!$A$23=7,'Thermisch optimum'!D79,INDEX(G83:L754,B83,('Thermisch optimum'!$A$23)))","v":144.98001998002002},178.17182817182814,255.99849397590359,157.68,168.553,324.14238786644518,144.98001998002002,null,null,174.51298701298705,null,null,null,null,null,null,null,null,null,null,null,null,null,null,null,null,null,null,null,null,0,0]
[null,null,"maandag","2011-01-04T13:15:00",null,{"$f":"IF('Thermisch optimum'!$A$23=7,'Thermisch optimum'!D80,INDEX(G84:L755,B84,('Thermisch optimum'!$A$23)))","v":144.98001998002002},178.17182817182814,255.99849397590359,157.68,168.553,324.14238786644518,144.98001998002002,null,null,174.51298701298705,null,null,null,null,null,null,null,null,null,null,null,null,null,null,null,null,null,null,null,null,0,0]
[null,null,"maandag","2011-01-04T13:30:00",null,{"$f":"IF('Thermisch optimum'!$A$23=7,'Thermisch optimum'!D81,INDEX(G85:L756,B85,('Thermisch optimum'!$A$23)))","v":144.98001998002002},178.17182817182814,255.99849397590359,157.68,168.553,324.14238786644518,144.98001998002002,null,null,174.51298701298705,null,null,null,null,null,null,null,null,null,null,null,null,null,null,null,null,null,null,null,null,0,0]
[null,null,"maandag","2011-01-04T13:45:00",null,{"$f":"IF('Thermisch optimum'!$A$23=7,'Thermisch optimum'!D82,INDEX(G86:L757,B86,('Thermisch optimum'!$A$23)))","v":144.98001998002002},178.17182817182814,255.99849397590359,157.68,168.553,324.14238786644518,144.98001998002002,null,null,174.51298701298705,null,null,null,null,null,null,null,null,null,null,null,null,null,null,null,null,null,null,null,null,0,0]
[null,null,"maandag","2011-01-04T14:00:00",null,{"$f":"IF('Thermisch optimum'!$A$23=7,'Thermisch optimum'!D83,INDEX(G87:L758,B87,('Thermisch optimum'!$A$23)))","v":141.60839160839163},178.17182817182814,233.63855421686745,157.32000000000002,168.553,310.63645503867656,141.60839160839163,null,null,170.45454545454552,null,null,null,null,null,null,null,null,null,null,null,null,null,null,null,null,null,null,null,null,0,0]
[null,null,"maandag","2011-01-04T14:15:00",null,{"$f":"IF('Thermisch optimum'!$A$23=7,'Thermisch optimum'!D84,INDEX(G88:L759,B88,('Thermisch optimum'!$A$23)))","v":141.60839160839163},178.17182817182814,233.63855421686745,157.32000000000002,168.553,310.63645503867656,141.60839160839163,null,null,170.45454545454552,null,null,null,null,null,null,null,null,null,null,null,null,null,null,null,null,null,null,null,null,0,0]
[null,null,"maandag","2011-01-04T14:30:00",null,{"$f":"IF('Thermisch optimum'!$A$23=7,'Thermisch optimum'!D85,INDEX(G89:L760,B89,('Thermisch optimum'!$A$23)))","v":141.60839160839163},178.17182817182814,233.63855421686745,157.32000000000002,168.553,310.63645503867656,141.60839160839163,null,null,170.45454545454552,null,null,null,null,null,null,null,null,null,null,null,null,null,null,null,null,null,null,null,null,0,0]
[null,null,"maandag","2011-01-04T14:45:00",null,{"$f":"IF('Thermisch optimum'!$A$23=7,'Thermisch optimum'!D86,INDEX(G90:L761,B90,('Thermisch optimum'!$A$23)))","v":141.60839160839163},178.17182817182814,233.63855421686745,157.32000000000002,168.553,310.63645503867656,141.60839160839163,null,null,170.45454545454552,null,null,null,null,null,null,null,null,null,null,null,null,null,null,null,null,null,null,null,null,0,0]
[null,null,"maandag","2011-01-04T15:00:00",null,{"$f":"IF('Thermisch optimum'!$A$23=7,'Thermisch optimum'!D87,INDEX(G91:L762,B91,('Thermisch optimum'!$A$23)))","v":141.60839160839163},169.48051948051946,208.08433734939754,159.12,164.74150000000003,301.63249982016418,141.60839160839163,null,null,170.45454545454552,null,null,null,null,null,null,null,null,null,null,null,null,null,null,null,null,null,null,null,null,0,0]
[null,null,"maandag","2011-01-04T15:15:00",null,{"$f":"IF('Thermisch optimum'!$A$23=7,'Thermisch optimum'!D88,INDEX(G92:L763,B92,('Thermisch optimum'!$A$23)))","v":141.60839160839163},169.48051948051946,208.08433734939754,159.12,164.74150000000003,301.63249982016418,141.60839160839163,null,null,170.45454545454552,null,null,null,null,null,null,null,null,null,null,null,null,null,null,null,null,null,null,null,null,0,0]
[null,null,"maandag","2011-01-04T15:30:00",null,{"$f":"IF('Thermisch optimum'!$A$23=7,'Thermisch optimum'!D89,INDEX(G93:L764,B93,('Thermisch optimum'!$A$23)))","v":141.60839160839163},169.48051948051946,208.08433734939754,159.12,164.74150000000003,301.63249982016418,141.60839160839163,null,null,170.45454545454552,null,null,null,null,null,null,null,null,null,null,null,null,null,null,null,null,null,null,null,null,0,0]
[null,null,"maandag","2011-01-04T15:45:00",null,{"$f":"IF('Thermisch optimum'!$A$23=7,'Thermisch optimum'!D90,INDEX(G94:L765,B94,('Thermisch optimum'!$A$23)))","v":141.60839160839163},169.48051948051946,208.08433734939754,159.12,164.74150000000003,301.63249982016418,141.60839160839163,null,null,170.45454545454552,null,null,null,null,null,null,null,null,null,null,null,null,null,null,null,null,null,null,null,null,0,0]
[null,null,"maandag","2011-01-04T16:00:00",null,{"$f":"IF('Thermisch optimum'!$A$23=7,'Thermisch optimum'!D91,INDEX(G95:L766,B95,('Thermisch optimum'!$A$23)))","v":144.98001998002002},152.09790209790211,215.8418674698795,157.32000000000002,153.73050000000001,163.42178721599939,144.98001998002002,null,null,{"$f":"F671","v":174.51298701298705},null,null,null,null,null,null,null,null,null,null,null,null,null,null,null,null,null,null,null,null,{"$f":"IF(AND(HOUR(D95)>=$U$19,HOUR(D95)<($U$19+15)),E95,0)","v":0},{"$f":"IF(AJ95=0,E95,0)","v":0}]
[null,null,"maandag","2011-01-04T16:15:00",null,{"$f":"IF('Thermisch optimum'!$A$23=7,'Thermisch optimum'!D92,INDEX(G96:L767,B96,('Thermisch optimum'!$A$23)))","v":144.98001998002002},152.09790209790211,215.8418674698795,157.32000000000002,153.73050000000001,163.42178721599939,144.98001998002002,null,null,174.51298701298705,null,null,null,null,null,null,null,null,null,null,null,null,null,null,null,null,null,null,null,null,0,0]
[null,null,"maandag",{"$f":"D96+1/96","v":"2011-01-04T16:30:00"},null,{"$f":"IF('Thermisch optimum'!$A$23=7,'Thermisch optimum'!D93,INDEX(G97:L768,B97,('Thermisch optimum'!$A$23)))","v":144.98001998002002},152.09790209790211,215.8418674698795,157.32000000000002,153.73050000000001,163.42178721599939,144.98001998002002,null,null,174.51298701298705,null,null,null,null,null,null,null,null,null,null,null,null,null,null,null,null,null,null,null,null,0,0]
[null,null,"maandag","2011-01-04T16:45:00",null,{"$f":"IF('Thermisch optimum'!$A$23=7,'Thermisch optimum'!D94,INDEX(G98:L769,B98,('Thermisch optimum'!$A$23)))","v":144.98001998002002},152.09790209790211,215.8418674698795,157.32000000000002,153.73050000000001,163.42178721599939,144.98001998002002,null,null,174.51298701298705,null,null,null,null,null,null,null,null,null,null,null,null,null,null,null,null,null,null,null,null,0,0]
[null,null,"maandag","2011-01-04T17:00:00",null,{"$f":"IF('Thermisch optimum'!$A$23=7,'Thermisch optimum'!D95,INDEX(G99:L770,B99,('Thermisch optimum'!$A$23)))","v":155.09490509490513},160.78921078921081,230.90060240963848,160.19999999999999,159.23600000000002,45.019776092561827,155.09490509490513,null,null,186.68831168831173,null,null,null,null,null,null,null,null,null,null,null,null,null,null,null,null,null,null,null,null,0,0]
[null,null,"maandag","2011-01-04T17:15:00",null,{"$f":"IF('Thermisch optimum'!$A$23=7,'Thermisch optimum'!D96,INDEX(G100:L771,B100,('Thermisch optimum'!$A$23)))","v":155.09490509490513},160.78921078921081,230.90060240963848,160.19999999999999,159.23600000000002,45.019776092561827,155.09490509490513,null,null,186.68831168831173,null,null,null,null,null,null,null,null,null,null,null,null,null,null,null,null,null,null,null,null,0,0]
[null,null,"maandag","2011-01-04T17:30:00",null,{"$f":"IF('Thermisch optimum'!$A$23=7,'Thermisch optimum'!D97,INDEX(G101:L772,B101,('Thermisch optimum'!$A$23)))","v":155.09490509490513},160.78921078921081,230.90060240963848,160.19999999999999,159.23600000000002,45.019776092561827,155.09490509490513,null,null,186.68831168831173,null,null,null,null,null,null,null,null,null,null,null,null,null,null,null,null,null,null,null,null,0,0]
[null,null,"maandag","2011-01-04T17:45:00",null,{"$f":"IF('Thermisch optimum'!$A$23=7,'Thermisch optimum'!D98,INDEX(G102:L773,B102,('Thermisch optimum'!$A$23)))","v":155.09490509490513},160.78921078921081,230.90060240963848,160.19999999999999,159.23600000000002,45.019776092561827,155.09490509490513,null,null,186.68831168831173,null,null,null,null,null,null,null,null,null,null,null,null,null,null,null,null,null,null,null,null,0,0]
[null,null,"maandag","2011-01-04T18:00:00",null,{"$f":"IF('Thermisch optimum'!$A$23=7,'Thermisch optimum'!D99,INDEX(G103:L774,B103,('Thermisch optimum'!$A$23)))","v":161.83816183816182},182.51748251748253,196.67620481927705,169.56,171.09399999999999,45.019776092561827,161.83816183816182,null,null,194.80519480519482,null,null,null,null,null,null,null,null,null,null,null,null,null,null,null,null,null,null,null,null,0,0]
[null,null,"maandag","2011-01-04T18:15:00",null,{"$f":"IF('Thermisch optimum'!$A$23=7,'Thermisch optimum'!D100,INDEX(G104:L775,B104,('Thermisch optimum'!$A$23)))","v":161.83816183816182},182.51748251748253,196.67620481927705,169.56,171.09399999999999,45.019776092561827,161.83816183816182,null,null,194.80519480519482,null,null,null,null,null,null,null,null,null,null,null,null,null,null,null,null,null,null,null,null,0,0]
[null,null,"maandag","2011-01-04T18:30:00",null,{"$f":"IF('Thermisch optimum'!$A$23=7,'Thermisch optimum'!D101,INDEX(G105:L776,B105,('Thermisch optimum'!$A$23)))","v":161.83816183816182},182.51748251748253,196.67620481927705,169.56,171.09399999999999,45.019776092561827,161.83816183816182,null,null,194.80519480519482,null,null,null,null,null,null,null,null,null,null,null,null,null,null,null,null,null,null,null,null,0,0]
[null,null,"maandag","2011-01-04T18:45:00",null,{"$f":"IF('Thermisch optimum'!$A$23=7,'Thermisch optimum'!D102,INDEX(G106:L777,B106,('Thermisch optimum'!$A$23)))","v":161.83816183816182},182.51748251748253,196.67620481927705,169.56,171.09399999999999,45.019776092561827,161.83816183816182,null,null,194.80519480519482,null,null,null,null,null,null,null,null,null,null,null,null,null,null,null,null,null,null,null,null,0,0]
[null,null,"maandag","2011-01-04T19:00:00",null,{"$f":"IF('Thermisch optimum'!$A$23=7,'Thermisch optimum'!D103,INDEX(G107:L778,B107,('Thermisch optimum'!$A$23)))","v":161.83816183816182},152.09790209790211,131.87801204819274,161.28000000000003,153.73050000000001,45.019776092561827,161.83816183816182,null,null,194.80519480519482,null,null,null,null,null,null,null,null,null,null,null,null,null,null,null,null,null,null,null,null,0,0]
[null,null,"maandag","2011-01-04T19:15:00",null,{"$f":"IF('Thermisch optimum'!$A$23=7,'Thermisch optimum'!D104,INDEX(G108:L779,B108,('Thermisch optimum'!$A$23)))","v":161.83816183816182},152.09790209790211,131.87801204819274,161.28000000000003,153.73050000000001,45.019776092561827,161.83816183816182,null,null,194.80519480519482,null,null,null,null,null,null,null,null,null,null,null,null,null,null,null,null,null,null,null,null,0,0]
[null,null,"maandag","2011-01-04T19:30:00",null,{"$f":"IF('Thermisch optimum'!$A$23=7,'Thermisch optimum'!D105,INDEX(G109:L780,B109,('Thermisch optimum'!$A$23)))","v":161.83816183816182},152.09790209790211,131.87801204819274,161.28000000000003,153.73050000000001,45.019776092561827,161.83816183816182,null,null,194.80519480519482,null,null,null,null,null,null,null,null,null,null,null,null,null,null,null,null,null,null,null,null,0,0]
[null,null,"maandag","2011-01-04T19:45:00",null,{"$f":"IF('Thermisch optimum'!$A$23=7,'Thermisch optimum'!D106,INDEX(G110:L781,B110,('Thermisch optimum'!$A$23)))","v":161.83816183816182},152.09790209790211,131.87801204819274,161.28000000000003,153.73050000000001,45.019776092561827,161.83816183816182,null,null,194.80519480519482,null,null,null,null,null,null,null,null,null,null,null,null,null,null,null,null,null,null,null,null,0,0]
[null,null,"maandag","2011-01-04T20:00:00",null,{"$f":"IF('Thermisch optimum'!$A$23=7,'Thermisch optimum'!D107,INDEX(G111:L782,B111,('Thermisch optimum'!$A$23)))","v":165.20979020979024},108.64135864135864,111.34337349397586,152.64000000000001,132.13200000000001,45.019776092561827,165.20979020979024,null,null,198.86363636363637,null,null,null,null,null,null,null,null,null,null,null,null,null,null,null,null,null,null,null,null,0,0]
[null,null,"maandag","2011-01-04T20:15:00",null,{"$f":"IF('Thermisch optimum'!$A$23=7,'Thermisch optimum'!D108,INDEX(G112:L783,B112,('Thermisch optimum'!$A$23)))","v":165.20979020979024},108.64135864135864,111.34337349397586,152.64000000000001,132.13200000000001,45.019776092561827,165.20979020979024,null,null,198.86363636363637,null,null,null,null,null,null,null,null,null,null,null,null,null,null,null,null,null,null,null,null,0,0]
[null,null,"maandag","2011-01-04T20:30:00",null,{"$f":"IF('Thermisch optimum'!$A$23=7,'Thermisch optimum'!D109,INDEX(G113:L784,B113,('Thermisch optimum'!$A$23)))","v":165.20979020979024},108.64135864135864,111.34337349397586,152.64000000000001,132.13200000000001,45.019776092561827,165.20979020979024,null,null,198.86363636363637,null,null,null,null,null,null,null,null,null,null,null,null,null,null,null,null,null,null,null,null,0,0]
[null,null,"maandag","2011-01-04T20:45:00",null,{"$f":"IF('Thermisch optimum'!$A$23=7,'Thermisch optimum'!D110,INDEX(G114:L785,B114,('Thermisch optimum'!$A$23)))","v":165.20979020979024},108.64135864135864,111.34337349397586,152.64000000000001,132.13200000000001,45.019776092561827,165.20979020979024,null,null,198.86363636363637,null,null,null,null,null,null,null,null,null,null,null,null,null,null,null,null,null,null,null,null,0,0]
[null,null,"maandag","2011-01-04T21:00:00",null,{"$f":"IF('Thermisch optimum'!$A$23=7,'Thermisch optimum'!D111,INDEX(G115:L786,B115,('Thermisch optimum'!$A$23)))","v":161.83816183816182},112.98701298701299,109.51807228915661,153,135.9435,45.019776092561827,161.83816183816182,null,null,194.80519480519482,null,null,null,null,null,null,null,null,null,null,null,null,null,null,null,null,null,null,null,null,0,0]
[null,null,"maandag","2011-01-04T21:15:00",null,{"$f":"IF('Thermisch optimum'!$A$23=7,'Thermisch optimum'!D112,INDEX(G116:L787,B116,('Thermisch optimum'!$A$23)))","v":161.83816183816182},112.98701298701299,109.51807228915661,153,135.9435,45.019776092561827,161.83816183816182,null,null,194.80519480519482,null,null,null,null,null,null,null,null,null,null,null,null,null,null,null,null,null,null,null,null,0,0]
[null,null,"maandag","2011-01-04T21:30:00",null,{"$f":"IF('Thermisch optimum'!$A$23=7,'Thermisch optimum'!D113,INDEX(G117:L788,B117,('Thermisch optimum'!$A$23)))","v":161.83816183816182},112.98701298701299,109.51807228915661,153,135.9435,45.019776092561827,161.83816183816182,null,null,194.80519480519482,null,null,null,null,null,null,null,null,null,null,null,null,null,null,null,null,null,null,null,null,0,0]
[null,null,"maandag","2011-01-04T21:45:00",null,{"$f":"IF('Thermisch optimum'!$A$23=7,'Thermisch optimum'!D114,INDEX(G118:L789,B118,('Thermisch optimum'!$A$23)))","v":161.83816183816182},112.98701298701299,109.51807228915661,153,135.9435,45.019776092561827,161.83816183816182,null,null,194.80519480519482,null,null,null,null,null,null,null,null,null,null,null,null,null,null,null,null,null,null,null,null,0,0]
[null,null,"maandag","2011-01-04T22:00:00",null,{"$f":"IF('Thermisch optimum'!$A$23=7,'Thermisch optimum'!D115,INDEX(G119:L790,B119,('Thermisch optimum'!$A$23)))","v":144.98001998002002},112.98701298701299,108.60542168674696,122.76000000000002,136.79050000000001,45.019776092561827,144.98001998002002,null,null,174.51298701298705,null,null,null,null,null,null,null,null,null,null,null,null,null,null,null,null,null,null,null,null,0,0]
[null,null,"maandag","2011-01-04T22:15:00",null,{"$f":"IF('Thermisch optimum'!$A$23=7,'Thermisch optimum'!D116,INDEX(G120:L791,B120,('Thermisch optimum'!$A$23)))","v":144.98001998002002},112.98701298701299,108.60542168674696,122.76000000000002,136.79050000000001,45.019776092561827,144.98001998002002,null,null,174.51298701298705,null,null,null,null,null,null,null,null,null,null,null,null,null,null,null,null,null,null,null,null,0,0]
[null,null,"maandag","2011-01-04T22:30:00",null,{"$f":"IF('Thermisch optimum'!$A$23=7,'Thermisch optimum'!D117,INDEX(G121:L792,B121,('Thermisch optimum'!$A$23)))","v":144.98001998002002},112.98701298701299,108.60542168674696,122.76000000000002,136.79050000000001,45.019776092561827,144.98001998002002,null,null,174.51298701298705,null,null,null,null,null,null,null,null,null,null,null,null,null,null,null,null,null,null,null,null,0,0]
[null,null,"maandag","2011-01-04T22:45:00",null,{"$f":"IF('Thermisch optimum'!$A$23=7,'Thermisch optimum'!D118,INDEX(G122:L793,B122,('Thermisch optimum'!$A$23)))","v":144.98001998002002},112.98701298701299,108.60542168674696,122.76000000000002,136.79050000000001,45.019776092561827,144.98001998002002,null,null,174.51298701298705,null,null,null,null,null,null,null,null,null,null,null,null,null,null,null,null,null,null,null,null,0,0]
[null,null,"maandag","2011-01-04T23:00:00",null,{"$f":"IF('Thermisch optimum'!$A$23=7,'Thermisch optimum'!D119,INDEX(G123:L794,B123,('Thermisch optimum'!$A$23)))","v":74.175824175824189},121.67832167832168,123.66415662650601,120.96,141.8725,45.019776092561827,74.175824175824189,null,null,89.285714285714306,null,null,null,null,null,null,null,null,null,null,null,null,null,null,null,null,null,null,null,null,0,0]
[null,null,"maandag","2011-01-04T23:15:00",null,{"$f":"IF('Thermisch optimum'!$A$23=7,'Thermisch optimum'!D120,INDEX(G124:L795,B124,('Thermisch optimum'!$A$23)))","v":74.175824175824189},121.67832167832168,123.66415662650601,120.96,141.8725,45.019776092561827,74.175824175824189,null,null,89.285714285714306,null,null,null,null,null,null,null,null,null,null,null,null,null,null,null,null,null,null,null,null,0,0]
[null,null,"maandag","2011-01-04T23:30:00",null,{"$f":"IF('Thermisch optimum'!$A$23=7,'Thermisch optimum'!D121,INDEX(G125:L796,B125,('Thermisch optimum'!$A$23)))","v":74.175824175824189},121.67832167832168,123.66415662650601,120.96,141.8725,45.019776092561827,74.175824175824189,null,null,89.285714285714306,null,null,null,null,null,null,null,null,null,null,null,null,null,null,null,null,null,null,null,null,0,0]
[null,null,"maandag","2011-01-04T23:45:00",null,{"$f":"IF('Thermisch optimum'!$A$23=7,'Thermisch optimum'!D122,INDEX(G126:L797,B126,('Thermisch optimum'!$A$23)))","v":74.175824175824189},121.67832167832168,123.66415662650601,120.96,141.8725,45.019776092561827,74.175824175824189,null,null,89.285714285714306,null,null,null,null,null,null,null,null,null,null,null,null,null,null,null,null,null,null,null,null,0,0]
[null,null,"dinsdag","2011-01-05",null,{"$f":"IF('Thermisch optimum'!$A$23=7,'Thermisch optimum'!D123,INDEX(G127:L798,B127,('Thermisch optimum'!$A$23)))","v":74.175824175824189},123.07692307692311,137.69427710843368,128.35000000000002,138.82050000000001,45.019776092561827,74.175824175824189,null,null,null,null,null,null,null,null,null,null,null,null,null,null,null,null,null,null,null,null,null,null,null,0,0]
[null,null,"dinsdag","2011-01-05T00:15:00",null,{"$f":"IF('Thermisch optimum'!$A$23=7,'Thermisch optimum'!D124,INDEX(G128:L799,B128,('Thermisch optimum'!$A$23)))","v":74.175824175824189},123.07692307692311,137.69427710843368,128.35000000000002,138.82050000000001,45.019776092561827,74.175824175824189,null,null,null,null,null,null,null,null,null,null,null,null,null,null,null,null,null,null,null,null,null,null,null,0,0]
[null,null,"dinsdag","2011-01-05T00:30:00",null,{"$f":"IF('Thermisch optimum'!$A$23=7,'Thermisch optimum'!D125,INDEX(G129:L800,B129,('Thermisch optimum'!$A$23)))","v":74.175824175824189},123.07692307692311,137.69427710843368,128.35000000000002,138.82050000000001,45.019776092561827,74.175824175824189,null,null,null,null,null,null,null,null,null,null,null,null,null,null,null,null,null,null,null,null,null,null,null,0,0]
[null,null,"dinsdag","2011-01-05T00:45:00",null,{"$f":"IF('Thermisch optimum'!$A$23=7,'Thermisch optimum'!D126,INDEX(G130:L801,B130,('Thermisch optimum'!$A$23)))","v":74.175824175824189},123.07692307692311,137.69427710843368,128.35000000000002,138.82050000000001,45.019776092561827,74.175824175824189,null,null,null,null,null,null,null,null,null,null,null,null,null,null,null,null,null,null,null,null,null,null,null,0,0]
[null,null,"dinsdag","2011-01-05T01:00:00",null,{"$f":"IF('Thermisch optimum'!$A$23=7,'Thermisch optimum'!D127,INDEX(G131:L802,B131,('Thermisch optimum'!$A$23)))","v":80.919080919080912},127.4725274725275,127.91716867469879,130.99250000000001,142.09649999999999,45.019776092561827,80.919080919080912,null,null,null,null,null,null,null,null,null,null,null,null,null,null,null,null,null,null,null,null,null,null,null,0,0]
[null,null,"dinsdag","2011-01-05T01:15:00",null,{"$f":"IF('Thermisch optimum'!$A$23=7,'Thermisch optimum'!D128,INDEX(G132:L803,B132,('Thermisch optimum'!$A$23)))","v":80.919080919080912},127.4725274725275,127.91716867469879,130.99250000000001,142.09649999999999,45.019776092561827,80.919080919080912,null,null,null,null,null,null,null,null,null,null,null,null,null,null,null,null,null,null,null,null,null,null,null,0,0]
[null,null,"dinsdag","2011-01-05T01:30:00",null,{"$f":"IF('Thermisch optimum'!$A$23=7,'Thermisch optimum'!D129,INDEX(G133:L804,B133,('Thermisch optimum'!$A$23)))","v":80.919080919080912},127.4725274725275,127.91716867469879,130.99250000000001,142.09649999999999,45.019776092561827,80.919080919080912,null,null,null,null,null,null,null,null,null,null,null,null,null,null,null,null,null,null,null,null,null,null,null,0,0]
[null,null,"dinsdag","2011-01-05T01:45:00",null,{"$f":"IF('Thermisch optimum'!$A$23=7,'Thermisch optimum'!D130,INDEX(G134:L805,B134,('Thermisch optimum'!$A$23)))","v":80.919080919080912},127.4725274725275,127.91716867469879,130.99250000000001,142.09649999999999,45.019776092561827,80.919080919080912,null,null,null,null,null,null,null,null,null,null,null,null,null,null,null,null,null,null,null,null,null,null,null,0,0]
[null,null,"dinsdag","2011-01-05T02:00:00",null,{"$f":"IF('Thermisch optimum'!$A$23=7,'Thermisch optimum'!D131,INDEX(G135:L806,B135,('Thermisch optimum'!$A$23)))","v":84.290709290709302},136.26373626373632,128.73192771084337,129.48249999999999,148.239,45.019776092561827,84.290709290709302,null,null,null,null,null,null,null,null,null,null,null,null,null,null,null,null,null,null,null,null,null,null,null,0,0]
[null,null,"dinsdag","2011-01-05T02:15:00",null,{"$f":"IF('Thermisch optimum'!$A$23=7,'Thermisch optimum'!D132,INDEX(G136:L807,B136,('Thermisch optimum'!$A$23)))","v":84.290709290709302},136.26373626373632,128.73192771084337,129.48249999999999,148.239,45.019776092561827,84.290709290709302,null,null,null,null,null,null,null,null,null,null,null,null,null,null,null,null,null,null,null,null,null,null,null,0,0]
[null,null,"dinsdag","2011-01-05T02:30:00",null,{"$f":"IF('Thermisch optimum'!$A$23=7,'Thermisch optimum'!D133,INDEX(G137:L808,B137,('Thermisch optimum'!$A$23)))","v":84.290709290709302},136.26373626373632,128.73192771084337,129.48249999999999,148.239,45.019776092561827,84.290709290709302,null,null,null,null,null,null,null,null,null,null,null,null,null,null,null,null,null,null,null,null,null,null,null,0,0]
[null,null,"dinsdag","2011-01-05T02:45:00",null,{"$f":"IF('Thermisch optimum'!$A$23=7,'Thermisch optimum'!D134,INDEX(G138:L809,B138,('Thermisch optimum'!$A$23)))","v":84.290709290709302},136.26373626373632,128.73192771084337,129.48249999999999,148.239,45.019776092561827,84.290709290709302,null,null,null,null,null,null,null,null,null,null,null,null,null,null,null,null,null,null,null,null,null,null,null,0,0]
[null,null,"dinsdag","2011-01-05T03:00:00",null,{"$f":"IF('Thermisch optimum'!$A$23=7,'Thermisch optimum'!D135,INDEX(G139:L810,B139,('Thermisch optimum'!$A$23)))","v":94.405594405594414},140.65934065934073,120.17695783132528,132.125,155.60999999999999,45.019776092561827,94.405594405594414,null,null,null,null,null,null,null,null,null,null,null,null,null,null,null,null,null,null,null,null,null,null,null,0,0]
[null,null,"dinsdag","2011-01-05T03:15:00",null,{"$f":"IF('Thermisch optimum'!$A$23=7,'Thermisch optimum'!D136,INDEX(G140:L811,B140,('Thermisch optimum'!$A$23)))","v":94.405594405594414},140.65934065934073,120.17695783132528,132.125,155.60999999999999,45.019776092561827,94.405594405594414,null,null,null,null,null,null,null,null,null,null,null,null,null,null,null,null,null,null,null,null,null,null,null,0,0]
[null,null,"dinsdag","2011-01-05T03:30:00",null,{"$f":"IF('Thermisch optimum'!$A$23=7,'Thermisch optimum'!D137,INDEX(G141:L812,B141,('Thermisch optimum'!$A$23)))","v":94.405594405594414},140.65934065934073,120.17695783132528,132.125,155.60999999999999,45.019776092561827,94.405594405594414,null,null,null,null,null,null,null,null,null,null,null,null,null,null,null,null,null,null,null,null,null,null,null,0,0]
[null,null,"dinsdag","2011-01-05T03:45:00",null,{"$f":"IF('Thermisch optimum'!$A$23=7,'Thermisch optimum'!D138,INDEX(G142:L813,B142,('Thermisch optimum'!$A$23)))","v":94.405594405594414},140.65934065934073,120.17695783132528,132.125,155.60999999999999,45.019776092561827,94.405594405594414,null,null,null,null,null,null,null,null,null,null,null,null,null,null,null,null,null,null,null,null,null,null,null,0,0]
[null,null,"dinsdag","2011-01-05T04:00:00",null,{"$f":"IF('Thermisch optimum'!$A$23=7,'Thermisch optimum'!D139,INDEX(G143:L814,B143,('Thermisch optimum'!$A$23)))","v":138.23676323676324},210.98901098901106,130.7688253012048,138.54249999999999,191.23649999999998,180.07910437024731,138.23676323676324,null,null,null,null,null,null,null,null,null,null,null,null,null,null,null,null,null,null,null,null,null,null,null,0,0]
[null,null,"dinsdag","2011-01-05T04:15:00",null,{"$f":"IF('Thermisch optimum'!$A$23=7,'Thermisch optimum'!D140,INDEX(G144:L815,B144,('Thermisch optimum'!$A$23)))","v":138.23676323676324},210.98901098901106,130.7688253012048,138.54249999999999,191.23649999999998,180.07910437024731,138.23676323676324,null,null,null,null,null,null,null,null,null,null,null,null,null,null,null,null,null,null,null,null,null,null,null,0,0]
[null,null,"dinsdag","2011-01-05T04:30:00",null,{"$f":"IF('Thermisch optimum'!$A$23=7,'Thermisch optimum'!D141,INDEX(G145:L816,B145,('Thermisch optimum'!$A$23)))","v":138.23676323676324},210.98901098901106,130.7688253012048,138.54249999999999,191.23649999999998,180.07910437024731,138.23676323676324,null,null,null,null,null,null,null,null,null,null,null,null,null,null,null,null,null,null,null,null,null,null,null,0,0]
[null,null,"dinsdag","2011-01-05T04:45:00",null,{"$f":"IF('Thermisch optimum'!$A$23=7,'Thermisch optimum'!D142,INDEX(G146:L817,B146,('Thermisch optimum'!$A$23)))","v":138.23676323676324},210.98901098901106,130.7688253012048,138.54249999999999,191.23649999999998,180.07910437024731,138.23676323676324,null,null,null,null,null,null,null,null,null,null,null,null,null,null,null,null,null,null,null,null,null,null,null,0,0]
[null,null,"dinsdag","2011-01-05T05:00:00",null,{"$f":"IF('Thermisch optimum'!$A$23=7,'Thermisch optimum'!D143,INDEX(G147:L818,B147,('Thermisch optimum'!$A$23)))","v":165.20979020979024},356.04395604395614,132.80572289156626,148.73499999999999,266.58449999999999,387.17007439603168,165.20979020979024,null,null,null,null,null,null,null,null,null,null,null,null,null,null,null,null,null,null,null,null,null,null,null,0,0]
[null,null,"dinsdag","2011-01-05T05:15:00",null,{"$f":"IF('Thermisch optimum'!$A$23=7,'Thermisch optimum'!D144,INDEX(G148:L819,B148,('Thermisch optimum'!$A$23)))","v":165.20979020979024},356.04395604395614,132.80572289156626,148.73499999999999,266.58449999999999,387.17007439603168,165.20979020979024,null,null,null,null,null,null,null,null,null,null,null,null,null,null,null,null,null,null,null,null,null,null,null,0,0]
[null,null,"dinsdag","2011-01-05T05:30:00",null,{"$f":"IF('Thermisch optimum'!$A$23=7,'Thermisch optimum'!D145,INDEX(G149:L820,B149,('Thermisch optimum'!$A$23)))","v":165.20979020979024},356.04395604395614,132.80572289156626,148.73499999999999,266.58449999999999,387.17007439603168,165.20979020979024,null,null,null,null,null,null,null,null,null,null,null,null,null,null,null,null,null,null,null,null,null,null,null,0,0]
[null,null,"dinsdag","2011-01-05T05:45:00",null,{"$f":"IF('Thermisch optimum'!$A$23=7,'Thermisch optimum'!D146,INDEX(G150:L821,B150,('Thermisch optimum'!$A$23)))","v":165.20979020979024},356.04395604395614,132.80572289156626,148.73499999999999,266.58449999999999,387.17007439603168,165.20979020979024,null,null,null,null,null,null,null,null,null,null,null,null,null,null,null,null,null,null,null,null,null,null,null,0,0]
[null,null,"dinsdag","2011-01-05T06:00:00",null,{"$f":"IF('Thermisch optimum'!$A$23=7,'Thermisch optimum'!D147,INDEX(G151:L822,B151,('Thermisch optimum'!$A$23)))","v":168.5814185814186},325.27472527472537,131.99096385542168,159.6825,251.02349999999998,373.66414156826306,168.5814185814186,null,null,null,null,null,null,null,null,null,null,null,null,null,null,null,null,null,null,null,null,null,null,null,0,0]
[null,null,"dinsdag","2011-01-05T06:15:00",null,{"$f":"IF('Thermisch optimum'!$A$23=7,'Thermisch optimum'!D148,INDEX(G152:L823,B152,('Thermisch optimum'!$A$23)))","v":168.5814185814186},325.27472527472537,131.99096385542168,159.6825,251.02349999999998,373.66414156826306,168.5814185814186,null,null,null,null,null,null,null,null,null,null,null,null,null,null,null,null,null,null,null,null,null,null,null,0,0]
[null,null,"dinsdag","2011-01-05T06:30:00",null,{"$f":"IF('Thermisch optimum'!$A$23=7,'Thermisch optimum'!D149,INDEX(G153:L824,B153,('Thermisch optimum'!$A$23)))","v":168.5814185814186},325.27472527472537,131.99096385542168,159.6825,251.02349999999998,373.66414156826306,168.5814185814186,null,null,null,null,null,null,null,null,null,null,null,null,null,null,null,null,null,null,null,null,null,null,null,0,0]
[null,null,"dinsdag","2011-01-05T06:45:00",null,{"$f":"IF('Thermisch optimum'!$A$23=7,'Thermisch optimum'!D150,INDEX(G154:L825,B154,('Thermisch optimum'!$A$23)))","v":168.5814185814186},325.27472527472537,131.99096385542168,159.6825,251.02349999999998,373.66414156826306,168.5814185814186,null,null,null,null,null,null,null,null,null,null,null,null,null,null,null,null,null,null,null,null,null,null,null,0,0]
[null,null,"dinsdag","2011-01-05T07:00:00",null,{"$f":"IF('Thermisch optimum'!$A$23=7,'Thermisch optimum'!D151,INDEX(G155:L826,B155,('Thermisch optimum'!$A$23)))","v":168.5814185814186},281.31868131868146,140.13855421686745,178.5575,230.54849999999999,364.66018634975075,168.5814185814186,null,null,null,null,null,null,null,null,null,null,null,null,null,null,null,null,null,null,null,null,null,null,null,0,0]
[null,null,"dinsdag","2011-01-05T07:15:00",null,{"$f":"IF('Thermisch optimum'!$A$23=7,'Thermisch optimum'!D152,INDEX(G156:L827,B156,('Thermisch optimum'!$A$23)))","v":168.5814185814186},281.31868131868146,140.13855421686745,178.5575,230.54849999999999,364.66018634975075,168.5814185814186,null,null,null,null,null,null,null,null,null,null,null,null,null,null,null,null,null,null,null,null,null,null,null,0,0]
[null,null,"dinsdag","2011-01-05T07:30:00",null,{"$f":"IF('Thermisch optimum'!$A$23=7,'Thermisch optimum'!D153,INDEX(G157:L828,B157,('Thermisch optimum'!$A$23)))","v":168.5814185814186},281.31868131868146,140.13855421686745,178.5575,230.54849999999999,364.66018634975075,168.5814185814186,null,null,null,null,null,null,null,null,null,null,null,null,null,null,null,null,null,null,null,null,null,null,null,0,0]
[null,null,"dinsdag","2011-01-05T07:45:00",null,{"$f":"IF('Thermisch optimum'!$A$23=7,'Thermisch optimum'!D154,INDEX(G158:L829,B158,('Thermisch optimum'!$A$23)))","v":168.5814185814186},281.31868131868146,140.13855421686745,178.5575,230.54849999999999,364.66018634975075,168.5814185814186,null,null,null,null,null,null,null,null,null,null,null,null,null,null,null,null,null,null,null,null,null,null,null,0,0]
[null,null,"dinsdag","2011-01-05T08:00:00",null,{"$f":"IF('Thermisch optimum'!$A$23=7,'Thermisch optimum'!D155,INDEX(G159:L830,B159,('Thermisch optimum'!$A$23)))","v":171.95304695304696},241.75824175824181,230.16942771084334,177.42500000000001,214.16849999999999,360.15820874049462,171.95304695304696,null,null,null,null,null,null,null,null,null,null,null,null,null,null,null,null,null,null,null,null,null,null,null,{"$f":"IF(AND(HOUR(D159)>=$U$19,HOUR(D159)<($U$19+15)),E159,0)","v":0},{"$f":"IF(AJ159=0,E159,0)","v":0}]
[null,null,"dinsdag","2011-01-05T08:15:00",null,{"$f":"IF('Thermisch optimum'!$A$23=7,'Thermisch optimum'!D156,INDEX(G160:L831,B160,('Thermisch optimum'!$A$23)))","v":171.95304695304696},241.75824175824181,230.16942771084334,177.42500000000001,214.16849999999999,360.15820874049462,171.95304695304696,null,null,null,null,null,null,null,null,null,null,null,null,null,null,null,null,null,null,null,null,null,null,null,0,0]
[null,null,"dinsdag",{"$f":"D160+1/96","v":"2011-01-05T08:30:00"},null,{"$f":"IF('Thermisch optimum'!$A$23=7,'Thermisch optimum'!D157,INDEX(G161:L832,B161,('Thermisch optimum'!$A$23)))","v":171.95304695304696},241.75824175824181,230.16942771084334,177.42500000000001,214.16849999999999,360.15820874049462,171.95304695304696,null,null,null,null,null,null,null,null,null,null,null,null,null,null,null,null,null,null,null,null,null,null,null,0,0]
[null,null,"dinsdag","2011-01-05T08:45:00",null,{"$f":"IF('Thermisch optimum'!$A$23=7,'Thermisch optimum'!D158,INDEX(G162:L833,B162,('Thermisch optimum'!$A$23)))","v":171.95304695304696},241.75824175824181,230.16942771084334,177.42500000000001,214.16849999999999,360.15820874049462,171.95304695304696,null,null,null,null,null,null,null,null,null,null,null,null,null,null,null,null,null,null,null,null,null,null,null,0,0]
[null,null,"dinsdag","2011-01-05T09:00:00",null,{"$f":"IF('Thermisch optimum'!$A$23=7,'Thermisch optimum'!D159,INDEX(G163:L834,B163,('Thermisch optimum'!$A$23)))","v":168.5814185814186},224.17582417582423,294.94277108433732,177.42500000000001,199.83599999999998,346.65227591272605,168.5814185814186,null,null,null,null,null,null,null,null,null,null,null,null,null,null,null,null,null,null,null,null,null,null,null,0,0]
[null,null,"dinsdag","2011-01-05T09:15:00",null,{"$f":"IF('Thermisch optimum'!$A$23=7,'Thermisch optimum'!D160,INDEX(G164:L835,B164,('Thermisch optimum'!$A$23)))","v":168.5814185814186},224.17582417582423,294.94277108433732,177.42500000000001,199.83599999999998,346.65227591272605,168.5814185814186,null,null,null,null,null,null,null,null,null,null,null,null,null,null,null,null,null,null,null,null,null,null,null,0,0]
[null,null,"dinsdag","2011-01-05T09:30:00",null,{"$f":"IF('Thermisch optimum'!$A$23=7,'Thermisch optimum'!D161,INDEX(G165:L836,B165,('Thermisch optimum'!$A$23)))","v":168.5814185814186},224.17582417582423,294.94277108433732,177.42500000000001,199.83599999999998,346.65227591272605,168.5814185814186,null,null,null,null,null,null,null,null,null,null,null,null,null,null,null,null,null,null,null,null,null,null,null,0,0]
[null,null,"dinsdag","2011-01-05T09:45:00",null,{"$f":"IF('Thermisch optimum'!$A$23=7,'Thermisch optimum'!D162,INDEX(G166:L837,B166,('Thermisch optimum'!$A$23)))","v":168.5814185814186},224.17582417582423,294.94277108433732,177.42500000000001,199.83599999999998,346.65227591272605,168.5814185814186,null,null,null,null,null,null,null,null,null,null,null,null,null,null,null,null,null,null,null,null,null,null,null,0,0]
[null,null,"dinsdag","2011-01-05T10:00:00",null,{"$f":"IF('Thermisch optimum'!$A$23=7,'Thermisch optimum'!D163,INDEX(G167:L838,B167,('Thermisch optimum'!$A$23)))","v":161.83816183816182},197.80219780219784,259.90813253012044,177.42500000000001,182.22750000000002,342.15029830346987,161.83816183816182,null,null,null,null,null,null,null,null,null,null,null,null,null,null,null,null,null,null,null,null,null,null,null,0,0]
[null,null,"dinsdag","2011-01-05T10:15:00",null,{"$f":"IF('Thermisch optimum'!$A$23=7,'Thermisch optimum'!D164,INDEX(G168:L839,B168,('Thermisch optimum'!$A$23)))","v":161.83816183816182},197.80219780219784,259.90813253012044,177.42500000000001,182.22750000000002,342.15029830346987,161.83816183816182,null,null,null,null,null,null,null,null,null,null,null,null,null,null,null,null,null,null,null,null,null,null,null,0,0]
[null,null,"dinsdag","2011-01-05T10:30:00",null,{"$f":"IF('Thermisch optimum'!$A$23=7,'Thermisch optimum'!D165,INDEX(G169:L840,B169,('Thermisch optimum'!$A$23)))","v":161.83816183816182},197.80219780219784,259.90813253012044,177.42500000000001,182.22750000000002,342.15029830346987,161.83816183816182,null,null,null,null,null,null,null,null,null,null,null,null,null,null,null,null,null,null,null,null,null,null,null,0,0]
[null,null,"dinsdag","2011-01-05T10:45:00",null,{"$f":"IF('Thermisch optimum'!$A$23=7,'Thermisch optimum'!D166,INDEX(G170:L841,B170,('Thermisch optimum'!$A$23)))","v":161.83816183816182},197.80219780219784,259.90813253012044,177.42500000000001,182.22750000000002,342.15029830346987,161.83816183816182,null,null,null,null,null,null,null,null,null,null,null,null,null,null,null,null,null,null,null,null,null,null,null,0,0]
[null,null,"dinsdag","2011-01-05T11:00:00",null,{"$f":"IF('Thermisch optimum'!$A$23=7,'Thermisch optimum'!D167,INDEX(G171:L842,B171,('Thermisch optimum'!$A$23)))","v":151.72327672327677},197.80219780219784,259.50075301204816,174.0275,175.6755,337.64832069421368,151.72327672327677,null,null,null,null,null,null,null,null,null,null,null,null,null,null,null,null,null,null,null,null,null,null,null,0,0]
[null,null,"dinsdag","2011-01-05T11:15:00",null,{"$f":"IF('Thermisch optimum'!$A$23=7,'Thermisch optimum'!D168,INDEX(G172:L843,B172,('Thermisch optimum'!$A$23)))","v":151.72327672327677},197.80219780219784,259.50075301204816,174.0275,175.6755,337.64832069421368,151.72327672327677,null,null,null,null,null,null,null,null,null,null,null,null,null,null,null,null,null,null,null,null,null,null,null,0,0]
[null,null,"dinsdag","2011-01-05T11:30:00",null,{"$f":"IF('Thermisch optimum'!$A$23=7,'Thermisch optimum'!D169,INDEX(G173:L844,B173,('Thermisch optimum'!$A$23)))","v":151.72327672327677},197.80219780219784,259.50075301204816,174.0275,175.6755,337.64832069421368,151.72327672327677,null,null,null,null,null,null,null,null,null,null,null,null,null,null,null,null,null,null,null,null,null,null,null,0,0]
[null,null,"dinsdag","2011-01-05T11:45:00",null,{"$f":"IF('Thermisch optimum'!$A$23=7,'Thermisch optimum'!D170,INDEX(G174:L845,B174,('Thermisch optimum'!$A$23)))","v":151.72327672327677},197.80219780219784,259.50075301204816,174.0275,175.6755,337.64832069421368,151.72327672327677,null,null,null,null,null,null,null,null,null,null,null,null,null,null,null,null,null,null,null,null,null,null,null,0,0]
[null,null,"dinsdag","2011-01-05T12:00:00",null,{"$f":"IF('Thermisch optimum'!$A$23=7,'Thermisch optimum'!D171,INDEX(G175:L846,B175,('Thermisch optimum'!$A$23)))","v":148.35164835164838},184.61538461538467,243.20557228915658,169.12000000000003,168.30449999999999,333.14634308495749,148.35164835164838,null,null,null,null,null,null,null,null,null,null,null,null,null,null,null,null,null,null,null,null,null,null,null,0,0]
[null,null,"dinsdag","2011-01-05T12:15:00",null,{"$f":"IF('Thermisch optimum'!$A$23=7,'Thermisch optimum'!D172,INDEX(G176:L847,B176,('Thermisch optimum'!$A$23)))","v":148.35164835164838},184.61538461538467,243.20557228915658,169.12000000000003,168.30449999999999,333.14634308495749,148.35164835164838,null,null,null,null,null,null,null,null,null,null,null,null,null,null,null,null,null,null,null,null,null,null,null,0,0]
[null,null,"dinsdag","2011-01-05T12:30:00",null,{"$f":"IF('Thermisch optimum'!$A$23=7,'Thermisch optimum'!D173,INDEX(G177:L848,B177,('Thermisch optimum'!$A$23)))","v":148.35164835164838},184.61538461538467,243.20557228915658,169.12000000000003,168.30449999999999,333.14634308495749,148.35164835164838,null,null,null,null,null,null,null,null,null,null,null,null,null,null,null,null,null,null,null,null,null,null,null,0,0]
[null,null,"dinsdag","2011-01-05T12:45:00",null,{"$f":"IF('Thermisch optimum'!$A$23=7,'Thermisch optimum'!D174,INDEX(G178:L849,B178,('Thermisch optimum'!$A$23)))","v":148.35164835164838},184.61538461538467,243.20557228915658,169.12000000000003,168.30449999999999,333.14634308495749,148.35164835164838,null,null,null,null,null,null,null,null,null,null,null,null,null,null,null,null,null,null,null,null,null,null,null,0,0]
[null,null,"dinsdag","2011-01-05T13:00:00",null,{"$f":"IF('Thermisch optimum'!$A$23=7,'Thermisch optimum'!D175,INDEX(G179:L850,B179,('Thermisch optimum'!$A$23)))","v":144.98001998002002},180.21978021978026,228.53990963855415,165.34499999999997,162.98099999999997,324.14238786644518,144.98001998002002,null,null,null,null,null,null,null,null,null,null,null,null,null,null,null,null,null,null,null,null,null,null,null,0,0]
[null,null,"dinsdag","2011-01-05T13:15:00",null,{"$f":"IF('Thermisch optimum'!$A$23=7,'Thermisch optimum'!D176,INDEX(G180:L851,B180,('Thermisch optimum'!$A$23)))","v":144.98001998002002},180.21978021978026,228.53990963855415,165.34499999999997,162.98099999999997,324.14238786644518,144.98001998002002,null,null,null,null,null,null,null,null,null,null,null,null,null,null,null,null,null,null,null,null,null,null,null,0,0]
[null,null,"dinsdag","2011-01-05T13:30:00",null,{"$f":"IF('Thermisch optimum'!$A$23=7,'Thermisch optimum'!D177,INDEX(G181:L852,B181,('Thermisch optimum'!$A$23)))","v":144.98001998002002},180.21978021978026,228.53990963855415,165.34499999999997,162.98099999999997,324.14238786644518,144.98001998002002,null,null,null,null,null,null,null,null,null,null,null,null,null,null,null,null,null,null,null,null,null,null,null,0,0]
[null,null,"dinsdag","2011-01-05T13:45:00",null,{"$f":"IF('Thermisch optimum'!$A$23=7,'Thermisch optimum'!D178,INDEX(G182:L853,B182,('Thermisch optimum'!$A$23)))","v":144.98001998002002},180.21978021978026,228.53990963855415,165.34499999999997,162.98099999999997,324.14238786644518,144.98001998002002,null,null,null,null,null,null,null,null,null,null,null,null,null,null,null,null,null,null,null,null,null,null,null,0,0]
[null,null,"dinsdag","2011-01-05T14:00:00",null,{"$f":"IF('Thermisch optimum'!$A$23=7,'Thermisch optimum'!D179,INDEX(G183:L854,B183,('Thermisch optimum'!$A$23)))","v":141.60839160839163},180.21978021978026,208.578313253012,164.9675,162.98099999999997,310.63645503867656,141.60839160839163,null,null,null,null,null,null,null,null,null,null,null,null,null,null,null,null,null,null,null,null,null,null,null,0,0]
[null,null,"dinsdag","2011-01-05T14:15:00",null,{"$f":"IF('Thermisch optimum'!$A$23=7,'Thermisch optimum'!D180,INDEX(G184:L855,B184,('Thermisch optimum'!$A$23)))","v":141.60839160839163},180.21978021978026,208.578313253012,164.9675,162.98099999999997,310.63645503867656,141.60839160839163,null,null,null,null,null,null,null,null,null,null,null,null,null,null,null,null,null,null,null,null,null,null,null,0,0]
[null,null,"dinsdag","2011-01-05T14:30:00",null,{"$f":"IF('Thermisch optimum'!$A$23=7,'Thermisch optimum'!D181,INDEX(G185:L856,B185,('Thermisch optimum'!$A$23)))","v":141.60839160839163},180.21978021978026,208.578313253012,164.9675,162.98099999999997,310.63645503867656,141.60839160839163,null,null,null,null,null,null,null,null,null,null,null,null,null,null,null,null,null,null,null,null,null,null,null,0,0]
[null,null,"dinsdag","2011-01-05T14:45:00",null,{"$f":"IF('Thermisch optimum'!$A$23=7,'Thermisch optimum'!D182,INDEX(G186:L857,B186,('Thermisch optimum'!$A$23)))","v":141.60839160839163},180.21978021978026,208.578313253012,164.9675,162.98099999999997,310.63645503867656,141.60839160839163,null,null,null,null,null,null,null,null,null,null,null,null,null,null,null,null,null,null,null,null,null,null,null,0,0]
[null,null,"dinsdag","2011-01-05T15:00:00",null,{"$f":"IF('Thermisch optimum'!$A$23=7,'Thermisch optimum'!D183,INDEX(G187:L858,B187,('Thermisch optimum'!$A$23)))","v":141.60839160839163},171.42857142857147,185.76506024096383,166.85500000000002,159.29549999999998,301.63249982016418,141.60839160839163,null,null,null,null,null,null,null,null,null,null,null,null,null,null,null,null,null,null,null,null,null,null,null,0,0]
[null,null,"dinsdag","2011-01-05T15:15:00",null,{"$f":"IF('Thermisch optimum'!$A$23=7,'Thermisch optimum'!D184,INDEX(G188:L859,B188,('Thermisch optimum'!$A$23)))","v":141.60839160839163},171.42857142857147,185.76506024096383,166.85500000000002,159.29549999999998,301.63249982016418,141.60839160839163,null,null,null,null,null,null,null,null,null,null,null,null,null,null,null,null,null,null,null,null,null,null,null,0,0]
[null,null,"dinsdag","2011-01-05T15:30:00",null,{"$f":"IF('Thermisch optimum'!$A$23=7,'Thermisch optimum'!D185,INDEX(G189:L860,B189,('Thermisch optimum'!$A$23)))","v":141.60839160839163},171.42857142857147,185.76506024096383,166.85500000000002,159.29549999999998,301.63249982016418,141.60839160839163,null,null,null,null,null,null,null,null,null,null,null,null,null,null,null,null,null,null,null,null,null,null,null,0,0]
[null,null,"dinsdag","2011-01-05T15:45:00",null,{"$f":"IF('Thermisch optimum'!$A$23=7,'Thermisch optimum'!D186,INDEX(G190:L861,B190,('Thermisch optimum'!$A$23)))","v":141.60839160839163},171.42857142857147,185.76506024096383,166.85500000000002,159.29549999999998,301.63249982016418,141.60839160839163,null,null,null,null,null,null,null,null,null,null,null,null,null,null,null,null,null,null,null,null,null,null,null,0,0]
[null,null,"dinsdag","2011-01-05T16:00:00",null,{"$f":"IF('Thermisch optimum'!$A$23=7,'Thermisch optimum'!D187,INDEX(G191:L862,B191,('Thermisch optimum'!$A$23)))","v":144.98001998002002},153.8461538461539,192.69051204819277,164.9675,148.64849999999998,163.42178721599939,144.98001998002002,null,null,null,null,null,null,null,null,null,null,null,null,null,null,null,null,null,null,null,null,null,null,null,0,0]
[null,null,"dinsdag","2011-01-05T16:15:00",null,{"$f":"IF('Thermisch optimum'!$A$23=7,'Thermisch optimum'!D188,INDEX(G192:L863,B192,('Thermisch optimum'!$A$23)))","v":144.98001998002002},153.8461538461539,192.69051204819277,164.9675,148.64849999999998,163.42178721599939,144.98001998002002,null,null,null,null,null,null,null,null,null,null,null,null,null,null,null,null,null,null,null,null,null,null,null,0,0]
[null,null,"dinsdag","2011-01-05T16:30:00",null,{"$f":"IF('Thermisch optimum'!$A$23=7,'Thermisch optimum'!D189,INDEX(G193:L864,B193,('Thermisch optimum'!$A$23)))","v":144.98001998002002},153.8461538461539,192.69051204819277,164.9675,148.64849999999998,163.42178721599939,144.98001998002002,null,null,null,null,null,null,null,null,null,null,null,null,null,null,null,null,null,null,null,null,null,null,null,0,0]
[null,null,"dinsdag","2011-01-05T16:45:00",null,{"$f":"IF('Thermisch optimum'!$A$23=7,'Thermisch optimum'!D190,INDEX(G194:L865,B194,('Thermisch optimum'!$A$23)))","v":144.98001998002002},153.8461538461539,192.69051204819277,164.9675,148.64849999999998,163.42178721599939,144.98001998002002,null,null,null,null,null,null,null,null,null,null,null,null,null,null,null,null,null,null,null,null,null,null,null,0,0]
[null,null,"dinsdag","2011-01-05T17:00:00",null,{"$f":"IF('Thermisch optimum'!$A$23=7,'Thermisch optimum'!D191,INDEX(G195:L866,B195,('Thermisch optimum'!$A$23)))","v":155.09490509490513},162.63736263736268,206.13403614457826,167.98749999999998,153.97199999999998,45.019776092561827,155.09490509490513,null,null,null,null,null,null,null,null,null,null,null,null,null,null,null,null,null,null,null,null,null,null,null,0,0]
[null,null,"dinsdag","2011-01-05T17:15:00",null,{"$f":"IF('Thermisch optimum'!$A$23=7,'Thermisch optimum'!D192,INDEX(G196:L867,B196,('Thermisch optimum'!$A$23)))","v":155.09490509490513},162.63736263736268,206.13403614457826,167.98749999999998,153.97199999999998,45.019776092561827,155.09490509490513,null,null,null,null,null,null,null,null,null,null,null,null,null,null,null,null,null,null,null,null,null,null,null,0,0]
[null,null,"dinsdag","2011-01-05T17:30:00",null,{"$f":"IF('Thermisch optimum'!$A$23=7,'Thermisch optimum'!D193,INDEX(G197:L868,B197,('Thermisch optimum'!$A$23)))","v":155.09490509490513},162.63736263736268,206.13403614457826,167.98749999999998,153.97199999999998,45.019776092561827,155.09490509490513,null,null,null,null,null,null,null,null,null,null,null,null,null,null,null,null,null,null,null,null,null,null,null,0,0]
[null,null,"dinsdag","2011-01-05T17:45:00",null,{"$f":"IF('Thermisch optimum'!$A$23=7,'Thermisch optimum'!D194,INDEX(G198:L869,B198,('Thermisch optimum'!$A$23)))","v":155.09490509490513},162.63736263736268,206.13403614457826,167.98749999999998,153.97199999999998,45.019776092561827,155.09490509490513,null,null,null,null,null,null,null,null,null,null,null,null,null,null,null,null,null,null,null,null,null,null,null,0,0]
[null,null,"dinsdag","2011-01-05T18:00:00",null,{"$f":"IF('Thermisch optimum'!$A$23=7,'Thermisch optimum'!D195,INDEX(G199:L870,B199,('Thermisch optimum'!$A$23)))","v":161.83816183816182},184.61538461538467,175.58057228915658,177.80249999999998,165.43799999999999,45.019776092561827,161.83816183816182,null,null,null,null,null,null,null,null,null,null,null,null,null,null,null,null,null,null,null,null,null,null,null,0,0]
[null,null,"dinsdag","2011-01-05T18:15:00",null,{"$f":"IF('Thermisch optimum'!$A$23=7,'Thermisch optimum'!D196,INDEX(G200:L871,B200,('Thermisch optimum'!$A$23)))","v":161.83816183816182},184.61538461538467,175.58057228915658,177.80249999999998,165.43799999999999,45.019776092561827,161.83816183816182,null,null,null,null,null,null,null,null,null,null,null,null,null,null,null,null,null,null,null,null,null,null,null,0,0]
[null,null,"dinsdag","2011-01-05T18:30:00",null,{"$f":"IF('Thermisch optimum'!$A$23=7,'Thermisch optimum'!D197,INDEX(G201:L872,B201,('Thermisch optimum'!$A$23)))","v":161.83816183816182},184.61538461538467,175.58057228915658,177.80249999999998,165.43799999999999,45.019776092561827,161.83816183816182,null,null,null,null,null,null,null,null,null,null,null,null,null,null,null,null,null,null,null,null,null,null,null,0,0]
[null,null,"dinsdag","2011-01-05T18:45:00",null,{"$f":"IF('Thermisch optimum'!$A$23=7,'Thermisch optimum'!D198,INDEX(G202:L873,B202,('Thermisch optimum'!$A$23)))","v":161.83816183816182},184.61538461538467,175.58057228915658,177.80249999999998,165.43799999999999,45.019776092561827,161.83816183816182,null,null,null,null,null,null,null,null,null,null,null,null,null,null,null,null,null,null,null,null,null,null,null,0,0]
[null,null,"dinsdag","2011-01-05T19:00:00",null,{"$f":"IF('Thermisch optimum'!$A$23=7,'Thermisch optimum'!D199,INDEX(G203:L874,B203,('Thermisch optimum'!$A$23)))","v":161.83816183816182},153.8461538461539,117.73268072289157,169.12000000000003,148.64849999999998,45.019776092561827,161.83816183816182,null,null,null,null,null,null,null,null,null,null,null,null,null,null,null,null,null,null,null,null,null,null,null,0,0]
[null,null,"dinsdag","2011-01-05T19:15:00",null,{"$f":"IF('Thermisch optimum'!$A$23=7,'Thermisch optimum'!D200,INDEX(G204:L875,B204,('Thermisch optimum'!$A$23)))","v":161.83816183816182},153.8461538461539,117.73268072289157,169.12000000000003,148.64849999999998,45.019776092561827,161.83816183816182,null,null,null,null,null,null,null,null,null,null,null,null,null,null,null,null,null,null,null,null,null,null,null,0,0]
[null,null,"dinsdag","2011-01-05T19:30:00",null,{"$f":"IF('Thermisch optimum'!$A$23=7,'Thermisch optimum'!D201,INDEX(G205:L876,B205,('Thermisch optimum'!$A$23)))","v":161.83816183816182},153.8461538461539,117.73268072289157,169.12000000000003,148.64849999999998,45.019776092561827,161.83816183816182,null,null,null,null,null,null,null,null,null,null,null,null,null,null,null,null,null,null,null,null,null,null,null,0,0]
[null,null,"dinsdag","2011-01-05T19:45:00",null,{"$f":"IF('Thermisch optimum'!$A$23=7,'Thermisch optimum'!D202,INDEX(G206:L877,B206,('Thermisch optimum'!$A$23)))","v":161.83816183816182},153.8461538461539,117.73268072289157,169.12000000000003,148.64849999999998,45.019776092561827,161.83816183816182,null,null,null,null,null,null,null,null,null,null,null,null,null,null,null,null,null,null,null,null,null,null,null,0,0]
[null,null,"dinsdag","2011-01-05T20:00:00",null,{"$f":"IF('Thermisch optimum'!$A$23=7,'Thermisch optimum'!D203,INDEX(G207:L878,B207,('Thermisch optimum'!$A$23)))","v":165.20979020979024},109.89010989010994,99.400602409638523,160.06,127.76399999999998,45.019776092561827,165.20979020979024,null,null,null,null,null,null,null,null,null,null,null,null,null,null,null,null,null,null,null,null,null,null,null,0,0]
[null,null,"dinsdag","2011-01-05T20:15:00",null,{"$f":"IF('Thermisch optimum'!$A$23=7,'Thermisch optimum'!D204,INDEX(G208:L879,B208,('Thermisch optimum'!$A$23)))","v":165.20979020979024},109.89010989010994,99.400602409638523,160.06,127.76399999999998,45.019776092561827,165.20979020979024,null,null,null,null,null,null,null,null,null,null,null,null,null,null,null,null,null,null,null,null,null,null,null,0,0]
[null,null,"dinsdag","2011-01-05T20:30:00",null,{"$f":"IF('Thermisch optimum'!$A$23=7,'Thermisch optimum'!D205,INDEX(G209:L880,B209,('Thermisch optimum'!$A$23)))","v":165.20979020979024},109.89010989010994,99.400602409638523,160.06,127.76399999999998,45.019776092561827,165.20979020979024,null,null,null,null,null,null,null,null,null,null,null,null,null,null,null,null,null,null,null,null,null,null,null,0,0]
[null,null,"dinsdag","2011-01-05T20:45:00",null,{"$f":"IF('Thermisch optimum'!$A$23=7,'Thermisch optimum'!D206,INDEX(G210:L881,B210,('Thermisch optimum'!$A$23)))","v":165.20979020979024},109.89010989010994,99.400602409638523,160.06,127.76399999999998,45.019776092561827,165.20979020979024,null,null,null,null,null,null,null,null,null,null,null,null,null,null,null,null,null,null,null,null,null,null,null,0,0]
[null,null,"dinsdag","2011-01-05T21:00:00",null,{"$f":"IF('Thermisch optimum'!$A$23=7,'Thermisch optimum'!D207,INDEX(G211:L882,B211,('Thermisch optimum'!$A$23)))","v":161.83816183816182},114.28571428571432,97.771084337349379,160.4375,131.4495,45.019776092561827,161.83816183816182,null,null,null,null,null,null,null,null,null,null,null,null,null,null,null,null,null,null,null,null,null,null,null,0,0]
[null,null,"dinsdag","2011-01-05T21:15:00",null,{"$f":"IF('Thermisch optimum'!$A$23=7,'Thermisch optimum'!D208,INDEX(G212:L883,B212,('Thermisch optimum'!$A$23)))","v":161.83816183816182},114.28571428571432,97.771084337349379,160.4375,131.4495,45.019776092561827,161.83816183816182,null,null,null,null,null,null,null,null,null,null,null,null,null,null,null,null,null,null,null,null,null,null,null,0,0]
[null,null,"dinsdag","2011-01-05T21:30:00",null,{"$f":"IF('Thermisch optimum'!$A$23=7,'Thermisch optimum'!D209,INDEX(G213:L884,B213,('Thermisch optimum'!$A$23)))","v":161.83816183816182},114.28571428571432,97.771084337349379,160.4375,131.4495,45.019776092561827,161.83816183816182,null,null,null,null,null,null,null,null,null,null,null,null,null,null,null,null,null,null,null,null,null,null,null,0,0]
[null,null,"dinsdag","2011-01-05T21:45:00",null,{"$f":"IF('Thermisch optimum'!$A$23=7,'Thermisch optimum'!D210,INDEX(G214:L885,B214,('Thermisch optimum'!$A$23)))","v":161.83816183816182},114.28571428571432,97.771084337349379,160.4375,131.4495,45.019776092561827,161.83816183816182,null,null,null,null,null,null,null,null,null,null,null,null,null,null,null,null,null,null,null,null,null,null,null,0,0]
[null,null,"dinsdag","2011-01-05T22:00:00",null,{"$f":"IF('Thermisch optimum'!$A$23=7,'Thermisch optimum'!D211,INDEX(G215:L886,B215,('Thermisch optimum'!$A$23)))","v":144.98001998002002},114.28571428571432,96.956325301204799,128.72749999999999,132.26849999999999,45.019776092561827,144.98001998002002,null,null,null,null,null,null,null,null,null,null,null,null,null,null,null,null,null,null,null,null,null,null,null,0,0]
[null,null,"dinsdag","2011-01-05T22:15:00",null,{"$f":"IF('Thermisch optimum'!$A$23=7,'Thermisch optimum'!D212,INDEX(G216:L887,B216,('Thermisch optimum'!$A$23)))","v":144.98001998002002},114.28571428571432,96.956325301204799,128.72749999999999,132.26849999999999,45.019776092561827,144.98001998002002,null,null,null,null,null,null,null,null,null,null,null,null,null,null,null,null,null,null,null,null,null,null,null,0,0]
[null,null,"dinsdag","2011-01-05T22:30:00",null,{"$f":"IF('Thermisch optimum'!$A$23=7,'Thermisch optimum'!D213,INDEX(G217:L888,B217,('Thermisch optimum'!$A$23)))","v":144.98001998002002},114.28571428571432,96.956325301204799,128.72749999999999,132.26849999999999,45.019776092561827,144.98001998002002,null,null,null,null,null,null,null,null,null,null,null,null,null,null,null,null,null,null,null,null,null,null,null,0,0]
[null,null,"dinsdag","2011-01-05T22:45:00",null,{"$f":"IF('Thermisch optimum'!$A$23=7,'Thermisch optimum'!D214,INDEX(G218:L889,B218,('Thermisch optimum'!$A$23)))","v":144.98001998002002},114.28571428571432,96.956325301204799,128.72749999999999,132.26849999999999,45.019776092561827,144.98001998002002,null,null,null,null,null,null,null,null,null,null,null,null,null,null,null,null,null,null,null,null,null,null,null,0,0]
[null,null,"dinsdag","2011-01-05T23:00:00",null,{"$f":"IF('Thermisch optimum'!$A$23=7,'Thermisch optimum'!D215,INDEX(G219:L890,B219,('Thermisch optimum'!$A$23)))","v":74.175824175824189},123.07692307692311,110.39984939759034,126.83999999999999,137.1825,45.019776092561827,74.175824175824189,null,null,null,null,null,null,null,null,null,null,null,null,null,null,null,null,null,null,null,null,null,null,null,0,0]
[null,null,"dinsdag","2011-01-05T23:15:00",null,{"$f":"IF('Thermisch optimum'!$A$23=7,'Thermisch optimum'!D216,INDEX(G220:L891,B220,('Thermisch optimum'!$A$23)))","v":74.175824175824189},123.07692307692311,110.39984939759034,126.83999999999999,137.1825,45.019776092561827,74.175824175824189,null,null,null,null,null,null,null,null,null,null,null,null,null,null,null,null,null,null,null,null,null,null,null,0,0]
[null,null,"dinsdag","2011-01-05T23:30:00",null,{"$f":"IF('Thermisch optimum'!$A$23=7,'Thermisch optimum'!D217,INDEX(G221:L892,B221,('Thermisch optimum'!$A$23)))","v":74.175824175824189},123.07692307692311,110.39984939759034,126.83999999999999,137.1825,45.019776092561827,74.175824175824189,null,null,null,null,null,null,null,null,null,null,null,null,null,null,null,null,null,null,null,null,null,null,null,0,0]
[null,null,"dinsdag","2011-01-05T23:45:00",null,{"$f":"IF('Thermisch optimum'!$A$23=7,'Thermisch optimum'!D218,INDEX(G222:L893,B222,('Thermisch optimum'!$A$23)))","v":74.175824175824189},123.07692307692311,110.39984939759034,126.83999999999999,137.1825,45.019776092561827,74.175824175824189,null,null,null,null,null,null,null,null,null,null,null,null,null,null,null,null,null,null,null,null,null,null,null,0,0]
[null,null,"woensdag","2011-01-06",null,{"$f":"IF('Thermisch optimum'!$A$23=7,'Thermisch optimum'!D219,INDEX(G223:L894,B223,('Thermisch optimum'!$A$23)))","v":74.175824175824189},121.67832167832168,128.02259036144574,126.30999999999999,126.78600000000002,45.019776092561827,74.175824175824189,null,null,null,null,null,null,null,null,null,null,null,null,null,null,null,null,null,null,null,null,null,null,null,{"$f":"IF(AND(HOUR(D223)>=$U$19,HOUR(D223)<($U$19+15)),E223,0)","v":0},{"$f":"IF(AJ223=0,E223,0)","v":0}]
[null,null,"woensdag","2011-01-06T00:15:00",null,{"$f":"IF('Thermisch optimum'!$A$23=7,'Thermisch optimum'!D220,INDEX(G224:L895,B224,('Thermisch optimum'!$A$23)))","v":74.175824175824189},121.67832167832168,128.02259036144574,126.30999999999999,126.78600000000002,45.019776092561827,74.175824175824189,null,null,null,null,null,null,null,null,null,null,null,null,null,null,null,null,null,null,null,null,null,null,null,0,0]
[null,null,"woensdag",{"$f":"D224+1/96","v":"2011-01-06T00:30:00"},null,{"$f":"IF('Thermisch optimum'!$A$23=7,'Thermisch optimum'!D221,INDEX(G225:L896,B225,('Thermisch optimum'!$A$23)))","v":74.175824175824189},121.67832167832168,128.02259036144574,126.30999999999999,126.78600000000002,45.019776092561827,74.175824175824189,null,null,null,null,null,null,null,null,null,null,null,null,null,null,null,null,null,null,null,null,null,null,null,0,0]
[null,null,"woensdag","2011-01-06T00:45:00",null,{"$f":"IF('Thermisch optimum'!$A$23=7,'Thermisch optimum'!D222,INDEX(G226:L897,B226,('Thermisch optimum'!$A$23)))","v":74.175824175824189},121.67832167832168,128.02259036144574,126.30999999999999,126.78600000000002,45.019776092561827,74.175824175824189,null,null,null,null,null,null,null,null,null,null,null,null,null,null,null,null,null,null,null,null,null,null,null,0,0]
[null,null,"woensdag","2011-01-06T01:00:00",null,{"$f":"IF('Thermisch optimum'!$A$23=7,'Thermisch optimum'!D223,INDEX(G227:L898,B227,('Thermisch optimum'!$A$23)))","v":80.919080919080912},126.02397602397603,118.93222891566265,128.91050000000001,129.77800000000002,45.019776092561827,80.919080919080912,null,null,null,null,null,null,null,null,null,null,null,null,null,null,null,null,null,null,null,null,null,null,null,0,0]
[null,null,"woensdag","2011-01-06T01:15:00",null,{"$f":"IF('Thermisch optimum'!$A$23=7,'Thermisch optimum'!D224,INDEX(G228:L899,B228,('Thermisch optimum'!$A$23)))","v":80.919080919080912},126.02397602397603,118.93222891566265,128.91050000000001,129.77800000000002,45.019776092561827,80.919080919080912,null,null,null,null,null,null,null,null,null,null,null,null,null,null,null,null,null,null,null,null,null,null,null,0,0]
[null,null,"woensdag","2011-01-06T01:30:00",null,{"$f":"IF('Thermisch optimum'!$A$23=7,'Thermisch optimum'!D225,INDEX(G229:L900,B229,('Thermisch optimum'!$A$23)))","v":80.919080919080912},126.02397602397603,118.93222891566265,128.91050000000001,129.77800000000002,45.019776092561827,80.919080919080912,null,null,null,null,null,null,null,null,null,null,null,null,null,null,null,null,null,null,null,null,null,null,null,0,0]
[null,null,"woensdag","2011-01-06T01:45:00",null,{"$f":"IF('Thermisch optimum'!$A$23=7,'Thermisch optimum'!D226,INDEX(G230:L901,B230,('Thermisch optimum'!$A$23)))","v":80.919080919080912},126.02397602397603,118.93222891566265,128.91050000000001,129.77800000000002,45.019776092561827,80.919080919080912,null,null,null,null,null,null,null,null,null,null,null,null,null,null,null,null,null,null,null,null,null,null,null,0,0]
[null,null,"woensdag","2011-01-06T02:00:00",null,{"$f":"IF('Thermisch optimum'!$A$23=7,'Thermisch optimum'!D227,INDEX(G231:L902,B231,('Thermisch optimum'!$A$23)))","v":84.290709290709302},134.71528471528472,119.68975903614457,127.42450000000001,135.38800000000003,45.019776092561827,84.290709290709302,null,null,null,null,null,null,null,null,null,null,null,null,null,null,null,null,null,null,null,null,null,null,null,0,0]
[null,null,"woensdag","2011-01-06T02:15:00",null,{"$f":"IF('Thermisch optimum'!$A$23=7,'Thermisch optimum'!D228,INDEX(G232:L903,B232,('Thermisch optimum'!$A$23)))","v":84.290709290709302},134.71528471528472,119.68975903614457,127.42450000000001,135.38800000000003,45.019776092561827,84.290709290709302,null,null,null,null,null,null,null,null,null,null,null,null,null,null,null,null,null,null,null,null,null,null,null,0,0]
[null,null,"woensdag","2011-01-06T02:30:00",null,{"$f":"IF('Thermisch optimum'!$A$23=7,'Thermisch optimum'!D229,INDEX(G233:L904,B233,('Thermisch optimum'!$A$23)))","v":84.290709290709302},134.71528471528472,119.68975903614457,127.42450000000001,135.38800000000003,45.019776092561827,84.290709290709302,null,null,null,null,null,null,null,null,null,null,null,null,null,null,null,null,null,null,null,null,null,null,null,0,0]
[null,null,"woensdag","2011-01-06T02:45:00",null,{"$f":"IF('Thermisch optimum'!$A$23=7,'Thermisch optimum'!D230,INDEX(G234:L905,B234,('Thermisch optimum'!$A$23)))","v":84.290709290709302},134.71528471528472,119.68975903614457,127.42450000000001,135.38800000000003,45.019776092561827,84.290709290709302,null,null,null,null,null,null,null,null,null,null,null,null,null,null,null,null,null,null,null,null,null,null,null,0,0]
[null,null,"woensdag","2011-01-06T03:00:00",null,{"$f":"IF('Thermisch optimum'!$A$23=7,'Thermisch optimum'!D231,INDEX(G235:L906,B235,('Thermisch optimum'!$A$23)))","v":94.405594405594414},139.06093906093909,111.73569277108432,130.02500000000001,142.12,45.019776092561827,94.405594405594414,null,null,null,null,null,null,null,null,null,null,null,null,null,null,null,null,null,null,null,null,null,null,null,0,0]
[null,null,"woensdag","2011-01-06T03:15:00",null,{"$f":"IF('Thermisch optimum'!$A$23=7,'Thermisch optimum'!D232,INDEX(G236:L907,B236,('Thermisch optimum'!$A$23)))","v":94.405594405594414},139.06093906093909,111.73569277108432,130.02500000000001,142.12,45.019776092561827,94.405594405594414,null,null,null,null,null,null,null,null,null,null,null,null,null,null,null,null,null,null,null,null,null,null,null,0,0]
[null,null,"woensdag","2011-01-06T03:30:00",null,{"$f":"IF('Thermisch optimum'!$A$23=7,'Thermisch optimum'!D233,INDEX(G237:L908,B237,('Thermisch optimum'!$A$23)))","v":94.405594405594414},139.06093906093909,111.73569277108432,130.02500000000001,142.12,45.019776092561827,94.405594405594414,null,null,null,null,null,null,null,null,null,null,null,null,null,null,null,null,null,null,null,null,null,null,null,0,0]
[null,null,"woensdag","2011-01-06T03:45:00",null,{"$f":"IF('Thermisch optimum'!$A$23=7,'Thermisch optimum'!D234,INDEX(G238:L909,B238,('Thermisch optimum'!$A$23)))","v":94.405594405594414},139.06093906093909,111.73569277108432,130.02500000000001,142.12,45.019776092561827,94.405594405594414,null,null,null,null,null,null,null,null,null,null,null,null,null,null,null,null,null,null,null,null,null,null,null,0,0]
[null,null,"woensdag","2011-01-06T04:00:00",null,{"$f":"IF('Thermisch optimum'!$A$23=7,'Thermisch optimum'!D235,INDEX(G239:L910,B239,('Thermisch optimum'!$A$23)))","v":138.23676323676324},208.59140859140857,121.58358433734938,136.34049999999999,174.65800000000002,180.07910437024731,138.23676323676324,null,null,null,null,null,null,null,null,null,null,null,null,null,null,null,null,null,null,null,null,null,null,null,0,0]
[null,null,"woensdag","2011-01-06T04:15:00",null,{"$f":"IF('Thermisch optimum'!$A$23=7,'Thermisch optimum'!D236,INDEX(G240:L911,B240,('Thermisch optimum'!$A$23)))","v":138.23676323676324},208.59140859140857,121.58358433734938,136.34049999999999,174.65800000000002,180.07910437024731,138.23676323676324,null,null,null,null,null,null,null,null,null,null,null,null,null,null,null,null,null,null,null,null,null,null,null,0,0]
[null,null,"woensdag","2011-01-06T04:30:00",null,{"$f":"IF('Thermisch optimum'!$A$23=7,'Thermisch optimum'!D237,INDEX(G241:L912,B241,('Thermisch optimum'!$A$23)))","v":138.23676323676324},208.59140859140857,121.58358433734938,136.34049999999999,174.65800000000002,180.07910437024731,138.23676323676324,null,null,null,null,null,null,null,null,null,null,null,null,null,null,null,null,null,null,null,null,null,null,null,0,0]
[null,null,"woensdag","2011-01-06T04:45:00",null,{"$f":"IF('Thermisch optimum'!$A$23=7,'Thermisch optimum'!D238,INDEX(G242:L913,B242,('Thermisch optimum'!$A$23)))","v":138.23676323676324},208.59140859140857,121.58358433734938,136.34049999999999,174.65800000000002,180.07910437024731,138.23676323676324,null,null,null,null,null,null,null,null,null,null,null,null,null,null,null,null,null,null,null,null,null,null,null,0,0]
[null,null,"woensdag","2011-01-06T05:00:00",null,{"$f":"IF('Thermisch optimum'!$A$23=7,'Thermisch optimum'!D239,INDEX(G243:L914,B243,('Thermisch optimum'!$A$23)))","v":165.20979020979024},351.998001998002,123.47740963855418,146.37099999999998,243.47399999999999,387.17007439603168,165.20979020979024,null,null,null,null,null,null,null,null,null,null,null,null,null,null,null,null,null,null,null,null,null,null,null,0,0]
[null,null,"woensdag","2011-01-06T05:15:00",null,{"$f":"IF('Thermisch optimum'!$A$23=7,'Thermisch optimum'!D240,INDEX(G244:L915,B244,('Thermisch optimum'!$A$23)))","v":165.20979020979024},351.998001998002,123.47740963855418,146.37099999999998,243.47399999999999,387.17007439603168,165.20979020979024,null,null,null,null,null,null,null,null,null,null,null,null,null,null,null,null,null,null,null,null,null,null,null,0,0]
[null,null,"woensdag","2011-01-06T05:30:00",null,{"$f":"IF('Thermisch optimum'!$A$23=7,'Thermisch optimum'!D241,INDEX(G245:L916,B245,('Thermisch optimum'!$A$23)))","v":165.20979020979024},351.998001998002,123.47740963855418,146.37099999999998,243.47399999999999,387.17007439603168,165.20979020979024,null,null,null,null,null,null,null,null,null,null,null,null,null,null,null,null,null,null,null,null,null,null,null,0,0]
[null,null,"woensdag","2011-01-06T05:45:00",null,{"$f":"IF('Thermisch optimum'!$A$23=7,'Thermisch optimum'!D242,INDEX(G246:L917,B246,('Thermisch optimum'!$A$23)))","v":165.20979020979024},351.998001998002,123.47740963855418,146.37099999999998,243.47399999999999,387.17007439603168,165.20979020979024,null,null,null,null,null,null,null,null,null,null,null,null,null,null,null,null,null,null,null,null,null,null,null,0,0]
[null,null,"woensdag","2011-01-06T06:00:00",null,{"$f":"IF('Thermisch optimum'!$A$23=7,'Thermisch optimum'!D243,INDEX(G247:L918,B247,('Thermisch optimum'!$A$23)))","v":168.5814185814186},321.57842157842163,122.71987951807228,157.14450000000002,229.262,373.66414156826306,168.5814185814186,null,null,null,null,null,null,null,null,null,null,null,null,null,null,null,null,null,null,null,null,null,null,null,0,0]
[null,null,"woensdag","2011-01-06T06:15:00",null,{"$f":"IF('Thermisch optimum'!$A$23=7,'Thermisch optimum'!D244,INDEX(G248:L919,B248,('Thermisch optimum'!$A$23)))","v":168.5814185814186},321.57842157842163,122.71987951807228,157.14450000000002,229.262,373.66414156826306,168.5814185814186,null,null,null,null,null,null,null,null,null,null,null,null,null,null,null,null,null,null,null,null,null,null,null,0,0]
[null,null,"woensdag","2011-01-06T06:30:00",null,{"$f":"IF('Thermisch optimum'!$A$23=7,'Thermisch optimum'!D245,INDEX(G249:L920,B249,('Thermisch optimum'!$A$23)))","v":168.5814185814186},321.57842157842163,122.71987951807228,157.14450000000002,229.262,373.66414156826306,168.5814185814186,null,null,null,null,null,null,null,null,null,null,null,null,null,null,null,null,null,null,null,null,null,null,null,0,0]
[null,null,"woensdag","2011-01-06T06:45:00",null,{"$f":"IF('Thermisch optimum'!$A$23=7,'Thermisch optimum'!D246,INDEX(G250:L921,B250,('Thermisch optimum'!$A$23)))","v":168.5814185814186},321.57842157842163,122.71987951807228,157.14450000000002,229.262,373.66414156826306,168.5814185814186,null,null,null,null,null,null,null,null,null,null,null,null,null,null,null,null,null,null,null,null,null,null,null,0,0]
[null,null,"woensdag","2011-01-06T07:00:00",null,{"$f":"IF('Thermisch optimum'!$A$23=7,'Thermisch optimum'!D247,INDEX(G251:L922,B251,('Thermisch optimum'!$A$23)))","v":168.5814185814186},278.12187812187818,130.29518072289153,175.71950000000001,210.56199999999998,364.66018634975075,168.5814185814186,null,null,null,null,null,null,null,null,null,null,null,null,null,null,null,null,null,null,null,null,null,null,null,0,0]
[null,null,"woensdag","2011-01-06T07:15:00",null,{"$f":"IF('Thermisch optimum'!$A$23=7,'Thermisch optimum'!D248,INDEX(G252:L923,B252,('Thermisch optimum'!$A$23)))","v":168.5814185814186},278.12187812187818,130.29518072289153,175.71950000000001,210.56199999999998,364.66018634975075,168.5814185814186,null,null,null,null,null,null,null,null,null,null,null,null,null,null,null,null,null,null,null,null,null,null,null,0,0]
[null,null,"woensdag","2011-01-06T07:30:00",null,{"$f":"IF('Thermisch optimum'!$A$23=7,'Thermisch optimum'!D249,INDEX(G253:L924,B253,('Thermisch optimum'!$A$23)))","v":168.5814185814186},278.12187812187818,130.29518072289153,175.71950000000001,210.56199999999998,364.66018634975075,168.5814185814186,null,null,null,null,null,null,null,null,null,null,null,null,null,null,null,null,null,null,null,null,null,null,null,0,0]
[null,null,"woensdag","2011-01-06T07:45:00",null,{"$f":"IF('Thermisch optimum'!$A$23=7,'Thermisch optimum'!D250,INDEX(G254:L925,B254,('Thermisch optimum'!$A$23)))","v":168.5814185814186},278.12187812187818,130.29518072289153,175.71950000000001,210.56199999999998,364.66018634975075,168.5814185814186,null,null,null,null,null,null,null,null,null,null,null,null,null,null,null,null,null,null,null,null,null,null,null,0,0]
[null,null,"woensdag","2011-01-06T08:00:00",null,{"$f":"IF('Thermisch optimum'!$A$23=7,'Thermisch optimum'!D251,INDEX(G255:L926,B255,('Thermisch optimum'!$A$23)))","v":171.95304695304696},239.01098901098899,214.00225903614455,174.60500000000002,195.602,360.15820874049462,171.95304695304696,null,null,null,null,null,null,null,null,null,null,null,null,null,null,null,null,null,null,null,null,null,null,null,0,0]
[null,null,"woensdag","2011-01-06T08:15:00",null,{"$f":"IF('Thermisch optimum'!$A$23=7,'Thermisch optimum'!D252,INDEX(G256:L927,B256,('Thermisch optimum'!$A$23)))","v":171.95304695304696},239.01098901098899,214.00225903614455,174.60500000000002,195.602,360.15820874049462,171.95304695304696,null,null,null,null,null,null,null,null,null,null,null,null,null,null,null,null,null,null,null,null,null,null,null,0,0]
[null,null,"woensdag","2011-01-06T08:30:00",null,{"$f":"IF('Thermisch optimum'!$A$23=7,'Thermisch optimum'!D253,INDEX(G257:L928,B257,('Thermisch optimum'!$A$23)))","v":171.95304695304696},239.01098901098899,214.00225903614455,174.60500000000002,195.602,360.15820874049462,171.95304695304696,null,null,null,null,null,null,null,null,null,null,null,null,null,null,null,null,null,null,null,null,null,null,null,0,0]
[null,null,"woensdag","2011-01-06T08:45:00",null,{"$f":"IF('Thermisch optimum'!$A$23=7,'Thermisch optimum'!D254,INDEX(G258:L929,B258,('Thermisch optimum'!$A$23)))","v":171.95304695304696},239.01098901098899,214.00225903614455,174.60500000000002,195.602,360.15820874049462,171.95304695304696,null,null,null,null,null,null,null,null,null,null,null,null,null,null,null,null,null,null,null,null,null,null,null,0,0]
[null,null,"woensdag","2011-01-06T09:00:00",null,{"$f":"IF('Thermisch optimum'!$A$23=7,'Thermisch optimum'!D255,INDEX(G259:L930,B259,('Thermisch optimum'!$A$23)))","v":168.5814185814186},221.62837162837158,274.22590361445776,174.60500000000002,182.51200000000003,346.65227591272605,168.5814185814186,null,null,null,null,null,null,null,null,null,null,null,null,null,null,null,null,null,null,null,null,null,null,null,0,0]
[null,null,"woensdag","2011-01-06T09:15:00",null,{"$f":"IF('Thermisch optimum'!$A$23=7,'Thermisch optimum'!D256,INDEX(G260:L931,B260,('Thermisch optimum'!$A$23)))","v":168.5814185814186},221.62837162837158,274.22590361445776,174.60500000000002,182.51200000000003,346.65227591272605,168.5814185814186,null,null,null,null,null,null,null,null,null,null,null,null,null,null,null,null,null,null,null,null,null,null,null,0,0]
[null,null,"woensdag","2011-01-06T09:30:00",null,{"$f":"IF('Thermisch optimum'!$A$23=7,'Thermisch optimum'!D257,INDEX(G261:L932,B261,('Thermisch optimum'!$A$23)))","v":168.5814185814186},221.62837162837158,274.22590361445776,174.60500000000002,182.51200000000003,346.65227591272605,168.5814185814186,null,null,null,null,null,null,null,null,null,null,null,null,null,null,null,null,null,null,null,null,null,null,null,0,0]
[null,null,"woensdag","2011-01-06T09:45:00",null,{"$f":"IF('Thermisch optimum'!$A$23=7,'Thermisch optimum'!D258,INDEX(G262:L933,B262,('Thermisch optimum'!$A$23)))","v":168.5814185814186},221.62837162837158,274.22590361445776,174.60500000000002,182.51200000000003,346.65227591272605,168.5814185814186,null,null,null,null,null,null,null,null,null,null,null,null,null,null,null,null,null,null,null,null,null,null,null,0,0]
[null,null,"woensdag","2011-01-06T10:00:00",null,{"$f":"IF('Thermisch optimum'!$A$23=7,'Thermisch optimum'!D259,INDEX(G263:L934,B263,('Thermisch optimum'!$A$23)))","v":161.83816183816182},195.55444555444555,241.65210843373492,174.60500000000002,166.43,342.15029830346987,161.83816183816182,null,null,null,null,null,null,null,null,null,null,null,null,null,null,null,null,null,null,null,null,null,null,null,0,0]
[null,null,"woensdag","2011-01-06T10:15:00",null,{"$f":"IF('Thermisch optimum'!$A$23=7,'Thermisch optimum'!D260,INDEX(G264:L935,B264,('Thermisch optimum'!$A$23)))","v":161.83816183816182},195.55444555444555,241.65210843373492,174.60500000000002,166.43,342.15029830346987,161.83816183816182,null,null,null,null,null,null,null,null,null,null,null,null,null,null,null,null,null,null,null,null,null,null,null,0,0]
[null,null,"woensdag","2011-01-06T10:30:00",null,{"$f":"IF('Thermisch optimum'!$A$23=7,'Thermisch optimum'!D261,INDEX(G265:L936,B265,('Thermisch optimum'!$A$23)))","v":161.83816183816182},195.55444555444555,241.65210843373492,174.60500000000002,166.43,342.15029830346987,161.83816183816182,null,null,null,null,null,null,null,null,null,null,null,null,null,null,null,null,null,null,null,null,null,null,null,0,0]
[null,null,"woensdag","2011-01-06T10:45:00",null,{"$f":"IF('Thermisch optimum'!$A$23=7,'Thermisch optimum'!D262,INDEX(G266:L937,B266,('Thermisch optimum'!$A$23)))","v":161.83816183816182},195.55444555444555,241.65210843373492,174.60500000000002,166.43,342.15029830346987,161.83816183816182,null,null,null,null,null,null,null,null,null,null,null,null,null,null,null,null,null,null,null,null,null,null,null,0,0]
[null,null,"woensdag","2011-01-06T11:00:00",null,{"$f":"IF('Thermisch optimum'!$A$23=7,'Thermisch optimum'!D263,INDEX(G267:L938,B267,('Thermisch optimum'!$A$23)))","v":151.72327672327677},195.55444555444555,241.27334337349393,171.26150000000001,160.44600000000003,337.64832069421368,151.72327672327677,null,null,null,null,null,null,null,null,null,null,null,null,null,null,null,null,null,null,null,null,null,null,null,0,0]
[null,null,"woensdag","2011-01-06T11:15:00",null,{"$f":"IF('Thermisch optimum'!$A$23=7,'Thermisch optimum'!D264,INDEX(G268:L939,B268,('Thermisch optimum'!$A$23)))","v":151.72327672327677},195.55444555444555,241.27334337349393,171.26150000000001,160.44600000000003,337.64832069421368,151.72327672327677,null,null,null,null,null,null,null,null,null,null,null,null,null,null,null,null,null,null,null,null,null,null,null,0,0]
[null,null,"woensdag","2011-01-06T11:30:00",null,{"$f":"IF('Thermisch optimum'!$A$23=7,'Thermisch optimum'!D265,INDEX(G269:L940,B269,('Thermisch optimum'!$A$23)))","v":151.72327672327677},195.55444555444555,241.27334337349393,171.26150000000001,160.44600000000003,337.64832069421368,151.72327672327677,null,null,null,null,null,null,null,null,null,null,null,null,null,null,null,null,null,null,null,null,null,null,null,0,0]
[null,null,"woensdag","2011-01-06T11:45:00",null,{"$f":"IF('Thermisch optimum'!$A$23=7,'Thermisch optimum'!D266,INDEX(G270:L941,B270,('Thermisch optimum'!$A$23)))","v":151.72327672327677},195.55444555444555,241.27334337349393,171.26150000000001,160.44600000000003,337.64832069421368,151.72327672327677,null,null,null,null,null,null,null,null,null,null,null,null,null,null,null,null,null,null,null,null,null,null,null,0,0]
[null,null,"woensdag","2011-01-06T12:00:00",null,{"$f":"IF('Thermisch optimum'!$A$23=7,'Thermisch optimum'!D267,INDEX(G271:L942,B271,('Thermisch optimum'!$A$23)))","v":148.35164835164838},182.51748251748253,226.12274096385536,166.43199999999999,153.71400000000003,333.14634308495749,148.35164835164838,null,null,null,null,null,null,null,null,null,null,null,null,null,null,null,null,null,null,null,null,null,null,null,0,0]
[null,null,"woensdag","2011-01-06T12:15:00",null,{"$f":"IF('Thermisch optimum'!$A$23=7,'Thermisch optimum'!D268,INDEX(G272:L943,B272,('Thermisch optimum'!$A$23)))","v":148.35164835164838},182.51748251748253,226.12274096385536,166.43199999999999,153.71400000000003,333.14634308495749,148.35164835164838,null,null,null,null,null,null,null,null,null,null,null,null,null,null,null,null,null,null,null,null,null,null,null,0,0]
[null,null,"woensdag","2011-01-06T12:30:00",null,{"$f":"IF('Thermisch optimum'!$A$23=7,'Thermisch optimum'!D269,INDEX(G273:L944,B273,('Thermisch optimum'!$A$23)))","v":148.35164835164838},182.51748251748253,226.12274096385536,166.43199999999999,153.71400000000003,333.14634308495749,148.35164835164838,null,null,null,null,null,null,null,null,null,null,null,null,null,null,null,null,null,null,null,null,null,null,null,0,0]
[null,null,"woensdag","2011-01-06T12:45:00",null,{"$f":"IF('Thermisch optimum'!$A$23=7,'Thermisch optimum'!D270,INDEX(G274:L945,B274,('Thermisch optimum'!$A$23)))","v":148.35164835164838},182.51748251748253,226.12274096385536,166.43199999999999,153.71400000000003,333.14634308495749,148.35164835164838,null,null,null,null,null,null,null,null,null,null,null,null,null,null,null,null,null,null,null,null,null,null,null,0,0]
[null,null,"woensdag","2011-01-06T13:00:00",null,{"$f":"IF('Thermisch optimum'!$A$23=7,'Thermisch optimum'!D271,INDEX(G275:L946,B275,('Thermisch optimum'!$A$23)))","v":144.98001998002002},178.17182817182814,212.48719879518066,162.71699999999998,148.852,324.14238786644518,144.98001998002002,null,null,null,null,null,null,null,null,null,null,null,null,null,null,null,null,null,null,null,null,null,null,null,0,0]
[null,null,"woensdag","2011-01-06T13:15:00",null,{"$f":"IF('Thermisch optimum'!$A$23=7,'Thermisch optimum'!D272,INDEX(G276:L947,B276,('Thermisch optimum'!$A$23)))","v":144.98001998002002},178.17182817182814,212.48719879518066,162.71699999999998,148.852,324.14238786644518,144.98001998002002,null,null,null,null,null,null,null,null,null,null,null,null,null,null,null,null,null,null,null,null,null,null,null,0,0]
[null,null,"woensdag","2011-01-06T13:30:00",null,{"$f":"IF('Thermisch optimum'!$A$23=7,'Thermisch optimum'!D273,INDEX(G277:L948,B277,('Thermisch optimum'!$A$23)))","v":144.98001998002002},178.17182817182814,212.48719879518066,162.71699999999998,148.852,324.14238786644518,144.98001998002002,null,null,null,null,null,null,null,null,null,null,null,null,null,null,null,null,null,null,null,null,null,null,null,0,0]
[null,null,"woensdag","2011-01-06T13:45:00",null,{"$f":"IF('Thermisch optimum'!$A$23=7,'Thermisch optimum'!D274,INDEX(G278:L949,B278,('Thermisch optimum'!$A$23)))","v":144.98001998002002},178.17182817182814,212.48719879518066,162.71699999999998,148.852,324.14238786644518,144.98001998002002,null,null,null,null,null,null,null,null,null,null,null,null,null,null,null,null,null,null,null,null,null,null,null,0,0]
[null,null,"woensdag","2011-01-06T14:00:00",null,{"$f":"IF('Thermisch optimum'!$A$23=7,'Thermisch optimum'!D275,INDEX(G279:L950,B279,('Thermisch optimum'!$A$23)))","v":141.60839160839163},178.17182817182814,193.92771084337346,162.34549999999999,148.852,310.63645503867656,141.60839160839163,null,null,null,null,null,null,null,null,null,null,null,null,null,null,null,null,null,null,null,null,null,null,null,0,0]
[null,null,"woensdag","2011-01-06T14:15:00",null,{"$f":"IF('Thermisch optimum'!$A$23=7,'Thermisch optimum'!D276,INDEX(G280:L951,B280,('Thermisch optimum'!$A$23)))","v":141.60839160839163},178.17182817182814,193.92771084337346,162.34549999999999,148.852,310.63645503867656,141.60839160839163,null,null,null,null,null,null,null,null,null,null,null,null,null,null,null,null,null,null,null,null,null,null,null,0,0]
[null,null,"woensdag","2011-01-06T14:30:00",null,{"$f":"IF('Thermisch optimum'!$A$23=7,'Thermisch optimum'!D277,INDEX(G281:L952,B281,('Thermisch optimum'!$A$23)))","v":141.60839160839163},178.17182817182814,193.92771084337346,162.34549999999999,148.852,310.63645503867656,141.60839160839163,null,null,null,null,null,null,null,null,null,null,null,null,null,null,null,null,null,null,null,null,null,null,null,0,0]
[null,null,"woensdag","2011-01-06T14:45:00",null,{"$f":"IF('Thermisch optimum'!$A$23=7,'Thermisch optimum'!D278,INDEX(G282:L953,B282,('Thermisch optimum'!$A$23)))","v":141.60839160839163},178.17182817182814,193.92771084337346,162.34549999999999,148.852,310.63645503867656,141.60839160839163,null,null,null,null,null,null,null,null,null,null,null,null,null,null,null,null,null,null,null,null,null,null,null,0,0]
[null,null,"woensdag","2011-01-06T15:00:00",null,{"$f":"IF('Thermisch optimum'!$A$23=7,'Thermisch optimum'!D279,INDEX(G283:L954,B283,('Thermisch optimum'!$A$23)))","v":141.60839160839163},169.48051948051946,172.7168674698795,164.20299999999997,145.48600000000002,301.63249982016418,141.60839160839163,null,null,null,null,null,null,null,null,null,null,null,null,null,null,null,null,null,null,null,null,null,null,null,0,0]
[null,null,"woensdag","2011-01-06T15:15:00",null,{"$f":"IF('Thermisch optimum'!$A$23=7,'Thermisch optimum'!D280,INDEX(G284:L955,B284,('Thermisch optimum'!$A$23)))","v":141.60839160839163},169.48051948051946,172.7168674698795,164.20299999999997,145.48600000000002,301.63249982016418,141.60839160839163,null,null,null,null,null,null,null,null,null,null,null,null,null,null,null,null,null,null,null,null,null,null,null,0,0]
[null,null,"woensdag","2011-01-06T15:30:00",null,{"$f":"IF('Thermisch optimum'!$A$23=7,'Thermisch optimum'!D281,INDEX(G285:L956,B285,('Thermisch optimum'!$A$23)))","v":141.60839160839163},169.48051948051946,172.7168674698795,164.20299999999997,145.48600000000002,301.63249982016418,141.60839160839163,null,null,null,null,null,null,null,null,null,null,null,null,null,null,null,null,null,null,null,null,null,null,null,0,0]
[null,null,"woensdag","2011-01-06T15:45:00",null,{"$f":"IF('Thermisch optimum'!$A$23=7,'Thermisch optimum'!D282,INDEX(G286:L957,B286,('Thermisch optimum'!$A$23)))","v":141.60839160839163},169.48051948051946,172.7168674698795,164.20299999999997,145.48600000000002,301.63249982016418,141.60839160839163,null,null,null,null,null,null,null,null,null,null,null,null,null,null,null,null,null,null,null,null,null,null,null,0,0]
[null,null,"woensdag","2011-01-06T16:00:00",null,{"$f":"IF('Thermisch optimum'!$A$23=7,'Thermisch optimum'!D283,INDEX(G287:L958,B287,('Thermisch optimum'!$A$23)))","v":144.98001998002002},152.09790209790211,179.15587349397586,162.34549999999999,135.762,163.42178721599939,144.98001998002002,null,null,null,null,null,null,null,null,null,null,null,null,null,null,null,null,null,null,null,null,null,null,null,{"$f":"IF(AND(HOUR(D287)>=$U$19,HOUR(D287)<($U$19+15)),E287,0)","v":0},{"$f":"IF(AJ287=0,E287,0)","v":0}]
[null,null,"woensdag","2011-01-06T16:15:00",null,{"$f":"IF('Thermisch optimum'!$A$23=7,'Thermisch optimum'!D284,INDEX(G288:L959,B288,('Thermisch optimum'!$A$23)))","v":144.98001998002002},152.09790209790211,179.15587349397586,162.34549999999999,135.762,163.42178721599939,144.98001998002002,null,null,null,null,null,null,null,null,null,null,null,null,null,null,null,null,null,null,null,null,null,null,null,0,0]
[null,null,"woensdag",{"$f":"D288+1/96","v":"2011-01-06T16:30:00"},null,{"$f":"IF('Thermisch optimum'!$A$23=7,'Thermisch optimum'!D285,INDEX(G289:L960,B289,('Thermisch optimum'!$A$23)))","v":144.98001998002002},152.09790209790211,179.15587349397586,162.34549999999999,135.762,163.42178721599939,144.98001998002002,null,null,null,null,null,null,null,null,null,null,null,null,null,null,null,null,null,null,null,null,null,null,null,0,0]
[null,null,"woensdag","2011-01-06T16:45:00",null,{"$f":"IF('Thermisch optimum'!$A$23=7,'Thermisch optimum'!D286,INDEX(G290:L961,B290,('Thermisch optimum'!$A$23)))","v":144.98001998002002},152.09790209790211,179.15587349397586,162.34549999999999,135.762,163.42178721599939,144.98001998002002,null,null,null,null,null,null,null,null,null,null,null,null,null,null,null,null,null,null,null,null,null,null,null,0,0]
[null,null,"woensdag","2011-01-06T17:00:00",null,{"$f":"IF('Thermisch optimum'!$A$23=7,'Thermisch optimum'!D287,INDEX(G291:L962,B291,('Thermisch optimum'!$A$23)))","v":155.09490509490513},160.78921078921081,191.65512048192764,165.31749999999997,140.624,45.019776092561827,155.09490509490513,null,null,null,null,null,null,null,null,null,null,null,null,null,null,null,null,null,null,null,null,null,null,null,0,0]
[null,null,"woensdag","2011-01-06T17:15:00",null,{"$f":"IF('Thermisch optimum'!$A$23=7,'Thermisch optimum'!D288,INDEX(G292:L963,B292,('Thermisch optimum'!$A$23)))","v":155.09490509490513},160.78921078921081,191.65512048192764,165.31749999999997,140.624,45.019776092561827,155.09490509490513,null,null,null,null,null,null,null,null,null,null,null,null,null,null,null,null,null,null,null,null,null,null,null,0,0]
[null,null,"woensdag","2011-01-06T17:30:00",null,{"$f":"IF('Thermisch optimum'!$A$23=7,'Thermisch optimum'!D289,INDEX(G293:L964,B293,('Thermisch optimum'!$A$23)))","v":155.09490509490513},160.78921078921081,191.65512048192764,165.31749999999997,140.624,45.019776092561827,155.09490509490513,null,null,null,null,null,null,null,null,null,null,null,null,null,null,null,null,null,null,null,null,null,null,null,0,0]
[null,null,"woensdag","2011-01-06T17:45:00",null,{"$f":"IF('Thermisch optimum'!$A$23=7,'Thermisch optimum'!D290,INDEX(G294:L965,B294,('Thermisch optimum'!$A$23)))","v":155.09490509490513},160.78921078921081,191.65512048192764,165.31749999999997,140.624,45.019776092561827,155.09490509490513,null,null,null,null,null,null,null,null,null,null,null,null,null,null,null,null,null,null,null,null,null,null,null,0,0]
[null,null,"woensdag","2011-01-06T18:00:00",null,{"$f":"IF('Thermisch optimum'!$A$23=7,'Thermisch optimum'!D291,INDEX(G295:L966,B295,('Thermisch optimum'!$A$23)))","v":161.83816183816182},182.51748251748253,163.24774096385536,174.97649999999999,151.096,45.019776092561827,161.83816183816182,null,null,null,null,null,null,null,null,null,null,null,null,null,null,null,null,null,null,null,null,null,null,null,0,0]
[null,null,"woensdag","2011-01-06T18:15:00",null,{"$f":"IF('Thermisch optimum'!$A$23=7,'Thermisch optimum'!D292,INDEX(G296:L967,B296,('Thermisch optimum'!$A$23)))","v":161.83816183816182},182.51748251748253,163.24774096385536,174.97649999999999,151.096,45.019776092561827,161.83816183816182,null,null,null,null,null,null,null,null,null,null,null,null,null,null,null,null,null,null,null,null,null,null,null,0,0]
[null,null,"woensdag","2011-01-06T18:30:00",null,{"$f":"IF('Thermisch optimum'!$A$23=7,'Thermisch optimum'!D293,INDEX(G297:L968,B297,('Thermisch optimum'!$A$23)))","v":161.83816183816182},182.51748251748253,163.24774096385536,174.97649999999999,151.096,45.019776092561827,161.83816183816182,null,null,null,null,null,null,null,null,null,null,null,null,null,null,null,null,null,null,null,null,null,null,null,0,0]
[null,null,"woensdag","2011-01-06T18:45:00",null,{"$f":"IF('Thermisch optimum'!$A$23=7,'Thermisch optimum'!D294,INDEX(G298:L969,B298,('Thermisch optimum'!$A$23)))","v":161.83816183816182},182.51748251748253,163.24774096385536,174.97649999999999,151.096,45.019776092561827,161.83816183816182,null,null,null,null,null,null,null,null,null,null,null,null,null,null,null,null,null,null,null,null,null,null,null,0,0]
[null,null,"woensdag","2011-01-06T19:00:00",null,{"$f":"IF('Thermisch optimum'!$A$23=7,'Thermisch optimum'!D295,INDEX(G299:L970,B299,('Thermisch optimum'!$A$23)))","v":161.83816183816182},152.09790209790211,109.46310240963855,166.43199999999999,135.762,45.019776092561827,161.83816183816182,null,null,null,null,null,null,null,null,null,null,null,null,null,null,null,null,null,null,null,null,null,null,null,0,0]
[null,null,"woensdag","2011-01-06T19:15:00",null,{"$f":"IF('Thermisch optimum'!$A$23=7,'Thermisch optimum'!D296,INDEX(G300:L971,B300,('Thermisch optimum'!$A$23)))","v":161.83816183816182},152.09790209790211,109.46310240963855,166.43199999999999,135.762,45.019776092561827,161.83816183816182,null,null,null,null,null,null,null,null,null,null,null,null,null,null,null,null,null,null,null,null,null,null,null,0,0]
[null,null,"woensdag","2011-01-06T19:30:00",null,{"$f":"IF('Thermisch optimum'!$A$23=7,'Thermisch optimum'!D297,INDEX(G301:L972,B301,('Thermisch optimum'!$A$23)))","v":161.83816183816182},152.09790209790211,109.46310240963855,166.43199999999999,135.762,45.019776092561827,161.83816183816182,null,null,null,null,null,null,null,null,null,null,null,null,null,null,null,null,null,null,null,null,null,null,null,0,0]
[null,null,"woensdag","2011-01-06T19:45:00",null,{"$f":"IF('Thermisch optimum'!$A$23=7,'Thermisch optimum'!D298,INDEX(G302:L973,B302,('Thermisch optimum'!$A$23)))","v":161.83816183816182},152.09790209790211,109.46310240963855,166.43199999999999,135.762,45.019776092561827,161.83816183816182,null,null,null,null,null,null,null,null,null,null,null,null,null,null,null,null,null,null,null,null,null,null,null,0,0]
[null,null,"woensdag","2011-01-06T20:00:00",null,{"$f":"IF('Thermisch optimum'!$A$23=7,'Thermisch optimum'!D299,INDEX(G303:L974,B303,('Thermisch optimum'!$A$23)))","v":165.20979020979024},108.64135864135864,92.418674698795158,157.51599999999999,116.68800000000002,45.019776092561827,165.20979020979024,null,null,null,null,null,null,null,null,null,null,null,null,null,null,null,null,null,null,null,null,null,null,null,0,0]
[null,null,"woensdag","2011-01-06T20:15:00",null,{"$f":"IF('Thermisch optimum'!$A$23=7,'Thermisch optimum'!D300,INDEX(G304:L975,B304,('Thermisch optimum'!$A$23)))","v":165.20979020979024},108.64135864135864,92.418674698795158,157.51599999999999,116.68800000000002,45.019776092561827,165.20979020979024,null,null,null,null,null,null,null,null,null,null,null,null,null,null,null,null,null,null,null,null,null,null,null,0,0]
[null,null,"woensdag","2011-01-06T20:30:00",null,{"$f":"IF('Thermisch optimum'!$A$23=7,'Thermisch optimum'!D301,INDEX(G305:L976,B305,('Thermisch optimum'!$A$23)))","v":165.20979020979024},108.64135864135864,92.418674698795158,157.51599999999999,116.68800000000002,45.019776092561827,165.20979020979024,null,null,null,null,null,null,null,null,null,null,null,null,null,null,null,null,null,null,null,null,null,null,null,0,0]
[null,null,"woensdag","2011-01-06T20:45:00",null,{"$f":"IF('Thermisch optimum'!$A$23=7,'Thermisch optimum'!D302,INDEX(G306:L977,B306,('Thermisch optimum'!$A$23)))","v":165.20979020979024},108.64135864135864,92.418674698795158,157.51599999999999,116.68800000000002,45.019776092561827,165.20979020979024,null,null,null,null,null,null,null,null,null,null,null,null,null,null,null,null,null,null,null,null,null,null,null,0,0]
[null,null,"woensdag","2011-01-06T21:00:00",null,{"$f":"IF('Thermisch optimum'!$A$23=7,'Thermisch optimum'!D303,INDEX(G307:L978,B307,('Thermisch optimum'!$A$23)))","v":161.83816183816182},112.98701298701299,90.903614457831296,157.88749999999999,120.05399999999999,45.019776092561827,161.83816183816182,null,null,null,null,null,null,null,null,null,null,null,null,null,null,null,null,null,null,null,null,null,null,null,0,0]
[null,null,"woensdag","2011-01-06T21:15:00",null,{"$f":"IF('Thermisch optimum'!$A$23=7,'Thermisch optimum'!D304,INDEX(G308:L979,B308,('Thermisch optimum'!$A$23)))","v":161.83816183816182},112.98701298701299,90.903614457831296,157.88749999999999,120.05399999999999,45.019776092561827,161.83816183816182,null,null,null,null,null,null,null,null,null,null,null,null,null,null,null,null,null,null,null,null,null,null,null,0,0]
[null,null,"woensdag","2011-01-06T21:30:00",null,{"$f":"IF('Thermisch optimum'!$A$23=7,'Thermisch optimum'!D305,INDEX(G309:L980,B309,('Thermisch optimum'!$A$23)))","v":161.83816183816182},112.98701298701299,90.903614457831296,157.88749999999999,120.05399999999999,45.019776092561827,161.83816183816182,null,null,null,null,null,null,null,null,null,null,null,null,null,null,null,null,null,null,null,null,null,null,null,0,0]
[null,null,"woensdag","2011-01-06T21:45:00",null,{"$f":"IF('Thermisch optimum'!$A$23=7,'Thermisch optimum'!D306,INDEX(G310:L981,B310,('Thermisch optimum'!$A$23)))","v":161.83816183816182},112.98701298701299,90.903614457831296,157.88749999999999,120.05399999999999,45.019776092561827,161.83816183816182,null,null,null,null,null,null,null,null,null,null,null,null,null,null,null,null,null,null,null,null,null,null,null,0,0]
[null,null,"woensdag","2011-01-06T22:00:00",null,{"$f":"IF('Thermisch optimum'!$A$23=7,'Thermisch optimum'!D307,INDEX(G311:L982,B311,('Thermisch optimum'!$A$23)))","v":144.98001998002002},112.98701298701299,90.146084337349379,126.68150000000001,120.80200000000002,45.019776092561827,144.98001998002002,null,null,null,null,null,null,null,null,null,null,null,null,null,null,null,null,null,null,null,null,null,null,null,0,0]
[null,null,"woensdag","2011-01-06T22:15:00",null,{"$f":"IF('Thermisch optimum'!$A$23=7,'Thermisch optimum'!D308,INDEX(G312:L983,B312,('Thermisch optimum'!$A$23)))","v":144.98001998002002},112.98701298701299,90.146084337349379,126.68150000000001,120.80200000000002,45.019776092561827,144.98001998002002,null,null,null,null,null,null,null,null,null,null,null,null,null,null,null,null,null,null,null,null,null,null,null,0,0]
[null,null,"woensdag","2011-01-06T22:30:00",null,{"$f":"IF('Thermisch optimum'!$A$23=7,'Thermisch optimum'!D309,INDEX(G313:L984,B313,('Thermisch optimum'!$A$23)))","v":144.98001998002002},112.98701298701299,90.146084337349379,126.68150000000001,120.80200000000002,45.019776092561827,144.98001998002002,null,null,null,null,null,null,null,null,null,null,null,null,null,null,null,null,null,null,null,null,null,null,null,0,0]
[null,null,"woensdag","2011-01-06T22:45:00",null,{"$f":"IF('Thermisch optimum'!$A$23=7,'Thermisch optimum'!D310,INDEX(G314:L985,B314,('Thermisch optimum'!$A$23)))","v":144.98001998002002},112.98701298701299,90.146084337349379,126.68150000000001,120.80200000000002,45.019776092561827,144.98001998002002,null,null,null,null,null,null,null,null,null,null,null,null,null,null,null,null,null,null,null,null,null,null,null,0,0]
[null,null,"woensdag","2011-01-06T23:00:00",null,{"$f":"IF('Thermisch optimum'!$A$23=7,'Thermisch optimum'!D311,INDEX(G315:L986,B315,('Thermisch optimum'!$A$23)))","v":74.175824175824189},121.67832167832168,102.6453313253012,124.82399999999998,125.29000000000002,45.019776092561827,74.175824175824189,null,null,null,null,null,null,null,null,null,null,null,null,null,null,null,null,null,null,null,null,null,null,null,0,0]
[null,null,"woensdag","2011-01-06T23:15:00",null,{"$f":"IF('Thermisch optimum'!$A$23=7,'Thermisch optimum'!D312,INDEX(G316:L987,B316,('Thermisch optimum'!$A$23)))","v":74.175824175824189},121.67832167832168,102.6453313253012,124.82399999999998,125.29000000000002,45.019776092561827,74.175824175824189,null,null,null,null,null,null,null,null,null,null,null,null,null,null,null,null,null,null,null,null,null,null,null,0,0]
[null,null,"woensdag","2011-01-06T23:30:00",null,{"$f":"IF('Thermisch optimum'!$A$23=7,'Thermisch optimum'!D313,INDEX(G317:L988,B317,('Thermisch optimum'!$A$23)))","v":74.175824175824189},121.67832167832168,102.6453313253012,124.82399999999998,125.29000000000002,45.019776092561827,74.175824175824189,null,null,null,null,null,null,null,null,null,null,null,null,null,null,null,null,null,null,null,null,null,null,null,0,0]
[null,null,"woensdag","2011-01-06T23:45:00",null,{"$f":"IF('Thermisch optimum'!$A$23=7,'Thermisch optimum'!D314,INDEX(G318:L989,B318,('Thermisch optimum'!$A$23)))","v":74.175824175824189},121.67832167832168,102.6453313253012,124.82399999999998,125.29000000000002,45.019776092561827,74.175824175824189,null,null,null,null,null,null,null,null,null,null,null,null,null,null,null,null,null,null,null,null,null,null,null,0,0]
[null,null,"donderdag","2011-01-07",null,{"$f":"IF('Thermisch optimum'!$A$23=7,'Thermisch optimum'!D315,INDEX(G319:L990,B319,('Thermisch optimum'!$A$23)))","v":74.175824175824189},123.07692307692311,129.88905622489958,126.90500000000002,125.09100000000001,45.019776092561827,74.175824175824189,null,null,null,null,null,null,null,null,null,null,null,null,null,null,null,null,null,null,null,null,null,null,null,0,0]
[null,null,"donderdag","2011-01-07T00:15:00",null,{"$f":"IF('Thermisch optimum'!$A$23=7,'Thermisch optimum'!D316,INDEX(G320:L991,B320,('Thermisch optimum'!$A$23)))","v":74.175824175824189},123.07692307692311,129.88905622489958,126.90500000000002,125.09100000000001,45.019776092561827,74.175824175824189,null,null,null,null,null,null,null,null,null,null,null,null,null,null,null,null,null,null,null,null,null,null,null,0,0]
[null,null,"donderdag","2011-01-07T00:30:00",null,{"$f":"IF('Thermisch optimum'!$A$23=7,'Thermisch optimum'!D317,INDEX(G321:L992,B321,('Thermisch optimum'!$A$23)))","v":74.175824175824189},123.07692307692311,129.88905622489958,126.90500000000002,125.09100000000001,45.019776092561827,74.175824175824189,null,null,null,null,null,null,null,null,null,null,null,null,null,null,null,null,null,null,null,null,null,null,null,0,0]
[null,null,"donderdag","2011-01-07T00:45:00",null,{"$f":"IF('Thermisch optimum'!$A$23=7,'Thermisch optimum'!D318,INDEX(G322:L993,B322,('Thermisch optimum'!$A$23)))","v":74.175824175824189},123.07692307692311,129.88905622489958,126.90500000000002,125.09100000000001,45.019776092561827,74.175824175824189,null,null,null,null,null,null,null,null,null,null,null,null,null,null,null,null,null,null,null,null,null,null,null,0,0]
[null,null,"donderdag","2011-01-07T01:00:00",null,{"$f":"IF('Thermisch optimum'!$A$23=7,'Thermisch optimum'!D319,INDEX(G323:L994,B323,('Thermisch optimum'!$A$23)))","v":80.919080919080912},127.4725274725275,120.66616465863451,129.51775000000001,128.04300000000001,45.019776092561827,80.919080919080912,null,null,null,null,null,null,null,null,null,null,null,null,null,null,null,null,null,null,null,null,null,null,null,0,0]
[null,null,"donderdag","2011-01-07T01:15:00",null,{"$f":"IF('Thermisch optimum'!$A$23=7,'Thermisch optimum'!D320,INDEX(G324:L995,B324,('Thermisch optimum'!$A$23)))","v":80.919080919080912},127.4725274725275,120.66616465863451,129.51775000000001,128.04300000000001,45.019776092561827,80.919080919080912,null,null,null,null,null,null,null,null,null,null,null,null,null,null,null,null,null,null,null,null,null,null,null,0,0]
[null,null,"donderdag","2011-01-07T01:30:00",null,{"$f":"IF('Thermisch optimum'!$A$23=7,'Thermisch optimum'!D321,INDEX(G325:L996,B325,('Thermisch optimum'!$A$23)))","v":80.919080919080912},127.4725274725275,120.66616465863451,129.51775000000001,128.04300000000001,45.019776092561827,80.919080919080912,null,null,null,null,null,null,null,null,null,null,null,null,null,null,null,null,null,null,null,null,null,null,null,0,0]
[null,null,"donderdag","2011-01-07T01:45:00",null,{"$f":"IF('Thermisch optimum'!$A$23=7,'Thermisch optimum'!D322,INDEX(G326:L997,B326,('Thermisch optimum'!$A$23)))","v":80.919080919080912},127.4725274725275,120.66616465863451,129.51775000000001,128.04300000000001,45.019776092561827,80.919080919080912,null,null,null,null,null,null,null,null,null,null,null,null,null,null,null,null,null,null,null,null,null,null,null,0,0]
[null,null,"donderdag","2011-01-07T02:00:00",null,{"$f":"IF('Thermisch optimum'!$A$23=7,'Thermisch optimum'!D323,INDEX(G327:L998,B327,('Thermisch optimum'!$A$23)))","v":84.290709290709302},136.26373626373632,121.43473895582328,128.02475000000001,133.578,45.019776092561827,84.290709290709302,null,null,null,null,null,null,null,null,null,null,null,null,null,null,null,null,null,null,null,null,null,null,null,0,0]
[null,null,"donderdag","2011-01-07T02:15:00",null,{"$f":"IF('Thermisch optimum'!$A$23=7,'Thermisch optimum'!D324,INDEX(G328:L999,B328,('Thermisch optimum'!$A$23)))","v":84.290709290709302},136.26373626373632,121.43473895582328,128.02475000000001,133.578,45.019776092561827,84.290709290709302,null,null,null,null,null,null,null,null,null,null,null,null,null,null,null,null,null,null,null,null,null,null,null,0,0]
[null,null,"donderdag","2011-01-07T02:30:00",null,{"$f":"IF('Thermisch optimum'!$A$23=7,'Thermisch optimum'!D325,INDEX(G329:L1000,B329,('Thermisch optimum'!$A$23)))","v":84.290709290709302},136.26373626373632,121.43473895582328,128.02475000000001,133.578,45.019776092561827,84.290709290709302,null,null,null,null,null,null,null,null,null,null,null,null,null,null,null,null,null,null,null,null,null,null,null,0,0]
[null,null,"donderdag","2011-01-07T02:45:00",null,{"$f":"IF('Thermisch optimum'!$A$23=7,'Thermisch optimum'!D326,INDEX(G330:L1001,B330,('Thermisch optimum'!$A$23)))","v":84.290709290709302},136.26373626373632,121.43473895582328,128.02475000000001,133.578,45.019776092561827,84.290709290709302,null,null,null,null,null,null,null,null,null,null,null,null,null,null,null,null,null,null,null,null,null,null,null,0,0]
[null,null,"donderdag","2011-01-07T03:00:00",null,{"$f":"IF('Thermisch optimum'!$A$23=7,'Thermisch optimum'!D327,INDEX(G331:L1002,B331,('Thermisch optimum'!$A$23)))","v":94.405594405594414},140.65934065934073,113.36470883534136,130.63749999999999,140.22,45.019776092561827,94.405594405594414,null,null,null,null,null,null,null,null,null,null,null,null,null,null,null,null,null,null,null,null,null,null,null,0,0]
[null,null,"donderdag","2011-01-07T03:15:00",null,{"$f":"IF('Thermisch optimum'!$A$23=7,'Thermisch optimum'!D328,INDEX(G332:L1003,B332,('Thermisch optimum'!$A$23)))","v":94.405594405594414},140.65934065934073,113.36470883534136,130.63749999999999,140.22,45.019776092561827,94.405594405594414,null,null,null,null,null,null,null,null,null,null,null,null,null,null,null,null,null,null,null,null,null,null,null,0,0]
[null,null,"donderdag","2011-01-07T03:30:00",null,{"$f":"IF('Thermisch optimum'!$A$23=7,'Thermisch optimum'!D329,INDEX(G333:L1004,B333,('Thermisch optimum'!$A$23)))","v":94.405594405594414},140.65934065934073,113.36470883534136,130.63749999999999,140.22,45.019776092561827,94.405594405594414,null,null,null,null,null,null,null,null,null,null,null,null,null,null,null,null,null,null,null,null,null,null,null,0,0]
[null,null,"donderdag","2011-01-07T03:45:00",null,{"$f":"IF('Thermisch optimum'!$A$23=7,'Thermisch optimum'!D330,INDEX(G334:L1005,B334,('Thermisch optimum'!$A$23)))","v":94.405594405594414},140.65934065934073,113.36470883534136,130.63749999999999,140.22,45.019776092561827,94.405594405594414,null,null,null,null,null,null,null,null,null,null,null,null,null,null,null,null,null,null,null,null,null,null,null,0,0]
[null,null,"donderdag","2011-01-07T04:00:00",null,{"$f":"IF('Thermisch optimum'!$A$23=7,'Thermisch optimum'!D331,INDEX(G335:L1006,B335,('Thermisch optimum'!$A$23)))","v":138.23676323676324},210.98901098901106,123.35617469879516,136.98274999999998,172.32299999999998,180.07910437024731,138.23676323676324,null,null,null,null,null,null,null,null,null,null,null,null,null,null,null,null,null,null,null,null,null,null,null,0,0]
[null,null,"donderdag","2011-01-07T04:15:00",null,{"$f":"IF('Thermisch optimum'!$A$23=7,'Thermisch optimum'!D332,INDEX(G336:L1007,B336,('Thermisch optimum'!$A$23)))","v":138.23676323676324},210.98901098901106,123.35617469879516,136.98274999999998,172.32299999999998,180.07910437024731,138.23676323676324,null,null,null,null,null,null,null,null,null,null,null,null,null,null,null,null,null,null,null,null,null,null,null,0,0]
[null,null,"donderdag","2011-01-07T04:30:00",null,{"$f":"IF('Thermisch optimum'!$A$23=7,'Thermisch optimum'!D333,INDEX(G337:L1008,B337,('Thermisch optimum'!$A$23)))","v":138.23676323676324},210.98901098901106,123.35617469879516,136.98274999999998,172.32299999999998,180.07910437024731,138.23676323676324,null,null,null,null,null,null,null,null,null,null,null,null,null,null,null,null,null,null,null,null,null,null,null,0,0]
[null,null,"donderdag","2011-01-07T04:45:00",null,{"$f":"IF('Thermisch optimum'!$A$23=7,'Thermisch optimum'!D334,INDEX(G338:L1009,B338,('Thermisch optimum'!$A$23)))","v":138.23676323676324},210.98901098901106,123.35617469879516,136.98274999999998,172.32299999999998,180.07910437024731,138.23676323676324,null,null,null,null,null,null,null,null,null,null,null,null,null,null,null,null,null,null,null,null,null,null,null,0,0]
[null,null,"donderdag","2011-01-07T05:00:00",null,{"$f":"IF('Thermisch optimum'!$A$23=7,'Thermisch optimum'!D335,INDEX(G339:L1010,B339,('Thermisch optimum'!$A$23)))","v":165.20979020979024},356.04395604395614,125.27761044176704,147.06049999999999,240.21899999999997,387.17007439603168,165.20979020979024,null,null,null,null,null,null,null,null,null,null,null,null,null,null,null,null,null,null,null,null,null,null,null,0,0]
[null,null,"donderdag","2011-01-07T05:15:00",null,{"$f":"IF('Thermisch optimum'!$A$23=7,'Thermisch optimum'!D336,INDEX(G340:L1011,B340,('Thermisch optimum'!$A$23)))","v":165.20979020979024},356.04395604395614,125.27761044176704,147.06049999999999,240.21899999999997,387.17007439603168,165.20979020979024,null,null,null,null,null,null,null,null,null,null,null,null,null,null,null,null,null,null,null,null,null,null,null,0,0]
[null,null,"donderdag","2011-01-07T05:30:00",null,{"$f":"IF('Thermisch optimum'!$A$23=7,'Thermisch optimum'!D337,INDEX(G341:L1012,B341,('Thermisch optimum'!$A$23)))","v":165.20979020979024},356.04395604395614,125.27761044176704,147.06049999999999,240.21899999999997,387.17007439603168,165.20979020979024,null,null,null,null,null,null,null,null,null,null,null,null,null,null,null,null,null,null,null,null,null,null,null,0,0]
[null,null,"donderdag","2011-01-07T05:45:00",null,{"$f":"IF('Thermisch optimum'!$A$23=7,'Thermisch optimum'!D338,INDEX(G342:L1013,B342,('Thermisch optimum'!$A$23)))","v":165.20979020979024},356.04395604395614,125.27761044176704,147.06049999999999,240.21899999999997,387.17007439603168,165.20979020979024,null,null,null,null,null,null,null,null,null,null,null,null,null,null,null,null,null,null,null,null,null,null,null,0,0]
[null,null,"donderdag","2011-01-07T06:00:00",null,{"$f":"IF('Thermisch optimum'!$A$23=7,'Thermisch optimum'!D339,INDEX(G343:L1014,B343,('Thermisch optimum'!$A$23)))","v":168.5814185814186},325.27472527472537,124.50903614457832,157.88475000000003,226.19699999999997,373.66414156826306,168.5814185814186,null,null,null,null,null,null,null,null,null,null,null,null,null,null,null,null,null,null,null,null,null,null,null,0,0]
[null,null,"donderdag","2011-01-07T06:15:00",null,{"$f":"IF('Thermisch optimum'!$A$23=7,'Thermisch optimum'!D340,INDEX(G344:L1015,B344,('Thermisch optimum'!$A$23)))","v":168.5814185814186},325.27472527472537,124.50903614457832,157.88475000000003,226.19699999999997,373.66414156826306,168.5814185814186,null,null,null,null,null,null,null,null,null,null,null,null,null,null,null,null,null,null,null,null,null,null,null,0,0]
[null,null,"donderdag","2011-01-07T06:30:00",null,{"$f":"IF('Thermisch optimum'!$A$23=7,'Thermisch optimum'!D341,INDEX(G345:L1016,B345,('Thermisch optimum'!$A$23)))","v":168.5814185814186},325.27472527472537,124.50903614457832,157.88475000000003,226.19699999999997,373.66414156826306,168.5814185814186,null,null,null,null,null,null,null,null,null,null,null,null,null,null,null,null,null,null,null,null,null,null,null,0,0]
[null,null,"donderdag","2011-01-07T06:45:00",null,{"$f":"IF('Thermisch optimum'!$A$23=7,'Thermisch optimum'!D342,INDEX(G346:L1017,B346,('Thermisch optimum'!$A$23)))","v":168.5814185814186},325.27472527472537,124.50903614457832,157.88475000000003,226.19699999999997,373.66414156826306,168.5814185814186,null,null,null,null,null,null,null,null,null,null,null,null,null,null,null,null,null,null,null,null,null,null,null,0,0]
[null,null,"donderdag","2011-01-07T07:00:00",null,{"$f":"IF('Thermisch optimum'!$A$23=7,'Thermisch optimum'!D343,INDEX(G347:L1018,B347,('Thermisch optimum'!$A$23)))","v":168.5814185814186},281.31868131868146,132.19477911646584,176.54725000000002,207.74700000000001,364.66018634975075,168.5814185814186,null,null,null,null,null,null,null,null,null,null,null,null,null,null,null,null,null,null,null,null,null,null,null,0,0]
[null,null,"donderdag","2011-01-07T07:15:00",null,{"$f":"IF('Thermisch optimum'!$A$23=7,'Thermisch optimum'!D344,INDEX(G348:L1019,B348,('Thermisch optimum'!$A$23)))","v":168.5814185814186},281.31868131868146,132.19477911646584,176.54725000000002,207.74700000000001,364.66018634975075,168.5814185814186,null,null,null,null,null,null,null,null,null,null,null,null,null,null,null,null,null,null,null,null,null,null,null,0,0]
[null,null,"donderdag","2011-01-07T07:30:00",null,{"$f":"IF('Thermisch optimum'!$A$23=7,'Thermisch optimum'!D345,INDEX(G349:L1020,B349,('Thermisch optimum'!$A$23)))","v":168.5814185814186},281.31868131868146,132.19477911646584,176.54725000000002,207.74700000000001,364.66018634975075,168.5814185814186,null,null,null,null,null,null,null,null,null,null,null,null,null,null,null,null,null,null,null,null,null,null,null,0,0]
[null,null,"donderdag","2011-01-07T07:45:00",null,{"$f":"IF('Thermisch optimum'!$A$23=7,'Thermisch optimum'!D346,INDEX(G350:L1021,B350,('Thermisch optimum'!$A$23)))","v":168.5814185814186},281.31868131868146,132.19477911646584,176.54725000000002,207.74700000000001,364.66018634975075,168.5814185814186,null,null,null,null,null,null,null,null,null,null,null,null,null,null,null,null,null,null,null,null,null,null,null,0,0]
[null,null,"donderdag","2011-01-07T08:00:00",null,{"$f":"IF('Thermisch optimum'!$A$23=7,'Thermisch optimum'!D347,INDEX(G351:L1022,B351,('Thermisch optimum'!$A$23)))","v":171.95304695304696},241.75824175824181,217.12223895582324,175.42750000000004,192.98699999999999,360.15820874049462,171.95304695304696,null,null,null,null,null,null,null,null,null,null,null,null,null,null,null,null,null,null,null,null,null,null,null,{"$f":"IF(AND(HOUR(D351)>=$U$19,HOUR(D351)<($U$19+15)),E351,0)","v":0},{"$f":"IF(AJ351=0,E351,0)","v":0}]
[null,null,"donderdag","2011-01-07T08:15:00",null,{"$f":"IF('Thermisch optimum'!$A$23=7,'Thermisch optimum'!D348,INDEX(G352:L1023,B352,('Thermisch optimum'!$A$23)))","v":171.95304695304696},241.75824175824181,217.12223895582324,175.42750000000004,192.98699999999999,360.15820874049462,171.95304695304696,null,null,null,null,null,null,null,null,null,null,null,null,null,null,null,null,null,null,null,null,null,null,null,0,0]
[null,null,"donderdag",{"$f":"D352+1/96","v":"2011-01-07T08:30:00"},null,{"$f":"IF('Thermisch optimum'!$A$23=7,'Thermisch optimum'!D349,INDEX(G353:L1024,B353,('Thermisch optimum'!$A$23)))","v":171.95304695304696},241.75824175824181,217.12223895582324,175.42750000000004,192.98699999999999,360.15820874049462,171.95304695304696,null,null,null,null,null,null,null,null,null,null,null,null,null,null,null,null,null,null,null,null,null,null,null,0,0]
[null,null,"donderdag","2011-01-07T08:45:00",null,{"$f":"IF('Thermisch optimum'!$A$23=7,'Thermisch optimum'!D350,INDEX(G354:L1025,B354,('Thermisch optimum'!$A$23)))","v":171.95304695304696},241.75824175824181,217.12223895582324,175.42750000000004,192.98699999999999,360.15820874049462,171.95304695304696,null,null,null,null,null,null,null,null,null,null,null,null,null,null,null,null,null,null,null,null,null,null,null,0,0]
[null,null,"donderdag","2011-01-07T09:00:00",null,{"$f":"IF('Thermisch optimum'!$A$23=7,'Thermisch optimum'!D351,INDEX(G355:L1026,B355,('Thermisch optimum'!$A$23)))","v":168.5814185814186},224.17582417582423,278.22389558232925,175.42750000000004,180.072,346.65227591272605,168.5814185814186,null,null,null,null,null,null,null,null,null,null,null,null,null,null,null,null,null,null,null,null,null,null,null,0,0]
[null,null,"donderdag","2011-01-07T09:15:00",null,{"$f":"IF('Thermisch optimum'!$A$23=7,'Thermisch optimum'!D352,INDEX(G356:L1027,B356,('Thermisch optimum'!$A$23)))","v":168.5814185814186},224.17582417582423,278.22389558232925,175.42750000000004,180.072,346.65227591272605,168.5814185814186,null,null,null,null,null,null,null,null,null,null,null,null,null,null,null,null,null,null,null,null,null,null,null,0,0]
[null,null,"donderdag","2011-01-07T09:30:00",null,{"$f":"IF('Thermisch optimum'!$A$23=7,'Thermisch optimum'!D353,INDEX(G357:L1028,B357,('Thermisch optimum'!$A$23)))","v":168.5814185814186},224.17582417582423,278.22389558232925,175.42750000000004,180.072,346.65227591272605,168.5814185814186,null,null,null,null,null,null,null,null,null,null,null,null,null,null,null,null,null,null,null,null,null,null,null,0,0]
[null,null,"donderdag","2011-01-07T09:45:00",null,{"$f":"IF('Thermisch optimum'!$A$23=7,'Thermisch optimum'!D354,INDEX(G358:L1029,B358,('Thermisch optimum'!$A$23)))","v":168.5814185814186},224.17582417582423,278.22389558232925,175.42750000000004,180.072,346.65227591272605,168.5814185814186,null,null,null,null,null,null,null,null,null,null,null,null,null,null,null,null,null,null,null,null,null,null,null,0,0]
[null,null,"donderdag","2011-01-07T10:00:00",null,{"$f":"IF('Thermisch optimum'!$A$23=7,'Thermisch optimum'!D355,INDEX(G359:L1030,B359,('Thermisch optimum'!$A$23)))","v":161.83816183816182},197.80219780219784,245.17520080321285,175.42750000000004,164.20500000000001,342.15029830346987,161.83816183816182,null,null,null,null,null,null,null,null,null,null,null,null,null,null,null,null,null,null,null,null,null,null,null,0,0]
[null,null,"donderdag","2011-01-07T10:15:00",null,{"$f":"IF('Thermisch optimum'!$A$23=7,'Thermisch optimum'!D356,INDEX(G360:L1031,B360,('Thermisch optimum'!$A$23)))","v":161.83816183816182},197.80219780219784,245.17520080321285,175.42750000000004,164.20500000000001,342.15029830346987,161.83816183816182,null,null,null,null,null,null,null,null,null,null,null,null,null,null,null,null,null,null,null,null,null,null,null,0,0]
[null,null,"donderdag","2011-01-07T10:30:00",null,{"$f":"IF('Thermisch optimum'!$A$23=7,'Thermisch optimum'!D357,INDEX(G361:L1032,B361,('Thermisch optimum'!$A$23)))","v":161.83816183816182},197.80219780219784,245.17520080321285,175.42750000000004,164.20500000000001,342.15029830346987,161.83816183816182,null,null,null,null,null,null,null,null,null,null,null,null,null,null,null,null,null,null,null,null,null,null,null,0,0]
[null,null,"donderdag","2011-01-07T10:45:00",null,{"$f":"IF('Thermisch optimum'!$A$23=7,'Thermisch optimum'!D358,INDEX(G362:L1033,B362,('Thermisch optimum'!$A$23)))","v":161.83816183816182},197.80219780219784,245.17520080321285,175.42750000000004,164.20500000000001,342.15029830346987,161.83816183816182,null,null,null,null,null,null,null,null,null,null,null,null,null,null,null,null,null,null,null,null,null,null,null,0,0]
[null,null,"donderdag","2011-01-07T11:00:00",null,{"$f":"IF('Thermisch optimum'!$A$23=7,'Thermisch optimum'!D359,INDEX(G363:L1034,B363,('Thermisch optimum'!$A$23)))","v":151.72327672327677},197.80219780219784,244.79091365461844,172.06825000000003,158.30099999999999,337.64832069421368,151.72327672327677,null,null,null,null,null,null,null,null,null,null,null,null,null,null,null,null,null,null,null,null,null,null,null,0,0]
[null,null,"donderdag","2011-01-07T11:15:00",null,{"$f":"IF('Thermisch optimum'!$A$23=7,'Thermisch optimum'!D360,INDEX(G364:L1035,B364,('Thermisch optimum'!$A$23)))","v":151.72327672327677},197.80219780219784,244.79091365461844,172.06825000000003,158.30099999999999,337.64832069421368,151.72327672327677,null,null,null,null,null,null,null,null,null,null,null,null,null,null,null,null,null,null,null,null,null,null,null,0,0]
[null,null,"donderdag","2011-01-07T11:30:00",null,{"$f":"IF('Thermisch optimum'!$A$23=7,'Thermisch optimum'!D361,INDEX(G365:L1036,B365,('Thermisch optimum'!$A$23)))","v":151.72327672327677},197.80219780219784,244.79091365461844,172.06825000000003,158.30099999999999,337.64832069421368,151.72327672327677,null,null,null,null,null,null,null,null,null,null,null,null,null,null,null,null,null,null,null,null,null,null,null,0,0]
[null,null,"donderdag","2011-01-07T11:45:00",null,{"$f":"IF('Thermisch optimum'!$A$23=7,'Thermisch optimum'!D362,INDEX(G366:L1037,B366,('Thermisch optimum'!$A$23)))","v":151.72327672327677},197.80219780219784,244.79091365461844,172.06825000000003,158.30099999999999,337.64832069421368,151.72327672327677,null,null,null,null,null,null,null,null,null,null,null,null,null,null,null,null,null,null,null,null,null,null,null,0,0]
[null,null,"donderdag","2011-01-07T12:00:00",null,{"$f":"IF('Thermisch optimum'!$A$23=7,'Thermisch optimum'!D363,INDEX(G367:L1038,B367,('Thermisch optimum'!$A$23)))","v":148.35164835164838},184.61538461538467,229.41942771084337,167.21600000000004,151.65899999999999,333.14634308495749,148.35164835164838,null,null,null,null,null,null,null,null,null,null,null,null,null,null,null,null,null,null,null,null,null,null,null,0,0]
[null,null,"donderdag","2011-01-07T12:15:00",null,{"$f":"IF('Thermisch optimum'!$A$23=7,'Thermisch optimum'!D364,INDEX(G368:L1039,B368,('Thermisch optimum'!$A$23)))","v":148.35164835164838},184.61538461538467,229.41942771084337,167.21600000000004,151.65899999999999,333.14634308495749,148.35164835164838,null,null,null,null,null,null,null,null,null,null,null,null,null,null,null,null,null,null,null,null,null,null,null,0,0]
[null,null,"donderdag","2011-01-07T12:30:00",null,{"$f":"IF('Thermisch optimum'!$A$23=7,'Thermisch optimum'!D365,INDEX(G369:L1040,B369,('Thermisch optimum'!$A$23)))","v":148.35164835164838},184.61538461538467,229.41942771084337,167.21600000000004,151.65899999999999,333.14634308495749,148.35164835164838,null,null,null,null,null,null,null,null,null,null,null,null,null,null,null,null,null,null,null,null,null,null,null,0,0]
[null,null,"donderdag","2011-01-07T12:45:00",null,{"$f":"IF('Thermisch optimum'!$A$23=7,'Thermisch optimum'!D366,INDEX(G370:L1041,B370,('Thermisch optimum'!$A$23)))","v":148.35164835164838},184.61538461538467,229.41942771084337,167.21600000000004,151.65899999999999,333.14634308495749,148.35164835164838,null,null,null,null,null,null,null,null,null,null,null,null,null,null,null,null,null,null,null,null,null,null,null,0,0]
[null,null,"donderdag","2011-01-07T13:00:00",null,{"$f":"IF('Thermisch optimum'!$A$23=7,'Thermisch optimum'!D367,INDEX(G371:L1042,B371,('Thermisch optimum'!$A$23)))","v":144.98001998002002},180.21978021978026,215.58509036144576,163.48349999999999,146.86199999999999,324.14238786644518,144.98001998002002,null,null,null,null,null,null,null,null,null,null,null,null,null,null,null,null,null,null,null,null,null,null,null,0,0]
[null,null,"donderdag","2011-01-07T13:15:00",null,{"$f":"IF('Thermisch optimum'!$A$23=7,'Thermisch optimum'!D368,INDEX(G372:L1043,B372,('Thermisch optimum'!$A$23)))","v":144.98001998002002},180.21978021978026,215.58509036144576,163.48349999999999,146.86199999999999,324.14238786644518,144.98001998002002,null,null,null,null,null,null,null,null,null,null,null,null,null,null,null,null,null,null,null,null,null,null,null,0,0]
[null,null,"donderdag","2011-01-07T13:30:00",null,{"$f":"IF('Thermisch optimum'!$A$23=7,'Thermisch optimum'!D369,INDEX(G373:L1044,B373,('Thermisch optimum'!$A$23)))","v":144.98001998002002},180.21978021978026,215.58509036144576,163.48349999999999,146.86199999999999,324.14238786644518,144.98001998002002,null,null,null,null,null,null,null,null,null,null,null,null,null,null,null,null,null,null,null,null,null,null,null,0,0]
[null,null,"donderdag","2011-01-07T13:45:00",null,{"$f":"IF('Thermisch optimum'!$A$23=7,'Thermisch optimum'!D370,INDEX(G374:L1045,B374,('Thermisch optimum'!$A$23)))","v":144.98001998002002},180.21978021978026,215.58509036144576,163.48349999999999,146.86199999999999,324.14238786644518,144.98001998002002,null,null,null,null,null,null,null,null,null,null,null,null,null,null,null,null,null,null,null,null,null,null,null,0,0]
[null,null,"donderdag","2011-01-07T14:00:00",null,{"$f":"IF('Thermisch optimum'!$A$23=7,'Thermisch optimum'!D371,INDEX(G375:L1046,B375,('Thermisch optimum'!$A$23)))","v":141.60839160839163},180.21978021978026,196.75502008032129,163.11025000000001,146.86199999999999,310.63645503867656,141.60839160839163,null,null,null,null,null,null,null,null,null,null,null,null,null,null,null,null,null,null,null,null,null,null,null,0,0]
[null,null,"donderdag","2011-01-07T14:15:00",null,{"$f":"IF('Thermisch optimum'!$A$23=7,'Thermisch optimum'!D372,INDEX(G376:L1047,B376,('Thermisch optimum'!$A$23)))","v":141.60839160839163},180.21978021978026,196.75502008032129,163.11025000000001,146.86199999999999,310.63645503867656,141.60839160839163,null,null,null,null,null,null,null,null,null,null,null,null,null,null,null,null,null,null,null,null,null,null,null,0,0]
[null,null,"donderdag","2011-01-07T14:30:00",null,{"$f":"IF('Thermisch optimum'!$A$23=7,'Thermisch optimum'!D373,INDEX(G377:L1048,B377,('Thermisch optimum'!$A$23)))","v":141.60839160839163},180.21978021978026,196.75502008032129,163.11025000000001,146.86199999999999,310.63645503867656,141.60839160839163,null,null,null,null,null,null,null,null,null,null,null,null,null,null,null,null,null,null,null,null,null,null,null,0,0]
[null,null,"donderdag","2011-01-07T14:45:00",null,{"$f":"IF('Thermisch optimum'!$A$23=7,'Thermisch optimum'!D374,INDEX(G378:L1049,B378,('Thermisch optimum'!$A$23)))","v":141.60839160839163},180.21978021978026,196.75502008032129,163.11025000000001,146.86199999999999,310.63645503867656,141.60839160839163,null,null,null,null,null,null,null,null,null,null,null,null,null,null,null,null,null,null,null,null,null,null,null,0,0]
[null,null,"donderdag","2011-01-07T15:00:00",null,{"$f":"IF('Thermisch optimum'!$A$23=7,'Thermisch optimum'!D375,INDEX(G379:L1050,B379,('Thermisch optimum'!$A$23)))","v":141.60839160839163},171.42857142857147,175.23493975903614,164.97650000000002,143.541,301.63249982016418,141.60839160839163,null,null,null,null,null,null,null,null,null,null,null,null,null,null,null,null,null,null,null,null,null,null,null,0,0]
[null,null,"donderdag","2011-01-07T15:15:00",null,{"$f":"IF('Thermisch optimum'!$A$23=7,'Thermisch optimum'!D376,INDEX(G380:L1051,B380,('Thermisch optimum'!$A$23)))","v":141.60839160839163},171.42857142857147,175.23493975903614,164.97650000000002,143.541,301.63249982016418,141.60839160839163,null,null,null,null,null,null,null,null,null,null,null,null,null,null,null,null,null,null,null,null,null,null,null,0,0]
[null,null,"donderdag","2011-01-07T15:30:00",null,{"$f":"IF('Thermisch optimum'!$A$23=7,'Thermisch optimum'!D377,INDEX(G381:L1052,B381,('Thermisch optimum'!$A$23)))","v":141.60839160839163},171.42857142857147,175.23493975903614,164.97650000000002,143.541,301.63249982016418,141.60839160839163,null,null,null,null,null,null,null,null,null,null,null,null,null,null,null,null,null,null,null,null,null,null,null,0,0]
[null,null,"donderdag","2011-01-07T15:45:00",null,{"$f":"IF('Thermisch optimum'!$A$23=7,'Thermisch optimum'!D378,INDEX(G382:L1053,B382,('Thermisch optimum'!$A$23)))","v":141.60839160839163},171.42857142857147,175.23493975903614,164.97650000000002,143.541,301.63249982016418,141.60839160839163,null,null,null,null,null,null,null,null,null,null,null,null,null,null,null,null,null,null,null,null,null,null,null,0,0]
[null,null,"donderdag","2011-01-07T16:00:00",null,{"$f":"IF('Thermisch optimum'!$A$23=7,'Thermisch optimum'!D379,INDEX(G383:L1054,B383,('Thermisch optimum'!$A$23)))","v":144.98001998002002},153.8461538461539,181.76782128514057,163.11025000000001,133.947,163.42178721599939,144.98001998002002,null,null,null,null,null,null,null,null,null,null,null,null,null,null,null,null,null,null,null,null,null,null,null,0,0]
[null,null,"donderdag","2011-01-07T16:15:00",null,{"$f":"IF('Thermisch optimum'!$A$23=7,'Thermisch optimum'!D380,INDEX(G384:L1055,B384,('Thermisch optimum'!$A$23)))","v":144.98001998002002},153.8461538461539,181.76782128514057,163.11025000000001,133.947,163.42178721599939,144.98001998002002,null,null,null,null,null,null,null,null,null,null,null,null,null,null,null,null,null,null,null,null,null,null,null,0,0]
[null,null,"donderdag","2011-01-07T16:30:00",null,{"$f":"IF('Thermisch optimum'!$A$23=7,'Thermisch optimum'!D381,INDEX(G385:L1056,B385,('Thermisch optimum'!$A$23)))","v":144.98001998002002},153.8461538461539,181.76782128514057,163.11025000000001,133.947,163.42178721599939,144.98001998002002,null,null,null,null,null,null,null,null,null,null,null,null,null,null,null,null,null,null,null,null,null,null,null,0,0]
[null,null,"donderdag","2011-01-07T16:45:00",null,{"$f":"IF('Thermisch optimum'!$A$23=7,'Thermisch optimum'!D382,INDEX(G386:L1057,B386,('Thermisch optimum'!$A$23)))","v":144.98001998002002},153.8461538461539,181.76782128514057,163.11025000000001,133.947,163.42178721599939,144.98001998002002,null,null,null,null,null,null,null,null,null,null,null,null,null,null,null,null,null,null,null,null,null,null,null,0,0]
[null,null,"donderdag","2011-01-07T17:00:00",null,{"$f":"IF('Thermisch optimum'!$A$23=7,'Thermisch optimum'!D383,INDEX(G387:L1058,B387,('Thermisch optimum'!$A$23)))","v":155.09490509490513},162.63736263736268,194.44929718875494,166.09625000000003,138.744,45.019776092561827,155.09490509490513,null,null,null,null,null,null,null,null,null,null,null,null,null,null,null,null,null,null,null,null,null,null,null,0,0]
[null,null,"donderdag","2011-01-07T17:15:00",null,{"$f":"IF('Thermisch optimum'!$A$23=7,'Thermisch optimum'!D384,INDEX(G388:L1059,B388,('Thermisch optimum'!$A$23)))","v":155.09490509490513},162.63736263736268,194.44929718875494,166.09625000000003,138.744,45.019776092561827,155.09490509490513,null,null,null,null,null,null,null,null,null,null,null,null,null,null,null,null,null,null,null,null,null,null,null,0,0]
[null,null,"donderdag","2011-01-07T17:30:00",null,{"$f":"IF('Thermisch optimum'!$A$23=7,'Thermisch optimum'!D385,INDEX(G389:L1060,B389,('Thermisch optimum'!$A$23)))","v":155.09490509490513},162.63736263736268,194.44929718875494,166.09625000000003,138.744,45.019776092561827,155.09490509490513,null,null,null,null,null,null,null,null,null,null,null,null,null,null,null,null,null,null,null,null,null,null,null,0,0]
[null,null,"donderdag","2011-01-07T17:45:00",null,{"$f":"IF('Thermisch optimum'!$A$23=7,'Thermisch optimum'!D386,INDEX(G390:L1061,B390,('Thermisch optimum'!$A$23)))","v":155.09490509490513},162.63736263736268,194.44929718875494,166.09625000000003,138.744,45.019776092561827,155.09490509490513,null,null,null,null,null,null,null,null,null,null,null,null,null,null,null,null,null,null,null,null,null,null,null,0,0]
[null,null,"donderdag","2011-01-07T18:00:00",null,{"$f":"IF('Thermisch optimum'!$A$23=7,'Thermisch optimum'!D387,INDEX(G391:L1062,B391,('Thermisch optimum'!$A$23)))","v":161.83816183816182},184.61538461538467,165.62776104417665,175.80075000000002,149.07599999999999,45.019776092561827,161.83816183816182,null,null,null,null,null,null,null,null,null,null,null,null,null,null,null,null,null,null,null,null,null,null,null,0,0]
[null,null,"donderdag","2011-01-07T18:15:00",null,{"$f":"IF('Thermisch optimum'!$A$23=7,'Thermisch optimum'!D388,INDEX(G392:L1063,B392,('Thermisch optimum'!$A$23)))","v":161.83816183816182},184.61538461538467,165.62776104417665,175.80075000000002,149.07599999999999,45.019776092561827,161.83816183816182,null,null,null,null,null,null,null,null,null,null,null,null,null,null,null,null,null,null,null,null,null,null,null,0,0]
[null,null,"donderdag","2011-01-07T18:30:00",null,{"$f":"IF('Thermisch optimum'!$A$23=7,'Thermisch optimum'!D389,INDEX(G393:L1064,B393,('Thermisch optimum'!$A$23)))","v":161.83816183816182},184.61538461538467,165.62776104417665,175.80075000000002,149.07599999999999,45.019776092561827,161.83816183816182,null,null,null,null,null,null,null,null,null,null,null,null,null,null,null,null,null,null,null,null,null,null,null,0,0]
[null,null,"donderdag","2011-01-07T18:45:00",null,{"$f":"IF('Thermisch optimum'!$A$23=7,'Thermisch optimum'!D390,INDEX(G394:L1065,B394,('Thermisch optimum'!$A$23)))","v":161.83816183816182},184.61538461538467,165.62776104417665,175.80075000000002,149.07599999999999,45.019776092561827,161.83816183816182,null,null,null,null,null,null,null,null,null,null,null,null,null,null,null,null,null,null,null,null,null,null,null,0,0]
[null,null,"donderdag","2011-01-07T19:00:00",null,{"$f":"IF('Thermisch optimum'!$A$23=7,'Thermisch optimum'!D391,INDEX(G395:L1066,B395,('Thermisch optimum'!$A$23)))","v":161.83816183816182},153.8461538461539,111.0589859437751,167.21600000000004,133.947,45.019776092561827,161.83816183816182,null,null,null,null,null,null,null,null,null,null,null,null,null,null,null,null,null,null,null,null,null,null,null,0,0]
[null,null,"donderdag","2011-01-07T19:15:00",null,{"$f":"IF('Thermisch optimum'!$A$23=7,'Thermisch optimum'!D392,INDEX(G396:L1067,B396,('Thermisch optimum'!$A$23)))","v":161.83816183816182},153.8461538461539,111.0589859437751,167.21600000000004,133.947,45.019776092561827,161.83816183816182,null,null,null,null,null,null,null,null,null,null,null,null,null,null,null,null,null,null,null,null,null,null,null,0,0]
[null,null,"donderdag","2011-01-07T19:30:00",null,{"$f":"IF('Thermisch optimum'!$A$23=7,'Thermisch optimum'!D393,INDEX(G397:L1068,B397,('Thermisch optimum'!$A$23)))","v":161.83816183816182},153.8461538461539,111.0589859437751,167.21600000000004,133.947,45.019776092561827,161.83816183816182,null,null,null,null,null,null,null,null,null,null,null,null,null,null,null,null,null,null,null,null,null,null,null,0,0]
[null,null,"donderdag","2011-01-07T19:45:00",null,{"$f":"IF('Thermisch optimum'!$A$23=7,'Thermisch optimum'!D394,INDEX(G398:L1069,B398,('Thermisch optimum'!$A$23)))","v":161.83816183816182},153.8461538461539,111.0589859437751,167.21600000000004,133.947,45.019776092561827,161.83816183816182,null,null,null,null,null,null,null,null,null,null,null,null,null,null,null,null,null,null,null,null,null,null,null,0,0]
[null,null,"donderdag","2011-01-07T20:00:00",null,{"$f":"IF('Thermisch optimum'!$A$23=7,'Thermisch optimum'!D395,INDEX(G399:L1070,B399,('Thermisch optimum'!$A$23)))","v":165.20979020979024},109.89010989010994,93.766064257028077,158.25800000000001,115.128,45.019776092561827,165.20979020979024,null,null,null,null,null,null,null,null,null,null,null,null,null,null,null,null,null,null,null,null,null,null,null,0,0]
[null,null,"donderdag","2011-01-07T20:15:00",null,{"$f":"IF('Thermisch optimum'!$A$23=7,'Thermisch optimum'!D396,INDEX(G400:L1071,B400,('Thermisch optimum'!$A$23)))","v":165.20979020979024},109.89010989010994,93.766064257028077,158.25800000000001,115.128,45.019776092561827,165.20979020979024,null,null,null,null,null,null,null,null,null,null,null,null,null,null,null,null,null,null,null,null,null,null,null,0,0]
[null,null,"donderdag","2011-01-07T20:30:00",null,{"$f":"IF('Thermisch optimum'!$A$23=7,'Thermisch optimum'!D397,INDEX(G401:L1072,B401,('Thermisch optimum'!$A$23)))","v":165.20979020979024},109.89010989010994,93.766064257028077,158.25800000000001,115.128,45.019776092561827,165.20979020979024,null,null,null,null,null,null,null,null,null,null,null,null,null,null,null,null,null,null,null,null,null,null,null,0,0]
[null,null,"donderdag","2011-01-07T20:45:00",null,{"$f":"IF('Thermisch optimum'!$A$23=7,'Thermisch optimum'!D398,INDEX(G402:L1073,B402,('Thermisch optimum'!$A$23)))","v":165.20979020979024},109.89010989010994,93.766064257028077,158.25800000000001,115.128,45.019776092561827,165.20979020979024,null,null,null,null,null,null,null,null,null,null,null,null,null,null,null,null,null,null,null,null,null,null,null,0,0]
[null,null,"donderdag","2011-01-07T21:00:00",null,{"$f":"IF('Thermisch optimum'!$A$23=7,'Thermisch optimum'!D399,INDEX(G403:L1074,B403,('Thermisch optimum'!$A$23)))","v":161.83816183816182},114.28571428571432,92.228915662650593,158.63124999999999,118.44899999999998,45.019776092561827,161.83816183816182,null,null,null,null,null,null,null,null,null,null,null,null,null,null,null,null,null,null,null,null,null,null,null,0,0]
[null,null,"donderdag","2011-01-07T21:15:00",null,{"$f":"IF('Thermisch optimum'!$A$23=7,'Thermisch optimum'!D400,INDEX(G404:L1075,B404,('Thermisch optimum'!$A$23)))","v":161.83816183816182},114.28571428571432,92.228915662650593,158.63124999999999,118.44899999999998,45.019776092561827,161.83816183816182,null,null,null,null,null,null,null,null,null,null,null,null,null,null,null,null,null,null,null,null,null,null,null,0,0]
[null,null,"donderdag","2011-01-07T21:30:00",null,{"$f":"IF('Thermisch optimum'!$A$23=7,'Thermisch optimum'!D401,INDEX(G405:L1076,B405,('Thermisch optimum'!$A$23)))","v":161.83816183816182},114.28571428571432,92.228915662650593,158.63124999999999,118.44899999999998,45.019776092561827,161.83816183816182,null,null,null,null,null,null,null,null,null,null,null,null,null,null,null,null,null,null,null,null,null,null,null,0,0]
[null,null,"donderdag","2011-01-07T21:45:00",null,{"$f":"IF('Thermisch optimum'!$A$23=7,'Thermisch optimum'!D402,INDEX(G406:L1077,B406,('Thermisch optimum'!$A$23)))","v":161.83816183816182},114.28571428571432,92.228915662650593,158.63124999999999,118.44899999999998,45.019776092561827,161.83816183816182,null,null,null,null,null,null,null,null,null,null,null,null,null,null,null,null,null,null,null,null,null,null,null,0,0]
[null,null,"donderdag","2011-01-07T22:00:00",null,{"$f":"IF('Thermisch optimum'!$A$23=7,'Thermisch optimum'!D403,INDEX(G407:L1078,B407,('Thermisch optimum'!$A$23)))","v":144.98001998002002},114.28571428571432,91.460341365461815,127.27825,119.187,45.019776092561827,144.98001998002002,null,null,null,null,null,null,null,null,null,null,null,null,null,null,null,null,null,null,null,null,null,null,null,0,0]
[null,null,"donderdag","2011-01-07T22:15:00",null,{"$f":"IF('Thermisch optimum'!$A$23=7,'Thermisch optimum'!D404,INDEX(G408:L1079,B408,('Thermisch optimum'!$A$23)))","v":144.98001998002002},114.28571428571432,91.460341365461815,127.27825,119.187,45.019776092561827,144.98001998002002,null,null,null,null,null,null,null,null,null,null,null,null,null,null,null,null,null,null,null,null,null,null,null,0,0]
[null,null,"donderdag","2011-01-07T22:30:00",null,{"$f":"IF('Thermisch optimum'!$A$23=7,'Thermisch optimum'!D405,INDEX(G409:L1080,B409,('Thermisch optimum'!$A$23)))","v":144.98001998002002},114.28571428571432,91.460341365461815,127.27825,119.187,45.019776092561827,144.98001998002002,null,null,null,null,null,null,null,null,null,null,null,null,null,null,null,null,null,null,null,null,null,null,null,0,0]
[null,null,"donderdag","2011-01-07T22:45:00",null,{"$f":"IF('Thermisch optimum'!$A$23=7,'Thermisch optimum'!D406,INDEX(G410:L1081,B410,('Thermisch optimum'!$A$23)))","v":144.98001998002002},114.28571428571432,91.460341365461815,127.27825,119.187,45.019776092561827,144.98001998002002,null,null,null,null,null,null,null,null,null,null,null,null,null,null,null,null,null,null,null,null,null,null,null,0,0]
[null,null,"donderdag","2011-01-07T23:00:00",null,{"$f":"IF('Thermisch optimum'!$A$23=7,'Thermisch optimum'!D407,INDEX(G411:L1082,B411,('Thermisch optimum'!$A$23)))","v":74.175824175824189},123.07692307692311,104.14181726907631,125.41200000000001,123.61499999999999,45.019776092561827,74.175824175824189,null,null,null,null,null,null,null,null,null,null,null,null,null,null,null,null,null,null,null,null,null,null,null,0,0]
[null,null,"donderdag","2011-01-07T23:15:00",null,{"$f":"IF('Thermisch optimum'!$A$23=7,'Thermisch optimum'!D408,INDEX(G412:L1083,B412,('Thermisch optimum'!$A$23)))","v":74.175824175824189},123.07692307692311,104.14181726907631,125.41200000000001,123.61499999999999,45.019776092561827,74.175824175824189,null,null,null,null,null,null,null,null,null,null,null,null,null,null,null,null,null,null,null,null,null,null,null,0,0]
[null,null,"donderdag","2011-01-07T23:30:00",null,{"$f":"IF('Thermisch optimum'!$A$23=7,'Thermisch optimum'!D409,INDEX(G413:L1084,B413,('Thermisch optimum'!$A$23)))","v":74.175824175824189},123.07692307692311,104.14181726907631,125.41200000000001,123.61499999999999,45.019776092561827,74.175824175824189,null,null,null,null,null,null,null,null,null,null,null,null,null,null,null,null,null,null,null,null,null,null,null,0,0]
[null,null,"donderdag","2011-01-07T23:45:00",null,{"$f":"IF('Thermisch optimum'!$A$23=7,'Thermisch optimum'!D410,INDEX(G414:L1085,B414,('Thermisch optimum'!$A$23)))","v":74.175824175824189},123.07692307692311,104.14181726907631,125.41200000000001,123.61499999999999,45.019776092561827,74.175824175824189,null,null,null,null,null,null,null,null,null,null,null,null,null,null,null,null,null,null,null,null,null,null,null,0,0]
[null,null,"vrijdag","2011-01-08",null,{"$f":"IF('Thermisch optimum'!$A$23=7,'Thermisch optimum'!D411,INDEX(G415:L1086,B415,('Thermisch optimum'!$A$23)))","v":74.175824175824189},112.5874125874126,127.93775100401605,125.12,125.76900000000001,45.019776092561827,74.175824175824189,null,null,null,null,null,null,null,null,null,null,null,null,null,null,null,null,null,null,null,null,null,null,null,{"$f":"IF(AND(HOUR(D415)>=$U$19,HOUR(D415)<($U$19+15)),E415,0)","v":0},{"$f":"IF(AJ415=0,E415,0)","v":0}]
[null,null,"vrijdag","2011-01-08T00:15:00",null,{"$f":"IF('Thermisch optimum'!$A$23=7,'Thermisch optimum'!D412,INDEX(G416:L1087,B416,('Thermisch optimum'!$A$23)))","v":74.175824175824189},112.5874125874126,127.93775100401605,125.12,125.76900000000001,45.019776092561827,74.175824175824189,null,null,null,null,null,null,null,null,null,null,null,null,null,null,null,null,null,null,null,null,null,null,null,0,0]
[null,null,"vrijdag",{"$f":"D416+1/96","v":"2011-01-08T00:30:00"},null,{"$f":"IF('Thermisch optimum'!$A$23=7,'Thermisch optimum'!D413,INDEX(G417:L1088,B417,('Thermisch optimum'!$A$23)))","v":74.175824175824189},112.5874125874126,127.93775100401605,125.12,125.76900000000001,45.019776092561827,74.175824175824189,null,null,null,null,null,null,null,null,null,null,null,null,null,null,null,null,null,null,null,null,null,null,null,0,0]
[null,null,"vrijdag","2011-01-08T00:45:00",null,{"$f":"IF('Thermisch optimum'!$A$23=7,'Thermisch optimum'!D414,INDEX(G418:L1089,B418,('Thermisch optimum'!$A$23)))","v":74.175824175824189},112.5874125874126,127.93775100401605,125.12,125.76900000000001,45.019776092561827,74.175824175824189,null,null,null,null,null,null,null,null,null,null,null,null,null,null,null,null,null,null,null,null,null,null,null,0,0]
[null,null,"vrijdag","2011-01-08T01:00:00",null,{"$f":"IF('Thermisch optimum'!$A$23=7,'Thermisch optimum'!D415,INDEX(G419:L1090,B419,('Thermisch optimum'!$A$23)))","v":80.919080919080912},116.60839160839163,118.85341365461845,127.696,128.73700000000002,45.019776092561827,80.919080919080912,null,null,null,null,null,null,null,null,null,null,null,null,null,null,null,null,null,null,null,null,null,null,null,0,0]
[null,null,"vrijdag","2011-01-08T01:15:00",null,{"$f":"IF('Thermisch optimum'!$A$23=7,'Thermisch optimum'!D416,INDEX(G420:L1091,B420,('Thermisch optimum'!$A$23)))","v":80.919080919080912},116.60839160839163,118.85341365461845,127.696,128.73700000000002,45.019776092561827,80.919080919080912,null,null,null,null,null,null,null,null,null,null,null,null,null,null,null,null,null,null,null,null,null,null,null,0,0]
[null,null,"vrijdag","2011-01-08T01:30:00",null,{"$f":"IF('Thermisch optimum'!$A$23=7,'Thermisch optimum'!D417,INDEX(G421:L1092,B421,('Thermisch optimum'!$A$23)))","v":80.919080919080912},116.60839160839163,118.85341365461845,127.696,128.73700000000002,45.019776092561827,80.919080919080912,null,null,null,null,null,null,null,null,null,null,null,null,null,null,null,null,null,null,null,null,null,null,null,0,0]
[null,null,"vrijdag","2011-01-08T01:45:00",null,{"$f":"IF('Thermisch optimum'!$A$23=7,'Thermisch optimum'!D418,INDEX(G422:L1093,B422,('Thermisch optimum'!$A$23)))","v":80.919080919080912},116.60839160839163,118.85341365461845,127.696,128.73700000000002,45.019776092561827,80.919080919080912,null,null,null,null,null,null,null,null,null,null,null,null,null,null,null,null,null,null,null,null,null,null,null,0,0]
[null,null,"vrijdag","2011-01-08T02:00:00",null,{"$f":"IF('Thermisch optimum'!$A$23=7,'Thermisch optimum'!D419,INDEX(G423:L1094,B423,('Thermisch optimum'!$A$23)))","v":84.290709290709302},124.65034965034968,119.61044176706827,126.224,134.30200000000002,45.019776092561827,84.290709290709302,null,null,null,null,null,null,null,null,null,null,null,null,null,null,null,null,null,null,null,null,null,null,null,0,0]
[null,null,"vrijdag","2011-01-08T02:15:00",null,{"$f":"IF('Thermisch optimum'!$A$23=7,'Thermisch optimum'!D420,INDEX(G424:L1095,B424,('Thermisch optimum'!$A$23)))","v":84.290709290709302},124.65034965034968,119.61044176706827,126.224,134.30200000000002,45.019776092561827,84.290709290709302,null,null,null,null,null,null,null,null,null,null,null,null,null,null,null,null,null,null,null,null,null,null,null,0,0]
[null,null,"vrijdag","2011-01-08T02:30:00",null,{"$f":"IF('Thermisch optimum'!$A$23=7,'Thermisch optimum'!D421,INDEX(G425:L1096,B425,('Thermisch optimum'!$A$23)))","v":84.290709290709302},124.65034965034968,119.61044176706827,126.224,134.30200000000002,45.019776092561827,84.290709290709302,null,null,null,null,null,null,null,null,null,null,null,null,null,null,null,null,null,null,null,null,null,null,null,0,0]
[null,null,"vrijdag","2011-01-08T02:45:00",null,{"$f":"IF('Thermisch optimum'!$A$23=7,'Thermisch optimum'!D422,INDEX(G426:L1097,B426,('Thermisch optimum'!$A$23)))","v":84.290709290709302},124.65034965034968,119.61044176706827,126.224,134.30200000000002,45.019776092561827,84.290709290709302,null,null,null,null,null,null,null,null,null,null,null,null,null,null,null,null,null,null,null,null,null,null,null,0,0]
[null,null,"vrijdag","2011-01-08T03:00:00",null,{"$f":"IF('Thermisch optimum'!$A$23=7,'Thermisch optimum'!D423,INDEX(G427:L1098,B427,('Thermisch optimum'!$A$23)))","v":94.405594405594414},128.67132867132872,111.66164658634534,128.80000000000001,140.97999999999999,45.019776092561827,94.405594405594414,null,null,null,null,null,null,null,null,null,null,null,null,null,null,null,null,null,null,null,null,null,null,null,0,0]
[null,null,"vrijdag","2011-01-08T03:15:00",null,{"$f":"IF('Thermisch optimum'!$A$23=7,'Thermisch optimum'!D424,INDEX(G428:L1099,B428,('Thermisch optimum'!$A$23)))","v":94.405594405594414},128.67132867132872,111.66164658634534,128.80000000000001,140.97999999999999,45.019776092561827,94.405594405594414,null,null,null,null,null,null,null,null,null,null,null,null,null,null,null,null,null,null,null,null,null,null,null,0,0]
[null,null,"vrijdag","2011-01-08T03:30:00",null,{"$f":"IF('Thermisch optimum'!$A$23=7,'Thermisch optimum'!D425,INDEX(G429:L1100,B429,('Thermisch optimum'!$A$23)))","v":94.405594405594414},128.67132867132872,111.66164658634534,128.80000000000001,140.97999999999999,45.019776092561827,94.405594405594414,null,null,null,null,null,null,null,null,null,null,null,null,null,null,null,null,null,null,null,null,null,null,null,0,0]
[null,null,"vrijdag","2011-01-08T03:45:00",null,{"$f":"IF('Thermisch optimum'!$A$23=7,'Thermisch optimum'!D426,INDEX(G430:L1101,B430,('Thermisch optimum'!$A$23)))","v":94.405594405594414},128.67132867132872,111.66164658634534,128.80000000000001,140.97999999999999,45.019776092561827,94.405594405594414,null,null,null,null,null,null,null,null,null,null,null,null,null,null,null,null,null,null,null,null,null,null,null,0,0]
[null,null,"vrijdag","2011-01-08T04:00:00",null,{"$f":"IF('Thermisch optimum'!$A$23=7,'Thermisch optimum'!D427,INDEX(G431:L1102,B431,('Thermisch optimum'!$A$23)))","v":138.23676323676324},193.00699300699304,121.50301204819273,135.05600000000001,173.25700000000001,180.07910437024731,138.23676323676324,null,null,null,null,null,null,null,null,null,null,null,null,null,null,null,null,null,null,null,null,null,null,null,0,0]
[null,null,"vrijdag","2011-01-08T04:15:00",null,{"$f":"IF('Thermisch optimum'!$A$23=7,'Thermisch optimum'!D428,INDEX(G432:L1103,B432,('Thermisch optimum'!$A$23)))","v":138.23676323676324},193.00699300699304,121.50301204819273,135.05600000000001,173.25700000000001,180.07910437024731,138.23676323676324,null,null,null,null,null,null,null,null,null,null,null,null,null,null,null,null,null,null,null,null,null,null,null,0,0]
[null,null,"vrijdag","2011-01-08T04:30:00",null,{"$f":"IF('Thermisch optimum'!$A$23=7,'Thermisch optimum'!D429,INDEX(G433:L1104,B433,('Thermisch optimum'!$A$23)))","v":138.23676323676324},193.00699300699304,121.50301204819273,135.05600000000001,173.25700000000001,180.07910437024731,138.23676323676324,null,null,null,null,null,null,null,null,null,null,null,null,null,null,null,null,null,null,null,null,null,null,null,0,0]
[null,null,"vrijdag","2011-01-08T04:45:00",null,{"$f":"IF('Thermisch optimum'!$A$23=7,'Thermisch optimum'!D430,INDEX(G434:L1105,B434,('Thermisch optimum'!$A$23)))","v":138.23676323676324},193.00699300699304,121.50301204819273,135.05600000000001,173.25700000000001,180.07910437024731,138.23676323676324,null,null,null,null,null,null,null,null,null,null,null,null,null,null,null,null,null,null,null,null,null,null,null,0,0]
[null,null,"vrijdag","2011-01-08T05:00:00",null,{"$f":"IF('Thermisch optimum'!$A$23=7,'Thermisch optimum'!D431,INDEX(G435:L1106,B435,('Thermisch optimum'!$A$23)))","v":165.20979020979024},325.69930069930075,123.39558232931725,144.99199999999999,241.52099999999996,387.17007439603168,165.20979020979024,null,null,null,null,null,null,null,null,null,null,null,null,null,null,null,null,null,null,null,null,null,null,null,0,0]
[null,null,"vrijdag","2011-01-08T05:15:00",null,{"$f":"IF('Thermisch optimum'!$A$23=7,'Thermisch optimum'!D432,INDEX(G436:L1107,B436,('Thermisch optimum'!$A$23)))","v":165.20979020979024},325.69930069930075,123.39558232931725,144.99199999999999,241.52099999999996,387.17007439603168,165.20979020979024,null,null,null,null,null,null,null,null,null,null,null,null,null,null,null,null,null,null,null,null,null,null,null,0,0]
[null,null,"vrijdag","2011-01-08T05:30:00",null,{"$f":"IF('Thermisch optimum'!$A$23=7,'Thermisch optimum'!D433,INDEX(G437:L1108,B437,('Thermisch optimum'!$A$23)))","v":165.20979020979024},325.69930069930075,123.39558232931725,144.99199999999999,241.52099999999996,387.17007439603168,165.20979020979024,null,null,null,null,null,null,null,null,null,null,null,null,null,null,null,null,null,null,null,null,null,null,null,0,0]
[null,null,"vrijdag","2011-01-08T05:45:00",null,{"$f":"IF('Thermisch optimum'!$A$23=7,'Thermisch optimum'!D434,INDEX(G438:L1109,B438,('Thermisch optimum'!$A$23)))","v":165.20979020979024},325.69930069930075,123.39558232931725,144.99199999999999,241.52099999999996,387.17007439603168,165.20979020979024,null,null,null,null,null,null,null,null,null,null,null,null,null,null,null,null,null,null,null,null,null,null,null,0,0]
[null,null,"vrijdag","2011-01-08T06:00:00",null,{"$f":"IF('Thermisch optimum'!$A$23=7,'Thermisch optimum'!D435,INDEX(G439:L1110,B439,('Thermisch optimum'!$A$23)))","v":168.5814185814186},297.55244755244763,122.63855421686745,155.66400000000002,227.423,373.66414156826306,168.5814185814186,null,null,null,null,null,null,null,null,null,null,null,null,null,null,null,null,null,null,null,null,null,null,null,0,0]
[null,null,"vrijdag","2011-01-08T06:15:00",null,{"$f":"IF('Thermisch optimum'!$A$23=7,'Thermisch optimum'!D436,INDEX(G440:L1111,B440,('Thermisch optimum'!$A$23)))","v":168.5814185814186},297.55244755244763,122.63855421686745,155.66400000000002,227.423,373.66414156826306,168.5814185814186,null,null,null,null,null,null,null,null,null,null,null,null,null,null,null,null,null,null,null,null,null,null,null,0,0]
[null,null,"vrijdag","2011-01-08T06:30:00",null,{"$f":"IF('Thermisch optimum'!$A$23=7,'Thermisch optimum'!D437,INDEX(G441:L1112,B441,('Thermisch optimum'!$A$23)))","v":168.5814185814186},297.55244755244763,122.63855421686745,155.66400000000002,227.423,373.66414156826306,168.5814185814186,null,null,null,null,null,null,null,null,null,null,null,null,null,null,null,null,null,null,null,null,null,null,null,0,0]
[null,null,"vrijdag","2011-01-08T06:45:00",null,{"$f":"IF('Thermisch optimum'!$A$23=7,'Thermisch optimum'!D438,INDEX(G442:L1113,B442,('Thermisch optimum'!$A$23)))","v":168.5814185814186},297.55244755244763,122.63855421686745,155.66400000000002,227.423,373.66414156826306,168.5814185814186,null,null,null,null,null,null,null,null,null,null,null,null,null,null,null,null,null,null,null,null,null,null,null,0,0]
[null,null,"vrijdag","2011-01-08T07:00:00",null,{"$f":"IF('Thermisch optimum'!$A$23=7,'Thermisch optimum'!D439,INDEX(G443:L1114,B443,('Thermisch optimum'!$A$23)))","v":168.5814185814186},257.34265734265745,130.20883534136544,174.06400000000002,208.87299999999999,364.66018634975075,168.5814185814186,null,null,null,null,null,null,null,null,null,null,null,null,null,null,null,null,null,null,null,null,null,null,null,0,0]
[null,null,"vrijdag","2011-01-08T07:15:00",null,{"$f":"IF('Thermisch optimum'!$A$23=7,'Thermisch optimum'!D440,INDEX(G444:L1115,B444,('Thermisch optimum'!$A$23)))","v":168.5814185814186},257.34265734265745,130.20883534136544,174.06400000000002,208.87299999999999,364.66018634975075,168.5814185814186,null,null,null,null,null,null,null,null,null,null,null,null,null,null,null,null,null,null,null,null,null,null,null,0,0]
[null,null,"vrijdag","2011-01-08T07:30:00",null,{"$f":"IF('Thermisch optimum'!$A$23=7,'Thermisch optimum'!D441,INDEX(G445:L1116,B445,('Thermisch optimum'!$A$23)))","v":168.5814185814186},257.34265734265745,130.20883534136544,174.06400000000002,208.87299999999999,364.66018634975075,168.5814185814186,null,null,null,null,null,null,null,null,null,null,null,null,null,null,null,null,null,null,null,null,null,null,null,0,0]
[null,null,"vrijdag","2011-01-08T07:45:00",null,{"$f":"IF('Thermisch optimum'!$A$23=7,'Thermisch optimum'!D442,INDEX(G446:L1117,B446,('Thermisch optimum'!$A$23)))","v":168.5814185814186},257.34265734265745,130.20883534136544,174.06400000000002,208.87299999999999,364.66018634975075,168.5814185814186,null,null,null,null,null,null,null,null,null,null,null,null,null,null,null,null,null,null,null,null,null,null,null,0,0]
[null,null,"vrijdag","2011-01-08T08:00:00",null,{"$f":"IF('Thermisch optimum'!$A$23=7,'Thermisch optimum'!D443,INDEX(G447:L1118,B447,('Thermisch optimum'!$A$23)))","v":171.95304695304696},221.15384615384619,213.86044176706824,172.96,194.03300000000002,360.15820874049462,171.95304695304696,null,null,null,null,null,null,null,null,null,null,null,null,null,null,null,null,null,null,null,null,null,null,null,0,0]
[null,null,"vrijdag","2011-01-08T08:15:00",null,{"$f":"IF('Thermisch optimum'!$A$23=7,'Thermisch optimum'!D444,INDEX(G448:L1119,B448,('Thermisch optimum'!$A$23)))","v":171.95304695304696},221.15384615384619,213.86044176706824,172.96,194.03300000000002,360.15820874049462,171.95304695304696,null,null,null,null,null,null,null,null,null,null,null,null,null,null,null,null,null,null,null,null,null,null,null,0,0]
[null,null,"vrijdag","2011-01-08T08:30:00",null,{"$f":"IF('Thermisch optimum'!$A$23=7,'Thermisch optimum'!D445,INDEX(G449:L1120,B449,('Thermisch optimum'!$A$23)))","v":171.95304695304696},221.15384615384619,213.86044176706824,172.96,194.03300000000002,360.15820874049462,171.95304695304696,null,null,null,null,null,null,null,null,null,null,null,null,null,null,null,null,null,null,null,null,null,null,null,0,0]
[null,null,"vrijdag","2011-01-08T08:45:00",null,{"$f":"IF('Thermisch optimum'!$A$23=7,'Thermisch optimum'!D446,INDEX(G450:L1121,B450,('Thermisch optimum'!$A$23)))","v":171.95304695304696},221.15384615384619,213.86044176706824,172.96,194.03300000000002,360.15820874049462,171.95304695304696,null,null,null,null,null,null,null,null,null,null,null,null,null,null,null,null,null,null,null,null,null,null,null,0,0]
[null,null,"vrijdag","2011-01-08T09:00:00",null,{"$f":"IF('Thermisch optimum'!$A$23=7,'Thermisch optimum'!D447,INDEX(G451:L1122,B451,('Thermisch optimum'!$A$23)))","v":168.5814185814186},205.06993006993011,274.04417670682727,172.96,181.04800000000003,346.65227591272605,168.5814185814186,null,null,null,null,null,null,null,null,null,null,null,null,null,null,null,null,null,null,null,null,null,null,null,0,0]
[null,null,"vrijdag","2011-01-08T09:15:00",null,{"$f":"IF('Thermisch optimum'!$A$23=7,'Thermisch optimum'!D448,INDEX(G452:L1123,B452,('Thermisch optimum'!$A$23)))","v":168.5814185814186},205.06993006993011,274.04417670682727,172.96,181.04800000000003,346.65227591272605,168.5814185814186,null,null,null,null,null,null,null,null,null,null,null,null,null,null,null,null,null,null,null,null,null,null,null,0,0]
[null,null,"vrijdag","2011-01-08T09:30:00",null,{"$f":"IF('Thermisch optimum'!$A$23=7,'Thermisch optimum'!D449,INDEX(G453:L1124,B453,('Thermisch optimum'!$A$23)))","v":168.5814185814186},205.06993006993011,274.04417670682727,172.96,181.04800000000003,346.65227591272605,168.5814185814186,null,null,null,null,null,null,null,null,null,null,null,null,null,null,null,null,null,null,null,null,null,null,null,0,0]
[null,null,"vrijdag","2011-01-08T09:45:00",null,{"$f":"IF('Thermisch optimum'!$A$23=7,'Thermisch optimum'!D450,INDEX(G454:L1125,B454,('Thermisch optimum'!$A$23)))","v":168.5814185814186},205.06993006993011,274.04417670682727,172.96,181.04800000000003,346.65227591272605,168.5814185814186,null,null,null,null,null,null,null,null,null,null,null,null,null,null,null,null,null,null,null,null,null,null,null,0,0]
[null,null,"vrijdag","2011-01-08T10:00:00",null,{"$f":"IF('Thermisch optimum'!$A$23=7,'Thermisch optimum'!D451,INDEX(G455:L1126,B455,('Thermisch optimum'!$A$23)))","v":161.83816183816182},180.94405594405598,241.49196787148588,172.96,165.095,342.15029830346987,161.83816183816182,null,null,null,null,null,null,null,null,null,null,null,null,null,null,null,null,null,null,null,null,null,null,null,0,0]
[null,null,"vrijdag","2011-01-08T10:15:00",null,{"$f":"IF('Thermisch optimum'!$A$23=7,'Thermisch optimum'!D452,INDEX(G456:L1127,B456,('Thermisch optimum'!$A$23)))","v":161.83816183816182},180.94405594405598,241.49196787148588,172.96,165.095,342.15029830346987,161.83816183816182,null,null,null,null,null,null,null,null,null,null,null,null,null,null,null,null,null,null,null,null,null,null,null,0,0]
[null,null,"vrijdag","2011-01-08T10:30:00",null,{"$f":"IF('Thermisch optimum'!$A$23=7,'Thermisch optimum'!D453,INDEX(G457:L1128,B457,('Thermisch optimum'!$A$23)))","v":161.83816183816182},180.94405594405598,241.49196787148588,172.96,165.095,342.15029830346987,161.83816183816182,null,null,null,null,null,null,null,null,null,null,null,null,null,null,null,null,null,null,null,null,null,null,null,0,0]
[null,null,"vrijdag","2011-01-08T10:45:00",null,{"$f":"IF('Thermisch optimum'!$A$23=7,'Thermisch optimum'!D454,INDEX(G458:L1129,B458,('Thermisch optimum'!$A$23)))","v":161.83816183816182},180.94405594405598,241.49196787148588,172.96,165.095,342.15029830346987,161.83816183816182,null,null,null,null,null,null,null,null,null,null,null,null,null,null,null,null,null,null,null,null,null,null,null,0,0]
[null,null,"vrijdag","2011-01-08T11:00:00",null,{"$f":"IF('Thermisch optimum'!$A$23=7,'Thermisch optimum'!D455,INDEX(G459:L1130,B459,('Thermisch optimum'!$A$23)))","v":151.72327672327677},180.94405594405598,241.11345381526098,169.648,159.15900000000002,337.64832069421368,151.72327672327677,null,null,null,null,null,null,null,null,null,null,null,null,null,null,null,null,null,null,null,null,null,null,null,0,0]
[null,null,"vrijdag","2011-01-08T11:15:00",null,{"$f":"IF('Thermisch optimum'!$A$23=7,'Thermisch optimum'!D456,INDEX(G460:L1131,B460,('Thermisch optimum'!$A$23)))","v":151.72327672327677},180.94405594405598,241.11345381526098,169.648,159.15900000000002,337.64832069421368,151.72327672327677,null,null,null,null,null,null,null,null,null,null,null,null,null,null,null,null,null,null,null,null,null,null,null,0,0]
[null,null,"vrijdag","2011-01-08T11:30:00",null,{"$f":"IF('Thermisch optimum'!$A$23=7,'Thermisch optimum'!D457,INDEX(G461:L1132,B461,('Thermisch optimum'!$A$23)))","v":151.72327672327677},180.94405594405598,241.11345381526098,169.648,159.15900000000002,337.64832069421368,151.72327672327677,null,null,null,null,null,null,null,null,null,null,null,null,null,null,null,null,null,null,null,null,null,null,null,0,0]
[null,null,"vrijdag","2011-01-08T11:45:00",null,{"$f":"IF('Thermisch optimum'!$A$23=7,'Thermisch optimum'!D458,INDEX(G462:L1133,B462,('Thermisch optimum'!$A$23)))","v":151.72327672327677},180.94405594405598,241.11345381526098,169.648,159.15900000000002,337.64832069421368,151.72327672327677,null,null,null,null,null,null,null,null,null,null,null,null,null,null,null,null,null,null,null,null,null,null,null,0,0]
[null,null,"vrijdag","2011-01-08T12:00:00",null,{"$f":"IF('Thermisch optimum'!$A$23=7,'Thermisch optimum'!D459,INDEX(G463:L1134,B463,('Thermisch optimum'!$A$23)))","v":148.35164835164838},168.88111888111894,225.97289156626502,164.86400000000003,152.48100000000002,333.14634308495749,148.35164835164838,null,null,null,null,null,null,null,null,null,null,null,null,null,null,null,null,null,null,null,null,null,null,null,0,0]
[null,null,"vrijdag","2011-01-08T12:15:00",null,{"$f":"IF('Thermisch optimum'!$A$23=7,'Thermisch optimum'!D460,INDEX(G464:L1135,B464,('Thermisch optimum'!$A$23)))","v":148.35164835164838},168.88111888111894,225.97289156626502,164.86400000000003,152.48100000000002,333.14634308495749,148.35164835164838,null,null,null,null,null,null,null,null,null,null,null,null,null,null,null,null,null,null,null,null,null,null,null,0,0]
[null,null,"vrijdag","2011-01-08T12:30:00",null,{"$f":"IF('Thermisch optimum'!$A$23=7,'Thermisch optimum'!D461,INDEX(G465:L1136,B465,('Thermisch optimum'!$A$23)))","v":148.35164835164838},168.88111888111894,225.97289156626502,164.86400000000003,152.48100000000002,333.14634308495749,148.35164835164838,null,null,null,null,null,null,null,null,null,null,null,null,null,null,null,null,null,null,null,null,null,null,null,0,0]
[null,null,"vrijdag","2011-01-08T12:45:00",null,{"$f":"IF('Thermisch optimum'!$A$23=7,'Thermisch optimum'!D462,INDEX(G466:L1137,B466,('Thermisch optimum'!$A$23)))","v":148.35164835164838},168.88111888111894,225.97289156626502,164.86400000000003,152.48100000000002,333.14634308495749,148.35164835164838,null,null,null,null,null,null,null,null,null,null,null,null,null,null,null,null,null,null,null,null,null,null,null,0,0]
[null,null,"vrijdag","2011-01-08T13:00:00",null,{"$f":"IF('Thermisch optimum'!$A$23=7,'Thermisch optimum'!D463,INDEX(G467:L1138,B467,('Thermisch optimum'!$A$23)))","v":144.98001998002002},164.86013986013987,212.34638554216866,161.184,147.65800000000002,324.14238786644518,144.98001998002002,null,null,null,null,null,null,null,null,null,null,null,null,null,null,null,null,null,null,null,null,null,null,null,0,0]
[null,null,"vrijdag","2011-01-08T13:15:00",null,{"$f":"IF('Thermisch optimum'!$A$23=7,'Thermisch optimum'!D464,INDEX(G468:L1139,B468,('Thermisch optimum'!$A$23)))","v":144.98001998002002},164.86013986013987,212.34638554216866,161.184,147.65800000000002,324.14238786644518,144.98001998002002,null,null,null,null,null,null,null,null,null,null,null,null,null,null,null,null,null,null,null,null,null,null,null,0,0]
[null,null,"vrijdag","2011-01-08T13:30:00",null,{"$f":"IF('Thermisch optimum'!$A$23=7,'Thermisch optimum'!D465,INDEX(G469:L1140,B469,('Thermisch optimum'!$A$23)))","v":144.98001998002002},164.86013986013987,212.34638554216866,161.184,147.65800000000002,324.14238786644518,144.98001998002002,null,null,null,null,null,null,null,null,null,null,null,null,null,null,null,null,null,null,null,null,null,null,null,0,0]
[null,null,"vrijdag","2011-01-08T13:45:00",null,{"$f":"IF('Thermisch optimum'!$A$23=7,'Thermisch optimum'!D466,INDEX(G470:L1141,B470,('Thermisch optimum'!$A$23)))","v":144.98001998002002},164.86013986013987,212.34638554216866,161.184,147.65800000000002,324.14238786644518,144.98001998002002,null,null,null,null,null,null,null,null,null,null,null,null,null,null,null,null,null,null,null,null,null,null,null,0,0]
[null,null,"vrijdag","2011-01-08T14:00:00",null,{"$f":"IF('Thermisch optimum'!$A$23=7,'Thermisch optimum'!D467,INDEX(G471:L1142,B471,('Thermisch optimum'!$A$23)))","v":141.60839160839163},164.86013986013987,193.79919678714856,160.81600000000003,147.65800000000002,310.63645503867656,141.60839160839163,null,null,null,null,null,null,null,null,null,null,null,null,null,null,null,null,null,null,null,null,null,null,null,0,0]
[null,null,"vrijdag","2011-01-08T14:15:00",null,{"$f":"IF('Thermisch optimum'!$A$23=7,'Thermisch optimum'!D468,INDEX(G472:L1143,B472,('Thermisch optimum'!$A$23)))","v":141.60839160839163},164.86013986013987,193.79919678714856,160.81600000000003,147.65800000000002,310.63645503867656,141.60839160839163,null,null,null,null,null,null,null,null,null,null,null,null,null,null,null,null,null,null,null,null,null,null,null,0,0]
[null,null,"vrijdag","2011-01-08T14:30:00",null,{"$f":"IF('Thermisch optimum'!$A$23=7,'Thermisch optimum'!D469,INDEX(G473:L1144,B473,('Thermisch optimum'!$A$23)))","v":141.60839160839163},164.86013986013987,193.79919678714856,160.81600000000003,147.65800000000002,310.63645503867656,141.60839160839163,null,null,null,null,null,null,null,null,null,null,null,null,null,null,null,null,null,null,null,null,null,null,null,0,0]
[null,null,"vrijdag","2011-01-08T14:45:00",null,{"$f":"IF('Thermisch optimum'!$A$23=7,'Thermisch optimum'!D470,INDEX(G474:L1145,B474,('Thermisch optimum'!$A$23)))","v":141.60839160839163},164.86013986013987,193.79919678714856,160.81600000000003,147.65800000000002,310.63645503867656,141.60839160839163,null,null,null,null,null,null,null,null,null,null,null,null,null,null,null,null,null,null,null,null,null,null,null,0,0]
[null,null,"vrijdag","2011-01-08T15:00:00",null,{"$f":"IF('Thermisch optimum'!$A$23=7,'Thermisch optimum'!D471,INDEX(G475:L1146,B475,('Thermisch optimum'!$A$23)))","v":141.60839160839163},156.81818181818184,172.60240963855421,162.65600000000001,144.31899999999999,301.63249982016418,141.60839160839163,null,null,null,null,null,null,null,null,null,null,null,null,null,null,null,null,null,null,null,null,null,null,null,0,0]
[null,null,"vrijdag","2011-01-08T15:15:00",null,{"$f":"IF('Thermisch optimum'!$A$23=7,'Thermisch optimum'!D472,INDEX(G476:L1147,B476,('Thermisch optimum'!$A$23)))","v":141.60839160839163},156.81818181818184,172.60240963855421,162.65600000000001,144.31899999999999,301.63249982016418,141.60839160839163,null,null,null,null,null,null,null,null,null,null,null,null,null,null,null,null,null,null,null,null,null,null,null,0,0]
[null,null,"vrijdag","2011-01-08T15:30:00",null,{"$f":"IF('Thermisch optimum'!$A$23=7,'Thermisch optimum'!D473,INDEX(G477:L1148,B477,('Thermisch optimum'!$A$23)))","v":141.60839160839163},156.81818181818184,172.60240963855421,162.65600000000001,144.31899999999999,301.63249982016418,141.60839160839163,null,null,null,null,null,null,null,null,null,null,null,null,null,null,null,null,null,null,null,null,null,null,null,0,0]
[null,null,"vrijdag","2011-01-08T15:45:00",null,{"$f":"IF('Thermisch optimum'!$A$23=7,'Thermisch optimum'!D474,INDEX(G478:L1149,B478,('Thermisch optimum'!$A$23)))","v":141.60839160839163},156.81818181818184,172.60240963855421,162.65600000000001,144.31899999999999,301.63249982016418,141.60839160839163,null,null,null,null,null,null,null,null,null,null,null,null,null,null,null,null,null,null,null,null,null,null,null,0,0]
[null,null,"vrijdag","2011-01-08T16:00:00",null,{"$f":"IF('Thermisch optimum'!$A$23=7,'Thermisch optimum'!D475,INDEX(G479:L1150,B479,('Thermisch optimum'!$A$23)))","v":144.98001998002002},140.73426573426576,179.03714859437747,160.81600000000003,134.673,163.42178721599939,144.98001998002002,null,null,null,null,null,null,null,null,null,null,null,null,null,null,null,null,null,null,null,null,null,null,null,{"$f":"IF(AND(HOUR(D479)>=$U$19,HOUR(D479)<($U$19+15)),E479,0)","v":0},{"$f":"IF(AJ479=0,E479,0)","v":0}]
[null,null,"vrijdag","2011-01-08T16:15:00",null,{"$f":"IF('Thermisch optimum'!$A$23=7,'Thermisch optimum'!D476,INDEX(G480:L1151,B480,('Thermisch optimum'!$A$23)))","v":144.98001998002002},140.73426573426576,179.03714859437747,160.81600000000003,134.673,163.42178721599939,144.98001998002002,null,null,null,null,null,null,null,null,null,null,null,null,null,null,null,null,null,null,null,null,null,null,null,0,0]
[null,null,"vrijdag",{"$f":"D480+1/96","v":"2011-01-08T16:30:00"},null,{"$f":"IF('Thermisch optimum'!$A$23=7,'Thermisch optimum'!D477,INDEX(G481:L1152,B481,('Thermisch optimum'!$A$23)))","v":144.98001998002002},140.73426573426576,179.03714859437747,160.81600000000003,134.673,163.42178721599939,144.98001998002002,null,null,null,null,null,null,null,null,null,null,null,null,null,null,null,null,null,null,null,null,null,null,null,0,0]
[null,null,"vrijdag","2011-01-08T16:45:00",null,{"$f":"IF('Thermisch optimum'!$A$23=7,'Thermisch optimum'!D478,INDEX(G482:L1153,B482,('Thermisch optimum'!$A$23)))","v":144.98001998002002},140.73426573426576,179.03714859437747,160.81600000000003,134.673,163.42178721599939,144.98001998002002,null,null,null,null,null,null,null,null,null,null,null,null,null,null,null,null,null,null,null,null,null,null,null,0,0]
[null,null,"vrijdag","2011-01-08T17:00:00",null,{"$f":"IF('Thermisch optimum'!$A$23=7,'Thermisch optimum'!D479,INDEX(G483:L1154,B483,('Thermisch optimum'!$A$23)))","v":155.09490509490513},148.77622377622382,191.52811244979912,163.76000000000002,139.49599999999998,45.019776092561827,155.09490509490513,null,null,null,null,null,null,null,null,null,null,null,null,null,null,null,null,null,null,null,null,null,null,null,0,0]
[null,null,"vrijdag","2011-01-08T17:15:00",null,{"$f":"IF('Thermisch optimum'!$A$23=7,'Thermisch optimum'!D480,INDEX(G484:L1155,B484,('Thermisch optimum'!$A$23)))","v":155.09490509490513},148.77622377622382,191.52811244979912,163.76000000000002,139.49599999999998,45.019776092561827,155.09490509490513,null,null,null,null,null,null,null,null,null,null,null,null,null,null,null,null,null,null,null,null,null,null,null,0,0]
[null,null,"vrijdag","2011-01-08T17:30:00",null,{"$f":"IF('Thermisch optimum'!$A$23=7,'Thermisch optimum'!D481,INDEX(G485:L1156,B485,('Thermisch optimum'!$A$23)))","v":155.09490509490513},148.77622377622382,191.52811244979912,163.76000000000002,139.49599999999998,45.019776092561827,155.09490509490513,null,null,null,null,null,null,null,null,null,null,null,null,null,null,null,null,null,null,null,null,null,null,null,0,0]
[null,null,"vrijdag","2011-01-08T17:45:00",null,{"$f":"IF('Thermisch optimum'!$A$23=7,'Thermisch optimum'!D482,INDEX(G486:L1157,B486,('Thermisch optimum'!$A$23)))","v":155.09490509490513},148.77622377622382,191.52811244979912,163.76000000000002,139.49599999999998,45.019776092561827,155.09490509490513,null,null,null,null,null,null,null,null,null,null,null,null,null,null,null,null,null,null,null,null,null,null,null,0,0]
[null,null,"vrijdag","2011-01-08T18:00:00",null,{"$f":"IF('Thermisch optimum'!$A$23=7,'Thermisch optimum'!D483,INDEX(G487:L1158,B487,('Thermisch optimum'!$A$23)))","v":161.83816183816182},168.88111888111894,163.13955823293165,173.32799999999997,149.88399999999999,45.019776092561827,161.83816183816182,null,null,null,null,null,null,null,null,null,null,null,null,null,null,null,null,null,null,null,null,null,null,null,0,0]
[null,null,"vrijdag","2011-01-08T18:15:00",null,{"$f":"IF('Thermisch optimum'!$A$23=7,'Thermisch optimum'!D484,INDEX(G488:L1159,B488,('Thermisch optimum'!$A$23)))","v":161.83816183816182},168.88111888111894,163.13955823293165,173.32799999999997,149.88399999999999,45.019776092561827,161.83816183816182,null,null,null,null,null,null,null,null,null,null,null,null,null,null,null,null,null,null,null,null,null,null,null,0,0]
[null,null,"vrijdag","2011-01-08T18:30:00",null,{"$f":"IF('Thermisch optimum'!$A$23=7,'Thermisch optimum'!D485,INDEX(G489:L1160,B489,('Thermisch optimum'!$A$23)))","v":161.83816183816182},168.88111888111894,163.13955823293165,173.32799999999997,149.88399999999999,45.019776092561827,161.83816183816182,null,null,null,null,null,null,null,null,null,null,null,null,null,null,null,null,null,null,null,null,null,null,null,0,0]
[null,null,"vrijdag","2011-01-08T18:45:00",null,{"$f":"IF('Thermisch optimum'!$A$23=7,'Thermisch optimum'!D486,INDEX(G490:L1161,B490,('Thermisch optimum'!$A$23)))","v":161.83816183816182},168.88111888111894,163.13955823293165,173.32799999999997,149.88399999999999,45.019776092561827,161.83816183816182,null,null,null,null,null,null,null,null,null,null,null,null,null,null,null,null,null,null,null,null,null,null,null,0,0]
[null,null,"vrijdag","2011-01-08T19:00:00",null,{"$f":"IF('Thermisch optimum'!$A$23=7,'Thermisch optimum'!D487,INDEX(G491:L1162,B491,('Thermisch optimum'!$A$23)))","v":161.83816183816182},140.73426573426576,109.39056224899596,164.86400000000003,134.673,45.019776092561827,161.83816183816182,null,null,null,null,null,null,null,null,null,null,null,null,null,null,null,null,null,null,null,null,null,null,null,0,0]
[null,null,"vrijdag","2011-01-08T19:15:00",null,{"$f":"IF('Thermisch optimum'!$A$23=7,'Thermisch optimum'!D488,INDEX(G492:L1163,B492,('Thermisch optimum'!$A$23)))","v":161.83816183816182},140.73426573426576,109.39056224899596,164.86400000000003,134.673,45.019776092561827,161.83816183816182,null,null,null,null,null,null,null,null,null,null,null,null,null,null,null,null,null,null,null,null,null,null,null,0,0]
[null,null,"vrijdag","2011-01-08T19:30:00",null,{"$f":"IF('Thermisch optimum'!$A$23=7,'Thermisch optimum'!D489,INDEX(G493:L1164,B493,('Thermisch optimum'!$A$23)))","v":161.83816183816182},140.73426573426576,109.39056224899596,164.86400000000003,134.673,45.019776092561827,161.83816183816182,null,null,null,null,null,null,null,null,null,null,null,null,null,null,null,null,null,null,null,null,null,null,null,0,0]
[null,null,"vrijdag","2011-01-08T19:45:00",null,{"$f":"IF('Thermisch optimum'!$A$23=7,'Thermisch optimum'!D490,INDEX(G494:L1165,B494,('Thermisch optimum'!$A$23)))","v":161.83816183816182},140.73426573426576,109.39056224899596,164.86400000000003,134.673,45.019776092561827,161.83816183816182,null,null,null,null,null,null,null,null,null,null,null,null,null,null,null,null,null,null,null,null,null,null,null,0,0]
[null,null,"vrijdag","2011-01-08T20:00:00",null,{"$f":"IF('Thermisch optimum'!$A$23=7,'Thermisch optimum'!D491,INDEX(G495:L1166,B495,('Thermisch optimum'!$A$23)))","v":165.20979020979024},100.52447552447553,92.35742971887548,156.03200000000001,115.752,45.019776092561827,165.20979020979024,null,null,null,null,null,null,null,null,null,null,null,null,null,null,null,null,null,null,null,null,null,null,null,0,0]
[null,null,"vrijdag","2011-01-08T20:15:00",null,{"$f":"IF('Thermisch optimum'!$A$23=7,'Thermisch optimum'!D492,INDEX(G496:L1167,B496,('Thermisch optimum'!$A$23)))","v":165.20979020979024},100.52447552447553,92.35742971887548,156.03200000000001,115.752,45.019776092561827,165.20979020979024,null,null,null,null,null,null,null,null,null,null,null,null,null,null,null,null,null,null,null,null,null,null,null,0,0]
[null,null,"vrijdag","2011-01-08T20:30:00",null,{"$f":"IF('Thermisch optimum'!$A$23=7,'Thermisch optimum'!D493,INDEX(G497:L1168,B497,('Thermisch optimum'!$A$23)))","v":165.20979020979024},100.52447552447553,92.35742971887548,156.03200000000001,115.752,45.019776092561827,165.20979020979024,null,null,null,null,null,null,null,null,null,null,null,null,null,null,null,null,null,null,null,null,null,null,null,0,0]
[null,null,"vrijdag","2011-01-08T20:45:00",null,{"$f":"IF('Thermisch optimum'!$A$23=7,'Thermisch optimum'!D494,INDEX(G498:L1169,B498,('Thermisch optimum'!$A$23)))","v":165.20979020979024},100.52447552447553,92.35742971887548,156.03200000000001,115.752,45.019776092561827,165.20979020979024,null,null,null,null,null,null,null,null,null,null,null,null,null,null,null,null,null,null,null,null,null,null,null,0,0]
[null,null,"vrijdag","2011-01-08T21:00:00",null,{"$f":"IF('Thermisch optimum'!$A$23=7,'Thermisch optimum'!D495,INDEX(G499:L1170,B499,('Thermisch optimum'!$A$23)))","v":161.83816183816182},104.54545454545456,90.843373493975889,156.4,119.09100000000001,45.019776092561827,161.83816183816182,null,null,null,null,null,null,null,null,null,null,null,null,null,null,null,null,null,null,null,null,null,null,null,0,0]
[null,null,"vrijdag","2011-01-08T21:15:00",null,{"$f":"IF('Thermisch optimum'!$A$23=7,'Thermisch optimum'!D496,INDEX(G500:L1171,B500,('Thermisch optimum'!$A$23)))","v":161.83816183816182},104.54545454545456,90.843373493975889,156.4,119.09100000000001,45.019776092561827,161.83816183816182,null,null,null,null,null,null,null,null,null,null,null,null,null,null,null,null,null,null,null,null,null,null,null,0,0]
[null,null,"vrijdag","2011-01-08T21:30:00",null,{"$f":"IF('Thermisch optimum'!$A$23=7,'Thermisch optimum'!D497,INDEX(G501:L1172,B501,('Thermisch optimum'!$A$23)))","v":161.83816183816182},104.54545454545456,90.843373493975889,156.4,119.09100000000001,45.019776092561827,161.83816183816182,null,null,null,null,null,null,null,null,null,null,null,null,null,null,null,null,null,null,null,null,null,null,null,0,0]
[null,null,"vrijdag","2011-01-08T21:45:00",null,{"$f":"IF('Thermisch optimum'!$A$23=7,'Thermisch optimum'!D498,INDEX(G502:L1173,B502,('Thermisch optimum'!$A$23)))","v":161.83816183816182},104.54545454545456,90.843373493975889,156.4,119.09100000000001,45.019776092561827,161.83816183816182,null,null,null,null,null,null,null,null,null,null,null,null,null,null,null,null,null,null,null,null,null,null,null,0,0]
[null,null,"vrijdag","2011-01-08T22:00:00",null,{"$f":"IF('Thermisch optimum'!$A$23=7,'Thermisch optimum'!D499,INDEX(G503:L1174,B503,('Thermisch optimum'!$A$23)))","v":144.98001998002002},104.54545454545456,90.086345381526101,125.48800000000001,119.833,45.019776092561827,144.98001998002002,null,null,null,null,null,null,null,null,null,null,null,null,null,null,null,null,null,null,null,null,null,null,null,0,0]
[null,null,"vrijdag","2011-01-08T22:15:00",null,{"$f":"IF('Thermisch optimum'!$A$23=7,'Thermisch optimum'!D500,INDEX(G504:L1175,B504,('Thermisch optimum'!$A$23)))","v":144.98001998002002},104.54545454545456,90.086345381526101,125.48800000000001,119.833,45.019776092561827,144.98001998002002,null,null,null,null,null,null,null,null,null,null,null,null,null,null,null,null,null,null,null,null,null,null,null,0,0]
[null,null,"vrijdag","2011-01-08T22:30:00",null,{"$f":"IF('Thermisch optimum'!$A$23=7,'Thermisch optimum'!D501,INDEX(G505:L1176,B505,('Thermisch optimum'!$A$23)))","v":144.98001998002002},104.54545454545456,90.086345381526101,125.48800000000001,119.833,45.019776092561827,144.98001998002002,null,null,null,null,null,null,null,null,null,null,null,null,null,null,null,null,null,null,null,null,null,null,null,0,0]
[null,null,"vrijdag","2011-01-08T22:45:00",null,{"$f":"IF('Thermisch optimum'!$A$23=7,'Thermisch optimum'!D502,INDEX(G506:L1177,B506,('Thermisch optimum'!$A$23)))","v":144.98001998002002},104.54545454545456,90.086345381526101,125.48800000000001,119.833,45.019776092561827,144.98001998002002,null,null,null,null,null,null,null,null,null,null,null,null,null,null,null,null,null,null,null,null,null,null,null,0,0]
[null,null,"vrijdag","2011-01-08T23:00:00",null,{"$f":"IF('Thermisch optimum'!$A$23=7,'Thermisch optimum'!D503,INDEX(G507:L1178,B507,('Thermisch optimum'!$A$23)))","v":74.175824175824189},112.5874125874126,102.57730923694777,123.64800000000001,124.285,45.019776092561827,74.175824175824189,null,null,null,null,null,null,null,null,null,null,null,null,null,null,null,null,null,null,null,null,null,null,null,0,0]
[null,null,"vrijdag","2011-01-08T23:15:00",null,{"$f":"IF('Thermisch optimum'!$A$23=7,'Thermisch optimum'!D504,INDEX(G508:L1179,B508,('Thermisch optimum'!$A$23)))","v":74.175824175824189},112.5874125874126,102.57730923694777,123.64800000000001,124.285,45.019776092561827,74.175824175824189,null,null,null,null,null,null,null,null,null,null,null,null,null,null,null,null,null,null,null,null,null,null,null,0,0]
[null,null,"vrijdag","2011-01-08T23:30:00",null,{"$f":"IF('Thermisch optimum'!$A$23=7,'Thermisch optimum'!D505,INDEX(G509:L1180,B509,('Thermisch optimum'!$A$23)))","v":74.175824175824189},112.5874125874126,102.57730923694777,123.64800000000001,124.285,45.019776092561827,74.175824175824189,null,null,null,null,null,null,null,null,null,null,null,null,null,null,null,null,null,null,null,null,null,null,null,0,0]
[null,null,"vrijdag","2011-01-08T23:45:00",null,{"$f":"IF('Thermisch optimum'!$A$23=7,'Thermisch optimum'!D506,INDEX(G510:L1181,B510,('Thermisch optimum'!$A$23)))","v":74.175824175824189},112.5874125874126,102.57730923694777,123.64800000000001,124.285,45.019776092561827,74.175824175824189,null,null,null,null,null,null,null,null,null,null,null,null,null,null,null,null,null,null,null,null,null,null,null,0,0]
[null,null,"zaterdag","2011-01-09",null,{"$f":"IF('Thermisch optimum'!$A$23=7,'Thermisch optimum'!D507,INDEX(G511:L1182,B511,('Thermisch optimum'!$A$23)))","v":89.285714285714306},50.349650349650346,113.68473895582325,112.88,92.631749999999997,9.2473053595532395,89.285714285714306,null,null,null,null,null,null,null,null,null,null,null,null,null,null,null,null,null,null,null,null,null,null,null,0,0]
[null,null,"zaterdag","2011-01-09T00:15:00",null,{"$f":"IF('Thermisch optimum'!$A$23=7,'Thermisch optimum'!D508,INDEX(G512:L1183,B512,('Thermisch optimum'!$A$23)))","v":89.285714285714306},50.349650349650346,113.68473895582325,112.88,92.631749999999997,9.2473053595532395,89.285714285714306,null,null,null,null,null,null,null,null,null,null,null,null,null,null,null,null,null,null,null,null,null,null,null,0,0]
[null,null,"zaterdag","2011-01-09T00:30:00",null,{"$f":"IF('Thermisch optimum'!$A$23=7,'Thermisch optimum'!D509,INDEX(G513:L1184,B513,('Thermisch optimum'!$A$23)))","v":89.285714285714306},50.349650349650346,113.68473895582325,112.88,92.631749999999997,9.2473053595532395,89.285714285714306,null,null,null,null,null,null,null,null,null,null,null,null,null,null,null,null,null,null,null,null,null,null,null,0,0]
[null,null,"zaterdag","2011-01-09T00:45:00",null,{"$f":"IF('Thermisch optimum'!$A$23=7,'Thermisch optimum'!D510,INDEX(G514:L1185,B514,('Thermisch optimum'!$A$23)))","v":89.285714285714306},50.349650349650346,113.68473895582325,112.88,92.631749999999997,9.2473053595532395,89.285714285714306,null,null,null,null,null,null,null,null,null,null,null,null,null,null,null,null,null,null,null,null,null,null,null,0,0]
[null,null,"zaterdag","2011-01-09T01:00:00",null,{"$f":"IF('Thermisch optimum'!$A$23=7,'Thermisch optimum'!D511,INDEX(G515:L1186,B515,('Thermisch optimum'!$A$23)))","v":97.402597402597408},52.147852147852149,105.61244979919678,115.20400000000001,94.817750000000004,9.2473053595532395,97.402597402597408,null,null,null,null,null,null,null,null,null,null,null,null,null,null,null,null,null,null,null,null,null,null,null,0,0]
[null,null,"zaterdag","2011-01-09T01:15:00",null,{"$f":"IF('Thermisch optimum'!$A$23=7,'Thermisch optimum'!D512,INDEX(G516:L1187,B516,('Thermisch optimum'!$A$23)))","v":97.402597402597408},52.147852147852149,105.61244979919678,115.20400000000001,94.817750000000004,9.2473053595532395,97.402597402597408,null,null,null,null,null,null,null,null,null,null,null,null,null,null,null,null,null,null,null,null,null,null,null,0,0]
[null,null,"zaterdag","2011-01-09T01:30:00",null,{"$f":"IF('Thermisch optimum'!$A$23=7,'Thermisch optimum'!D513,INDEX(G517:L1188,B517,('Thermisch optimum'!$A$23)))","v":97.402597402597408},52.147852147852149,105.61244979919678,115.20400000000001,94.817750000000004,9.2473053595532395,97.402597402597408,null,null,null,null,null,null,null,null,null,null,null,null,null,null,null,null,null,null,null,null,null,null,null,0,0]
[null,null,"zaterdag","2011-01-09T01:45:00",null,{"$f":"IF('Thermisch optimum'!$A$23=7,'Thermisch optimum'!D514,INDEX(G518:L1189,B518,('Thermisch optimum'!$A$23)))","v":97.402597402597408},52.147852147852149,105.61244979919678,115.20400000000001,94.817750000000004,9.2473053595532395,97.402597402597408,null,null,null,null,null,null,null,null,null,null,null,null,null,null,null,null,null,null,null,null,null,null,null,0,0]
[null,null,"zaterdag","2011-01-09T02:00:00",null,{"$f":"IF('Thermisch optimum'!$A$23=7,'Thermisch optimum'!D515,INDEX(G519:L1190,B519,('Thermisch optimum'!$A$23)))","v":101.46103896103898},55.744255744255753,106.28514056224897,113.87600000000002,98.916499999999999,9.2473053595532395,101.46103896103898,null,null,null,null,null,null,null,null,null,null,null,null,null,null,null,null,null,null,null,null,null,null,null,0,0]
[null,null,"zaterdag","2011-01-09T02:15:00",null,{"$f":"IF('Thermisch optimum'!$A$23=7,'Thermisch optimum'!D516,INDEX(G520:L1191,B520,('Thermisch optimum'!$A$23)))","v":101.46103896103898},55.744255744255753,106.28514056224897,113.87600000000002,98.916499999999999,9.2473053595532395,101.46103896103898,null,null,null,null,null,null,null,null,null,null,null,null,null,null,null,null,null,null,null,null,null,null,null,0,0]
[null,null,"zaterdag","2011-01-09T02:30:00",null,{"$f":"IF('Thermisch optimum'!$A$23=7,'Thermisch optimum'!D517,INDEX(G521:L1192,B521,('Thermisch optimum'!$A$23)))","v":101.46103896103898},55.744255744255753,106.28514056224897,113.87600000000002,98.916499999999999,9.2473053595532395,101.46103896103898,null,null,null,null,null,null,null,null,null,null,null,null,null,null,null,null,null,null,null,null,null,null,null,0,0]
[null,null,"zaterdag","2011-01-09T02:45:00",null,{"$f":"IF('Thermisch optimum'!$A$23=7,'Thermisch optimum'!D518,INDEX(G522:L1193,B522,('Thermisch optimum'!$A$23)))","v":101.46103896103898},55.744255744255753,106.28514056224897,113.87600000000002,98.916499999999999,9.2473053595532395,101.46103896103898,null,null,null,null,null,null,null,null,null,null,null,null,null,null,null,null,null,null,null,null,null,null,null,0,0]
[null,null,"zaterdag","2011-01-09T03:00:00",null,{"$f":"IF('Thermisch optimum'!$A$23=7,'Thermisch optimum'!D519,INDEX(G523:L1194,B523,('Thermisch optimum'!$A$23)))","v":113.63636363636365},57.542457542457548,99.22188755020079,116.19999999999999,103.83499999999999,9.2473053595532395,113.63636363636365,null,null,null,null,null,null,null,null,null,null,null,null,null,null,null,null,null,null,null,null,null,null,null,0,0]
[null,null,"zaterdag","2011-01-09T03:15:00",null,{"$f":"IF('Thermisch optimum'!$A$23=7,'Thermisch optimum'!D520,INDEX(G524:L1195,B524,('Thermisch optimum'!$A$23)))","v":113.63636363636365},57.542457542457548,99.22188755020079,116.19999999999999,103.83499999999999,9.2473053595532395,113.63636363636365,null,null,null,null,null,null,null,null,null,null,null,null,null,null,null,null,null,null,null,null,null,null,null,0,0]
[null,null,"zaterdag","2011-01-09T03:30:00",null,{"$f":"IF('Thermisch optimum'!$A$23=7,'Thermisch optimum'!D521,INDEX(G525:L1196,B525,('Thermisch optimum'!$A$23)))","v":113.63636363636365},57.542457542457548,99.22188755020079,116.19999999999999,103.83499999999999,9.2473053595532395,113.63636363636365,null,null,null,null,null,null,null,null,null,null,null,null,null,null,null,null,null,null,null,null,null,null,null,0,0]
[null,null,"zaterdag","2011-01-09T03:45:00",null,{"$f":"IF('Thermisch optimum'!$A$23=7,'Thermisch optimum'!D522,INDEX(G526:L1197,B526,('Thermisch optimum'!$A$23)))","v":113.63636363636365},57.542457542457548,99.22188755020079,116.19999999999999,103.83499999999999,9.2473053595532395,113.63636363636365,null,null,null,null,null,null,null,null,null,null,null,null,null,null,null,null,null,null,null,null,null,null,null,0,0]
[null,null,"zaterdag","2011-01-09T04:00:00",null,{"$f":"IF('Thermisch optimum'!$A$23=7,'Thermisch optimum'!D523,INDEX(G527:L1198,B527,('Thermisch optimum'!$A$23)))","v":166.39610389610388},86.313686313686318,107.9668674698795,121.84399999999999,127.60775,36.989221438212958,166.39610389610388,null,null,null,null,null,null,null,null,null,null,null,null,null,null,null,null,null,null,null,null,null,null,null,0,0]
[null,null,"zaterdag","2011-01-09T04:15:00",null,{"$f":"IF('Thermisch optimum'!$A$23=7,'Thermisch optimum'!D524,INDEX(G528:L1199,B528,('Thermisch optimum'!$A$23)))","v":166.39610389610388},86.313686313686318,107.9668674698795,121.84399999999999,127.60775,36.989221438212958,166.39610389610388,null,null,null,null,null,null,null,null,null,null,null,null,null,null,null,null,null,null,null,null,null,null,null,0,0]
[null,null,"zaterdag","2011-01-09T04:30:00",null,{"$f":"IF('Thermisch optimum'!$A$23=7,'Thermisch optimum'!D525,INDEX(G529:L1200,B529,('Thermisch optimum'!$A$23)))","v":166.39610389610388},86.313686313686318,107.9668674698795,121.84399999999999,127.60775,36.989221438212958,166.39610389610388,null,null,null,null,null,null,null,null,null,null,null,null,null,null,null,null,null,null,null,null,null,null,null,0,0]
[null,null,"zaterdag","2011-01-09T04:45:00",null,{"$f":"IF('Thermisch optimum'!$A$23=7,'Thermisch optimum'!D526,INDEX(G530:L1201,B530,('Thermisch optimum'!$A$23)))","v":166.39610389610388},86.313686313686318,107.9668674698795,121.84399999999999,127.60775,36.989221438212958,166.39610389610388,null,null,null,null,null,null,null,null,null,null,null,null,null,null,null,null,null,null,null,null,null,null,null,0,0]
[null,null,"zaterdag","2011-01-09T05:00:00",null,{"$f":"IF('Thermisch optimum'!$A$23=7,'Thermisch optimum'!D527,INDEX(G531:L1202,B531,('Thermisch optimum'!$A$23)))","v":198.86363636363637},145.65434565434566,109.64859437751004,130.80800000000002,177.88574999999997,79.526826092157862,198.86363636363637,null,null,null,null,null,null,null,null,null,null,null,null,null,null,null,null,null,null,null,null,null,null,null,0,0]
[null,null,"zaterdag","2011-01-09T05:15:00",null,{"$f":"IF('Thermisch optimum'!$A$23=7,'Thermisch optimum'!D528,INDEX(G532:L1203,B532,('Thermisch optimum'!$A$23)))","v":198.86363636363637},145.65434565434566,109.64859437751004,130.80800000000002,177.88574999999997,79.526826092157862,198.86363636363637,null,null,null,null,null,null,null,null,null,null,null,null,null,null,null,null,null,null,null,null,null,null,null,0,0]
[null,null,"zaterdag","2011-01-09T05:30:00",null,{"$f":"IF('Thermisch optimum'!$A$23=7,'Thermisch optimum'!D529,INDEX(G533:L1204,B533,('Thermisch optimum'!$A$23)))","v":198.86363636363637},145.65434565434566,109.64859437751004,130.80800000000002,177.88574999999997,79.526826092157862,198.86363636363637,null,null,null,null,null,null,null,null,null,null,null,null,null,null,null,null,null,null,null,null,null,null,null,0,0]
[null,null,"zaterdag","2011-01-09T05:45:00",null,{"$f":"IF('Thermisch optimum'!$A$23=7,'Thermisch optimum'!D530,INDEX(G534:L1205,B534,('Thermisch optimum'!$A$23)))","v":198.86363636363637},145.65434565434566,109.64859437751004,130.80800000000002,177.88574999999997,79.526826092157862,198.86363636363637,null,null,null,null,null,null,null,null,null,null,null,null,null,null,null,null,null,null,null,null,null,null,null,0,0]
[null,null,"zaterdag","2011-01-09T06:00:00",null,{"$f":"IF('Thermisch optimum'!$A$23=7,'Thermisch optimum'!D531,INDEX(G535:L1206,B535,('Thermisch optimum'!$A$23)))","v":202.92207792207796},133.06693306693307,108.97590361445782,140.43600000000001,167.50225,76.752634484291889,202.92207792207796,null,null,null,null,null,null,null,null,null,null,null,null,null,null,null,null,null,null,null,null,null,null,null,0,0]
[null,null,"zaterdag","2011-01-09T06:15:00",null,{"$f":"IF('Thermisch optimum'!$A$23=7,'Thermisch optimum'!D532,INDEX(G536:L1207,B536,('Thermisch optimum'!$A$23)))","v":202.92207792207796},133.06693306693307,108.97590361445782,140.43600000000001,167.50225,76.752634484291889,202.92207792207796,null,null,null,null,null,null,null,null,null,null,null,null,null,null,null,null,null,null,null,null,null,null,null,0,0]
[null,null,"zaterdag","2011-01-09T06:30:00",null,{"$f":"IF('Thermisch optimum'!$A$23=7,'Thermisch optimum'!D533,INDEX(G537:L1208,B537,('Thermisch optimum'!$A$23)))","v":202.92207792207796},133.06693306693307,108.97590361445782,140.43600000000001,167.50225,76.752634484291889,202.92207792207796,null,null,null,null,null,null,null,null,null,null,null,null,null,null,null,null,null,null,null,null,null,null,null,0,0]
[null,null,"zaterdag","2011-01-09T06:45:00",null,{"$f":"IF('Thermisch optimum'!$A$23=7,'Thermisch optimum'!D534,INDEX(G538:L1209,B538,('Thermisch optimum'!$A$23)))","v":202.92207792207796},133.06693306693307,108.97590361445782,140.43600000000001,167.50225,76.752634484291889,202.92207792207796,null,null,null,null,null,null,null,null,null,null,null,null,null,null,null,null,null,null,null,null,null,null,null,0,0]
[null,null,"zaterdag","2011-01-09T07:00:00",null,{"$f":"IF('Thermisch optimum'!$A$23=7,'Thermisch optimum'!D535,INDEX(G539:L1210,B539,('Thermisch optimum'!$A$23)))","v":202.92207792207796},115.0849150849151,115.70281124497991,157.036,153.83974999999998,74.90317341238125,202.92207792207796,null,null,null,null,null,null,null,null,null,null,null,null,null,null,null,null,null,null,null,null,null,null,null,0,0]
[null,null,"zaterdag","2011-01-09T07:15:00",null,{"$f":"IF('Thermisch optimum'!$A$23=7,'Thermisch optimum'!D536,INDEX(G540:L1211,B540,('Thermisch optimum'!$A$23)))","v":202.92207792207796},115.0849150849151,115.70281124497991,157.036,153.83974999999998,74.90317341238125,202.92207792207796,null,null,null,null,null,null,null,null,null,null,null,null,null,null,null,null,null,null,null,null,null,null,null,0,0]
[null,null,"zaterdag","2011-01-09T07:30:00",null,{"$f":"IF('Thermisch optimum'!$A$23=7,'Thermisch optimum'!D537,INDEX(G541:L1212,B541,('Thermisch optimum'!$A$23)))","v":202.92207792207796},115.0849150849151,115.70281124497991,157.036,153.83974999999998,74.90317341238125,202.92207792207796,null,null,null,null,null,null,null,null,null,null,null,null,null,null,null,null,null,null,null,null,null,null,null,0,0]
[null,null,"zaterdag","2011-01-09T07:45:00",null,{"$f":"IF('Thermisch optimum'!$A$23=7,'Thermisch optimum'!D538,INDEX(G542:L1213,B542,('Thermisch optimum'!$A$23)))","v":202.92207792207796},115.0849150849151,115.70281124497991,157.036,153.83974999999998,74.90317341238125,202.92207792207796,null,null,null,null,null,null,null,null,null,null,null,null,null,null,null,null,null,null,null,null,null,null,null,0,0]
[null,null,"zaterdag","2011-01-09T08:00:00",null,{"$f":"IF('Thermisch optimum'!$A$23=7,'Thermisch optimum'!D539,INDEX(G543:L1214,B543,('Thermisch optimum'!$A$23)))","v":206.98051948051946},98.901098901098905,190.03514056224898,156.04,142.90975000000003,73.978442876425916,206.98051948051946,null,null,null,null,null,null,null,null,null,null,null,null,null,null,null,null,null,null,null,null,null,null,null,0,{"$f":"IF(AJ543=0,E543,0)","v":0}]
[null,null,"zaterdag","2011-01-09T08:15:00",null,{"$f":"IF('Thermisch optimum'!$A$23=7,'Thermisch optimum'!D540,INDEX(G544:L1215,B544,('Thermisch optimum'!$A$23)))","v":206.98051948051946},98.901098901098905,190.03514056224898,156.04,142.90975000000003,73.978442876425916,206.98051948051946,null,null,null,null,null,null,null,null,null,null,null,null,null,null,null,null,null,null,null,null,null,null,null,0,0]
[null,null,"zaterdag",{"$f":"D544+1/96","v":"2011-01-09T08:30:00"},null,{"$f":"IF('Thermisch optimum'!$A$23=7,'Thermisch optimum'!D541,INDEX(G545:L1216,B545,('Thermisch optimum'!$A$23)))","v":206.98051948051946},98.901098901098905,190.03514056224898,156.04,142.90975000000003,73.978442876425916,206.98051948051946,null,null,null,null,null,null,null,null,null,null,null,null,null,null,null,null,null,null,null,null,null,null,null,0,0]
[null,null,"zaterdag","2011-01-09T08:45:00",null,{"$f":"IF('Thermisch optimum'!$A$23=7,'Thermisch optimum'!D542,INDEX(G546:L1217,B546,('Thermisch optimum'!$A$23)))","v":206.98051948051946},98.901098901098905,190.03514056224898,156.04,142.90975000000003,73.978442876425916,206.98051948051946,null,null,null,null,null,null,null,null,null,null,null,null,null,null,null,null,null,null,null,null,null,null,null,0,0]
[null,null,"zaterdag","2011-01-09T09:00:00",null,{"$f":"IF('Thermisch optimum'!$A$23=7,'Thermisch optimum'!D543,INDEX(G547:L1218,B547,('Thermisch optimum'!$A$23)))","v":202.92207792207796},91.708291708291711,243.51405622489958,156.04,133.346,71.204251268559943,202.92207792207796,null,null,null,null,null,null,null,null,null,null,null,null,null,null,null,null,null,null,null,null,null,null,null,0,0]
[null,null,"zaterdag","2011-01-09T09:15:00",null,{"$f":"IF('Thermisch optimum'!$A$23=7,'Thermisch optimum'!D544,INDEX(G548:L1219,B548,('Thermisch optimum'!$A$23)))","v":202.92207792207796},91.708291708291711,243.51405622489958,156.04,133.346,71.204251268559943,202.92207792207796,null,null,null,null,null,null,null,null,null,null,null,null,null,null,null,null,null,null,null,null,null,null,null,0,0]
[null,null,"zaterdag","2011-01-09T09:30:00",null,{"$f":"IF('Thermisch optimum'!$A$23=7,'Thermisch optimum'!D545,INDEX(G549:L1220,B549,('Thermisch optimum'!$A$23)))","v":202.92207792207796},91.708291708291711,243.51405622489958,156.04,133.346,71.204251268559943,202.92207792207796,null,null,null,null,null,null,null,null,null,null,null,null,null,null,null,null,null,null,null,null,null,null,null,0,0]
[null,null,"zaterdag","2011-01-09T09:45:00",null,{"$f":"IF('Thermisch optimum'!$A$23=7,'Thermisch optimum'!D546,INDEX(G550:L1221,B550,('Thermisch optimum'!$A$23)))","v":202.92207792207796},91.708291708291711,243.51405622489958,156.04,133.346,71.204251268559943,202.92207792207796,null,null,null,null,null,null,null,null,null,null,null,null,null,null,null,null,null,null,null,null,null,null,null,0,0]
[null,null,"zaterdag","2011-01-09T10:00:00",null,{"$f":"IF('Thermisch optimum'!$A$23=7,'Thermisch optimum'!D547,INDEX(G551:L1222,B551,('Thermisch optimum'!$A$23)))","v":194.80519480519482},80.919080919080912,214.58835341365457,156.04,121.59625000000001,70.279520732604624,194.80519480519482,null,null,null,null,null,null,null,null,null,null,null,null,null,null,null,null,null,null,null,null,null,null,null,0,0]
[null,null,"zaterdag","2011-01-09T10:15:00",null,{"$f":"IF('Thermisch optimum'!$A$23=7,'Thermisch optimum'!D548,INDEX(G552:L1223,B552,('Thermisch optimum'!$A$23)))","v":194.80519480519482},80.919080919080912,214.58835341365457,156.04,121.59625000000001,70.279520732604624,194.80519480519482,null,null,null,null,null,null,null,null,null,null,null,null,null,null,null,null,null,null,null,null,null,null,null,0,0]
[null,null,"zaterdag","2011-01-09T10:30:00",null,{"$f":"IF('Thermisch optimum'!$A$23=7,'Thermisch optimum'!D549,INDEX(G553:L1224,B553,('Thermisch optimum'!$A$23)))","v":194.80519480519482},80.919080919080912,214.58835341365457,156.04,121.59625000000001,70.279520732604624,194.80519480519482,null,null,null,null,null,null,null,null,null,null,null,null,null,null,null,null,null,null,null,null,null,null,null,0,0]
[null,null,"zaterdag","2011-01-09T10:45:00",null,{"$f":"IF('Thermisch optimum'!$A$23=7,'Thermisch optimum'!D550,INDEX(G554:L1225,B554,('Thermisch optimum'!$A$23)))","v":194.80519480519482},80.919080919080912,214.58835341365457,156.04,121.59625000000001,70.279520732604624,194.80519480519482,null,null,null,null,null,null,null,null,null,null,null,null,null,null,null,null,null,null,null,null,null,null,null,0,0]
[null,null,"zaterdag","2011-01-09T11:00:00",null,{"$f":"IF('Thermisch optimum'!$A$23=7,'Thermisch optimum'!D551,INDEX(G555:L1226,B555,('Thermisch optimum'!$A$23)))","v":182.6298701298702},80.919080919080912,214.25200803212849,153.05199999999999,117.22425,69.35479019664929,182.6298701298702,null,null,null,null,null,null,null,null,null,null,null,null,null,null,null,null,null,null,null,null,null,null,null,0,0]
[null,null,"zaterdag","2011-01-09T11:15:00",null,{"$f":"IF('Thermisch optimum'!$A$23=7,'Thermisch optimum'!D552,INDEX(G556:L1227,B556,('Thermisch optimum'!$A$23)))","v":182.6298701298702},80.919080919080912,214.25200803212849,153.05199999999999,117.22425,69.35479019664929,182.6298701298702,null,null,null,null,null,null,null,null,null,null,null,null,null,null,null,null,null,null,null,null,null,null,null,0,0]
[null,null,"zaterdag","2011-01-09T11:30:00",null,{"$f":"IF('Thermisch optimum'!$A$23=7,'Thermisch optimum'!D553,INDEX(G557:L1228,B557,('Thermisch optimum'!$A$23)))","v":182.6298701298702},80.919080919080912,214.25200803212849,153.05199999999999,117.22425,69.35479019664929,182.6298701298702,null,null,null,null,null,null,null,null,null,null,null,null,null,null,null,null,null,null,null,null,null,null,null,0,0]
[null,null,"zaterdag","2011-01-09T11:45:00",null,{"$f":"IF('Thermisch optimum'!$A$23=7,'Thermisch optimum'!D554,INDEX(G558:L1229,B558,('Thermisch optimum'!$A$23)))","v":182.6298701298702},80.919080919080912,214.25200803212849,153.05199999999999,117.22425,69.35479019664929,182.6298701298702,null,null,null,null,null,null,null,null,null,null,null,null,null,null,null,null,null,null,null,null,null,null,null,0,0]
[null,null,"zaterdag","2011-01-09T12:00:00",null,{"$f":"IF('Thermisch optimum'!$A$23=7,'Thermisch optimum'!D555,INDEX(G559:L1230,B559,('Thermisch optimum'!$A$23)))","v":178.57142857142861},75.524475524475534,200.79819277108433,148.73600000000002,112.30574999999999,68.430059660693971,178.57142857142861,null,null,null,null,null,null,null,null,null,null,null,null,null,null,null,null,null,null,null,null,null,null,null,0,0]
[null,null,"zaterdag","2011-01-09T12:15:00",null,{"$f":"IF('Thermisch optimum'!$A$23=7,'Thermisch optimum'!D556,INDEX(G560:L1231,B560,('Thermisch optimum'!$A$23)))","v":178.57142857142861},75.524475524475534,200.79819277108433,148.73600000000002,112.30574999999999,68.430059660693971,178.57142857142861,null,null,null,null,null,null,null,null,null,null,null,null,null,null,null,null,null,null,null,null,null,null,null,0,0]
[null,null,"zaterdag","2011-01-09T12:30:00",null,{"$f":"IF('Thermisch optimum'!$A$23=7,'Thermisch optimum'!D557,INDEX(G561:L1232,B561,('Thermisch optimum'!$A$23)))","v":178.57142857142861},75.524475524475534,200.79819277108433,148.73600000000002,112.30574999999999,68.430059660693971,178.57142857142861,null,null,null,null,null,null,null,null,null,null,null,null,null,null,null,null,null,null,null,null,null,null,null,0,0]
[null,null,"zaterdag","2011-01-09T12:45:00",null,{"$f":"IF('Thermisch optimum'!$A$23=7,'Thermisch optimum'!D558,INDEX(G562:L1233,B562,('Thermisch optimum'!$A$23)))","v":178.57142857142861},75.524475524475534,200.79819277108433,148.73600000000002,112.30574999999999,68.430059660693971,178.57142857142861,null,null,null,null,null,null,null,null,null,null,null,null,null,null,null,null,null,null,null,null,null,null,null,0,0]
[null,null,"zaterdag","2011-01-09T13:00:00",null,{"$f":"IF('Thermisch optimum'!$A$23=7,'Thermisch optimum'!D559,INDEX(G563:L1234,B563,('Thermisch optimum'!$A$23)))","v":174.51298701298705},73.726273726273732,188.68975903614455,145.416,108.75349999999999,66.580598588783346,174.51298701298705,null,null,null,null,null,null,null,null,null,null,null,null,null,null,null,null,null,null,null,null,null,null,null,0,0]
[null,null,"zaterdag","2011-01-09T13:15:00",null,{"$f":"IF('Thermisch optimum'!$A$23=7,'Thermisch optimum'!D560,INDEX(G564:L1235,B564,('Thermisch optimum'!$A$23)))","v":174.51298701298705},73.726273726273732,188.68975903614455,145.416,108.75349999999999,66.580598588783346,174.51298701298705,null,null,null,null,null,null,null,null,null,null,null,null,null,null,null,null,null,null,null,null,null,null,null,0,0]
[null,null,"zaterdag","2011-01-09T13:30:00",null,{"$f":"IF('Thermisch optimum'!$A$23=7,'Thermisch optimum'!D561,INDEX(G565:L1236,B565,('Thermisch optimum'!$A$23)))","v":174.51298701298705},73.726273726273732,188.68975903614455,145.416,108.75349999999999,66.580598588783346,174.51298701298705,null,null,null,null,null,null,null,null,null,null,null,null,null,null,null,null,null,null,null,null,null,null,null,0,0]
[null,null,"zaterdag","2011-01-09T13:45:00",null,{"$f":"IF('Thermisch optimum'!$A$23=7,'Thermisch optimum'!D562,INDEX(G566:L1237,B566,('Thermisch optimum'!$A$23)))","v":174.51298701298705},73.726273726273732,188.68975903614455,145.416,108.75349999999999,66.580598588783346,174.51298701298705,null,null,null,null,null,null,null,null,null,null,null,null,null,null,null,null,null,null,null,null,null,null,null,0,0]
[null,null,"zaterdag","2011-01-09T14:00:00",null,{"$f":"IF('Thermisch optimum'!$A$23=7,'Thermisch optimum'!D563,INDEX(G567:L1238,B567,('Thermisch optimum'!$A$23)))","v":170.45454545454552},73.726273726273732,172.20883534136544,145.084,108.75349999999999,63.806406980917359,170.45454545454552,null,null,null,null,null,null,null,null,null,null,null,null,null,null,null,null,null,null,null,null,null,null,null,0,0]
[null,null,"zaterdag","2011-01-09T14:15:00",null,{"$f":"IF('Thermisch optimum'!$A$23=7,'Thermisch optimum'!D564,INDEX(G568:L1239,B568,('Thermisch optimum'!$A$23)))","v":170.45454545454552},73.726273726273732,172.20883534136544,145.084,108.75349999999999,63.806406980917359,170.45454545454552,null,null,null,null,null,null,null,null,null,null,null,null,null,null,null,null,null,null,null,null,null,null,null,0,0]
[null,null,"zaterdag","2011-01-09T14:30:00",null,{"$f":"IF('Thermisch optimum'!$A$23=7,'Thermisch optimum'!D565,INDEX(G569:L1240,B569,('Thermisch optimum'!$A$23)))","v":170.45454545454552},73.726273726273732,172.20883534136544,145.084,108.75349999999999,63.806406980917359,170.45454545454552,null,null,null,null,null,null,null,null,null,null,null,null,null,null,null,null,null,null,null,null,null,null,null,0,0]
[null,null,"zaterdag","2011-01-09T14:45:00",null,{"$f":"IF('Thermisch optimum'!$A$23=7,'Thermisch optimum'!D566,INDEX(G570:L1241,B570,('Thermisch optimum'!$A$23)))","v":170.45454545454552},73.726273726273732,172.20883534136544,145.084,108.75349999999999,63.806406980917359,170.45454545454552,null,null,null,null,null,null,null,null,null,null,null,null,null,null,null,null,null,null,null,null,null,null,null,0,0]
[null,null,"zaterdag","2011-01-09T15:00:00",null,{"$f":"IF('Thermisch optimum'!$A$23=7,'Thermisch optimum'!D567,INDEX(G571:L1242,B571,('Thermisch optimum'!$A$23)))","v":170.45454545454552},70.129870129870127,153.37349397590359,146.74399999999997,106.29425000000001,61.956945909006713,170.45454545454552,null,null,null,null,null,null,null,null,null,null,null,null,null,null,null,null,null,null,null,null,null,null,null,0,0]
[null,null,"zaterdag","2011-01-09T15:15:00",null,{"$f":"IF('Thermisch optimum'!$A$23=7,'Thermisch optimum'!D568,INDEX(G572:L1243,B572,('Thermisch optimum'!$A$23)))","v":170.45454545454552},70.129870129870127,153.37349397590359,146.74399999999997,106.29425000000001,61.956945909006713,170.45454545454552,null,null,null,null,null,null,null,null,null,null,null,null,null,null,null,null,null,null,null,null,null,null,null,0,0]
[null,null,"zaterdag","2011-01-09T15:30:00",null,{"$f":"IF('Thermisch optimum'!$A$23=7,'Thermisch optimum'!D569,INDEX(G573:L1244,B573,('Thermisch optimum'!$A$23)))","v":170.45454545454552},70.129870129870127,153.37349397590359,146.74399999999997,106.29425000000001,61.956945909006713,170.45454545454552,null,null,null,null,null,null,null,null,null,null,null,null,null,null,null,null,null,null,null,null,null,null,null,0,0]
[null,null,"zaterdag","2011-01-09T15:45:00",null,{"$f":"IF('Thermisch optimum'!$A$23=7,'Thermisch optimum'!D570,INDEX(G574:L1245,B574,('Thermisch optimum'!$A$23)))","v":170.45454545454552},70.129870129870127,153.37349397590359,146.74399999999997,106.29425000000001,61.956945909006713,170.45454545454552,null,null,null,null,null,null,null,null,null,null,null,null,null,null,null,null,null,null,null,null,null,null,null,0,0]
[null,null,"zaterdag","2011-01-09T16:00:00",null,{"$f":"IF('Thermisch optimum'!$A$23=7,'Thermisch optimum'!D571,INDEX(G575:L1246,B575,('Thermisch optimum'!$A$23)))","v":174.51298701298705},62.93706293706294,159.09136546184737,145.084,99.189750000000004,33.567718455178259,174.51298701298705,null,null,null,null,null,null,null,null,null,null,null,null,null,null,null,null,null,null,null,null,null,null,null,0,0]
[null,null,"zaterdag","2011-01-09T16:15:00",null,{"$f":"IF('Thermisch optimum'!$A$23=7,'Thermisch optimum'!D572,INDEX(G576:L1247,B576,('Thermisch optimum'!$A$23)))","v":174.51298701298705},62.93706293706294,159.09136546184737,145.084,99.189750000000004,33.567718455178259,174.51298701298705,null,null,null,null,null,null,null,null,null,null,null,null,null,null,null,null,null,null,null,null,null,null,null,0,0]
[null,null,"zaterdag","2011-01-09T16:30:00",null,{"$f":"IF('Thermisch optimum'!$A$23=7,'Thermisch optimum'!D573,INDEX(G577:L1248,B577,('Thermisch optimum'!$A$23)))","v":174.51298701298705},62.93706293706294,159.09136546184737,145.084,99.189750000000004,33.567718455178259,174.51298701298705,null,null,null,null,null,null,null,null,null,null,null,null,null,null,null,null,null,null,null,null,null,null,null,0,0]
[null,null,"zaterdag","2011-01-09T16:45:00",null,{"$f":"IF('Thermisch optimum'!$A$23=7,'Thermisch optimum'!D574,INDEX(G578:L1249,B578,('Thermisch optimum'!$A$23)))","v":174.51298701298705},62.93706293706294,159.09136546184737,145.084,99.189750000000004,33.567718455178259,174.51298701298705,null,null,null,null,null,null,null,null,null,null,null,null,null,null,null,null,null,null,null,null,null,null,null,0,0]
[null,null,"zaterdag","2011-01-09T17:00:00",null,{"$f":"IF('Thermisch optimum'!$A$23=7,'Thermisch optimum'!D575,INDEX(G579:L1250,B579,('Thermisch optimum'!$A$23)))","v":186.68831168831173},66.533466533466537,170.19076305220878,147.73999999999998,102.74199999999998,9.2473053595532395,186.68831168831173,null,null,null,null,null,null,null,null,null,null,null,null,null,null,null,null,null,null,null,null,null,null,null,0,0]
[null,null,"zaterdag","2011-01-09T17:15:00",null,{"$f":"IF('Thermisch optimum'!$A$23=7,'Thermisch optimum'!D576,INDEX(G580:L1251,B580,('Thermisch optimum'!$A$23)))","v":186.68831168831173},66.533466533466537,170.19076305220878,147.73999999999998,102.74199999999998,9.2473053595532395,186.68831168831173,null,null,null,null,null,null,null,null,null,null,null,null,null,null,null,null,null,null,null,null,null,null,null,0,0]
[null,null,"zaterdag","2011-01-09T17:30:00",null,{"$f":"IF('Thermisch optimum'!$A$23=7,'Thermisch optimum'!D577,INDEX(G581:L1252,B581,('Thermisch optimum'!$A$23)))","v":186.68831168831173},66.533466533466537,170.19076305220878,147.73999999999998,102.74199999999998,9.2473053595532395,186.68831168831173,null,null,null,null,null,null,null,null,null,null,null,null,null,null,null,null,null,null,null,null,null,null,null,0,0]
[null,null,"zaterdag","2011-01-09T17:45:00",null,{"$f":"IF('Thermisch optimum'!$A$23=7,'Thermisch optimum'!D578,INDEX(G582:L1253,B582,('Thermisch optimum'!$A$23)))","v":186.68831168831173},66.533466533466537,170.19076305220878,147.73999999999998,102.74199999999998,9.2473053595532395,186.68831168831173,null,null,null,null,null,null,null,null,null,null,null,null,null,null,null,null,null,null,null,null,null,null,null,0,0]
[null,null,"zaterdag","2011-01-09T18:00:00",null,{"$f":"IF('Thermisch optimum'!$A$23=7,'Thermisch optimum'!D579,INDEX(G583:L1254,B583,('Thermisch optimum'!$A$23)))","v":194.80519480519482},75.524475524475534,144.96485943775096,156.37199999999999,110.39299999999999,9.2473053595532395,194.80519480519482,null,null,null,null,null,null,null,null,null,null,null,null,null,null,null,null,null,null,null,null,null,null,null,0,0]
[null,null,"zaterdag","2011-01-09T18:15:00",null,{"$f":"IF('Thermisch optimum'!$A$23=7,'Thermisch optimum'!D580,INDEX(G584:L1255,B584,('Thermisch optimum'!$A$23)))","v":194.80519480519482},75.524475524475534,144.96485943775096,156.37199999999999,110.39299999999999,9.2473053595532395,194.80519480519482,null,null,null,null,null,null,null,null,null,null,null,null,null,null,null,null,null,null,null,null,null,null,null,0,0]
[null,null,"zaterdag","2011-01-09T18:30:00",null,{"$f":"IF('Thermisch optimum'!$A$23=7,'Thermisch optimum'!D581,INDEX(G585:L1256,B585,('Thermisch optimum'!$A$23)))","v":194.80519480519482},75.524475524475534,144.96485943775096,156.37199999999999,110.39299999999999,9.2473053595532395,194.80519480519482,null,null,null,null,null,null,null,null,null,null,null,null,null,null,null,null,null,null,null,null,null,null,null,0,0]
[null,null,"zaterdag","2011-01-09T18:45:00",null,{"$f":"IF('Thermisch optimum'!$A$23=7,'Thermisch optimum'!D582,INDEX(G586:L1257,B586,('Thermisch optimum'!$A$23)))","v":194.80519480519482},75.524475524475534,144.96485943775096,156.37199999999999,110.39299999999999,9.2473053595532395,194.80519480519482,null,null,null,null,null,null,null,null,null,null,null,null,null,null,null,null,null,null,null,null,null,null,null,0,0]
[null,null,"zaterdag","2011-01-09T19:00:00",null,{"$f":"IF('Thermisch optimum'!$A$23=7,'Thermisch optimum'!D583,INDEX(G587:L1258,B587,('Thermisch optimum'!$A$23)))","v":194.80519480519482},62.93706293706294,97.20381526104417,148.73600000000002,99.189750000000004,9.2473053595532395,194.80519480519482,null,null,null,null,null,null,null,null,null,null,null,null,null,null,null,null,null,null,null,null,null,null,null,0,0]
[null,null,"zaterdag","2011-01-09T19:15:00",null,{"$f":"IF('Thermisch optimum'!$A$23=7,'Thermisch optimum'!D584,INDEX(G588:L1259,B588,('Thermisch optimum'!$A$23)))","v":194.80519480519482},62.93706293706294,97.20381526104417,148.73600000000002,99.189750000000004,9.2473053595532395,194.80519480519482,null,null,null,null,null,null,null,null,null,null,null,null,null,null,null,null,null,null,null,null,null,null,null,0,0]
[null,null,"zaterdag","2011-01-09T19:30:00",null,{"$f":"IF('Thermisch optimum'!$A$23=7,'Thermisch optimum'!D585,INDEX(G589:L1260,B589,('Thermisch optimum'!$A$23)))","v":194.80519480519482},62.93706293706294,97.20381526104417,148.73600000000002,99.189750000000004,9.2473053595532395,194.80519480519482,null,null,null,null,null,null,null,null,null,null,null,null,null,null,null,null,null,null,null,null,null,null,null,0,0]
[null,null,"zaterdag","2011-01-09T19:45:00",null,{"$f":"IF('Thermisch optimum'!$A$23=7,'Thermisch optimum'!D586,INDEX(G590:L1261,B590,('Thermisch optimum'!$A$23)))","v":194.80519480519482},62.93706293706294,97.20381526104417,148.73600000000002,99.189750000000004,9.2473053595532395,194.80519480519482,null,null,null,null,null,null,null,null,null,null,null,null,null,null,null,null,null,null,null,null,null,null,null,0,0]
[null,null,"zaterdag","2011-01-09T20:00:00",null,{"$f":"IF('Thermisch optimum'!$A$23=7,'Thermisch optimum'!D587,INDEX(G591:L1262,B591,('Thermisch optimum'!$A$23)))","v":198.86363636363637},44.955044955044954,82.068273092369466,140.768,85.253999999999991,9.2473053595532395,198.86363636363637,null,null,null,null,null,null,null,null,null,null,null,null,null,null,null,null,null,null,null,null,null,null,null,0,0]
[null,null,"zaterdag","2011-01-09T20:15:00",null,{"$f":"IF('Thermisch optimum'!$A$23=7,'Thermisch optimum'!D588,INDEX(G592:L1263,B592,('Thermisch optimum'!$A$23)))","v":198.86363636363637},44.955044955044954,82.068273092369466,140.768,85.253999999999991,9.2473053595532395,198.86363636363637,null,null,null,null,null,null,null,null,null,null,null,null,null,null,null,null,null,null,null,null,null,null,null,0,0]
[null,null,"zaterdag","2011-01-09T20:30:00",null,{"$f":"IF('Thermisch optimum'!$A$23=7,'Thermisch optimum'!D589,INDEX(G593:L1264,B593,('Thermisch optimum'!$A$23)))","v":198.86363636363637},44.955044955044954,82.068273092369466,140.768,85.253999999999991,9.2473053595532395,198.86363636363637,null,null,null,null,null,null,null,null,null,null,null,null,null,null,null,null,null,null,null,null,null,null,null,0,0]
[null,null,"zaterdag","2011-01-09T20:45:00",null,{"$f":"IF('Thermisch optimum'!$A$23=7,'Thermisch optimum'!D590,INDEX(G594:L1265,B594,('Thermisch optimum'!$A$23)))","v":198.86363636363637},44.955044955044954,82.068273092369466,140.768,85.253999999999991,9.2473053595532395,198.86363636363637,null,null,null,null,null,null,null,null,null,null,null,null,null,null,null,null,null,null,null,null,null,null,null,0,0]
[null,null,"zaterdag","2011-01-09T21:00:00",null,{"$f":"IF('Thermisch optimum'!$A$23=7,'Thermisch optimum'!D591,INDEX(G595:L1266,B595,('Thermisch optimum'!$A$23)))","v":194.80519480519482},46.753246753246756,80.722891566265034,141.1,87.713249999999988,9.2473053595532395,194.80519480519482,null,null,null,null,null,null,null,null,null,null,null,null,null,null,null,null,null,null,null,null,null,null,null,0,0]
[null,null,"zaterdag","2011-01-09T21:15:00",null,{"$f":"IF('Thermisch optimum'!$A$23=7,'Thermisch optimum'!D592,INDEX(G596:L1267,B596,('Thermisch optimum'!$A$23)))","v":194.80519480519482},46.753246753246756,80.722891566265034,141.1,87.713249999999988,9.2473053595532395,194.80519480519482,null,null,null,null,null,null,null,null,null,null,null,null,null,null,null,null,null,null,null,null,null,null,null,0,0]
[null,null,"zaterdag","2011-01-09T21:30:00",null,{"$f":"IF('Thermisch optimum'!$A$23=7,'Thermisch optimum'!D593,INDEX(G597:L1268,B597,('Thermisch optimum'!$A$23)))","v":194.80519480519482},46.753246753246756,80.722891566265034,141.1,87.713249999999988,9.2473053595532395,194.80519480519482,null,null,null,null,null,null,null,null,null,null,null,null,null,null,null,null,null,null,null,null,null,null,null,0,0]
[null,null,"zaterdag","2011-01-09T21:45:00",null,{"$f":"IF('Thermisch optimum'!$A$23=7,'Thermisch optimum'!D594,INDEX(G598:L1269,B598,('Thermisch optimum'!$A$23)))","v":194.80519480519482},46.753246753246756,80.722891566265034,141.1,87.713249999999988,9.2473053595532395,194.80519480519482,null,null,null,null,null,null,null,null,null,null,null,null,null,null,null,null,null,null,null,null,null,null,null,0,0]
[null,null,"zaterdag","2011-01-09T22:00:00",null,{"$f":"IF('Thermisch optimum'!$A$23=7,'Thermisch optimum'!D595,INDEX(G599:L1270,B599,('Thermisch optimum'!$A$23)))","v":174.51298701298705},46.753246753246756,80.050200803212832,113.21199999999999,88.259749999999997,9.2473053595532395,174.51298701298705,null,null,null,null,null,null,null,null,null,null,null,null,null,null,null,null,null,null,null,null,null,null,null,0,0]
[null,null,"zaterdag","2011-01-09T22:15:00",null,{"$f":"IF('Thermisch optimum'!$A$23=7,'Thermisch optimum'!D596,INDEX(G600:L1271,B600,('Thermisch optimum'!$A$23)))","v":174.51298701298705},46.753246753246756,80.050200803212832,113.21199999999999,88.259749999999997,9.2473053595532395,174.51298701298705,null,null,null,null,null,null,null,null,null,null,null,null,null,null,null,null,null,null,null,null,null,null,null,0,0]
[null,null,"zaterdag","2011-01-09T22:30:00",null,{"$f":"IF('Thermisch optimum'!$A$23=7,'Thermisch optimum'!D597,INDEX(G601:L1272,B601,('Thermisch optimum'!$A$23)))","v":174.51298701298705},46.753246753246756,80.050200803212832,113.21199999999999,88.259749999999997,9.2473053595532395,174.51298701298705,null,null,null,null,null,null,null,null,null,null,null,null,null,null,null,null,null,null,null,null,null,null,null,0,0]
[null,null,"zaterdag","2011-01-09T22:45:00",null,{"$f":"IF('Thermisch optimum'!$A$23=7,'Thermisch optimum'!D598,INDEX(G602:L1273,B602,('Thermisch optimum'!$A$23)))","v":174.51298701298705},46.753246753246756,80.050200803212832,113.21199999999999,88.259749999999997,9.2473053595532395,174.51298701298705,null,null,null,null,null,null,null,null,null,null,null,null,null,null,null,null,null,null,null,null,null,null,null,0,0]
[null,null,"zaterdag","2011-01-09T23:00:00",null,{"$f":"IF('Thermisch optimum'!$A$23=7,'Thermisch optimum'!D599,INDEX(G603:L1274,B603,('Thermisch optimum'!$A$23)))","v":89.285714285714306},50.349650349650346,91.149598393574294,111.55199999999998,91.538749999999993,9.2473053595532395,89.285714285714306,null,null,null,null,null,null,null,null,null,null,null,null,null,null,null,null,null,null,null,null,null,null,null,0,0]
[null,null,"zaterdag","2011-01-09T23:15:00",null,{"$f":"IF('Thermisch optimum'!$A$23=7,'Thermisch optimum'!D600,INDEX(G604:L1275,B604,('Thermisch optimum'!$A$23)))","v":89.285714285714306},50.349650349650346,91.149598393574294,111.55199999999998,91.538749999999993,9.2473053595532395,89.285714285714306,null,null,null,null,null,null,null,null,null,null,null,null,null,null,null,null,null,null,null,null,null,null,null,0,0]
[null,null,"zaterdag","2011-01-09T23:30:00",null,{"$f":"IF('Thermisch optimum'!$A$23=7,'Thermisch optimum'!D601,INDEX(G605:L1276,B605,('Thermisch optimum'!$A$23)))","v":89.285714285714306},50.349650349650346,91.149598393574294,111.55199999999998,91.538749999999993,9.2473053595532395,89.285714285714306,null,null,null,null,null,null,null,null,null,null,null,null,null,null,null,null,null,null,null,null,null,null,null,0,0]
[null,null,"zaterdag","2011-01-09T23:45:00",null,{"$f":"IF('Thermisch optimum'!$A$23=7,'Thermisch optimum'!D602,INDEX(G606:L1277,B606,('Thermisch optimum'!$A$23)))","v":89.285714285714306},50.349650349650346,91.149598393574294,111.55199999999998,91.538749999999993,9.2473053595532395,89.285714285714306,null,null,null,null,null,null,null,null,null,null,null,null,null,null,null,null,null,null,null,null,null,null,null,0,0]
[null,null,"zondag","2011-01-10",null,{"$f":"IF('Thermisch optimum'!$A$23=7,'Thermisch optimum'!D603,INDEX(G607:L1278,B607,('Thermisch optimum'!$A$23)))","v":89.285714285714306},47.552447552447546,56.927208835341354,108.03499999999998,94.835250000000002,9.2473053595532395,89.285714285714306,null,null,null,null,null,null,null,null,null,null,null,null,null,null,null,null,null,null,null,null,null,null,null,0,{"$f":"IF(AJ607=0,E607,0)","v":0}]
[null,null,"zondag","2011-01-10T00:15:00",null,{"$f":"IF('Thermisch optimum'!$A$23=7,'Thermisch optimum'!D604,INDEX(G608:L1279,B608,('Thermisch optimum'!$A$23)))","v":89.285714285714306},47.552447552447546,56.927208835341354,108.03499999999998,94.835250000000002,9.2473053595532395,89.285714285714306,null,null,null,null,null,null,null,null,null,null,null,null,null,null,null,null,null,null,null,null,null,null,null,0,0]
[null,null,"zondag",{"$f":"D608+1/96","v":"2011-01-10T00:30:00"},null,{"$f":"IF('Thermisch optimum'!$A$23=7,'Thermisch optimum'!D605,INDEX(G609:L1280,B609,('Thermisch optimum'!$A$23)))","v":89.285714285714306},47.552447552447546,56.927208835341354,108.03499999999998,94.835250000000002,9.2473053595532395,89.285714285714306,null,null,null,null,null,null,null,null,null,null,null,null,null,null,null,null,null,null,null,null,null,null,null,0,0]
[null,null,"zondag","2011-01-10T00:45:00",null,{"$f":"IF('Thermisch optimum'!$A$23=7,'Thermisch optimum'!D606,INDEX(G610:L1281,B610,('Thermisch optimum'!$A$23)))","v":89.285714285714306},47.552447552447546,56.927208835341354,108.03499999999998,94.835250000000002,9.2473053595532395,89.285714285714306,null,null,null,null,null,null,null,null,null,null,null,null,null,null,null,null,null,null,null,null,null,null,null,0,0]
[null,null,"zondag","2011-01-10T01:00:00",null,{"$f":"IF('Thermisch optimum'!$A$23=7,'Thermisch optimum'!D607,INDEX(G611:L1282,B611,('Thermisch optimum'!$A$23)))","v":97.402597402597408},49.250749250749244,52.885040160642561,110.25925000000001,97.073250000000002,9.2473053595532395,97.402597402597408,null,null,null,null,null,null,null,null,null,null,null,null,null,null,null,null,null,null,null,null,null,null,null,0,0]
[null,null,"zondag","2011-01-10T01:15:00",null,{"$f":"IF('Thermisch optimum'!$A$23=7,'Thermisch optimum'!D608,INDEX(G612:L1283,B612,('Thermisch optimum'!$A$23)))","v":97.402597402597408},49.250749250749244,52.885040160642561,110.25925000000001,97.073250000000002,9.2473053595532395,97.402597402597408,null,null,null,null,null,null,null,null,null,null,null,null,null,null,null,null,null,null,null,null,null,null,null,0,0]
[null,null,"zondag","2011-01-10T01:30:00",null,{"$f":"IF('Thermisch optimum'!$A$23=7,'Thermisch optimum'!D609,INDEX(G613:L1284,B613,('Thermisch optimum'!$A$23)))","v":97.402597402597408},49.250749250749244,52.885040160642561,110.25925000000001,97.073250000000002,9.2473053595532395,97.402597402597408,null,null,null,null,null,null,null,null,null,null,null,null,null,null,null,null,null,null,null,null,null,null,null,0,0]
[null,null,"zondag","2011-01-10T01:45:00",null,{"$f":"IF('Thermisch optimum'!$A$23=7,'Thermisch optimum'!D610,INDEX(G614:L1285,B614,('Thermisch optimum'!$A$23)))","v":97.402597402597408},49.250749250749244,52.885040160642561,110.25925000000001,97.073250000000002,9.2473053595532395,97.402597402597408,null,null,null,null,null,null,null,null,null,null,null,null,null,null,null,null,null,null,null,null,null,null,null,0,0]
[null,null,"zondag","2011-01-10T02:00:00",null,{"$f":"IF('Thermisch optimum'!$A$23=7,'Thermisch optimum'!D611,INDEX(G615:L1286,B615,('Thermisch optimum'!$A$23)))","v":101.46103896103898},52.647352647352655,53.22188755020079,108.98825000000001,101.26949999999999,9.2473053595532395,101.46103896103898,null,null,null,null,null,null,null,null,null,null,null,null,null,null,null,null,null,null,null,null,null,null,null,0,0]
[null,null,"zondag","2011-01-10T02:15:00",null,{"$f":"IF('Thermisch optimum'!$A$23=7,'Thermisch optimum'!D612,INDEX(G616:L1287,B616,('Thermisch optimum'!$A$23)))","v":101.46103896103898},52.647352647352655,53.22188755020079,108.98825000000001,101.26949999999999,9.2473053595532395,101.46103896103898,null,null,null,null,null,null,null,null,null,null,null,null,null,null,null,null,null,null,null,null,null,null,null,0,0]
[null,null,"zondag","2011-01-10T02:30:00",null,{"$f":"IF('Thermisch optimum'!$A$23=7,'Thermisch optimum'!D613,INDEX(G617:L1288,B617,('Thermisch optimum'!$A$23)))","v":101.46103896103898},52.647352647352655,53.22188755020079,108.98825000000001,101.26949999999999,9.2473053595532395,101.46103896103898,null,null,null,null,null,null,null,null,null,null,null,null,null,null,null,null,null,null,null,null,null,null,null,0,0]
[null,null,"zondag","2011-01-10T02:45:00",null,{"$f":"IF('Thermisch optimum'!$A$23=7,'Thermisch optimum'!D614,INDEX(G618:L1289,B618,('Thermisch optimum'!$A$23)))","v":101.46103896103898},52.647352647352655,53.22188755020079,108.98825000000001,101.26949999999999,9.2473053595532395,101.46103896103898,null,null,null,null,null,null,null,null,null,null,null,null,null,null,null,null,null,null,null,null,null,null,null,0,0]
[null,null,"zondag","2011-01-10T03:00:00",null,{"$f":"IF('Thermisch optimum'!$A$23=7,'Thermisch optimum'!D615,INDEX(G619:L1290,B619,('Thermisch optimum'!$A$23)))","v":113.63636363636365},54.345654345654353,49.684989959839342,111.21250000000001,106.30500000000001,9.2473053595532395,113.63636363636365,null,null,null,null,null,null,null,null,null,null,null,null,null,null,null,null,null,null,null,null,null,null,null,0,0]
[null,null,"zondag","2011-01-10T03:15:00",null,{"$f":"IF('Thermisch optimum'!$A$23=7,'Thermisch optimum'!D616,INDEX(G620:L1291,B620,('Thermisch optimum'!$A$23)))","v":113.63636363636365},54.345654345654353,49.684989959839342,111.21250000000001,106.30500000000001,9.2473053595532395,113.63636363636365,null,null,null,null,null,null,null,null,null,null,null,null,null,null,null,null,null,null,null,null,null,null,null,0,0]
[null,null,"zondag","2011-01-10T03:30:00",null,{"$f":"IF('Thermisch optimum'!$A$23=7,'Thermisch optimum'!D617,INDEX(G621:L1292,B621,('Thermisch optimum'!$A$23)))","v":113.63636363636365},54.345654345654353,49.684989959839342,111.21250000000001,106.30500000000001,9.2473053595532395,113.63636363636365,null,null,null,null,null,null,null,null,null,null,null,null,null,null,null,null,null,null,null,null,null,null,null,0,0]
[null,null,"zondag","2011-01-10T03:45:00",null,{"$f":"IF('Thermisch optimum'!$A$23=7,'Thermisch optimum'!D618,INDEX(G622:L1293,B622,('Thermisch optimum'!$A$23)))","v":113.63636363636365},54.345654345654353,49.684989959839342,111.21250000000001,106.30500000000001,9.2473053595532395,113.63636363636365,null,null,null,null,null,null,null,null,null,null,null,null,null,null,null,null,null,null,null,null,null,null,null,0,0]
[null,null,"zondag","2011-01-10T04:00:00",null,{"$f":"IF('Thermisch optimum'!$A$23=7,'Thermisch optimum'!D619,INDEX(G623:L1294,B623,('Thermisch optimum'!$A$23)))","v":166.39610389610388},81.518481518481508,54.064006024096372,116.61425000000001,130.64324999999999,36.989221438212958,166.39610389610388,null,null,null,null,null,null,null,null,null,null,null,null,null,null,null,null,null,null,null,null,null,null,null,0,0]
[null,null,"zondag","2011-01-10T04:15:00",null,{"$f":"IF('Thermisch optimum'!$A$23=7,'Thermisch optimum'!D620,INDEX(G624:L1295,B624,('Thermisch optimum'!$A$23)))","v":166.39610389610388},81.518481518481508,54.064006024096372,116.61425000000001,130.64324999999999,36.989221438212958,166.39610389610388,null,null,null,null,null,null,null,null,null,null,null,null,null,null,null,null,null,null,null,null,null,null,null,0,0]
[null,null,"zondag","2011-01-10T04:30:00",null,{"$f":"IF('Thermisch optimum'!$A$23=7,'Thermisch optimum'!D621,INDEX(G625:L1296,B625,('Thermisch optimum'!$A$23)))","v":166.39610389610388},81.518481518481508,54.064006024096372,116.61425000000001,130.64324999999999,36.989221438212958,166.39610389610388,null,null,null,null,null,null,null,null,null,null,null,null,null,null,null,null,null,null,null,null,null,null,null,0,0]
[null,null,"zondag","2011-01-10T04:45:00",null,{"$f":"IF('Thermisch optimum'!$A$23=7,'Thermisch optimum'!D622,INDEX(G626:L1297,B626,('Thermisch optimum'!$A$23)))","v":166.39610389610388},81.518481518481508,54.064006024096372,116.61425000000001,130.64324999999999,36.989221438212958,166.39610389610388,null,null,null,null,null,null,null,null,null,null,null,null,null,null,null,null,null,null,null,null,null,null,null,0,0]
[null,null,"zondag","2011-01-10T05:00:00",null,{"$f":"IF('Thermisch optimum'!$A$23=7,'Thermisch optimum'!D623,INDEX(G627:L1298,B627,('Thermisch optimum'!$A$23)))","v":198.86363636363637},137.56243756243757,54.906124497991961,125.1935,182.11724999999998,79.526826092157862,198.86363636363637,null,null,null,null,null,null,null,null,null,null,null,null,null,null,null,null,null,null,null,null,null,null,null,0,0]
[null,null,"zondag","2011-01-10T05:15:00",null,{"$f":"IF('Thermisch optimum'!$A$23=7,'Thermisch optimum'!D624,INDEX(G628:L1299,B628,('Thermisch optimum'!$A$23)))","v":198.86363636363637},137.56243756243757,54.906124497991961,125.1935,182.11724999999998,79.526826092157862,198.86363636363637,null,null,null,null,null,null,null,null,null,null,null,null,null,null,null,null,null,null,null,null,null,null,null,0,0]
[null,null,"zondag","2011-01-10T05:30:00",null,{"$f":"IF('Thermisch optimum'!$A$23=7,'Thermisch optimum'!D625,INDEX(G629:L1300,B629,('Thermisch optimum'!$A$23)))","v":198.86363636363637},137.56243756243757,54.906124497991961,125.1935,182.11724999999998,79.526826092157862,198.86363636363637,null,null,null,null,null,null,null,null,null,null,null,null,null,null,null,null,null,null,null,null,null,null,null,0,0]
[null,null,"zondag","2011-01-10T05:45:00",null,{"$f":"IF('Thermisch optimum'!$A$23=7,'Thermisch optimum'!D626,INDEX(G630:L1301,B630,('Thermisch optimum'!$A$23)))","v":198.86363636363637},137.56243756243757,54.906124497991961,125.1935,182.11724999999998,79.526826092157862,198.86363636363637,null,null,null,null,null,null,null,null,null,null,null,null,null,null,null,null,null,null,null,null,null,null,null,0,0]
[null,null,"zondag","2011-01-10T06:00:00",null,{"$f":"IF('Thermisch optimum'!$A$23=7,'Thermisch optimum'!D627,INDEX(G631:L1302,B631,('Thermisch optimum'!$A$23)))","v":202.92207792207796},125.67432567432569,54.569277108433731,134.40825000000004,171.48674999999997,76.752634484291889,202.92207792207796,null,null,null,null,null,null,null,null,null,null,null,null,null,null,null,null,null,null,null,null,null,null,null,0,0]
[null,null,"zondag","2011-01-10T06:15:00",null,{"$f":"IF('Thermisch optimum'!$A$23=7,'Thermisch optimum'!D628,INDEX(G632:L1303,B632,('Thermisch optimum'!$A$23)))","v":202.92207792207796},125.67432567432569,54.569277108433731,134.40825000000004,171.48674999999997,76.752634484291889,202.92207792207796,null,null,null,null,null,null,null,null,null,null,null,null,null,null,null,null,null,null,null,null,null,null,null,0,0]
[null,null,"zondag","2011-01-10T06:30:00",null,{"$f":"IF('Thermisch optimum'!$A$23=7,'Thermisch optimum'!D629,INDEX(G633:L1304,B633,('Thermisch optimum'!$A$23)))","v":202.92207792207796},125.67432567432569,54.569277108433731,134.40825000000004,171.48674999999997,76.752634484291889,202.92207792207796,null,null,null,null,null,null,null,null,null,null,null,null,null,null,null,null,null,null,null,null,null,null,null,0,0]
[null,null,"zondag","2011-01-10T06:45:00",null,{"$f":"IF('Thermisch optimum'!$A$23=7,'Thermisch optimum'!D630,INDEX(G634:L1305,B634,('Thermisch optimum'!$A$23)))","v":202.92207792207796},125.67432567432569,54.569277108433731,134.40825000000004,171.48674999999997,76.752634484291889,202.92207792207796,null,null,null,null,null,null,null,null,null,null,null,null,null,null,null,null,null,null,null,null,null,null,null,0,0]
[null,null,"zondag","2011-01-10T07:00:00",null,{"$f":"IF('Thermisch optimum'!$A$23=7,'Thermisch optimum'!D631,INDEX(G635:L1306,B635,('Thermisch optimum'!$A$23)))","v":202.92207792207796},108.69130869130871,57.937751004016057,150.29575000000003,157.49924999999999,74.90317341238125,202.92207792207796,null,null,null,null,null,null,null,null,null,null,null,null,null,null,null,null,null,null,null,null,null,null,null,0,0]
[null,null,"zondag","2011-01-10T07:15:00",null,{"$f":"IF('Thermisch optimum'!$A$23=7,'Thermisch optimum'!D632,INDEX(G636:L1307,B636,('Thermisch optimum'!$A$23)))","v":202.92207792207796},108.69130869130871,57.937751004016057,150.29575000000003,157.49924999999999,74.90317341238125,202.92207792207796,null,null,null,null,null,null,null,null,null,null,null,null,null,null,null,null,null,null,null,null,null,null,null,0,0]
[null,null,"zondag","2011-01-10T07:30:00",null,{"$f":"IF('Thermisch optimum'!$A$23=7,'Thermisch optimum'!D633,INDEX(G637:L1308,B637,('Thermisch optimum'!$A$23)))","v":202.92207792207796},108.69130869130871,57.937751004016057,150.29575000000003,157.49924999999999,74.90317341238125,202.92207792207796,null,null,null,null,null,null,null,null,null,null,null,null,null,null,null,null,null,null,null,null,null,null,null,0,0]
[null,null,"zondag","2011-01-10T07:45:00",null,{"$f":"IF('Thermisch optimum'!$A$23=7,'Thermisch optimum'!D634,INDEX(G638:L1309,B638,('Thermisch optimum'!$A$23)))","v":202.92207792207796},108.69130869130871,57.937751004016057,150.29575000000003,157.49924999999999,74.90317341238125,202.92207792207796,null,null,null,null,null,null,null,null,null,null,null,null,null,null,null,null,null,null,null,null,null,null,null,0,0]
[null,null,"zondag","2011-01-10T08:00:00",null,{"$f":"IF('Thermisch optimum'!$A$23=7,'Thermisch optimum'!D635,INDEX(G639:L1310,B639,('Thermisch optimum'!$A$23)))","v":206.98051948051946},93.406593406593416,95.15938755020079,149.34250000000003,146.30925000000002,73.978442876425916,206.98051948051946,null,null,null,null,null,null,null,null,null,null,null,null,null,null,null,null,null,null,null,null,null,null,null,0,0]
[null,null,"zondag","2011-01-10T08:15:00",null,{"$f":"IF('Thermisch optimum'!$A$23=7,'Thermisch optimum'!D636,INDEX(G640:L1311,B640,('Thermisch optimum'!$A$23)))","v":206.98051948051946},93.406593406593416,95.15938755020079,149.34250000000003,146.30925000000002,73.978442876425916,206.98051948051946,null,null,null,null,null,null,null,null,null,null,null,null,null,null,null,null,null,null,null,null,null,null,null,0,0]
[null,null,"zondag","2011-01-10T08:30:00",null,{"$f":"IF('Thermisch optimum'!$A$23=7,'Thermisch optimum'!D637,INDEX(G641:L1312,B641,('Thermisch optimum'!$A$23)))","v":206.98051948051946},93.406593406593416,95.15938755020079,149.34250000000003,146.30925000000002,73.978442876425916,206.98051948051946,null,null,null,null,null,null,null,null,null,null,null,null,null,null,null,null,null,null,null,null,null,null,null,0,0]
[null,null,"zondag","2011-01-10T08:45:00",null,{"$f":"IF('Thermisch optimum'!$A$23=7,'Thermisch optimum'!D638,INDEX(G642:L1313,B642,('Thermisch optimum'!$A$23)))","v":206.98051948051946},93.406593406593416,95.15938755020079,149.34250000000003,146.30925000000002,73.978442876425916,206.98051948051946,null,null,null,null,null,null,null,null,null,null,null,null,null,null,null,null,null,null,null,null,null,null,null,0,0]
[null,null,"zondag","2011-01-10T09:00:00",null,{"$f":"IF('Thermisch optimum'!$A$23=7,'Thermisch optimum'!D639,INDEX(G643:L1314,B643,('Thermisch optimum'!$A$23)))","v":202.92207792207796},86.613386613386609,121.93875502008031,149.34250000000003,136.518,71.204251268559943,202.92207792207796,null,null,null,null,null,null,null,null,null,null,null,null,null,null,null,null,null,null,null,null,null,null,null,0,0]
[null,null,"zondag","2011-01-10T09:15:00",null,{"$f":"IF('Thermisch optimum'!$A$23=7,'Thermisch optimum'!D640,INDEX(G644:L1315,B644,('Thermisch optimum'!$A$23)))","v":202.92207792207796},86.613386613386609,121.93875502008031,149.34250000000003,136.518,71.204251268559943,202.92207792207796,null,null,null,null,null,null,null,null,null,null,null,null,null,null,null,null,null,null,null,null,null,null,null,0,0]
[null,null,"zondag","2011-01-10T09:30:00",null,{"$f":"IF('Thermisch optimum'!$A$23=7,'Thermisch optimum'!D641,INDEX(G645:L1316,B645,('Thermisch optimum'!$A$23)))","v":202.92207792207796},86.613386613386609,121.93875502008031,149.34250000000003,136.518,71.204251268559943,202.92207792207796,null,null,null,null,null,null,null,null,null,null,null,null,null,null,null,null,null,null,null,null,null,null,null,0,0]
[null,null,"zondag","2011-01-10T09:45:00",null,{"$f":"IF('Thermisch optimum'!$A$23=7,'Thermisch optimum'!D642,INDEX(G646:L1317,B646,('Thermisch optimum'!$A$23)))","v":202.92207792207796},86.613386613386609,121.93875502008031,149.34250000000003,136.518,71.204251268559943,202.92207792207796,null,null,null,null,null,null,null,null,null,null,null,null,null,null,null,null,null,null,null,null,null,null,null,0,0]
[null,null,"zondag","2011-01-10T10:00:00",null,{"$f":"IF('Thermisch optimum'!$A$23=7,'Thermisch optimum'!D643,INDEX(G647:L1318,B647,('Thermisch optimum'!$A$23)))","v":194.80519480519482},76.423576423576421,107.4543172690763,149.34250000000003,124.48875,70.279520732604624,194.80519480519482,null,null,null,null,null,null,null,null,null,null,null,null,null,null,null,null,null,null,null,null,null,null,null,0,0]
[null,null,"zondag","2011-01-10T10:15:00",null,{"$f":"IF('Thermisch optimum'!$A$23=7,'Thermisch optimum'!D644,INDEX(G648:L1319,B648,('Thermisch optimum'!$A$23)))","v":194.80519480519482},76.423576423576421,107.4543172690763,149.34250000000003,124.48875,70.279520732604624,194.80519480519482,null,null,null,null,null,null,null,null,null,null,null,null,null,null,null,null,null,null,null,null,null,null,null,0,0]
[null,null,"zondag","2011-01-10T10:30:00",null,{"$f":"IF('Thermisch optimum'!$A$23=7,'Thermisch optimum'!D645,INDEX(G649:L1320,B649,('Thermisch optimum'!$A$23)))","v":194.80519480519482},76.423576423576421,107.4543172690763,149.34250000000003,124.48875,70.279520732604624,194.80519480519482,null,null,null,null,null,null,null,null,null,null,null,null,null,null,null,null,null,null,null,null,null,null,null,0,0]
[null,null,"zondag","2011-01-10T10:45:00",null,{"$f":"IF('Thermisch optimum'!$A$23=7,'Thermisch optimum'!D646,INDEX(G650:L1321,B650,('Thermisch optimum'!$A$23)))","v":194.80519480519482},76.423576423576421,107.4543172690763,149.34250000000003,124.48875,70.279520732604624,194.80519480519482,null,null,null,null,null,null,null,null,null,null,null,null,null,null,null,null,null,null,null,null,null,null,null,0,0]
[null,null,"zondag","2011-01-10T11:00:00",null,{"$f":"IF('Thermisch optimum'!$A$23=7,'Thermisch optimum'!D647,INDEX(G651:L1322,B651,('Thermisch optimum'!$A$23)))","v":182.6298701298702},76.423576423576421,107.28589357429718,146.48275000000001,120.01275,69.35479019664929,182.6298701298702,null,null,null,null,null,null,null,null,null,null,null,null,null,null,null,null,null,null,null,null,null,null,null,0,0]
[null,null,"zondag","2011-01-10T11:15:00",null,{"$f":"IF('Thermisch optimum'!$A$23=7,'Thermisch optimum'!D648,INDEX(G652:L1323,B652,('Thermisch optimum'!$A$23)))","v":182.6298701298702},76.423576423576421,107.28589357429718,146.48275000000001,120.01275,69.35479019664929,182.6298701298702,null,null,null,null,null,null,null,null,null,null,null,null,null,null,null,null,null,null,null,null,null,null,null,0,0]
[null,null,"zondag","2011-01-10T11:30:00",null,{"$f":"IF('Thermisch optimum'!$A$23=7,'Thermisch optimum'!D649,INDEX(G653:L1324,B653,('Thermisch optimum'!$A$23)))","v":182.6298701298702},76.423576423576421,107.28589357429718,146.48275000000001,120.01275,69.35479019664929,182.6298701298702,null,null,null,null,null,null,null,null,null,null,null,null,null,null,null,null,null,null,null,null,null,null,null,0,0]
[null,null,"zondag","2011-01-10T11:45:00",null,{"$f":"IF('Thermisch optimum'!$A$23=7,'Thermisch optimum'!D650,INDEX(G654:L1325,B654,('Thermisch optimum'!$A$23)))","v":182.6298701298702},76.423576423576421,107.28589357429718,146.48275000000001,120.01275,69.35479019664929,182.6298701298702,null,null,null,null,null,null,null,null,null,null,null,null,null,null,null,null,null,null,null,null,null,null,null,0,0]
[null,null,"zondag","2011-01-10T12:00:00",null,{"$f":"IF('Thermisch optimum'!$A$23=7,'Thermisch optimum'!D651,INDEX(G655:L1326,B655,('Thermisch optimum'!$A$23)))","v":178.57142857142861},71.328671328671334,100.5489457831325,142.352,114.97725,68.430059660693971,178.57142857142861,null,null,null,null,null,null,null,null,null,null,null,null,null,null,null,null,null,null,null,null,null,null,null,0,0]
[null,null,"zondag","2011-01-10T12:15:00",null,{"$f":"IF('Thermisch optimum'!$A$23=7,'Thermisch optimum'!D652,INDEX(G656:L1327,B656,('Thermisch optimum'!$A$23)))","v":178.57142857142861},71.328671328671334,100.5489457831325,142.352,114.97725,68.430059660693971,178.57142857142861,null,null,null,null,null,null,null,null,null,null,null,null,null,null,null,null,null,null,null,null,null,null,null,0,0]
[null,null,"zondag","2011-01-10T12:30:00",null,{"$f":"IF('Thermisch optimum'!$A$23=7,'Thermisch optimum'!D653,INDEX(G657:L1328,B657,('Thermisch optimum'!$A$23)))","v":178.57142857142861},71.328671328671334,100.5489457831325,142.352,114.97725,68.430059660693971,178.57142857142861,null,null,null,null,null,null,null,null,null,null,null,null,null,null,null,null,null,null,null,null,null,null,null,0,0]
[null,null,"zondag","2011-01-10T12:45:00",null,{"$f":"IF('Thermisch optimum'!$A$23=7,'Thermisch optimum'!D654,INDEX(G658:L1329,B658,('Thermisch optimum'!$A$23)))","v":178.57142857142861},71.328671328671334,100.5489457831325,142.352,114.97725,68.430059660693971,178.57142857142861,null,null,null,null,null,null,null,null,null,null,null,null,null,null,null,null,null,null,null,null,null,null,null,0,0]
[null,null,"zondag","2011-01-10T13:00:00",null,{"$f":"IF('Thermisch optimum'!$A$23=7,'Thermisch optimum'!D655,INDEX(G659:L1330,B659,('Thermisch optimum'!$A$23)))","v":174.51298701298705},69.630369630369628,94.485692771084317,139.17449999999999,111.34050000000001,66.580598588783346,174.51298701298705,null,null,null,null,null,null,null,null,null,null,null,null,null,null,null,null,null,null,null,null,null,null,null,0,0]
[null,null,"zondag","2011-01-10T13:15:00",null,{"$f":"IF('Thermisch optimum'!$A$23=7,'Thermisch optimum'!D656,INDEX(G660:L1331,B660,('Thermisch optimum'!$A$23)))","v":174.51298701298705},69.630369630369628,94.485692771084317,139.17449999999999,111.34050000000001,66.580598588783346,174.51298701298705,null,null,null,null,null,null,null,null,null,null,null,null,null,null,null,null,null,null,null,null,null,null,null,0,0]
[null,null,"zondag","2011-01-10T13:30:00",null,{"$f":"IF('Thermisch optimum'!$A$23=7,'Thermisch optimum'!D657,INDEX(G661:L1332,B661,('Thermisch optimum'!$A$23)))","v":174.51298701298705},69.630369630369628,94.485692771084317,139.17449999999999,111.34050000000001,66.580598588783346,174.51298701298705,null,null,null,null,null,null,null,null,null,null,null,null,null,null,null,null,null,null,null,null,null,null,null,0,0]
[null,null,"zondag","2011-01-10T13:45:00",null,{"$f":"IF('Thermisch optimum'!$A$23=7,'Thermisch optimum'!D658,INDEX(G662:L1333,B662,('Thermisch optimum'!$A$23)))","v":174.51298701298705},69.630369630369628,94.485692771084317,139.17449999999999,111.34050000000001,66.580598588783346,174.51298701298705,null,null,null,null,null,null,null,null,null,null,null,null,null,null,null,null,null,null,null,null,null,null,null,0,0]
[null,null,"zondag","2011-01-10T14:00:00",null,{"$f":"IF('Thermisch optimum'!$A$23=7,'Thermisch optimum'!D659,INDEX(G663:L1334,B663,('Thermisch optimum'!$A$23)))","v":170.45454545454552},69.630369630369628,86.232931726907609,138.85675000000001,111.34050000000001,63.806406980917359,170.45454545454552,null,null,null,null,null,null,null,null,null,null,null,null,null,null,null,null,null,null,null,null,null,null,null,0,0]
[null,null,"zondag","2011-01-10T14:15:00",null,{"$f":"IF('Thermisch optimum'!$A$23=7,'Thermisch optimum'!D660,INDEX(G664:L1335,B664,('Thermisch optimum'!$A$23)))","v":170.45454545454552},69.630369630369628,86.232931726907609,138.85675000000001,111.34050000000001,63.806406980917359,170.45454545454552,null,null,null,null,null,null,null,null,null,null,null,null,null,null,null,null,null,null,null,null,null,null,null,0,0]
[null,null,"zondag","2011-01-10T14:30:00",null,{"$f":"IF('Thermisch optimum'!$A$23=7,'Thermisch optimum'!D661,INDEX(G665:L1336,B665,('Thermisch optimum'!$A$23)))","v":170.45454545454552},69.630369630369628,86.232931726907609,138.85675000000001,111.34050000000001,63.806406980917359,170.45454545454552,null,null,null,null,null,null,null,null,null,null,null,null,null,null,null,null,null,null,null,null,null,null,null,0,0]
[null,null,"zondag","2011-01-10T14:45:00",null,{"$f":"IF('Thermisch optimum'!$A$23=7,'Thermisch optimum'!D662,INDEX(G666:L1337,B666,('Thermisch optimum'!$A$23)))","v":170.45454545454552},69.630369630369628,86.232931726907609,138.85675000000001,111.34050000000001,63.806406980917359,170.45454545454552,null,null,null,null,null,null,null,null,null,null,null,null,null,null,null,null,null,null,null,null,null,null,null,0,0]
[null,null,"zondag","2011-01-10T15:00:00",null,{"$f":"IF('Thermisch optimum'!$A$23=7,'Thermisch optimum'!D663,INDEX(G667:L1338,B667,('Thermisch optimum'!$A$23)))","v":170.45454545454552},66.233766233766247,76.801204819277089,140.44550000000001,108.82275,61.956945909006713,170.45454545454552,null,null,null,null,null,null,null,null,null,null,null,null,null,null,null,null,null,null,null,null,null,null,null,0,0]
[null,null,"zondag","2011-01-10T15:15:00",null,{"$f":"IF('Thermisch optimum'!$A$23=7,'Thermisch optimum'!D664,INDEX(G668:L1339,B668,('Thermisch optimum'!$A$23)))","v":170.45454545454552},66.233766233766247,76.801204819277089,140.44550000000001,108.82275,61.956945909006713,170.45454545454552,null,null,null,null,null,null,null,null,null,null,null,null,null,null,null,null,null,null,null,null,null,null,null,0,0]
[null,null,"zondag","2011-01-10T15:30:00",null,{"$f":"IF('Thermisch optimum'!$A$23=7,'Thermisch optimum'!D665,INDEX(G669:L1340,B669,('Thermisch optimum'!$A$23)))","v":170.45454545454552},66.233766233766247,76.801204819277089,140.44550000000001,108.82275,61.956945909006713,170.45454545454552,null,null,null,null,null,null,null,null,null,null,null,null,null,null,null,null,null,null,null,null,null,null,null,0,0]
[null,null,"zondag","2011-01-10T15:45:00",null,{"$f":"IF('Thermisch optimum'!$A$23=7,'Thermisch optimum'!D666,INDEX(G670:L1341,B670,('Thermisch optimum'!$A$23)))","v":170.45454545454552},66.233766233766247,76.801204819277089,140.44550000000001,108.82275,61.956945909006713,170.45454545454552,null,null,null,null,null,null,null,null,null,null,null,null,null,null,null,null,null,null,null,null,null,null,null,0,0]
[null,null,"zondag","2011-01-10T16:00:00",null,{"$f":"IF('Thermisch optimum'!$A$23=7,'Thermisch optimum'!D667,INDEX(G671:L1342,B671,('Thermisch optimum'!$A$23)))","v":174.51298701298705},59.44055944055944,79.664407630522078,138.85675000000001,101.54925,33.567718455178259,174.51298701298705,null,null,null,null,null,null,null,null,null,null,null,null,null,null,null,null,null,null,null,null,null,null,null,0,{"$f":"IF(AJ671=0,E671,0)","v":0}]
[null,null,"zondag","2011-01-10T16:15:00",null,{"$f":"IF('Thermisch optimum'!$A$23=7,'Thermisch optimum'!D668,INDEX(G672:L1343,B672,('Thermisch optimum'!$A$23)))","v":174.51298701298705},59.44055944055944,79.664407630522078,138.85675000000001,101.54925,33.567718455178259,174.51298701298705,null,null,null,null,null,null,null,null,null,null,null,null,null,null,null,null,null,null,null,null,null,null,null,0,0]
[null,null,"zondag",{"$f":"D672+1/96","v":"2011-01-10T16:30:00"},null,{"$f":"IF('Thermisch optimum'!$A$23=7,'Thermisch optimum'!D669,INDEX(G673:L1344,B673,('Thermisch optimum'!$A$23)))","v":174.51298701298705},59.44055944055944,79.664407630522078,138.85675000000001,101.54925,33.567718455178259,174.51298701298705,null,null,null,null,null,null,null,null,null,null,null,null,null,null,null,null,null,null,null,null,null,null,null,0,0]
[null,null,"zondag","2011-01-10T16:45:00",null,{"$f":"IF('Thermisch optimum'!$A$23=7,'Thermisch optimum'!D670,INDEX(G674:L1345,B674,('Thermisch optimum'!$A$23)))","v":174.51298701298705},59.44055944055944,79.664407630522078,138.85675000000001,101.54925,33.567718455178259,174.51298701298705,null,null,null,null,null,null,null,null,null,null,null,null,null,null,null,null,null,null,null,null,null,null,null,0,0]
[null,null,"zondag","2011-01-10T17:00:00",null,{"$f":"IF('Thermisch optimum'!$A$23=7,'Thermisch optimum'!D671,INDEX(G675:L1346,B675,('Thermisch optimum'!$A$23)))","v":186.68831168831173},62.837162837162843,85.222389558232905,141.39875000000001,105.18599999999999,9.2473053595532395,186.68831168831173,null,null,null,null,null,null,null,null,null,null,null,null,null,null,null,null,null,null,null,null,null,null,null,0,0]
[null,null,"zondag","2011-01-10T17:15:00",null,{"$f":"IF('Thermisch optimum'!$A$23=7,'Thermisch optimum'!D672,INDEX(G676:L1347,B676,('Thermisch optimum'!$A$23)))","v":186.68831168831173},62.837162837162843,85.222389558232905,141.39875000000001,105.18599999999999,9.2473053595532395,186.68831168831173,null,null,null,null,null,null,null,null,null,null,null,null,null,null,null,null,null,null,null,null,null,null,null,0,0]
[null,null,"zondag","2011-01-10T17:30:00",null,{"$f":"IF('Thermisch optimum'!$A$23=7,'Thermisch optimum'!D673,INDEX(G677:L1348,B677,('Thermisch optimum'!$A$23)))","v":186.68831168831173},62.837162837162843,85.222389558232905,141.39875000000001,105.18599999999999,9.2473053595532395,186.68831168831173,null,null,null,null,null,null,null,null,null,null,null,null,null,null,null,null,null,null,null,null,null,null,null,0,0]
[null,null,"zondag","2011-01-10T17:45:00",null,{"$f":"IF('Thermisch optimum'!$A$23=7,'Thermisch optimum'!D674,INDEX(G678:L1349,B678,('Thermisch optimum'!$A$23)))","v":186.68831168831173},62.837162837162843,85.222389558232905,141.39875000000001,105.18599999999999,9.2473053595532395,186.68831168831173,null,null,null,null,null,null,null,null,null,null,null,null,null,null,null,null,null,null,null,null,null,null,null,0,0]
[null,null,"zondag","2011-01-10T18:00:00",null,{"$f":"IF('Thermisch optimum'!$A$23=7,'Thermisch optimum'!D675,INDEX(G679:L1350,B679,('Thermisch optimum'!$A$23)))","v":194.80519480519482},71.328671328671334,72.590612449799167,149.66024999999999,113.01899999999999,9.2473053595532395,194.80519480519482,null,null,null,null,null,null,null,null,null,null,null,null,null,null,null,null,null,null,null,null,null,null,null,0,0]
[null,null,"zondag","2011-01-10T18:15:00",null,{"$f":"IF('Thermisch optimum'!$A$23=7,'Thermisch optimum'!D676,INDEX(G680:L1351,B680,('Thermisch optimum'!$A$23)))","v":194.80519480519482},71.328671328671334,72.590612449799167,149.66024999999999,113.01899999999999,9.2473053595532395,194.80519480519482,null,null,null,null,null,null,null,null,null,null,null,null,null,null,null,null,null,null,null,null,null,null,null,0,0]
[null,null,"zondag","2011-01-10T18:30:00",null,{"$f":"IF('Thermisch optimum'!$A$23=7,'Thermisch optimum'!D677,INDEX(G681:L1352,B681,('Thermisch optimum'!$A$23)))","v":194.80519480519482},71.328671328671334,72.590612449799167,149.66024999999999,113.01899999999999,9.2473053595532395,194.80519480519482,null,null,null,null,null,null,null,null,null,null,null,null,null,null,null,null,null,null,null,null,null,null,null,0,0]
[null,null,"zondag","2011-01-10T18:45:00",null,{"$f":"IF('Thermisch optimum'!$A$23=7,'Thermisch optimum'!D678,INDEX(G682:L1353,B682,('Thermisch optimum'!$A$23)))","v":194.80519480519482},71.328671328671334,72.590612449799167,149.66024999999999,113.01899999999999,9.2473053595532395,194.80519480519482,null,null,null,null,null,null,null,null,null,null,null,null,null,null,null,null,null,null,null,null,null,null,null,0,0]
[null,null,"zondag","2011-01-10T19:00:00",null,{"$f":"IF('Thermisch optimum'!$A$23=7,'Thermisch optimum'!D679,INDEX(G683:L1354,B683,('Thermisch optimum'!$A$23)))","v":194.80519480519482},59.44055944055944,48.67444779116466,142.352,101.54925,9.2473053595532395,194.80519480519482,null,null,null,null,null,null,null,null,null,null,null,null,null,null,null,null,null,null,null,null,null,null,null,0,0]
[null,null,"zondag","2011-01-10T19:15:00",null,{"$f":"IF('Thermisch optimum'!$A$23=7,'Thermisch optimum'!D680,INDEX(G684:L1355,B684,('Thermisch optimum'!$A$23)))","v":194.80519480519482},59.44055944055944,48.67444779116466,142.352,101.54925,9.2473053595532395,194.80519480519482,null,null,null,null,null,null,null,null,null,null,null,null,null,null,null,null,null,null,null,null,null,null,null,0,0]
[null,null,"zondag","2011-01-10T19:30:00",null,{"$f":"IF('Thermisch optimum'!$A$23=7,'Thermisch optimum'!D681,INDEX(G685:L1356,B685,('Thermisch optimum'!$A$23)))","v":194.80519480519482},59.44055944055944,48.67444779116466,142.352,101.54925,9.2473053595532395,194.80519480519482,null,null,null,null,null,null,null,null,null,null,null,null,null,null,null,null,null,null,null,null,null,null,null,0,0]
[null,null,"zondag","2011-01-10T19:45:00",null,{"$f":"IF('Thermisch optimum'!$A$23=7,'Thermisch optimum'!D682,INDEX(G686:L1357,B686,('Thermisch optimum'!$A$23)))","v":194.80519480519482},59.44055944055944,48.67444779116466,142.352,101.54925,9.2473053595532395,194.80519480519482,null,null,null,null,null,null,null,null,null,null,null,null,null,null,null,null,null,null,null,null,null,null,null,0,0]
[null,null,"zondag","2011-01-10T20:00:00",null,{"$f":"IF('Thermisch optimum'!$A$23=7,'Thermisch optimum'!D683,INDEX(G687:L1358,B687,('Thermisch optimum'!$A$23)))","v":198.86363636363637},42.457542457542466,41.095381526104404,134.726,87.281999999999996,9.2473053595532395,198.86363636363637,null,null,null,null,null,null,null,null,null,null,null,null,null,null,null,null,null,null,null,null,null,null,null,0,0]
[null,null,"zondag","2011-01-10T20:15:00",null,{"$f":"IF('Thermisch optimum'!$A$23=7,'Thermisch optimum'!D684,INDEX(G688:L1359,B688,('Thermisch optimum'!$A$23)))","v":198.86363636363637},42.457542457542466,41.095381526104404,134.726,87.281999999999996,9.2473053595532395,198.86363636363637,null,null,null,null,null,null,null,null,null,null,null,null,null,null,null,null,null,null,null,null,null,null,null,0,0]
[null,null,"zondag","2011-01-10T20:30:00",null,{"$f":"IF('Thermisch optimum'!$A$23=7,'Thermisch optimum'!D685,INDEX(G689:L1360,B689,('Thermisch optimum'!$A$23)))","v":198.86363636363637},42.457542457542466,41.095381526104404,134.726,87.281999999999996,9.2473053595532395,198.86363636363637,null,null,null,null,null,null,null,null,null,null,null,null,null,null,null,null,null,null,null,null,null,null,null,0,0]
[null,null,"zondag","2011-01-10T20:45:00",null,{"$f":"IF('Thermisch optimum'!$A$23=7,'Thermisch optimum'!D686,INDEX(G690:L1361,B690,('Thermisch optimum'!$A$23)))","v":198.86363636363637},42.457542457542466,41.095381526104404,134.726,87.281999999999996,9.2473053595532395,198.86363636363637,null,null,null,null,null,null,null,null,null,null,null,null,null,null,null,null,null,null,null,null,null,null,null,0,0]
[null,null,"zondag","2011-01-10T21:00:00",null,{"$f":"IF('Thermisch optimum'!$A$23=7,'Thermisch optimum'!D687,INDEX(G691:L1362,B691,('Thermisch optimum'!$A$23)))","v":194.80519480519482},44.155844155844157,40.421686746987938,135.04374999999999,89.799749999999989,9.2473053595532395,194.80519480519482,null,null,null,null,null,null,null,null,null,null,null,null,null,null,null,null,null,null,null,null,null,null,null,0,0]
[null,null,"zondag","2011-01-10T21:15:00",null,{"$f":"IF('Thermisch optimum'!$A$23=7,'Thermisch optimum'!D688,INDEX(G692:L1363,B692,('Thermisch optimum'!$A$23)))","v":194.80519480519482},44.155844155844157,40.421686746987938,135.04374999999999,89.799749999999989,9.2473053595532395,194.80519480519482,null,null,null,null,null,null,null,null,null,null,null,null,null,null,null,null,null,null,null,null,null,null,null,0,0]
[null,null,"zondag","2011-01-10T21:30:00",null,{"$f":"IF('Thermisch optimum'!$A$23=7,'Thermisch optimum'!D689,INDEX(G693:L1364,B693,('Thermisch optimum'!$A$23)))","v":194.80519480519482},44.155844155844157,40.421686746987938,135.04374999999999,89.799749999999989,9.2473053595532395,194.80519480519482,null,null,null,null,null,null,null,null,null,null,null,null,null,null,null,null,null,null,null,null,null,null,null,0,0]
[null,null,"zondag","2011-01-10T21:45:00",null,{"$f":"IF('Thermisch optimum'!$A$23=7,'Thermisch optimum'!D690,INDEX(G694:L1365,B694,('Thermisch optimum'!$A$23)))","v":194.80519480519482},44.155844155844157,40.421686746987938,135.04374999999999,89.799749999999989,9.2473053595532395,194.80519480519482,null,null,null,null,null,null,null,null,null,null,null,null,null,null,null,null,null,null,null,null,null,null,null,0,0]
[null,null,"zondag","2011-01-10T22:00:00",null,{"$f":"IF('Thermisch optimum'!$A$23=7,'Thermisch optimum'!D691,INDEX(G695:L1366,B695,('Thermisch optimum'!$A$23)))","v":174.51298701298705},44.155844155844157,40.084839357429708,108.35275000000001,90.359249999999989,9.2473053595532395,174.51298701298705,null,null,null,null,null,null,null,null,null,null,null,null,null,null,null,null,null,null,null,null,null,null,null,0,0]
[null,null,"zondag","2011-01-10T22:15:00",null,{"$f":"IF('Thermisch optimum'!$A$23=7,'Thermisch optimum'!D692,INDEX(G696:L1367,B696,('Thermisch optimum'!$A$23)))","v":174.51298701298705},44.155844155844157,40.084839357429708,108.35275000000001,90.359249999999989,9.2473053595532395,174.51298701298705,null,null,null,null,null,null,null,null,null,null,null,null,null,null,null,null,null,null,null,null,null,null,null,0,0]
[null,null,"zondag","2011-01-10T22:30:00",null,{"$f":"IF('Thermisch optimum'!$A$23=7,'Thermisch optimum'!D693,INDEX(G697:L1368,B697,('Thermisch optimum'!$A$23)))","v":174.51298701298705},44.155844155844157,40.084839357429708,108.35275000000001,90.359249999999989,9.2473053595532395,174.51298701298705,null,null,null,null,null,null,null,null,null,null,null,null,null,null,null,null,null,null,null,null,null,null,null,0,0]
[null,null,"zondag","2011-01-10T22:45:00",null,{"$f":"IF('Thermisch optimum'!$A$23=7,'Thermisch optimum'!D694,INDEX(G698:L1369,B698,('Thermisch optimum'!$A$23)))","v":174.51298701298705},44.155844155844157,40.084839357429708,108.35275000000001,90.359249999999989,9.2473053595532395,174.51298701298705,null,null,null,null,null,null,null,null,null,null,null,null,null,null,null,null,null,null,null,null,null,null,null,0,0]
[null,null,"zondag","2011-01-10T23:00:00",null,{"$f":"IF('Thermisch optimum'!$A$23=7,'Thermisch optimum'!D695,INDEX(G699:L1370,B699,('Thermisch optimum'!$A$23)))","v":89.285714285714306},47.552447552447546,45.642821285140556,106.76400000000001,93.716250000000002,9.2473053595532395,89.285714285714306,null,null,null,null,null,null,null,null,null,null,null,null,null,null,null,null,null,null,null,null,null,null,null,0,0]
[null,null,"zondag","2011-01-10T23:15:00",null,{"$f":"IF('Thermisch optimum'!$A$23=7,'Thermisch optimum'!D696,INDEX(G700:L1371,B700,('Thermisch optimum'!$A$23)))","v":89.285714285714306},47.552447552447546,45.642821285140556,106.76400000000001,93.716250000000002,9.2473053595532395,89.285714285714306,null,null,null,null,null,null,null,null,null,null,null,null,null,null,null,null,null,null,null,null,null,null,null,0,0]
[null,null,"zondag","2011-01-10T23:30:00",null,{"$f":"IF('Thermisch optimum'!$A$23=7,'Thermisch optimum'!D697,INDEX(G701:L1372,B701,('Thermisch optimum'!$A$23)))","v":89.285714285714306},47.552447552447546,45.642821285140556,106.76400000000001,93.716250000000002,9.2473053595532395,89.285714285714306,null,null,null,null,null,null,null,null,null,null,null,null,null,null,null,null,null,null,null,null,null,null,null,0,0]
[null,null,"zondag","2011-01-10T23:45:00",null,{"$f":"IF('Thermisch optimum'!$A$23=7,'Thermisch optimum'!D698,INDEX(G702:L1373,B702,('Thermisch optimum'!$A$23)))","v":89.285714285714306},47.552447552447546,45.642821285140556,106.76400000000001,93.716250000000002,9.2473053595532395,89.285714285714306,null,null,null,null,null,null,null,null,null,null,null,null,null,null,null,null,null,null,null,null,null,null,null,0,0]
[null,null,"jour férié",null,{"$f":"N31","v":0},{"$f":"IF('Thermisch optimum'!$A$23=7,'Thermisch optimum'!D699,INDEX(G703:L1374,B703,('Thermisch optimum'!$A$23)))","v":0}]
[null,null,null,null,0,{"$f":"IF('Thermisch optimum'!$A$23=7,'Thermisch optimum'!D700,INDEX(G704:L1375,B704,('Thermisch optimum'!$A$23)))","v":0}]
[null,null,null,null,0,{"$f":"IF('Thermisch optimum'!$A$23=7,'Thermisch optimum'!D701,INDEX(G705:L1376,B705,('Thermisch optimum'!$A$23)))","v":0}]
[null,null,null,null,0,{"$f":"IF('Thermisch optimum'!$A$23=7,'Thermisch optimum'!D702,INDEX(G706:L1377,B706,('Thermisch optimum'!$A$23)))","v":0}]
[null,null,null,null,0,{"$f":"IF('Thermisch optimum'!$A$23=7,'Thermisch optimum'!D703,INDEX(G707:L1378,B707,('Thermisch optimum'!$A$23)))","v":0}]
[null,null,null,null,0,{"$f":"IF('Thermisch optimum'!$A$23=7,'Thermisch optimum'!D704,INDEX(G708:L1379,B708,('Thermisch optimum'!$A$23)))","v":0}]
[null,null,null,null,0,{"$f":"IF('Thermisch optimum'!$A$23=7,'Thermisch optimum'!D705,INDEX(G709:L1380,B709,('Thermisch optimum'!$A$23)))","v":0}]
[null,null,null,null,0,{"$f":"IF('Thermisch optimum'!$A$23=7,'Thermisch optimum'!D706,INDEX(G710:L1381,B710,('Thermisch optimum'!$A$23)))","v":0}]
[null,null,null,null,0,{"$f":"IF('Thermisch optimum'!$A$23=7,'Thermisch optimum'!D707,INDEX(G711:L1382,B711,('Thermisch optimum'!$A$23)))","v":0}]
[null,null,null,null,0,{"$f":"IF('Thermisch optimum'!$A$23=7,'Thermisch optimum'!D708,INDEX(G712:L1383,B712,('Thermisch optimum'!$A$23)))","v":0}]
[null,null,null,null,0,{"$f":"IF('Thermisch optimum'!$A$23=7,'Thermisch optimum'!D709,INDEX(G713:L1384,B713,('Thermisch optimum'!$A$23)))","v":0}]
[null,null,null,null,0,{"$f":"IF('Thermisch optimum'!$A$23=7,'Thermisch optimum'!D710,INDEX(G714:L1385,B714,('Thermisch optimum'!$A$23)))","v":0}]
[null,null,null,null,0,{"$f":"IF('Thermisch optimum'!$A$23=7,'Thermisch optimum'!D711,INDEX(G715:L1386,B715,('Thermisch optimum'!$A$23)))","v":0}]
[null,null,null,null,0,{"$f":"IF('Thermisch optimum'!$A$23=7,'Thermisch optimum'!D712,INDEX(G716:L1387,B716,('Thermisch optimum'!$A$23)))","v":0}]
[null,null,null,null,0,{"$f":"IF('Thermisch optimum'!$A$23=7,'Thermisch optimum'!D713,INDEX(G717:L1388,B717,('Thermisch optimum'!$A$23)))","v":0}]
[null,null,null,null,0,{"$f":"IF('Thermisch optimum'!$A$23=7,'Thermisch optimum'!D714,INDEX(G718:L1389,B718,('Thermisch optimum'!$A$23)))","v":0}]
[null,null,null,null,{"$f":"N47","v":0},{"$f":"IF('Thermisch optimum'!$A$23=7,'Thermisch optimum'!D715,INDEX(G719:L1390,B719,('Thermisch optimum'!$A$23)))","v":0}]
[null,null,null,null,0,{"$f":"IF('Thermisch optimum'!$A$23=7,'Thermisch optimum'!D716,INDEX(G720:L1391,B720,('Thermisch optimum'!$A$23)))","v":0}]
[null,null,null,null,0,{"$f":"IF('Thermisch optimum'!$A$23=7,'Thermisch optimum'!D717,INDEX(G721:L1392,B721,('Thermisch optimum'!$A$23)))","v":0}]
[null,null,null,null,0,{"$f":"IF('Thermisch optimum'!$A$23=7,'Thermisch optimum'!D718,INDEX(G722:L1393,B722,('Thermisch optimum'!$A$23)))","v":0}]
[null,null,null,null,0,{"$f":"IF('Thermisch optimum'!$A$23=7,'Thermisch optimum'!D719,INDEX(G723:L1394,B723,('Thermisch optimum'!$A$23)))","v":0}]
[null,null,null,null,0,{"$f":"IF('Thermisch optimum'!$A$23=7,'Thermisch optimum'!D720,INDEX(G724:L1395,B724,('Thermisch optimum'!$A$23)))","v":0}]
[null,null,null,null,0,{"$f":"IF('Thermisch optimum'!$A$23=7,'Thermisch optimum'!D721,INDEX(G725:L1396,B725,('Thermisch optimum'!$A$23)))","v":0}]
[null,null,null,null,0,{"$f":"IF('Thermisch optimum'!$A$23=7,'Thermisch optimum'!D722,INDEX(G726:L1397,B726,('Thermisch optimum'!$A$23)))","v":0}]
[null,null,null,null,0,{"$f":"IF('Thermisch optimum'!$A$23=7,'Thermisch optimum'!D723,INDEX(G727:L1398,B727,('Thermisch optimum'!$A$23)))","v":0}]
[null,null,null,null,0,{"$f":"IF('Thermisch optimum'!$A$23=7,'Thermisch optimum'!D724,INDEX(G728:L1399,B728,('Thermisch optimum'!$A$23)))","v":0}]
[null,null,null,null,0,{"$f":"IF('Thermisch optimum'!$A$23=7,'Thermisch optimum'!D725,INDEX(G729:L1400,B729,('Thermisch optimum'!$A$23)))","v":0}]
[null,null,null,null,0,{"$f":"IF('Thermisch optimum'!$A$23=7,'Thermisch optimum'!D726,INDEX(G730:L1401,B730,('Thermisch optimum'!$A$23)))","v":0}]
[null,null,null,null,0,{"$f":"IF('Thermisch optimum'!$A$23=7,'Thermisch optimum'!D727,INDEX(G731:L1402,B731,('Thermisch optimum'!$A$23)))","v":0}]
[null,null,null,null,0,{"$f":"IF('Thermisch optimum'!$A$23=7,'Thermisch optimum'!D728,INDEX(G732:L1403,B732,('Thermisch optimum'!$A$23)))","v":0}]
[null,null,null,null,0,{"$f":"IF('Thermisch optimum'!$A$23=7,'Thermisch optimum'!D729,INDEX(G733:L1404,B733,('Thermisch optimum'!$A$23)))","v":0}]
[null,null,null,null,0,{"$f":"IF('Thermisch optimum'!$A$23=7,'Thermisch optimum'!D730,INDEX(G734:L1405,B734,('Thermisch optimum'!$A$23)))","v":0}]
[null,null,null,null,{"$f":"N63","v":0},{"$f":"IF('Thermisch optimum'!$A$23=7,'Thermisch optimum'!D731,INDEX(G735:L1406,B735,('Thermisch optimum'!$A$23)))","v":0}]
[null,null,null,null,0,{"$f":"IF('Thermisch optimum'!$A$23=7,'Thermisch optimum'!D732,INDEX(G736:L1407,B736,('Thermisch optimum'!$A$23)))","v":0}]
[null,null,null,null,0,{"$f":"IF('Thermisch optimum'!$A$23=7,'Thermisch optimum'!D733,INDEX(G737:L1408,B737,('Thermisch optimum'!$A$23)))","v":0}]
[null,null,null,null,0,{"$f":"IF('Thermisch optimum'!$A$23=7,'Thermisch optimum'!D734,INDEX(G738:L1409,B738,('Thermisch optimum'!$A$23)))","v":0}]
[null,null,null,null,0,{"$f":"IF('Thermisch optimum'!$A$23=7,'Thermisch optimum'!D735,INDEX(G739:L1410,B739,('Thermisch optimum'!$A$23)))","v":0}]
[null,null,null,null,0,{"$f":"IF('Thermisch optimum'!$A$23=7,'Thermisch optimum'!D736,INDEX(G740:L1411,B740,('Thermisch optimum'!$A$23)))","v":0}]
[null,null,null,null,0,{"$f":"IF('Thermisch optimum'!$A$23=7,'Thermisch optimum'!D737,INDEX(G741:L1412,B741,('Thermisch optimum'!$A$23)))","v":0}]
[null,null,null,null,0,{"$f":"IF('Thermisch optimum'!$A$23=7,'Thermisch optimum'!D738,INDEX(G742:L1413,B742,('Thermisch optimum'!$A$23)))","v":0}]
[null,null,null,null,0,{"$f":"IF('Thermisch optimum'!$A$23=7,'Thermisch optimum'!D739,INDEX(G743:L1414,B743,('Thermisch optimum'!$A$23)))","v":0}]
[null,null,null,null,0,{"$f":"IF('Thermisch optimum'!$A$23=7,'Thermisch optimum'!D740,INDEX(G744:L1415,B744,('Thermisch optimum'!$A$23)))","v":0}]
[null,null,null,null,0,{"$f":"IF('Thermisch optimum'!$A$23=7,'Thermisch optimum'!D741,INDEX(G745:L1416,B745,('Thermisch optimum'!$A$23)))","v":0}]
[null,null,null,null,0,{"$f":"IF('Thermisch optimum'!$A$23=7,'Thermisch optimum'!D742,INDEX(G746:L1417,B746,('Thermisch optimum'!$A$23)))","v":0}]
[null,null,null,null,0,{"$f":"IF('Thermisch optimum'!$A$23=7,'Thermisch optimum'!D743,INDEX(G747:L1418,B747,('Thermisch optimum'!$A$23)))","v":0}]
[null,null,null,null,0,{"$f":"IF('Thermisch optimum'!$A$23=7,'Thermisch optimum'!D744,INDEX(G748:L1419,B748,('Thermisch optimum'!$A$23)))","v":0}]
[null,null,null,null,0,{"$f":"IF('Thermisch optimum'!$A$23=7,'Thermisch optimum'!D745,INDEX(G749:L1420,B749,('Thermisch optimum'!$A$23)))","v":0}]
[null,null,null,null,0,{"$f":"IF('Thermisch optimum'!$A$23=7,'Thermisch optimum'!D746,INDEX(G750:L1421,B750,('Thermisch optimum'!$A$23)))","v":0}]
[null,null,null,null,0,{"$f":"IF('Thermisch optimum'!$A$23=7,'Thermisch optimum'!D747,INDEX(G751:L1422,B751,('Thermisch optimum'!$A$23)))","v":0}]
[null,null,null,null,0,{"$f":"IF('Thermisch optimum'!$A$23=7,'Thermisch optimum'!D748,INDEX(G752:L1423,B752,('Thermisch optimum'!$A$23)))","v":0}]
[null,null,null,null,0,{"$f":"IF('Thermisch optimum'!$A$23=7,'Thermisch optimum'!D749,INDEX(G753:L1424,B753,('Thermisch optimum'!$A$23)))","v":0}]
[null,null,null,null,0,{"$f":"IF('Thermisch optimum'!$A$23=7,'Thermisch optimum'!D750,INDEX(G754:L1425,B754,('Thermisch optimum'!$A$23)))","v":0}]
[null,null,null,null,0,{"$f":"IF('Thermisch optimum'!$A$23=7,'Thermisch optimum'!D751,INDEX(G755:L1426,B755,('Thermisch optimum'!$A$23)))","v":0}]
[null,null,null,null,0,{"$f":"IF('Thermisch optimum'!$A$23=7,'Thermisch optimum'!D752,INDEX(G756:L1427,B756,('Thermisch optimum'!$A$23)))","v":0}]
[null,null,null,null,0,{"$f":"IF('Thermisch optimum'!$A$23=7,'Thermisch optimum'!D753,INDEX(G757:L1428,B757,('Thermisch optimum'!$A$23)))","v":0}]
[null,null,null,null,0,{"$f":"IF('Thermisch optimum'!$A$23=7,'Thermisch optimum'!D754,INDEX(G758:L1429,B758,('Thermisch optimum'!$A$23)))","v":0}]
[null,null,null,null,0,{"$f":"IF('Thermisch optimum'!$A$23=7,'Thermisch optimum'!D755,INDEX(G759:L1430,B759,('Thermisch optimum'!$A$23)))","v":0}]
[null,null,null,null,0,{"$f":"IF('Thermisch optimum'!$A$23=7,'Thermisch optimum'!D756,INDEX(G760:L1431,B760,('Thermisch optimum'!$A$23)))","v":0}]
[null,null,null,null,0,{"$f":"IF('Thermisch optimum'!$A$23=7,'Thermisch optimum'!D757,INDEX(G761:L1432,B761,('Thermisch optimum'!$A$23)))","v":0}]
[null,null,null,null,0,{"$f":"IF('Thermisch optimum'!$A$23=7,'Thermisch optimum'!D758,INDEX(G762:L1433,B762,('Thermisch optimum'!$A$23)))","v":0}]
[null,null,null,null,0,{"$f":"IF('Thermisch optimum'!$A$23=7,'Thermisch optimum'!D759,INDEX(G763:L1434,B763,('Thermisch optimum'!$A$23)))","v":0}]
[null,null,null,null,0,{"$f":"IF('Thermisch optimum'!$A$23=7,'Thermisch optimum'!D760,INDEX(G764:L1435,B764,('Thermisch optimum'!$A$23)))","v":0}]
[null,null,null,null,0,{"$f":"IF('Thermisch optimum'!$A$23=7,'Thermisch optimum'!D761,INDEX(G765:L1436,B765,('Thermisch optimum'!$A$23)))","v":0}]
[null,null,null,null,0,{"$f":"IF('Thermisch optimum'!$A$23=7,'Thermisch optimum'!D762,INDEX(G766:L1437,B766,('Thermisch optimum'!$A$23)))","v":0}]
[null,null,null,null,{"$f":"N95","v":0},{"$f":"IF('Thermisch optimum'!$A$23=7,'Thermisch optimum'!D763,INDEX(G767:L1438,B767,('Thermisch optimum'!$A$23)))","v":0}]
[null,null,null,null,0,{"$f":"IF('Thermisch optimum'!$A$23=7,'Thermisch optimum'!D764,INDEX(G768:L1439,B768,('Thermisch optimum'!$A$23)))","v":0}]
[null,null,null,null,0,{"$f":"IF('Thermisch optimum'!$A$23=7,'Thermisch optimum'!D765,INDEX(G769:L1440,B769,('Thermisch optimum'!$A$23)))","v":0}]
[null,null,null,null,0,{"$f":"IF('Thermisch optimum'!$A$23=7,'Thermisch optimum'!D766,INDEX(G770:L1441,B770,('Thermisch optimum'!$A$23)))","v":0}]
[null,null,null,null,0,{"$f":"IF('Thermisch optimum'!$A$23=7,'Thermisch optimum'!D767,INDEX(G771:L1442,B771,('Thermisch optimum'!$A$23)))","v":0}]
[null,null,null,null,0,{"$f":"IF('Thermisch optimum'!$A$23=7,'Thermisch optimum'!D768,INDEX(G772:L1443,B772,('Thermisch optimum'!$A$23)))","v":0}]
[null,null,null,null,0,{"$f":"IF('Thermisch optimum'!$A$23=7,'Thermisch optimum'!D769,INDEX(G773:L1444,B773,('Thermisch optimum'!$A$23)))","v":0}]
[null,null,null,null,0,{"$f":"IF('Thermisch optimum'!$A$23=7,'Thermisch optimum'!D770,INDEX(G774:L1445,B774,('Thermisch optimum'!$A$23)))","v":0}]
[null,null,null,null,0,{"$f":"IF('Thermisch optimum'!$A$23=7,'Thermisch optimum'!D771,INDEX(G775:L1446,B775,('Thermisch optimum'!$A$23)))","v":0}]
[null,null,null,null,0,{"$f":"IF('Thermisch optimum'!$A$23=7,'Thermisch optimum'!D772,INDEX(G776:L1447,B776,('Thermisch optimum'!$A$23)))","v":0}]
[null,null,null,null,0,{"$f":"IF('Thermisch optimum'!$A$23=7,'Thermisch optimum'!D773,INDEX(G777:L1448,B777,('Thermisch optimum'!$A$23)))","v":0}]
[null,null,null,null,0,{"$f":"IF('Thermisch optimum'!$A$23=7,'Thermisch optimum'!D774,INDEX(G778:L1449,B778,('Thermisch optimum'!$A$23)))","v":0}]
[null,null,null,null,0,{"$f":"IF('Thermisch optimum'!$A$23=7,'Thermisch optimum'!D775,INDEX(G779:L1450,B779,('Thermisch optimum'!$A$23)))","v":0}]
[null,null,null,null,0,{"$f":"IF('Thermisch optimum'!$A$23=7,'Thermisch optimum'!D776,INDEX(G780:L1451,B780,('Thermisch optimum'!$A$23)))","v":0}]
[null,null,null,null,0,{"$f":"IF('Thermisch optimum'!$A$23=7,'Thermisch optimum'!D777,INDEX(G781:L1452,B781,('Thermisch optimum'!$A$23)))","v":0}]
[null,null,null,null,0,{"$f":"IF('Thermisch optimum'!$A$23=7,'Thermisch optimum'!D778,INDEX(G782:L1453,B782,('Thermisch optimum'!$A$23)))","v":0}]
[null,null,null,null,0,{"$f":"IF('Thermisch optimum'!$A$23=7,'Thermisch optimum'!D779,INDEX(G783:L1454,B783,('Thermisch optimum'!$A$23)))","v":0}]
[null,null,null,null,0,{"$f":"IF('Thermisch optimum'!$A$23=7,'Thermisch optimum'!D780,INDEX(G784:L1455,B784,('Thermisch optimum'!$A$23)))","v":0}]
[null,null,null,null,0,{"$f":"IF('Thermisch optimum'!$A$23=7,'Thermisch optimum'!D781,INDEX(G785:L1456,B785,('Thermisch optimum'!$A$23)))","v":0}]
[null,null,null,null,0,{"$f":"IF('Thermisch optimum'!$A$23=7,'Thermisch optimum'!D782,INDEX(G786:L1457,B786,('Thermisch optimum'!$A$23)))","v":0}]
[null,null,null,null,0,{"$f":"IF('Thermisch optimum'!$A$23=7,'Thermisch optimum'!D783,INDEX(G787:L1458,B787,('Thermisch optimum'!$A$23)))","v":0}]
[null,null,null,null,0,{"$f":"IF('Thermisch optimum'!$A$23=7,'Thermisch optimum'!D784,INDEX(G788:L1459,B788,('Thermisch optimum'!$A$23)))","v":0}]
[null,null,null,null,0,{"$f":"IF('Thermisch optimum'!$A$23=7,'Thermisch optimum'!D785,INDEX(G789:L1460,B789,('Thermisch optimum'!$A$23)))","v":0}]
[null,null,null,null,0,{"$f":"IF('Thermisch optimum'!$A$23=7,'Thermisch optimum'!D786,INDEX(G790:L1461,B790,('Thermisch optimum'!$A$23)))","v":0}]
[null,null,null,null,0,{"$f":"IF('Thermisch optimum'!$A$23=7,'Thermisch optimum'!D787,INDEX(G791:L1462,B791,('Thermisch optimum'!$A$23)))","v":0}]
[null,null,null,null,0,{"$f":"IF('Thermisch optimum'!$A$23=7,'Thermisch optimum'!D788,INDEX(G792:L1463,B792,('Thermisch optimum'!$A$23)))","v":0}]
[null,null,null,null,0,{"$f":"IF('Thermisch optimum'!$A$23=7,'Thermisch optimum'!D789,INDEX(G793:L1464,B793,('Thermisch optimum'!$A$23)))","v":0}]
[null,null,null,null,0,{"$f":"IF('Thermisch optimum'!$A$23=7,'Thermisch optimum'!D790,INDEX(G794:L1465,B794,('Thermisch optimum'!$A$23)))","v":0}]
[null,null,null,null,0,{"$f":"IF('Thermisch optimum'!$A$23=7,'Thermisch optimum'!D791,INDEX(G795:L1466,B795,('Thermisch optimum'!$A$23)))","v":0}]
[null,null,null,null,0,{"$f":"IF('Thermisch optimum'!$A$23=7,'Thermisch optimum'!D792,INDEX(G796:L1467,B796,('Thermisch optimum'!$A$23)))","v":0}]
[null,null,null,null,0,{"$f":"IF('Thermisch optimum'!$A$23=7,'Thermisch optimum'!D793,INDEX(G797:L1468,B797,('Thermisch optimum'!$A$23)))","v":0}]
[null,null,null,null,0,{"$f":"IF('Thermisch optimum'!$A$23=7,'Thermisch optimum'!D794,INDEX(G798:L1469,B798,('Thermisch optimum'!$A$23)))","v":0}]