Workbook
Name Name: Data!$B$2:$B$631

Sheet Calculator
B1: FR | F1: =IF($B$1="FR","Calculateur de ratio parking par logement",IF($B$1="NL","Ratio calculator voor parkeerplaatsen per woning","Housing parking ratio calculator")) -> Calculateur de ratio parking par logement | H1: Mdp | I1: RatioPK | L1: =IF($B$1="FR",_xlfn.CONCAT("Explications complémentaires :",CHAR(10)," - Remplissez les cases bleues"," - Il est possible de sélectionner la langue via la cellule B1"," - Des informations complémentaires (fiche technique, carte, ...) sont disponibles via les liens situés en bas du tableau"), IF($B$1="NL",_xlfn.CONCAT("Aanvullende uitleg:",CHAR(10)," - Vul de blauwe vakjes in."," - U kunt de taal selecteren via cel B1."," - Aanvullende informatie (technische fiche, kaart, enz.) is beschikbaar via de links onderaan de tabel."), _xlfn.CONCAT("Additional explanations:",CHAR(10)," - Fill in the blue boxes."," - You can select the language via cell B1."," - Additional information (technical data sheet, map, etc.) is available via the links at the bottom of the table."))) -> Explications complémentaires : - Remplissez les cases bleues - Il est possible de sélectionner la langue via la cellule B1 - Des informations complémentaires (fiche technique, carte, ...) sont disponibles via les liens situés en bas du tableau
A2: =IF($B$1="FR","Nom du projet",IF($B$1="NL","Naam van het project","Project name")) -> Nom du projet | K2: ← | L2: =IF($B$1="FR","Indiquez le nom de votre projet et la référence de votre dossier si disponible",IF($B$1="NL","Geef de naam van uw project en het dossiernummer indien beschikbaar","Indicate the name of your project and the reference number if available")) -> Indiquez le nom de votre projet et la référence de votre dossier si disponible
A3: =IF($B$1="FR","Nombre de secteurs statistiques à considérer",IF($B$1="NL","Aantal te beschouwen statistische sectoren","Number of statistical sectors to consider")) -> Nombre de secteurs statistiques à considérer | F3: 1 | G3: total_huisH | H3: txocc_0507_2023_hac | I3: t_dist | J3: t_acces_500 | K3: ← | L3: =IF($B$1="FR","Valeur par défaut : 1 (à savoir uniquement le secteur statistique dans lequel s'implante le projet)",IF($B$1="NL","Standaardwaarde: 1 (alleen het statistische gebied waarin het project zich bevindt)","Default value: 1 (only the statistical sector where the project is located)")) -> Valeur par défaut : 1 (à savoir uniquement le secteur statistique dans lequel s'implante le projet)
A4: =IF($F$3>=D4,IF(F4="",IF($B$1="FR","Sélectionnez un secteur statistique →",IF($B$1="NL","Selecteer een statistische sector →","Select a statistical sector →")),D4),IF(F4="","",IF($B$1="FR","Supprimez le secteur statistique →",IF($B$1="NL","Verwijder de statistische sector →","Delete the statistical sector →")))) -> Sélectionnez un secteur statistique → | C4: =IF($F$3>=D4,"Name","") -> Name | D4: 1 | G4: =VLOOKUP($F4,Data!$B:$I,2,FALSE) -> #N/A | H4: =VLOOKUP($F4,Data!$B:$I,5,FALSE) -> #N/A | I4: =VLOOKUP($F4,Data!$B:$I,6,FALSE) -> #N/A | J4: =VLOOKUP($F4,Data!$B:$I,7,FALSE) -> #N/A | K4: ← | L4: =HYPERLINK("https://geodata.environnement.brussels/client/view/46fe8125-ebb5-4a45-9df4-89235a3dc1f5",IF($B$1="FR","Sélectionner le nom du/des secteur(s) statistique(s) à considérer (disponibles via la carte Geodata)",IF($B$1="NL","Selecteer de naam van de te beschouwen statistische sector(en) (beschikbaar via de Geodata-kaart)","Select the name of the statistical sector(s) to consider (available via the Geodata map)"))) -> Sélectionner le nom du/des secteur(s) statistique(s) à considérer (disponibles via la carte Geodata)
A5: =IF($F$3>=D5,IF(F5="",IF($B$1="FR","Sélectionnez un secteur statistique →",IF($B$1="NL","Selecteer een statistische sector →","Select a statistical sector →")),D5),IF(F5="","",IF($B$1="FR","Supprimez le secteur statistique →",IF($B$1="NL","Verwijder de statistische sector →","Delete the statistical sector →")))) | C5: =IF($F$3>=D5,"Name","") | D5: 2 | G5: =VLOOKUP($F5,Data!$B:$I,2,FALSE) -> #N/A | H5: =VLOOKUP($F5,Data!$B:$I,5,FALSE) -> #N/A | I5: =VLOOKUP($F5,Data!$B:$I,6,FALSE) -> #N/A | J5: =VLOOKUP($F5,Data!$B:$I,7,FALSE) -> #N/A
A6: =IF($F$3>=D6,IF(F6="",IF($B$1="FR","Sélectionnez un secteur statistique →",IF($B$1="NL","Selecteer een statistische sector →","Select a statistical sector →")),D6),IF(F6="","",IF($B$1="FR","Supprimez le secteur statistique →",IF($B$1="NL","Verwijder de statistische sector →","Delete the statistical sector →")))) | C6: =IF($F$3>=D6,"Name","") | D6: 3 | G6: =VLOOKUP($F6,Data!$B:$I,2,FALSE) -> #N/A | H6: =VLOOKUP($F6,Data!$B:$I,5,FALSE) -> #N/A | I6: =VLOOKUP($F6,Data!$B:$I,6,FALSE) -> #N/A | J6: =VLOOKUP($F6,Data!$B:$I,7,FALSE) -> #N/A
A7: =IF($F$3>=D7,IF(F7="",IF($B$1="FR","Sélectionnez un secteur statistique →",IF($B$1="NL","Selecteer een statistische sector →","Select a statistical sector →")),D7),IF(F7="","",IF($B$1="FR","Supprimez le secteur statistique →",IF($B$1="NL","Verwijder de statistische sector →","Delete the statistical sector →")))) | C7: =IF($F$3>=D7,"Name","") | D7: 4 | G7: =VLOOKUP($F7,Data!$B:$I,2,FALSE) -> #N/A | H7: =VLOOKUP($F7,Data!$B:$I,5,FALSE) -> #N/A | I7: =VLOOKUP($F7,Data!$B:$I,6,FALSE) -> #N/A | J7: =VLOOKUP($F7,Data!$B:$I,7,FALSE) -> #N/A
A8: =IF($F$3>=D8,IF(F8="",IF($B$1="FR","Sélectionnez un secteur statistique →",IF($B$1="NL","Selecteer een statistische sector →","Select a statistical sector →")),D8),IF(F8="","",IF($B$1="FR","Supprimez le secteur statistique →",IF($B$1="NL","Verwijder de statistische sector →","Delete the statistical sector →")))) | C8: =IF($F$3>=D8,"Name","") | D8: 5 | G8: =VLOOKUP($F8,Data!$B:$I,2,FALSE) -> #N/A | H8: =VLOOKUP($F8,Data!$B:$I,5,FALSE) -> #N/A | I8: =VLOOKUP($F8,Data!$B:$I,6,FALSE) -> #N/A | J8: =VLOOKUP($F8,Data!$B:$I,7,FALSE) -> #N/A
A9: =IF($F$3>=D9,IF(F9="",IF($B$1="FR","Sélectionnez un secteur statistique →",IF($B$1="NL","Selecteer een statistische sector →","Select a statistical sector →")),D9),IF(F9="","",IF($B$1="FR","Supprimez le secteur statistique →",IF($B$1="NL","Verwijder de statistische sector →","Delete the statistical sector →")))) | C9: =IF($F$3>=D9,"Name","") | D9: 6 | G9: =VLOOKUP($F9,Data!$B:$I,2,FALSE) -> #N/A | H9: =VLOOKUP($F9,Data!$B:$I,5,FALSE) -> #N/A | I9: =VLOOKUP($F9,Data!$B:$I,6,FALSE) -> #N/A | J9: =VLOOKUP($F9,Data!$B:$I,7,FALSE) -> #N/A
A10: =IF($F$3>=D10,IF(F10="",IF($B$1="FR","Sélectionnez un secteur statistique →",IF($B$1="NL","Selecteer een statistische sector →","Select a statistical sector →")),D10),IF(F10="","",IF($B$1="FR","Supprimez le secteur statistique →",IF($B$1="NL","Verwijder de statistische sector →","Delete the statistical sector →")))) | C10: =IF($F$3>=D10,"Name","") | D10: 7 | G10: =VLOOKUP($F10,Data!$B:$I,2,FALSE) -> #N/A | H10: =VLOOKUP($F10,Data!$B:$I,5,FALSE) -> #N/A | I10: =VLOOKUP($F10,Data!$B:$I,6,FALSE) -> #N/A | J10: =VLOOKUP($F10,Data!$B:$I,7,FALSE) -> #N/A
A11: =IF($F$3>=D11,IF(F11="",IF($B$1="FR","Sélectionnez un secteur statistique →",IF($B$1="NL","Selecteer een statistische sector →","Select a statistical sector →")),D11),IF(F11="","",IF($B$1="FR","Supprimez le secteur statistique →",IF($B$1="NL","Verwijder de statistische sector →","Delete the statistical sector →")))) | C11: =IF($F$3>=D11,"Name","") | D11: 8 | G11: =VLOOKUP($F11,Data!$B:$I,2,FALSE) -> #N/A | H11: =VLOOKUP($F11,Data!$B:$I,5,FALSE) -> #N/A | I11: =VLOOKUP($F11,Data!$B:$I,6,FALSE) -> #N/A | J11: =VLOOKUP($F11,Data!$B:$I,7,FALSE) -> #N/A
A12: =IF(F3>1,IF($B$1="FR","Justification du choix des secteurs statistiques",IF($B$1="NL","Motivering van de keuze van de statistische sectoren","Justification for the choice of statistical sectors")),"") | C12: =IF($F$3>=2,"Name","")
A14: t_sect. (Statbel- 2024) | F14: =IFERROR(SUMPRODUCT(INDIRECT("G4:G"&3+F3),INDIRECT("I4:I"&3+F3))/SUM(INDIRECT("G4:G"&3+F3)),IF($B$1="FR",_xlfn.CONCAT("↑ Sélectionnez les ",F3," secteurs statistiques ↑"),IF($B$1="NL",_xlfn.CONCAT("↑ Selecteer de ",F3," statistische sectoren ↑"),_xlfn.CONCAT("↑ Select the ",F3," statistical sectors ↑")))) -> ↑ Sélectionnez les 1 secteurs statistiques ↑ | H14: FR | K14: ← | L14: =IF($B$1="FR", IF(F3>1,"Moyenne pondérée par le nombre de ménages des taux de motorisation des ménages des secteurs statistiques considérés","Taux de motorisation des ménages du secteur statistique considéré"), IF($B$1="NL", IF(F3>1,"Gewogen gemiddelde van het aantal huishoudens met motorisatiegraad in de beschouwde statistische sectoren","Motorisatiegraad van huishoudens in de beschouwde statistische sector"), IF(F3>1,"Weighted average by number of households of motorization rates in the considered statistical sectors","Motorization rate of households in the considered statistical sector"))) -> Taux de motorisation des ménages du secteur statistique considéré
A15: t_acces (IBSA - 2024) | F15: =IFERROR(SUMPRODUCT(INDIRECT("G4:G" & 3+F3),INDIRECT("J4:J" & 3+F3))/SUM(INDIRECT("G4:G" & 3+F3)),IF($B$1="FR",_xlfn.CONCAT("↑ Sélectionnez les ",F3," secteurs statistiques ↑"),IF($B$1="NL",_xlfn.CONCAT("↑ Selecteer de ",F3," statistische sectoren ↑"),_xlfn.CONCAT("↑ Select the ",F3," statistical sectors ↑")))) -> ↑ Sélectionnez les 1 secteurs statistiques ↑ | H15: NL | K15: ← | L15: =IF($B$1="FR", IF(F3>1,"Moyenne pondérée par le nombre de ménages de l’accessibilité régionale au territoire en transport public des secteurs statistiques considérés (pour atteindre 500.000 personnes)","Accessibilité régionale au territoire en transport public du secteur statistique considéré (pour atteindre 500.000 personnes)"), IF($B$1="NL", IF(F3>1,"Gewogen gemiddelde van de regionale toegankelijkheid van het gebied met het openbaar vervoer in de beschouwde statistische sectoren (om 500.000 personen te bereiken)","Regionale toegankelijkheid van het gebied met het openbaar vervoer in de beschouwde statistische sector (om 500.000 personen te bereiken)"), IF(F3>1,"Weighted average of regional accessibility to the territory by public transport in the considered statistical sectors (to reach 500,000 people)","Regional accessibility to the territory by public transport in the considered statistical sector (to reach 500,000 people)"))) -> Accessibilité régionale au territoire en transport public du secteur statistique considéré (pour atteindre 500.000 personnes)
A16: t_oc (PB - 2023) | F16: =IFERROR(SUMPRODUCT(INDIRECT("G4:G" & 3+F3),INDIRECT("H4:H" & 3+F3))/SUM(INDIRECT("G4:G" & 3+F3)),IF($B$1="FR",_xlfn.CONCAT("↑ Sélectionnez les ",F3," secteurs statistiques ↑"),IF($B$1="NL",_xlfn.CONCAT("↑ Selecteer de ",F3," statistische sectoren ↑"),_xlfn.CONCAT("↑ Select the ",F3," statistical sectors ↑")))) -> ↑ Sélectionnez les 1 secteurs statistiques ↑ | H16: EN | K16: ← | L16: =IF($B$1="FR", IF(F3>1,"Moyenne pondérée par le nombre de ménages des taux d’occupation du stationnement en voirie des secteurs statistiques considérés (entre 5 et 7h, hors accès carrossables)","Taux d’occupation du stationnement en voirie du secteur statistique considéré (entre 5 et 7h, hors accès carrossables)"), IF($B$1="NL", IF(F3>1,"Gewogen gemiddelde van het aantal huishoudens met bezettingsgraad van straatparkeren in de beschouwde statistische sectoren (tussen 5 en 7 uur, exclusief toegankelijke wegen)","Bezettingsgraad van straatparkeren in de beschouwde statistische sector (tussen 5 en 7 uur, exclusief toegankelijke wegen)"), IF(F3>1,"Weighted average by number of households of on-street parking occupancy rates in the considered statistical sectors (between 5 and 7 a.m., excluding accessible roads)","On-street parking occupancy rate in the considered statistical sector (between 5 and 7 a.m., excluding accessible roads)"))) -> Taux d’occupation du stationnement en voirie du secteur statistique considéré (entre 5 et 7h, hors accès carrossables)
A17: =IF($B$1="FR","Nombre de places de parking voiture prévu",IF($B$1="NL","Antaal voorzien autoparkeerplaatsen","Planned number of car parking spaces")) -> Nombre de places de parking voiture prévu
A18: =IF($B$1="FR","Nombre d'emplacements vélo prévu",IF($B$1="NL","Aantal voorziene fietsplaatsen","Planned number of bicycle parking spaces")) -> Nombre d'emplacements vélo prévu
A19: =IF($B$1="FR","Ratio de parking automobile prévu",IF($B$1="NL","Voorzien autoparkeerratio","Planned car parking ratio")) -> Ratio de parking automobile prévu | F19: =IF(F22=0,IF($B$1="FR","↓ Indiquez les nombres de logements ↓",IF($B$1="NL","↓ Geef het aantal woningen aan ↓","↓ Indicate the number of housing ↓")),F17/F22) -> ↓ Indiquez les nombres de logements ↓
B21: T_Reg | C21: T_dist. | D21: T_acces | E21: T_target | F21: =IF($B$1="FR","Nombre de logements",IF($B$1="NL","Aantal woningen","Number of housing")) -> Nombre de logements | K21: #pk
B22: 0.543 | C22: =F14 -> ↑ Sélectionnez les 1 secteurs statistiques ↑ | D22: =F15 -> ↑ Sélectionnez les 1 secteurs statistiques ↑ | E22: =(F14+D22)/2*IF(F16<85%,0.9,IF(F16>100%,1,0.95)) -> #VALUE! | F22: =SUM(F23:F29) -> 0 | K22: =IFERROR(SUM(K23:K29)," ") -> 0
A23: =IF($B$1="FR","Logements étudiants ",IF($B$1="NL","Studentenwoningen","Student housing")) -> Logements étudiants | B23: 0.05 | C23: =IF(B23*F$14/B$22>1,1,B23*F$14/B$22) -> #VALUE! | D23: =IF(B23*D$22/B$22>1,1,B23*D$22/B$22) -> #VALUE! | E23: =IF(B23*E$22/B$22>1,1,B23*E$22/B$22) -> #VALUE! | K23: =IFERROR(F23*E23," ")
A24: =IF($B$1="FR","Coliving",IF($B$1="NL","Samenwonen","Coliving")) -> Coliving | B24: 0.18 | C24: =IF(B24*F$14/B$22>1,1,B24*F$14/B$22) -> #VALUE! | D24: =IF(B24*D$22/B$22>1,1,B24*D$22/B$22) -> #VALUE! | E24: =IF(B24*E$22/B$22>1,1,B24*E$22/B$22) -> #VALUE! | K24: =IFERROR(F24*E24," ")
A25: =IF($B$1="FR","Studios",IF($B$1="NL","Studio's","Studios")) -> Studios | B25: 0.09 | C25: =IF(B25*F$14/B$22>1,1,B25*F$14/B$22) -> #VALUE! | D25: =IF(B25*D$22/B$22>1,1,B25*D$22/B$22) -> #VALUE! | E25: =IF(B25*E$22/B$22>1,1,B25*E$22/B$22) -> #VALUE! | K25: =IFERROR(F25*E25," ")
A26: =IF($B$1="FR","Logements 1 chambre",IF($B$1="NL","1-kamerwoningen","1-bedroom housing")) -> Logements 1 chambre | B26: 0.34 | C26: =IF(B26*F$14/B$22>1,1,B26*F$14/B$22) -> #VALUE! | D26: =IF(B26*D$22/B$22>1,1,B26*D$22/B$22) -> #VALUE! | E26: =IF(B26*E$22/B$22>1,1,B26*E$22/B$22) -> #VALUE! | K26: =IFERROR(F26*E26," ")
A27: =IF($B$1="FR","Logements 2 chambres",IF($B$1="NL","2-kamerwoningen","2-bedroom housing")) -> Logements 2 chambres | B27: 0.5 | C27: =IF(B27*F$14/B$22>1,1,B27*F$14/B$22) -> #VALUE! | D27: =IF(B27*D$22/B$22>1,1,B27*D$22/B$22) -> #VALUE! | E27: =IF(B27*E$22/B$22>1,1,B27*E$22/B$22) -> #VALUE! | K27: =IFERROR(F27*E27," ")
A28: =IF($B$1="FR","Logements 3 chambres",IF($B$1="NL","3-kamerwoningen","3-bedroom housing")) -> Logements 3 chambres | B28: 0.66 | C28: =IF(B28*F$14/B$22>1,1,B28*F$14/B$22) -> #VALUE! | D28: =IF(B28*D$22/B$22>1,1,B28*D$22/B$22) -> #VALUE! | E28: =IF(B28*E$22/B$22>1,1,B28*E$22/B$22) -> #VALUE! | K28: =IFERROR(F28*E28," ")
A29: =IF($B$1="FR","Logements 4 chambres et plus",IF($B$1="NL","4-kamerwoningen en meer","4-bedroom housing and more")) -> Logements 4 chambres et plus | B29: 0.71 | C29: =IF(B29*F$14/B$22>1,1,B29*F$14/B$22) -> #VALUE! | D29: =IF(B29*D$22/B$22>1,1,B29*D$22/B$22) -> #VALUE! | E29: =IF(B29*E$22/B$22>1,1,B29*E$22/B$22) -> #VALUE! | K29: =IFERROR(F29*E29," ")
F31: =IF($B$1="FR","Cible",IF($B$1="NL","Doel","Target")) -> Cible | H31: Min | I31: Max
A32: =IF($B$1="FR","Ratio de parking automobile calculé",IF($B$1="NL","Berekende autoparkeerratio","Calculated car parking ratio")) -> Ratio de parking automobile calculé | F32: =IF(F22=0,"",IFERROR(SUMPRODUCT(E23:E29,F23:F29)/F22,IF($B$1="FR",_xlfn.CONCAT("Selectionnez les ",F3," secteurs statistiques"),IF($B$1="NL",_xlfn.CONCAT("Selecteer de ",F3," statistische sectoren"),_xlfn.CONCAT("Select the",F3," statistical sectors"))))) | H32: =MIN(SUMPRODUCT(F23:F29,D23:D29)/F22,SUMPRODUCT(F23:F29,C23:C29)/F22,F32*0.95) -> #VALUE! | I32: =F32*1.05 -> #VALUE!
A33: =IF($B$1="FR","Nombre de places de parking automobile calculé",IF($B$1="NL","Antaal berekende autoparkeerplaatsen","Calculated number of car parking spaces")) -> Nombre de places de parking automobile calculé | F33: =IFERROR(_xlfn.CONCAT(ROUND(F32*F22,1)," ∈ [",ROUND(H33,1)," - ",ROUND(I33,1),"]")," ") | H33: =H32*F22 -> #VALUE! | I33: =I32*F22 -> #VALUE! | K33: ← | L33: =IF($B$1="FR","L'intervalle de valeurs acceptables est indiqué entre crochets",IF($B$1="NL","Het aanvaardbare waardebereik staat tussen haakjes aangegeven.","The acceptable range of values is indicated in square brackets.")) -> L'intervalle de valeurs acceptables est indiqué entre crochets
A34: =IF(F34=" "," ",IF($B$1="FR","Dont places pour riverains",IF($B$1="NL","Waarvan plaatsen voor bewoners","Including spaces for residents"))) | F34: =IFERROR(IF(F16>85%,ROUND(F32*F22/IF(F16<85%,0.9,IF(F16>100%,1,0.95))*(IF(F16<85%,0.9,IF(F16>100%,1,0.95))-0.9),1)," ")," ") | K34: =IF(F34=" "," ","←") | L34: =IF($B$1="FR",IF(F34=" "," ","Nombre de places à reserver aux riverains du projet"),IF($B$1="NL",IF(F34=" "," ","Aantal parkeerplaatsen dat moet worden gereserveerd voor de buren van het projectt"),IF(F34=" "," ","Number of places to be reserved for neighbours of the project")))
A36: =IF($B$1="FR","Résultat",IF($B$1="NL","Resultaat","Result")) -> Résultat | F36: =IF(F22=0,"",IFERROR(IF(F17<ROUNDDOWN(H33,0),IF($B$1="FR","NOK : nombre de places prévu trop bas",IF($B$1="NL","NOK: te weinig voorzien parkeerplaatsen","NOK: number of planned parking too low")),IF(F17>ROUNDUP(I33,0),IF($B$1="FR","NOK : nombre de places prévu trop élevé",IF($B$1="NL","NOK: te veel voorzien parkeerplaatsen","NOK: number of planned parking too high")),"OK")),""))
A38: =IF($B$1="FR","Commentaire / justification d'une déviation au ratio calculé",IF($B$1="NL","Commentaar / rechtvaardiging van een afwijking van de berekende ratio","Comment / justification for deviation from calculated ratio")) -> Commentaire / justification d'une déviation au ratio calculé | H38: NOK: er ontbreken minstens 323 fietsplaatsen | I38: NOK: at least 323 bicycle spaces are missing
A39: =IF($B$1="FR","Nombre d'emplacements vélo calculé",IF($B$1="NL","Aantal berekende fietsplaatsen","Calculated number of bicycle spaces")) -> Nombre d'emplacements vélo calculé | F39: =IF(F22=0,"",F23+F24+F25*2+F26*2+F27*2+F28*3+F29*4) | K39: ← | L39: =IF($B$1="FR","A raison d'un emplacement par chambre pour un minimum de 2 par logement. Ce chiffre est susceptible d'être sous-estimé si le projet comporte des logements 5 chambres et plus. ",IF($B$1="NL","Eén plaats per kamer, met een minimum van twee per woning. Dit cijfer kan worden onderschat als het project woningen met vijf of meer kamers omvat. ","One space per room, with a minimum of two per housing. This figure may be underestimated if the project includes housing with five or more rooms. ")) -> A raison d'un emplacement par chambre pour un minimum de 2 par logement. Ce chiffre est susceptible d'être sous-estimé si le projet comporte des logements 5 chambres et plus.
A40: =IF($B$1="FR","Résultat (vélo)",IF($B$1="NL","Resultaat (fiets)","Result (bike)")) -> Résultat (vélo) | F40: =IFERROR(IF(F18-F39>=0,"OK",IF($B$1="FR",_xlfn.CONCAT("NOK : il manque ",ABS(F18-F39)," emplacements"),IF($B$1="NL",_xlfn.CONCAT("NOK: ",ABS(F18-F39)," fietsplaatsen te weinig"),_xlfn.CONCAT("NOK: ",ABS(F18-F39)," bicycle spaces are missing")))),"") | K40: ← | L40: =IF($B$1="FR","Ne peut être négatif si l'offre en parking voiture est trop élevée",IF($B$1="NL","Kan niet negatief zijn als het aanbod aan parkeerplaatsen te groot is.","Cannot be negative if the supply of car parking spaces is too high.")) -> Ne peut être négatif si l'offre en parking voiture est trop élevée
A41: =IF($B$1="FR","Lien vers la carte Geodata",IF($B$1="NL","Link naar Geodata-kaart","Link to Geodata map")) -> Lien vers la carte Geodata | F41: =IF($B$1="FR",HYPERLINK("https://geodata.environnement.brussels/client/view/46fe8125-ebb5-4a45-9df4-89235a3dc1f5","cliquez ici"),IF($B$1="NL",HYPERLINK("https://geodata.environnement.brussels/client/view/46fe8125-ebb5-4a45-9df4-89235a3dc1f5","klik hier"),HYPERLINK("https://geodata.environnement.brussels/client/view/46fe8125-ebb5-4a45-9df4-89235a3dc1f5","not available in English"))) -> cliquez ici
A42: =IF($B$1="FR","Lien vers la fiche explicative",IF($B$1="NL","Link naar uitlegfiche","Link to explanatory sheet")) -> Lien vers la fiche explicative | F42: =IF($B$1="FR",HYPERLINK("https://environnement.brussels/sites/default/files/BELB_RatioPK_FicheTech_FR.pdf","cliquez ici"),IF($B$1="NL",HYPERLINK("https://environnement.brussels/sites/default/files/BELB_RatioPK_FicheTech_NL.pdf","klik hier"),HYPERLINK("https://environnement.brussels/sites/default/files/BELB_RatioPK_FicheTech_FR.pdf","not available in English"))) -> cliquez ici
A43: =IF($B$1="FR","Lien vers le site internet",IF($B$1="NL","Link naar de website","Link to website")) -> Lien vers le site internet | F43: =IF($B$1="FR",HYPERLINK("https://environnement.brussels/pro/reglementation-et-inspection/obligations-et-autorisations/stationnement-et-livraison-velos-motos-et-autos?highlight=parking","cliquez ici"),IF($B$1="NL",HYPERLINK("https://leefmilieu.brussels/pro/regelgeving-en-inspectie/verplichtingen-en-vergunningen/parking-en-levering-fietsen-motoren-en-autos?highlight=parking","klik hier"),HYPERLINK("https://geodata.environnement.brussels/client/view/46fe8125-ebb5-4a45-9df4-89235a3dc1f5","not available in English"))) -> cliquez ici
F44: V1.01

Sheet Release Notes
A1: Version | B1: Date | C1: Release Notes
A2: V1.00 | B2: 45985 | C2: - Initial version
A3: V1.01 | B3: 46030 | C3: - correction of the statistical sector's names - integration of Statbel 2024 data - recalculation of the motorisation rate (t_sect.) - recalculation of regional motorisation rate (54%) - recalculation of the linear correlation between accessibility and motorisation (t_acces=0.0281*t_sect.-0.446) - recalculation of the motorisation rate adjusted for accessibility (t_acces) - recalculation of the theoretical number of parking spaces per housing (t_target)

Sheet Data
A1: cd_sector | B1: Name_id | C1: total_huisH | D1: total_wagens | E1: tp_moy_pjt_500k_pond | F1: txocc_0507_2023_hac | G1: t_dist | H1: t_acces_500 | I1: t_target | J1: Id_FR | K1: Id_NL
A2: 21009A151 | B2: =IF(Calculator!$B$1="NL",Data!K2,Data!J2) -> A. DELPORTE-NORD_21009A151 | C2: 542 | D2: 256 | E2: 37.779396 | F2: 0.86403509 | G2: =D2/C2 -> 0.47232472 | H2: =0.0281*E2-0.446 -> 0.61560102 | I2: =(G2+H2)/2*IF(F2<85%,0.9,IF(F2>100%,1,0.95)) -> 0.51676473 | J2: A. DELPORTE-NORD_21009A151 | K2: A. DELPORTE-NOORD_21009A151
A3: 21009A911 | B3: =IF(Calculator!$B$1="NL",Data!K3,Data!J3) -> A. DELPORTE-SUD_21009A911 | C3: 908 | D3: 424 | E3: 36.430254 | F3: 0.83774834 | G3: =D3/C3 -> 0.46696035 | H3: =0.0281*E3-0.446 -> 0.57769013 | I3: =(G3+H3)/2*IF(F3<85%,0.9,IF(F3>100%,1,0.95)) -> 0.47009272 | J3: A. DELPORTE-SUD_21009A911 | K3: A. DELPORTE-ZUID_21009A911
A4: 21001B17- | B4: =IF(Calculator!$B$1="NL",Data!K4,Data!J4) -> ABATTOIR_21001B17- | C4: 460 | D4: 223 | E4: 33.910535 | F4: 0.56060606 | G4: =D4/C4 -> 0.48478261 | H4: =0.0281*E4-0.446 -> 0.50688603 | I4: =(G4+H4)/2*IF(F4<85%,0.9,IF(F4>100%,1,0.95)) -> 0.44625089 | J4: ABATTOIR_21001B17- | K4: SLACHTHUIS_21001B17-
A5: 21018A031 | B5: =IF(Calculator!$B$1="NL",Data!K5,Data!J5) -> ABELOOS_21018A031 | C5: 860 | D5: 509 | E5: 34.163327 | F5: 0.86627907 | G5: =D5/C5 -> 0.59186047 | H5: =0.0281*E5-0.446 -> 0.5139895 | I5: =(G5+H5)/2*IF(F5<85%,0.9,IF(F5>100%,1,0.95)) -> 0.52527873 | J5: ABELOOS_21018A031 | K5: ABELOOS_21018A031
A6: 21004A35- | B6: =IF(Calculator!$B$1="NL",Data!K6,Data!J6) -> AD. MAX (BOULEVARD)_21004A35- | C6: 1057 | D6: 183 | E6: 29.666143 | F6: 0.2 | G6: =D6/C6 -> 0.1731315 | H6: =0.0281*E6-0.446 -> 0.38761861 | I6: =(G6+H6)/2*IF(F6<85%,0.9,IF(F6>100%,1,0.95)) -> 0.25233755 | J6: AD. MAX (BOULEVARD)_21004A35- | K6: AD. MAXLAAN_21004A35-
A7: 21001A931 | B7: =IF(Calculator!$B$1="NL",Data!K7,Data!J7) -> AGRAFE-NORBERT GILLE_21001A931 | C7: 802 | D7: 420 | E7: 32.934396 | F7: 0.73289183 | G7: =D7/C7 -> 0.52369077 | H7: =0.0281*E7-0.446 -> 0.47945653 | I7: =(G7+H7)/2*IF(F7<85%,0.9,IF(F7>100%,1,0.95)) -> 0.45141628 | J7: AGRAFE-NORBERT GILLE_21001A931 | K7: GESP - NORBERT GILLE_21001A931
A8: 21010A05- | B8: =IF(Calculator!$B$1="NL",Data!K8,Data!J8) -> ALBERT (QUARTIER)_21010A05- | C8: 2344 | D8: 1284 | E8: 33.949827 | F8: 0.89008043 | G8: =D8/C8 -> 0.54778157 | H8: =0.0281*E8-0.446 -> 0.50799013 | I8: =(G8+H8)/2*IF(F8<85%,0.9,IF(F8>100%,1,0.95)) -> 0.50149156 | J8: ALBERT (QUARTIER)_21010A05- | K8: ALBERT-WIJK_21010A05-
A9: 21001B31- | B9: =IF(Calculator!$B$1="NL",Data!K9,Data!J9) -> ALBERT I- IMMEUBLES_21001B31- | C9: 337 | D9: 108 | E9: 31.045186 | F9: 0.68199234 | G9: =D9/C9 -> 0.32047478 | H9: =0.0281*E9-0.446 -> 0.42636973 | I9: =(G9+H9)/2*IF(F9<85%,0.9,IF(F9>100%,1,0.95)) -> 0.33608003 | J9: ALBERT I- IMMEUBLES_21001B31- | K9: ALBERT I - FLATGEBOUWEN_21001B31-
A10: 21001B321 | B10: =IF(Calculator!$B$1="NL",Data!K10,Data!J10) -> ALBERT I- QUARTIER_21001B321 | C10: 771 | D10: 299 | E10: 34.275263 | F10: 0.80895522 | G10: =D10/C10 -> 0.38780804 | H10: =0.0281*E10-0.446 -> 0.51713489 | I10: =(G10+H10)/2*IF(F10<85%,0.9,IF(F10>100%,1,0.95)) -> 0.40722432 | J10: ALBERT I- QUARTIER_21001B321 | K10: ALBERT I - BUURT_21001B321
A11: 21003A331 | B11: =IF(Calculator!$B$1="NL",Data!K11,Data!J11) -> ALLEE VERTE_21003A331 | C11: 293 | D11: 229 | E11: 40.657013 | F11: 0.8372093 | G11: =D11/C11 -> 0.78156997 | H11: =0.0281*E11-0.446 -> 0.69646206 | I11: =(G11+H11)/2*IF(F11<85%,0.9,IF(F11>100%,1,0.95)) -> 0.66511441 | J11: ALLEE VERTE_21003A331 | K11: GROENDREEF_21003A331
A12: 21004D631 | B12: =IF(Calculator!$B$1="NL",Data!K12,Data!J12) -> ALLEE VERTE - BASSIN VERGOTE_21004D631 | C12: 723 | D12: 354 | E12: 35.427608 | F12: 0.49111111 | G12: =D12/C12 -> 0.48962656 | H12: =0.0281*E12-0.446 -> 0.54951578 | I12: =(G12+H12)/2*IF(F12<85%,0.9,IF(F12>100%,1,0.95)) -> 0.46761405 | J12: ALLEE VERTE - BASSIN VERGOTE_21004D631 | K12: GROENDREEF - VERGOTE DOK_21004D631
A13: 21016A410 | B13: =IF(Calculator!$B$1="NL",Data!K13,Data!J13) -> ALPHONSE XIII_21016A410 | C13: 394 | D13: 426 | E13: 44.385432 | F13: 0.49767442 | G13: =D13/C13 -> 1.0812183 | H13: =0.0281*E13-0.446 -> 0.80123063 | I13: =(G13+H13)/2*IF(F13<85%,0.9,IF(F13>100%,1,0.95)) -> 0.84710201 | J13: ALPHONSE XIII_21016A410 | K13: ALPHONSE XIII_21016A410
... A631: 21016A772 | B631: =IF(Calculator!$B$1="NL",Data!K631,Data!J631) -> ZWARTEBEEK_21016A772 | C631: 280 | D631: 209 | E631: 36.627393 | F631: 0.60301508 | G631: =D631/C631 -> 0.74642857 | H631: =0.0281*E631-0.446 -> 0.58322975 | I631: =(G631+H631)/2*IF(F631<85%,0.9,IF(F631>100%,1,0.95)) -> 0.59834624 | J631: ZWARTEBEEK_21016A772 | K631: ZWARTEBEEK_21016A772
