Workbook
Name acqconv: #REF!
Name acqconv: #REF!
Name acqconv: #REF!
Name acqconv: #REF!
Name acqconv: #REF!
Name acqlib: #REF!
Name acqlib: #REF!
Name acqlib: #REF!
Name acqlib: #REF!
Name acqlib: #REF!
Name ACQUISITION: #REF!
Name ACQUISITION: #REF!
Name ACQUISITION: #REF!
Name ACQUISITION: #REF!
Name ACQUISITION: #REF!
Name AVANCE: #REF!
Name AVANCE: #REF!
Name AVANCE: #REF!
Name AVANCE: #REF!
Name AVANCE: #REF!
Name AVANCE: #REF!
Name avanconv: #REF!
Name avanconv: #REF!
Name avanconv: #REF!
Name avanconv: #REF!
Name avanconv: #REF!
Name avanlib: #REF!
Name avanlib: #REF!
Name avanlib: #REF!
Name avanlib: #REF!
Name avanlib: #REF!
Name BREYNE: #REF!
Name BREYNE: #REF!
Name BREYNE: #REF!
Name BREYNE: #REF!
Name BREYNE: #REF!
Name BREYNECONV: #REF!
Name BREYNECONV: #REF!
Name BREYNECONV: #REF!
Name BREYNECONV: #REF!
Name BREYNECONV: #REF!
Name BREYNELIB: #REF!
Name BREYNELIB: #REF!
Name BREYNELIB: #REF!
Name BREYNELIB: #REF!
Name BREYNELIB: #REF!
Name brutconsconv: #REF!
Name brutconsconv: #REF!
Name brutconsconv: #REF!
Name brutconsconv: #REF!
Name brutconsconv: #REF!
Name brutconslib: #REF!
Name brutconslib: #REF!
Name brutconslib: #REF!
Name brutconslib: #REF!
Name brutconslib: #REF!
Name cleconv: #REF!
Name cleconv: #REF!
Name cleconv: #REF!
Name cleconv: #REF!

Sheet 0_Instructions_Richtlijnen
B2: INSTRUCTIONS AU SOUMISSIONNAIRE RICHTLIJNEN AAN DE INSCHRIJVER
B4: Généralités Algemeen
B5: Remplir uniquement les cases jaunes (pour info, la plupart des autres cellules sont verrouillées afin d’empêcher des modifications non désirées). De gele vakjes invullen (ter info, het grootste deel van de andere cellen zijn vergrendeld om ongewenste wijzigingen te verhinderen).
B6: Le fichier excel n'étant pas infaillible, vérifier que les autres données qui se remplissent automatiquement soient bien correctes. Aangezien een excelbestand niet onfeilbaar is, nagaan of de andere gegevens die automatisch ingevuld worden, correct zijn.
B7: Si une erreur ou une anomalie est détectée dans le document, vous devez la signaler au pouvoir adjudicateur avant la remise de l'offre, dans les plus brefs délais du constat. Indien u een fout of onregelmatigheid vaststelt in het document, die zo snel mogelijk en vóór de indiening van de offerte aan de aanbestedende overheid melden.
B8: Les autres modifications que celles indiquées dans les présentes instructions ne sont pas autorisées. Andere wijzigingen dan die vermeld in onderhavige richtlijnen zijn niet toegestaan.
B10: Onglet 1_Détail par logement Tabblad 1_Detail per woning
B11: Insérer ou supprimer des lignes logement si nécessaire. Zo nodig lijnen voor woningen invoegen of verwijderen.
B13: Onglet 2_Détail par bâtiment_étage Tabblad 2_Detail per gebouw_verdieping
B14: Insérer ou supprimer des lignes bâtiment et étage si nécessaire. Zo nodig lijnen voor gebouwen en verdiepingen invoegen of verwijderen.
B16: Onglet 5_Détail prix logements et Onglet 6_Détail prix équipement Tabblad 5_Detail prijs woningen en Tabblad 6_Detail prijs uitrusting
B17: Voir instructions dans l'onglet (cfr remarques préliminaires importantes) Zie richtlijnen in het tabblad (cf. belangrijke voorafgaande opmerkingen)
B18: Au niveau des honoraires (ligne 66), lorsque ce tableau est rempli à un autre stade que l'offre, il faut supprimer la formule et reprendre le montant des honoraires forfaitisé à l'offre! = 12% du prix entreprise estimé à l'offre. Wat betreft de honoraria (lijn 66), wanneer deze tabel in een ander stadium dan de offerte wordt ingevuld, moet de formule worden geschrapt en moet het bij de offerte geforfaitariseerde bedrag van de honoraria worden vermeld! = 12% van de bij de offerte geraamde aannemingsprijs.

Sheet 1.Det.par logement_per woning
C2: DÉTAIL DU PROJET PAR LOGEMENT DETAIL VAN HET PROJECT PER WONING | W2: SURFACES LOGEMENT MINIMALES (rappel) MINIMALE WONINGOPPERVLAKTE (herinnering)
D4: Identification logement (par référence à des plans) Identificatie woning (met verwijzing naar plannen) | E4: Bâtiment (si plusieurs bâtiments) Gebouw (als er verscheidene gebouwen zijn) | F4: Etage Verdieping | H4: Type de logement Type woning Mettre "1" dans case correspondante Plaats "1" in overeenstemmend vakje | S4: Cave intégrée au logement? (mettre "v" le cas échéant) In de woning geïntegreerde kelder (In voorkomend geval, "v" invullen) | U4: Surface logement (SL) Woning-opp. (WO)
C5: Insérer des lignes logement si nécessaire / Zo nodig lijnen voor woningen invoegen | E5: Ordonner les logements par bâtiment / De woningen ordenen per gebouw | F5: Ordonner les logements par étage / De woningen ordenen per verdieping | H5: 1 chambre standard 1 slaapkamer standaard | I5: 1 chambre adapté PMR 1 slaapkamer PBM-aangepast | J5: 2 chambres standard 2 slaapkamers standaard | K5: 2 chambres adapté PMR 2 slaapkamers PBM-aangepast | L5: 3 chambres standard 3 slaapkamers standaard | M5: 3 chambres adapté PMR 3 slaapkamers PBM-aangepast | N5: 4 chambres standard 4 slaapkamers standaard | O5: 4 chambres adapté PMR 4 slaapkamers PBM-aangepast | P5: 5 chambres standard 5 slaapkamers standaard | Q5: 5 chambres adapté PMR 5 slaapkamers PBM-aangepast | X5: Logement standard Standaardwoning | Y5: Logement standard + cave intégrée Standaard-woning + geïntegreerde kelder | Z5: Logement adapté P.M.R. Woning aangepast voor PBM's | AA5: Logement adapté PMR + cave intégrée Woning aangepast voor PBM's + geïntegreerde kelder
B6: LOGEMENTS SOCIAUX SOCIALE WONINGEN | C6: Logement 1 -Woning 1 | W6: Logement 1 chambre - Woning 1 slpk | X6: 55 m² | Y6: 59 m² | Z6: 86 m² | AA6: 90 m²
C7: Logement 2 -Woning 2 | W7: Logement 2 chambres - Woning 2 slpks | X7: 70 m² | Y7: 74 m² | Z7: 102 m² | AA7: 106 m²
C8: Logement 3 -Woning 3 | W8: Logement 3 chambres - Woning 3 slpks | X8: 85 m² | Y8: 89 m² | Z8: 124 m² | AA8: 128 m²
C9: Logement 4 -Woning 4 | W9: Logement 4 chambres - Woning 4 slpks | X9: 100 m² | Y9: 104 m² | Z9: 142 m² | AA9: 146 m²
C10: Logement 5 - Woning 5 | W10: Logement 5 chambres - Woning 5 slpks | X10: 120 m² | Y10: 124 m² | Z10: 160 m² | AA10: 164 m²
C11: Logement 6 - Woning 6
C12: Logement 7 - Woning 7 | W12: Remarque:
C13: Logement 8 - Woning 8 | W13: La façon de calculer la surface logement est reprise dans les dispositions techniques et fonctionnelles.
C14: Logement 9 - Woning 9 | W14: De berekeningswijze van de woningoppervlakte is opgenomen in de technische en functionele bepalingen
C15: Logement 10 - Woning 10
C16: Logement 11 - Woning 11
C17: Logement 12 - Woning 12
C18: Logement 13 - Woning 13
C19: Logement 14 - Woning 14
C20: Logement 15 - Woning 15
C21: Logement 16 - Woning 16
C22: Logement 17 - Woning 17
C23: Logement 18 - Woning 18
C24: Logement 19 - Woning 19
C25: Logement 20 - Woning 20
C26: Logement 21 - Woning 21
... C36: ….
C38: Sous-total - Subtotaal | H38: =SUM(H6:H37) -> 0 | I38: =SUM(I6:I37) -> 0 | J38: =SUM(J6:J37) -> 0 | K38: =SUM(K6:K37) -> 0 | L38: =SUM(L6:L37) -> 0 | M38: =SUM(M6:M37) -> 0 | N38: =SUM(N6:N37) -> 0 | O38: =SUM(O6:O37) -> 0 | ... Q38: =SUM(Q6:Q37) -> 0 | U38: =SUM(U6:U37) -> 0
B40: LOGEMENTS MOYENS MIDDENKLASSEWONINGEN | C40: Logement 1 -Woning 1
C41: Logement 2 -Woning 2
C42: Logement 3 -Woning 3
C43: Logement 4 -Woning 4
C44: Logement 5 - Woning 5
C45: Logement 6 - Woning 6
C46: Logement 7 - Woning 7
C47: Logement 8 - Woning 8
C48: Logement 9 - Woning 9
C49: Logement 10 - Woning 10
C50: ….
C52: Sous-total - Subtotaal | H52: =SUM(H40:H51) -> 0 | I52: =SUM(I40:I51) -> 0 | J52: =SUM(J40:J51) -> 0 | K52: =SUM(K40:K51) -> 0 | L52: =SUM(L40:L51) -> 0 | M52: =SUM(M40:M51) -> 0 | N52: =SUM(N40:N51) -> 0 | O52: =SUM(O40:O51) -> 0 | ... Q52: =SUM(Q40:Q51) -> 0 | U52: =SUM(U40:U51) -> 0
C54: Total - Totaal | H54: =H52+H38 -> 0 | I54: =I52+I38 -> 0 | J54: =J52+J38 -> 0 | K54: =K52+K38 -> 0 | L54: =L52+L38 -> 0 | M54: =M52+M38 -> 0 | N54: =N52+N38 -> 0 | O54: =O52+O38 -> 0 | ... Q54: =Q52+Q38 -> 0 | U54: =U38+U52 -> 0

Sheet 2_Det.par bât_étage_geb_verd
B2: DÉTAIL DU PROJET PAR BATIMENT ET PAR ETAGE DETAIL VAN HET PROJECT PER GEBOUW EN PER VERDIEPING
B4: Insérer ou supprimer des bâtiments si nécessaire (si un seul bâtiment, remplir juste bâtiment 1) Zo nodig gebouwen invoegen of verwijderen (indien slechts één gebouw, enkel gebouw 1 invullen) | C4: Insérer ou supprimer des lignes étage si nécessaire Zo nodig lijnen voor verdiepingen invoegen of verwijderen | E4: Surface logement (SL) Additionner les données du tableau 'détail par logement' Woning-oppervlakte (WO) De gegevens toevoegen van de tabel 'detail per woning' | G4: Surface brute hors terrasses (SB hors ter.) Bruto-oppervlakte excl. terrassen (BO excl. terrassen) | H4: Surface brute terrasses (SB ter.) (hors terrasses du rez) Bruto-oppervlakte terrassen (BO ter.) (excl. terrassen BV) | J4: Surface brute totale (hors terrasses du rez) Totale bruto-oppervlakte (excl. terrassen BV) | L4: Différence entre SL et SB hors terrasses Verschil tussen WO en BO excl. terrassen | M4: Eléments particuliers à cet étage (le cas échéant. ex: équipement, parking, local commun…) Bijzondere elementen voor deze verdieping (in voorkomend geval, bv. : uitrusting, parking, gemeenschappelijk lokaal, …)
B7: Bâtiment 1 Gebouw 1 | C7: Sous-sol - Kelderverdieping | J7: =G7 -> 0
C8: Rez - Benedenverdieping | J8: =G8 -> 0 | L8: =(G8/E8)-1 -> #DIV/0!
C9: 1er étage - 1e verdieping | J9: =G9+H9 -> 0 | L9: =(G9/E9)-1 -> #DIV/0!
C10: 2ième étage - 2e verdieping | J10: =G10+H10 -> 0 | L10: =(G10/E10)-1 -> #DIV/0!
C11: 3ième étage - 3e verdieping | J11: =G11+H11 -> 0 | L11: =(G11/E11)-1 -> #DIV/0!
C12: 4ième étage - 4e verdieping | J12: =G12+H12 -> 0 | L12: =(G12/E12)-1 -> #DIV/0!
C13: 5ième étage - 5e verdieping | J13: =G13+H13 -> 0 | L13: =(G13/E13)-1 -> #DIV/0!
C14: ….. | J14: =G14+H14 -> 0 | L14: =(G14/E14)-1 -> #DIV/0!
E16: =SUM(E8:E15) -> 0 | G16: =SUM(G7:G15) -> 0 | H16: =SUM(H9:H15) -> 0 | J16: =SUM(J7:J15) -> 0 | L16: =(G16/E16)-1 -> #DIV/0!
B18: Bâtiment 2 Gebouw 2 | C18: Sous-sol - Kelderverdieping | J18: =G18 -> 0
C19: Rez - Benedenverdieping | J19: =G19 -> 0 | L19: =(G19/E19)-1 -> #DIV/0!
C20: 1er étage - 1e verdieping | J20: =G20+H20 -> 0 | L20: =(G20/E20)-1 -> #DIV/0!
C21: 2ième étage - 2e verdieping | J21: =G21+H21 -> 0 | L21: =(G21/E21)-1 -> #DIV/0!
C22: 3ième étage - 3e verdieping | J22: =G22+H22 -> 0 | L22: =(G22/E22)-1 -> #DIV/0!
C23: 4ième étage - 4e verdieping | J23: =G23+H23 -> 0 | L23: =(G23/E23)-1 -> #DIV/0!
C24: 5ième étage - 5e verdieping | J24: =G24+H24 -> 0 | L24: =(G24/E24)-1 -> #DIV/0!
C25: ….. | J25: =G25+H25 -> 0 | L25: =(G25/E25)-1 -> #DIV/0!
E27: =SUM(E19:E26) -> 0 | G27: =SUM(G18:G26) -> 0 | H27: =SUM(H20:H26) -> 0 | J27: =SUM(J18:J26) -> 0 | L27: =(G27/E27)-1 -> #DIV/0!
B29: Bâtiment 3 Gebouw 3 | C29: Sous-sol - Kelderverdieping | J29: =G29 -> 0
C30: Rez - Benedenverdieping | J30: =G30 -> 0 | L30: =(G30/E30)-1 -> #DIV/0!
C31: 1er étage - 1e verdieping | J31: =G31+H31 -> 0 | L31: =(G31/E31)-1 -> #DIV/0!
C32: 2ième étage - 2e verdieping | J32: =G32+H32 -> 0 | L32: =(G32/E32)-1 -> #DIV/0!
C33: 3ième étage - 3e verdieping | J33: =G33+H33 -> 0 | L33: =(G33/E33)-1 -> #DIV/0!
C34: 4ième étage - 4e verdieping | J34: =G34+H34 -> 0 | L34: =(G34/E34)-1 -> #DIV/0!
C35: 5ième étage - 5e verdieping | J35: =G35+H35 -> 0 | L35: =(G35/E35)-1 -> #DIV/0!
C36: ….. | J36: =G36+H36 -> 0 | L36: =(G36/E36)-1 -> #DIV/0!
E38: =SUM(E30:E37) -> 0 | G38: =SUM(G29:G37) -> 0 | H38: =SUM(H31:H37) -> 0 | J38: =SUM(J29:J37) -> 0 | L38: =(G38/E38)-1 -> #DIV/0!

Sheet 3_Det.programme_programma
B2: DÉTAIL DU PROGRAMME DETAIL VAN HET PROGRAMMA
B4: 1. PARTIE LOGEMENTS DEEL WONINGEN
B6: 1.1. Nombre de logements Aantal woningen | C6: Sociaux Sociale | D6: Moyens Middenklasse | F6: Total Totaal
C7: =C9+C12+C15+C18+C21 -> 0 | D7: =D9+D12+D15+D18+D21 -> 0 | F7: =C7+D7 -> 0
B9: Nombre de logements 1 chambre Aantal woningen met 1 slaapkamer | C9: =C10+C11 -> 0 | D9: =D10+D11 -> 0 | F9: =C9+D9 -> 0
B10: Nombre de logements 1 chambre standard Aantal woningen met 1 slaapkamer standaard | C10: ='1.Det.par logement_per woning'!H38 -> 0 | D10: ='1.Det.par logement_per woning'!H52 -> 0 | F10: =C10+D10 -> 0
B11: Nombre de logements 1 chambre adapté PMR Aantal woningen met 1 slaapkamer PBM-aangepast | C11: ='1.Det.par logement_per woning'!I38 -> 0 | D11: ='1.Det.par logement_per woning'!I52 -> 0 | F11: =C11+D11 -> 0
B12: Nombre de logements 2 chambres Aantal woningen met 2 slaapkamers | C12: =C13+C14 -> 0 | D12: =D13+D14 -> 0 | F12: =C12+D12 -> 0
B13: Nombre de logements 2 chambres standard Aantal woningen met 2 slaapkamers standaard | C13: ='1.Det.par logement_per woning'!J38 -> 0 | D13: ='1.Det.par logement_per woning'!J52 -> 0 | F13: =C13+D13 -> 0
B14: Nombre de logements 2 chambres adapté PMR Aantal woningen met 2 slaapkamers PBM-aangepast | C14: ='1.Det.par logement_per woning'!K38 -> 0 | D14: ='1.Det.par logement_per woning'!K52 -> 0 | F14: =C14+D14 -> 0
B15: Nombre de logements 3 chambres Aantal woningen met 3 slaapkamers | C15: =C16+C17 -> 0 | D15: =D16+D17 -> 0 | F15: =C15+D15 -> 0
B16: Nombre de logements 3 chambres standard Aantal woningen met 3 slaapkamers standaard | C16: ='1.Det.par logement_per woning'!L38 -> 0 | D16: ='1.Det.par logement_per woning'!L52 -> 0 | F16: =C16+D16 -> 0
B17: Nombre de logements 3 chambres adapté PMR Aantal woningen met 3 slaapkamers PBM-aangepast | C17: ='1.Det.par logement_per woning'!M38 -> 0 | D17: ='1.Det.par logement_per woning'!M52 -> 0 | F17: =C17+D17 -> 0
B18: Nombre de logements 4 chambres Aantal woningen met 4 slaapkamers | C18: =C19+C20 -> 0 | D18: =D19+D20 -> 0 | F18: =C18+D18 -> 0
B19: Nombre de logements 4 chambres standard Aantal woningen met 4 slaapkamers standaard | C19: ='1.Det.par logement_per woning'!N38 -> 0 | D19: ='1.Det.par logement_per woning'!N52 -> 0 | F19: =C19+D19 -> 0
B20: Nombre de logements 4 chambres adapté PMR Aantal woningen met 4 slaapkamers PBM-aangepast | C20: ='1.Det.par logement_per woning'!O38 -> 0 | D20: ='1.Det.par logement_per woning'!O52 -> 0 | F20: =C20+D20 -> 0
B21: Nombre de logements 5 chambres Aantal woningen met 5 slaapkamers | C21: =C22+C23 -> 0 | D21: =D22+D23 -> 0 | F21: =C21+D21 -> 0
B22: Nombre de logements 5 chambres standard Aantal woningen met 5 slaapkamers standaard | C22: ='1.Det.par logement_per woning'!P38 -> 0 | D22: ='1.Det.par logement_per woning'!P52 -> 0 | F22: =C22+D22 -> 0
B23: Nombre de logements 5 chambres adapté PMR Aantal woningen met 5 slaapkamers PBM-aangepast | C23: ='1.Det.par logement_per woning'!Q38 -> 0 | D23: ='1.Det.par logement_per woning'!Q52 -> 0 | F23: =C23+D23 -> 0
B25: Nombre de logements petite taille (1 et 2 chambres) Aantal kleine woningen (met 1 en 2 slaapkamers) | C25: =C9+C12 -> 0 | D25: =D9+D12 -> 0 | F25: =C25+D25 -> 0
B26: Nombre de logements grande tailles (3 chambres et plus) Aantal grote woningen (met 3 slaapkamers en meer) | C26: =C15+C18+C21 -> 0 | D26: =D15+D18+D21 -> 0 | F26: =C26+D26 -> 0
B28: Nombre de logements standard Totaal aantal standaardwoningen | C28: =C10+C13+C16+C19+C22 -> 0 | D28: =D10+D13+D16+D19+D22 -> 0 | F28: =C28+D28 -> 0
B29: Nombre de logements adapté PMR Totaal aantal woningen PBM-aangepast | C29: =C11+C14+C17+C20+C23 -> 0 | D29: =D11+D14+D17+D20+D23 -> 0 | F29: =C29+D29 -> 0
B31: 1.2. Nombre de chambres Aantal slaapkamers | C31: Sociaux Sociale | D31: Moyens Middenklasse | F31: Total Totaal
C32: =C9*1+C12*2+C15*3+C18*4+C21*5 -> 0 | D32: =D9*1+D12*2+D15*3+D18*4+D21*5 -> 0 | F32: =C32+D32 -> 0
B34: 1.3. Nombre d'emplacements parking dédiés aux logements Aantal parkeerplaatsen bestemd voor de woningen | C34: Standard Standaard | D34: PMR PBM | F34: Total Totaal | I34: Nombre d'emplacements parking minimum en fonction du nombre de logements Minimaal aantal parkeerplaatsen in functie van het aantal woningen
C35: =SUM(C36:C39) -> 0 | D35: =SUM(D36:D39) -> 0 | F35: =SUM(F36:F39) -> 0
B37: Nombre d'emplacements parking en sous-sol Aantal ondergrondse parkeerplaatsen | C37: 0 | D37: 0 | F37: =C37+D37 -> 0 | I37: Emplacement Parkeerplaats | J37: 0,4 emplacement / logement social + 1 emplacement / logement moyen 0,4 parkeerplaats / sociale woning + 1 parkeerplaats / middenklassewoning | K37: =C7*0.4+#REF!*1 -> #REF!
B38: Nombre d'emplacements parking hors sol à l'intérieur du bâtiment Aantal bovengrondse parkeerplaatsen in het gebouw | C38: 0 | D38: 0 | F38: =C38+D38 -> 0 | I38: dont emplacement PMR waarvan parkeerplaats voor PBM's | J38: 1 emplacement PMR / logement adapté PMR avec un minimum de deux emplacements et au moins un emplacement supplémentaire de ce type par tranche de 50 emplacements. 1 parkeerplaats voor PBM's/PBM-aangepaste woning, met een minimum van twee parkeerplaatsen en minstens één extra parkeerplaats van dat type per schijf van 50 parkeerplaatsen. | K38: =IF(F29>=(2+IF(K37<50,0,IF(K37<100,1,IF(K37<150,2,IF(K37<200,3,IF(K37<250,4,5)))))),F29,(2+IF(K37<50,0,IF(K37<100,1,IF(K37<150,2,IF(K37<200,3,IF(K37<250,4,5))))))) -> #REF!
B39: Nombre d'emplacements parking à l'extérieur Aantal parkeerplaatsen buiten | C39: 0 | D39: 0 | F39: =C39+D39 -> 0
B41: 1.4. Nombre d'emplacements vélos dédiés aux logements Aantal fietsparkeerplaatsen bestemd voor de woningen | F41: =SUM(F42:F45) -> 0 | I41: Nombre d'emplacements vélo minimum en fonction du nombre de chambres Minimaal aantal fietsparkeerplaatsen in functie van het aantal slaapkamers
B43: Nombre d'emplacements vélo en sous-sol Aantal ondergrondse fietsparkeerplaatsen | F43: 0
B44: Nombre d'emplacements vélo hors sol à l'intérieur du bâtiment Aantal bovengrondse fietsparkeerplaatsen in het gebouw | F44: 0 | I44: Emplacement vélo Fietsparkeerplaats | J44: 1 emplacement vélo/ chambre 1 fietsparkeerplaats/slaapkamer | K44: =F32*1 -> 0
B45: Nombre d'emplacements vélo hors sol couverts à l'extérieur Aantal bovengrondse overdekte fietsparkeerplaatsen buiten | F45: 0
B47: 1.5. Nombre de logements avec terrasse / jardin Aantal woningen met terras / tuin | F47: =SUM(F48:F50) -> 0
B49: Nombre de logements avec terrasse Aantal woningen met terras | F49: 0
B50: Nombre de logements avec jardin Aantal woningen met tuin | F50: 0
B52: 1.6. Nombre de caves dédiées aux logements Aantal kelders bestemd voor de woningen | F52: =SUM(F53:F55) -> 0
B54: Nombre de caves en sous-sol ou dans un local séparé du logement (si autorisé dans les dispositions techniques et fonctionnelles) Aantal ondergrondse kelders of kelders in een van de woning afgescheiden lokaal (indien toegestaan volgens de technische en functionele bepalingen) | F54: 0
B55: Nombre de caves à l'intérieur des logements (Dans un local prévu à cet effet ou débarras plus grand) Aantal kelders in de woningen (in een daartoe voorzien vertrek of grotere bergruimte) | F55: 0
...

Sheet 4_Det.surfaces_oppervlakten
B2: DÉTAIL DES SURFACES DETAIL VAN DE OPPERVLAKTEN
B4: 1. PARTIE LOGEMENTS DEEL WONINGEN
B6: 1.1. Surface brute construction hors sol Bovengrondse brutobouwoppervlakte | D6: =SUM(D8:D9) -> 0
B8: Surface brute hors terrasses (logements et communs: espaces de circulation, sas, cage d'escalier, ascenseur, coursives externes, locaux communs tels que local rangement, local vélo à l'intérieur du bâtiment, locaux techniques en toiture…) Bruto-oppervlakte excl. terrassen (woningen en gemeenschappelijke delen: circulatieruimten, sas, trappenzaal, lift, externe galerijen, gemeenschappelijke lokalen zoals opberglokaal, fietsenstalling in het gebouw, technische lokalen bovenop het dak ...) | D8: 0
B9: Surface brute terrasses logements (sauf terrasses du rez) Bruto-oppervlakte terrassen woningen (behalve terrassen op de bv) | D9: 0
B11: 1.2. Surface brute construction sous-sol Ondergrondse brutobouwoppervlakte | D11: 0
B13: 1.3. Surface brute construction totale (hors sol + sous-sol) Totale brutobouwoppervlakte (bovengronds + ondergronds) | D13: =D11+D6 -> 0
B15: 1.4. Surface 'logement' totale Totale woningoppervlakte | D15: ='1.Det.par logement_per woning'!U54 -> 0
B17: 1.5. Différence entre surface 'logement' et surface brute construction hors sol Verschil tussen woningoppervlakte en bruto bovengrondse bouwoppervlakte | D17: =(D6/D15)-1 -> #DIV/0!
B19: 1.6. Différence entre surface 'logement' et surface brute hors sol hors terrasses Verschil tussen woningoppervlakte en bruto bovengrondse oppervlakte excl. terrassen | D19: =(D8/D15)-1 -> #DIV/0!
B21: 1.7. Surface des abords propres aux logements Opppervlakte van de bij de woningen horende omgeving | D21: =SUM(D22:D25) -> 0
B23: Surface des abords privatifs aux logements (jardins / terrasses du rez) Oppervlakte van de privéomgeving van de woningen (tuinen / terrassen op de bv) | D23: 0
B24: Surface de l'équipement sportif extérieur (le cas échéant, si demandé au programme) Oppervlakte van de sportieve buitenuitrusting (in voorkomend geval, indien gevraagd in het programma) | D24: 0
B25: Surface des autres abords semi-collectifs (jardins, potagers, espaces de jeux, plan d'eau, espaces de circulation, voiries sur terrain, parking extérieur, aires de manœuvre, rampe d'accès...) hors abords en commun avec équipement Oppervlakte van de overige semicollectieve omgeving (tuinen, moestuinen, speelpleinen, vijver, circulatieruimten, wegen op het terrein, buitenparking, manoeuvreerruimte, toegangshelling, ...) buiten gemeenschappelijke omgeving met uitrusting | D25: 0
B28: 2. PARTIE EQUIPEMENT DEEL UITRUSTING | D28: Préciser affectation
B30: 2.1. Surface brute construction hors sol Bovengrondse brutobouwoppervlakte | D30: =SUM(D31:D33) -> 0
B32: Surface brute hors terrasses (espaces communautaites /collectifs, espaces de circulation, sas, cage d'escalier, ascenseur, coursives externes, locaux techniques en toiture…) Bruto-oppervlakte excl. terrassen (gemeenschappelijke/collectieve ruimten: circulatieruimten, sas, trappenzaal, lift, externe galerijen, technische lokalen bovenop het dak ...) | D32: 0
B33: Surface brute terrasses (sauf terrasses du rez) Bruto-oppervlakte terrassen (behalve terrassen op de bv) | D33: 0
B35: 2.2. Surface brute construction sous-sol Ondergrondse brutobouwoppervlakte | D35: 0
B37: 2.3. Surface brute construction totale (hors sol + sous-sol) Totale brutobouwoppervlakte (bovengronds + ondergronds) | D37: =D35+D30 -> 0
B39: 2.4. Surface des abords propres à l'équipement Oppervlakte van de bij de uitrusting horende omgeving | D39: 0
B42: 3. TOTAL (logements + équipements) TOTAAL (woningen + uitrustingen)
B44: 3.1. Surface brute construction hors sol Bovengrondse brutobouwoppervlakte | D44: =SUM(D45:D47) -> 0
B46: Surface brute hors terrasses Bruto-oppervlakte excl. Terrassen | D46: =D8+D32 -> 0
B47: Surface brute terrasses (sauf terrasses du rez) Bruto-oppervlakte terrassen (behalve terrassen op de bv) | D47: =D9+D33 -> 0
B49: 3.2. Surface brute construction sous-sol Ondergrondse brutobouwoppervlakte | D49: =D11+D35 -> 0
B51: 3.3. Surface brute construction totale (hors sol + sous-sol) (doit être égal à la somme des surfaces brutes du tableau détaillé par bâtiment et étage - colonne J) Totale brutobouwoppervlakte (bovengronds + ondergronds) (moet gelijk zijn aan de som van de bruto-oppervlakten van de per gebouw en verdieping gedetailleerde tabel - kolom J) | D51: =D44+D49 -> 0
B53: 3.4. PRORATA surfaces brutes partie logement % aux équipements Aandeel bruto-oppervlakte deel woningen in % | D53: =D13/(D13+D37) -> #DIV/0!
B55: 3.5. PRORATA surfaces brutes partie équipements % aux logements Aandeel bruto-oppervlakte deel uitrustingen in % | D55: =D37/(D37+D13) -> #DIV/0!
B57: 3.6. Surface des abords Oppervlakte van de onmiddellijke omgeving | D57: =SUM(D58:D61) -> 0
B59: Surface des abords propres aux logements Oppervlakte van de bij de woningen horende omgeving | D59: =D21 -> 0
B60: Surface des abords propres aux équipements Oppervlakte van de bij de uitrustingen horende omgeving | D60: =D39 -> 0
B61: Surface des abords communs entre logements et équipements Oppervlakte van de gemeenschappelijke omgeving tussen woningen en uitrustingen | D61: 0
B64: 4. COMMENTAIRES / ELEMENTS A RAJOUTER COMMENTAAR / TOE TE VOEGEN ELEMENTEN

Sheet 5_Det.prix log_prijs won
C2: Remarques préliminaires importantes: - Si une erreur ou une anomalie est détectée dans cet onglet, vous devez la signaler au pouvoir adjudicateur avant la remise de l'offre, dans les plus brefs délais du constat. - Tout ce qui est prévu dans l'offre doit être estimé - Aucune modification n'est autorisé dans cet onglet (pas de rajout ou de supression de lignes) - Remplir uniquement les cases jaunes - Les coûts ci-dessous reprennent uniquement les coûts à affecter à la partie logement. Pour les éventuels coûts de dépollution, de désamiantage et de démolition il faut donc éventuellement appliquer le prorata partie logement. Idem pour certains postes du détail du prix de construction / rénovation (installation de chantier etc...) - En cas de Design & Build, il n'est pas nécessaire de remplir le tableau A. Belangrijke voorafgaande opmerkingen: - Indien u in dit tabblad een fout of onregelmatigheid vaststelt, dient u die zo vlug mogelijk en vóór de indiening van de offerte aan de aanbestedende overheid te melden. - Alles wat gepland is in de offerte, moet worden geraamd. - Er mogen geen wijzigingen worden aangebracht in dit tabblad (geen lijnen toevoegen of schrappen). - Enkel de gele velden invullen. - In de onderstaande kostprijzen worden enkel de voor het deel woningen te bestemmen kosten opgenomen. Wat de eventuele kosten voor sanering, asbestverwijdering en afbraakwerken betreft, moet dus eventueel het percentage voor het deel woningen worden berekend. Idem voor sommige posten van het detail van de bouw-/renovatieprijs (bouwplaatsinrichting, enz.). - In geval van Design & Build moet tabel A niet worden ingevuld.
C5: A. DÉTAIL DU PRIX CONSTRUCTION / RENOVATION - PARTIE LOGEMENT DETAIL BOUW-/RENOVATIEPRIJS - DEEL WONINGEN
D7: PARTIE LOGEMENT - DEEL WONINGEN | J7: Prix HTVA Prijs excl. BTW
C10: 1. | D10: Installation de chantier - Bouwplaatsinrichting | J10: 0
B11: r w
C12: 2. | D12: Terrassements et fondations - Graafwerken en funderingen | J12: 0
C14: 3. | D14: Egouttage - Riolering | J14: 0
C16: 4. | D16: Gros-œuvre - Ruwbouw | J16: =SUM(J17:J21) -> 0
D18: Hyperstructure - Bovenstructuur | J18: 0
D19: Complexe de façades - Gevelcomplex | J19: 0
D20: Menuiseries extérieures - Buitenschrijnwerk | J20: 0
D21: Toiture - Dak | J21: 0
C23: 5. | D23: Parachèvements - Afwerking | J23: 0
C25: 6. | D25: Techniques spéciales / ventilation - Bijzondere technieken / ventilatie | J25: =SUM(J26:J29) -> 0
D27: Production de chaleur et ECS - Warmteproductie en SWW | J27: 0
D28: Ventilation - Ventilatie | J28: 0
C30: 7. | D30: Sanitaires - Sanitair | J30: 0
C32: 8. | D32: Electricité - Elektriciteit | J32: 0
C34: 9. | D34: Aménagement cuisine - Inrichting keuken | J34: 0
C36: 10. | D36: Ascenseurs - Liften | J36: 0
C38: 11. | D38: AUTRES - ANDERE | J38: 0
D39: En fonction de la situation de risque: zone inondable, rénovation, sondages… + tout ce qui est prévu dans l'offre doit être estimé. A JUSTIFIER:……………………………………………………………………………………………………. !!! Ne pas indiquer les postes repris dans le tableau d'estimation des coûts (tableau B.) Naargelang de risicosituatie: overstromingszone, renovatie, bodemonderzoek ... + alles waarin de offerte voorziet, moet worden geraamd. TE RECHTVAARDIGEN……………………………………………………………………………………. !!! Niet de posten opgeven die opgenomen zijn in de ramingstabel van de kosten (tabel B)
F42: Prix construction / rénovation (partie logement) Bouw-/renovatieprijs (deel woningen) | J42: =J38+J36+J34+J32+J30+J25+J23+J16+J14+J12+J10 -> 0
D44: doit être égal au prix construction / rénovation du tableau B (doit être indiqué "VRAI") moet gelijk zijn aan de bouw-/renovatieprijs uit tabel B (er moet "WAAR" staan) | J44: {=_xlfn.IFS(J42<J56-0.01,"FAUX",J42>J56+0.01,"FAUX",J42>J56-0.01,"VRAI",J42<J56+0.01,"VRAI")} -> VRAI
C46: B. TABLEAU D'ESTIMATION DES COÛTS - PARTIE LOGEMENT B. RAMINGSTABEL VAN DE KOSTEN - DEEL WONINGEN
D48: PARTIE LOGEMENT - DEEL WONINGEN | F48: Déterminé par Bepaald door | J48: Prix HTVA Prijs excl. BTW | K48: Taux TVA BTW-% | L48: Prix TVAC Prijs incl. BTW
C50: 1. | D50: DEPOLLUTION - SANERING (le cas échéant / in voorkomend geval) | F50: Prorata partie logement Aandeel deel woningen | G50: ='4_Det.surfaces_oppervlakten'!D53 -> #DIV/0! | H50: 0 | J50: =H50*G50 -> #DIV/0! | K50: 0.21 | L50: =J50*K50+J50 -> #DIV/0! | O50: Prix entreprise Aannemingsprijs
C52: 2. | D52: DESAMIANTAGE - ASBESTVERWIJDERING (le cas échéant / in voorkomend geval) | F52: Prorata partie logement Aandeel deel woningen | G52: ='4_Det.surfaces_oppervlakten'!D53 -> #DIV/0! | H52: 0 | J52: =H52*G52 -> #DIV/0! | K52: 0.21 | L52: =J52*K52+J52 -> #DIV/0!
C54: 3. | D54: DEMOLITION - AFBRAAKWERKEN (le cas échéant, y compris prise en compte du maintien des éléments à conserver) (in voorkomend geval, incl. rekening houden met te bewaren elementen) | F54: Prorata partie logement Aandeel deel woningen | G54: ='4_Det.surfaces_oppervlakten'!D53 -> #DIV/0! | H54: 0 | J54: =H54*G54 -> #DIV/0! | K54: 0.21 | L54: =J54*K54+J54 -> #DIV/0!
C56: 4. | D56: CONSTRUCTION / RENOVATION - NIEUWBOUW/RENOVATIE | F56: Surface brute Bruto-oppervlakte | H56: Prix HTVA / m²brut Prijs excl. BTW/bruto m² | J56: =SUM(J57:J59) -> 0 | K56: 0.06 | L56: =SUM(L57:L59) -> 0
D57: Hors sol (hors terrasses) Bovengronds (excl. terrassen) | F57: ='4_Det.surfaces_oppervlakten'!D8 -> 0 | H57: 0 | J57: =H57*F57 -> 0 | K57: 0.06 | L57: =J57*K57+J57 -> 0
D58: Terrasses (hors sol) Terrassen (bovengronds) | F58: ='4_Det.surfaces_oppervlakten'!D9 -> 0 | H58: 0 | J58: =H58*F58 -> 0 | K58: 0.06 | L58: =J58*K58+J58 -> 0
D59: Sous-sol Ondergronds | F59: ='4_Det.surfaces_oppervlakten'!D11 -> 0 | H59: 0 | J59: =H59*F59 -> 0 | K59: 0.06 | L59: =J59*K59+J59 -> 0
C61: 5. | D61: ABORDS - OMGEVING | J61: =SUM(J62:J64) -> #DIV/0! | K61: 0.21 | L61: =SUM(L62:L64) -> #DIV/0! | P61: équivaut à is gelijk aan | Q61: =J61/J56 -> #DIV/0! | R61: de prix construction (pour info au pouvoir adjudicateur) van de bouwprijs (ter info voor de aanbestedende overheid)
D62: Abords propres aux logements (hors équipement sportif extérieur le cas échéant) Bij de woningen horende omgeving (excl. sportieve buitenuitrusting, in voorkomend geval) | J62: 0 | K62: 0.21 | L62: =J62*K62+J62 -> 0
D63: Equipement sportif extérieur (le cas échéant, si demandé dans le programme) Sportieve buitenuitrusting (in voorkomend geval, indien gevraagd in het programma) | J63: 0 | K63: 0.21 | L63: =J63*K63+J63 -> 0 | P63: équivaut à is gelijk aan | Q63: =J63/(J70-J63) -> #DIV/0! | R63: du budget de l'opération (prix entreprise hors éq. sportif ext.) van het budget van de operatie (aannemingsprijs excl. sportieve buitenuitrusting) | S63: !!! Ne peut pas dépasser 1% du budget de l'opération !!! Mag niet hoger zijn dan 1 % van het budget van de operatie
D64: Abords communs entre logements et équipements Gemeenschappelijke omgeving tussen woningen en uitrustingen | F64: Prorata partie logement | G64: ='4_Det.surfaces_oppervlakten'!D53 -> #DIV/0! | H64: 0 | J64: =H64*G64 -> #DIV/0! | K64: 0.21 | L64: =J64*K64+J64 -> #DIV/0!
C66: 6. | D66: HONORAIRES FORFAITISES A L'OFFRE - BIJ DE OFFERTE GEFORFAITARISEERDE HONORARIA | F66: 0.12 | H66: de prix entreprise (estimé à l'offre) van aannemingsprijs (geraamd bij de offerte) | J66: =(J50+J52+J54+J56+J61)*F66 -> #DIV/0! | K66: 0.21 | L66: =J66*K66+J66 -> #DIV/0! | P66: Remarque importante: Lorsque ce tableau est rempli à un autre stade que l'offre, il faut supprimer la formule et reprendre le montant des honoraires forfaitisé à l'offre! = 12% du prix entreprise estimé à l'offre. Belangrijke opmerking: Wanneer deze tabel in een ander stadium dan de offerte wordt ingevuld, moet de formule worden geschrapt en moet het bij de offerte geforfaitariseerde bedrag van de honoraria worden vermeld! = 12% van de bij de offerte geraamde aannemingsprijs..
C68: 7. | D68: IMPETRANTS ET FRAIS DIVERS - NUTSVOORZIENINGEN EN DIVERSE KOSTEN | F68: 0.07 | H68: de prix construction van bouwprijs | J68: =J56*F68 -> 0 | K68: 0.21 | L68: =J68*K68+J68 -> 0
F70: Prix entreprise (partie logement) Aannemingsprijs (deel woningen) | J70: =J61+J56+J54+J52+J50 -> #DIV/0! | K70: - | L70: =L61+L56+L54+L52+L50 -> #DIV/0!
...

Sheet 6_Det.prix éq_prijs uit. 
C2: Remarques préliminaires importantes: - Si une erreur ou une anomalie est détectée dans cet onglet, vous devez la signaler au pouvoir adjudicateur avant la remise de l'offre, dans les plus brefs délais du constat. - Tout ce qui est prévu dans l'offre doit être estimé - Aucune modification n'est autorisé dans cet onglet (pas de rajout ou de supression de lignes) - Remplir uniquement les cases jaunes - Les coûts ci-dessous reprennent uniquement les coûts à affecter à la partie équipement. Pour les éventuels coûts de dépollution, de désamiantage et de démolition il faut donc éventuellement appliquer le prorata partie équipement. Idem pour certains postes du détail du prix de construction / rénovation (installation de chantier etc...) - En cas de Design & Build, il n'est pas nécessaire de remplir le tableau A. - Ne rien indiquer / modifier dans le tableau D. Tableau d'estimation des coûts subsidiables par la SLRB Belangrijke voorafgaande opmerkingen: - Indien u in dit tabblad een fout of onregelmatigheid vaststelt, dient u die zo vlug mogelijk en vóór de indiening van de offerte aan de aanbestedende overheid te melden. - Alles wat gepland is in de offerte, moet geraamd worden. - Er mogen geen wijzigingen worden aangebracht in dit tabblad (geen lijnen toevoegen of schrappen). - Enkel de gele velden invullen. - In de onderstaande kostprijzen worden enkel de voor het deel uitrusting te bestemmen kosten opgenomen. Wat de eventuele kosten voor sanering, asbestverwijdering en afbraakwerken betreft, moet dus eventueel het percentage voor het deel uitrusting worden berekend. Idem voor sommige posten van het detail van de bouw-/renovatieprijs (bouwplaatsinrichting, enz.). - In geval van Design & Build moet tabel A niet worden ingevuld. - Niets invullen/wijzigen in tabel D. Ramingstabel van de door de BGHM subsidieerbare kosten.
C5: A. DÉTAIL DU PRIX CONSTRUCTION / RENOVATION - PARTIE EQUIPEMENT DETAIL BOUW-/RENOVATIEPRIJS - DEEL UITRUSTING | J5: Préciser affectation
D7: PARTIE EQUIPEMENT - DEEL UITRUSTING | J7: Prix HTVA Prijs excl. BTW
C10: 1. | D10: Installation de chantier - Bouwplaatsinrichting | J10: 0
B11: r w
C12: 2. | D12: Terrassements et fondations - Graafwerken en funderingen | J12: 0
C14: 3. | D14: Egouttage - Riolering | J14: 0
C16: 4. | D16: Gros-œuvre - Ruwbouw | J16: =SUM(J17:J21) -> 0
D18: Hyperstructure - Bovenstructuur | J18: 0
D19: Complexe de façades - Gevelcomplex | J19: 0
D20: Menuiseries extérieures - Buitenschrijnwerk | J20: 0
D21: Toiture - Dak | J21: 0
C23: 5. | D23: Parachèvements - Afwerking | J23: 0
C25: 6. | D25: Techniques spéciales / ventilation - Bijzondere technieken / ventilatie | J25: =SUM(J26:J28) -> 0
D27: Production de chaleur et ECS - Warmteproductie en SWW | J27: 0
D28: Ventilation - Ventilatie | J28: 0
C30: 7. | D30: Sanitaires - Sanitair | J30: 0
C32: 8. | D32: Electricité - Elektriciteit | J32: 0
C34: 9. | D34: Aménagement cuisine - Inrichting keuken | J34: 0
C36: 10. | D36: Ascenseurs - Liften | J36: 0
C38: 11. | D38: AUTRES - ANDERE | J38: 0
D39: En fonction de la situation de risque: zone inondable, rénovation, sondages… + tout ce qui est prévu dans l'offre doit être estimé. A JUSTIFIER:……………………………………………………………………………………………………. !!! Ne pas indiquer les postes repris dans le tableau d'estimation des coûts (tableau B.) Naargelang de risicosituatie: overstromingszone, renovatie, bodemonderzoek ... + alles waarin de offerte voorziet, moet worden geraamd. TE RECHTVAARDIGEN……………………………………………………………………………………. !!! Niet de posten opgeven die opgenomen zijn in de ramingstabel van de kosten (tabel B)
F42: Prix construction / rénovation (partie équipement) Bouw-/renovatieprijs (deel uitrusting | J42: =J38+J36+J34+J32+J30+J25+J23+J16+J14+J12+J10 -> 0
D44: doit être égal au prix construction / rénovation du tableau B (doit être indiqué "VRAI") moet gelijk zijn aan de bouw-/renovatieprijs uit tabel B (er moet "WAAR" staan) | J44: {=_xlfn.IFS(J42<J56-0.01,"FAUX",J42>J56+0.01,"FAUX",J42>J56-0.01,"VRAI",J42<J56+0.01,"VRAI")} -> VRAI
C46: B. TABLEAU D'ESTIMATION DES COÛTS - PARTIE EQUIPEMENT RAMINGSTABEL VAN DE KOSTEN - DEEL UITRUSTING | L46: Préciser affectation | Q46: D. TABLEAU D'ESTIMATION DES COÛTS SUBSIDIABLES PAR LA SLRB RAMINGSTABEL VAN DE DOOR DE BGHM SUBSIDIEERBARE KOSTEN
D48: PARTIE EQUIPEMENT - DEEL UITRUSTING | F48: Déterminé par Bepaald door | J48: Prix HTVA Prijs excl. BTW | K48: Taux TVA BTW-% | L48: Prix TVAC Prijs incl. BTW | R48: PARTIE EQUIPEMENT SUBSIDIABLE PAR LA SLRB DEEL SUBSIDIEERBARE UITRUSTING | T48: Déterminé par Bepaald door | X48: Prix HTVA Prijs excl. BTW | Y48: Taux TVA BTW-% | Z48: Prix TVAC Prijs incl. BTW
C50: 1. | D50: DEPOLLUTION - SANERING (le cas échéant / in voorkomend geval) | F50: Prorata partie équipement | G50: ='4_Det.surfaces_oppervlakten'!D55 -> #DIV/0! | H50: 0 | J50: =H50*G50 -> #DIV/0! | K50: 0.21 | L50: =J50*K50+J50 -> #DIV/0! | O50: Prix entreprise Aannemingsprijs
C52: 2. | D52: DESAMIANTAGE - ASBESTVERWIJDERING (le cas échéant / in voorkomend geval) | F52: Prorata partie équipement | G52: ='4_Det.surfaces_oppervlakten'!D55 -> #DIV/0! | H52: 0 | J52: =H52*G52 -> #DIV/0! | K52: 0.21 | L52: =J52*K52+J52 -> #DIV/0!
C54: 3. | D54: DEMOLITION - AFBRAAKWERKEN (le cas échéant, y compris prise en compte du maintien des éléments à conserver) (in voorkomend geval, incl. rekening houden met te bewaren elementen) | F54: Prorata partie équipement | G54: ='4_Det.surfaces_oppervlakten'!D55 -> #DIV/0! | H54: 0 | J54: =H54*G54 -> #DIV/0! | K54: 0.21 | L54: =J54*K54+J54 -> #DIV/0!
C56: 4. | D56: CONSTRUCTION / RENOVATION - NIEUWBOUW/RENOVATIE | F56: Surface brute Bruto-oppervlakte | H56: Prix HTVA / m²brut Prijs excl. BTW/bruto m² | J56: =SUM(J57:J60) -> 0 | K56: 0.21 | L56: =SUM(L57:L60) -> 0 | Q56: 4. | R56: CONSTRUCTION / RENOVATION SUBSIDIABLE SUBSIDIEERBARE NIEUWBOUW/RENOVATIE CASCO max. 3,5 m² (à 5 m²) x nombre de logements | T56: Surface brute subsidiable Subsidieerbare bruto-oppervlakte | V56: Prix HTVA / m²brut Prijs excl. BTW/bruto m² | X56: =SUM(X57:X60) -> 0 | Y56: 0.21 | Z56: =SUM(Z57:Z60) -> 0
D57: Hors sol (hors terrasses) - CASCO ou CASCO + (selon programme) Bovengronds (excl. terrassen) - CASCO of CASCO + (volgens programma) | F57: ='4_Det.surfaces_oppervlakten'!D32 -> 0 | H57: 0 | J57: =H57*F57 -> 0 | K57: 0.21 | L57: =J57*K57+J57 -> 0 | R57: Hors sol (hors terrasses) - CASCO ou CASCO + (selon programme) Bovengronds (excl. terrassen) - CASCO of CASCO+ (volgens programma) | T57: 0 | V57: =H57 -> 0 | X57: =V57*T57 -> 0 | Y57: 0.21 | Z57: =X57*Y57+X57 -> 0
D58: Hors sol (hors terrasses) - Parachèvement (si prévu au programme) Bovengronds (excl. terrassen) - Afwerking (indien gepland in het programma) | F58: =F57 -> 0 | H58: 0 | J58: =H58*F58 -> 0 | K58: 0.21 | L58: =J58*K58+J58 -> 0
D59: Terrasses (hors sol) Terrassen (bovengronds) | F59: ='4_Det.surfaces_oppervlakten'!D33 -> 0 | H59: 0 | J59: =H59*F59 -> 0 | K59: 0.21 | L59: =J59*K59+J59 -> 0
D60: Sous-sol Ondergronds | F60: ='4_Det.surfaces_oppervlakten'!D35 -> 0 | H60: 0 | J60: =H60*F60 -> 0 | K60: 0.21 | L60: =J60*K60+J60 -> 0
C62: 5. | D62: ABORDS - OMGEVING | J62: =SUM(J63:J64) -> #DIV/0! | K62: 0.21 | L62: =SUM(L63:L64) -> #DIV/0!
D63: Abords propres aux équipements Bij de uitrustingen horende omgeving | J63: 0 | K63: 0.21 | L63: =J63*K63+J63 -> 0
D64: Abords communs entre logements et équipements Gemeenschappelijke omgeving tussen woningen en uitrustingen | F64: Prorata partie équipement | G64: ='4_Det.surfaces_oppervlakten'!D55 -> #DIV/0! | H64: 0 | J64: =H64*G64 -> #DIV/0! | K64: 0.21 | L64: =J64*K64+J64 -> #DIV/0!
C66: 6. | D66: HONORAIRES FORFAITISES A L'OFFRE - BIJ DE OFFERTE GEFORFAITARISEERDE HONORARIA | F66: 0.12 | H66: de prix entreprise (estimé à l'offre) van aannemingsprijs (geraamd bij de offerte) | J66: =(J50+J52+J54+J56+J62)*F66 -> #DIV/0! | K66: 0.21 | L66: =J66*K66+J66 -> #DIV/0! | N66: voir remarque onglet 5 concernant les honoraires zie opmerking tabblad 5 betreffende de honoraria | Q66: 6. | R66: HONORAIRES SUBSIDIABLES - SUBSIDIEERBARE HONORARIA Totalité des honoraires sur la construction (hors parachèvements) et abords Totaliteit van de honoraria op het bouwwerk (excl. afwerkingen) en de omgeving | T66: 0.12 | V66: de prix CASCO + abords van de prijs CASCO+ omgeving | X66: =T66*(J57+J59++J60+J62) -> #DIV/0! | Y66: 0.21 | Z66: =X66*Y66+X66 -> #DIV/0!
C68: 7. | D68: IMPETRANTS ET FRAIS DIVERS - NUTSVOORZIENINGEN EN DIVERSE KOSTEN | F68: 0.07 | H68: de prix construction van bouwprijs | J68: =J56*F68 -> 0 | K68: 0.21 | L68: =J68*K68+J68 -> 0
F70: Prix entreprise (partie équipement) Aannemingsprijs (deel uitrusting) | J70: =J62+J56+J54+J52+J50 -> #DIV/0! | K70: 0.21 | L70: =L62+L56+L54+L52+L50 -> #DIV/0!
...

Sheet 7_Tableau récapitulatif
B2: Tableau récapitulatif
E4: PARTIE SUBSIDIABLE | F4: PARTIE NON SUBSIDIABLE | G4: TOTAL
B6: LOGEMENTS
B7: DONNEES GENERALES
B8: Nombre de logements total | E8: ='3_Det.programme_programma'!F7 -> 0 | G8: =E8 -> 0 | H8: Logements
B9: dont | E9: ='3_Det.programme_programma'!C7 -> 0 | G9: =E9 -> 0 | H9: Logements sociaux | J9: =G9/G8 -> #DIV/0!
B10: dont | E10: ='3_Det.programme_programma'!D7 -> 0 | G10: =E10 -> 0 | H10: Logements moyens | J10: =G10/G8 -> #DIV/0!
B11: Nombre d'emplacements parking | E11: ='3_Det.programme_programma'!F35 -> 0 | G11: =E11 -> 0 | H11: Places
B12: SURFACES
B13: Surface construction brute hors sol | E13: ='4_Det.surfaces_oppervlakten'!D6 -> 0 | G13: =E13 -> 0 | H13: m²
B14: Surface construction brute sous-sol | E14: ='4_Det.surfaces_oppervlakten'!D11 -> 0 | G14: =E14 -> 0 | H14: m²
B15: Surface logement | E15: ='4_Det.surfaces_oppervlakten'!D15 -> 0 | G15: =E15 -> 0 | H15: m²
B16: ESTIMATION DU PROJET
B17: Prix entreprise HTVA (hors honoraires, hors impétrants) | E17: ='5_Det.prix log_prijs won'!J70 -> #DIV/0! | G17: =E17 -> #DIV/0! | H17: € HTVA
B18: Prix tout compris TVAC | E18: ='5_Det.prix log_prijs won'!L72 -> #DIV/0! | G18: =E18 -> #DIV/0! | H18: € TVAC
B19: INDICATEURS DE PRIX PROPRES AU PROJET | J19: Indicateurs rentrant en compte pour la cotation du critère prix - voir csc
B20: Prix construction hors sol HTVA / m² brut hors sol | E20: =('5_Det.prix log_prijs won'!J57+'5_Det.prix log_prijs won'!J58)/'4_Det.surfaces_oppervlakten'!D6 -> #DIV/0! | G20: =E20 -> #DIV/0! | H20: € HTVA/m² brut hors sol | J20: = Indicateur 1
B21: Prix entreprise HTVA / m² surface logement | E21: =E17/E15 -> #DIV/0! | G21: =E21 -> #DIV/0! | H21: € HTVA/m² logement | J21: = Indicateur 2
B22: Prix entreprise HTVA / logement | E22: =E17/E8 -> #DIV/0! | G22: =E22 -> #DIV/0! | H22: € HTVA/logement | J22: = Indicateur 3
B23: Prix entreprise HTVA / chambre | E23: =E17/'3_Det.programme_programma'!F32 -> #DIV/0! | G23: =E23 -> #DIV/0! | H23: € HTVA/chambre
B25: EQUIPEMENT | G25: Préciser affectation | H25: Préciser niveau de finition
B26: SURFACES
B27: Surface construction brute hors sol | E27: ='4_Det.surfaces_oppervlakten'!D30 -> 0 | F27: =G27-E27 -> 0 | G27: ='4_Det.surfaces_oppervlakten'!D30 -> 0 | H27: m²
B28: Surface construction brute sous-sol | E28: ='4_Det.surfaces_oppervlakten'!D35 -> 0 | F28: =G28-E28 -> 0 | G28: ='4_Det.surfaces_oppervlakten'!D35 -> 0 | H28: m²
B29: ESTIMATION DU PROJET
B30: Prix entreprise HTVA (hors honoraires, hors impétrants) | E30: ='6_Det.prix éq_prijs uit. '!X57 -> 0 | F30: =G30-E30 -> 0 | G30: ='3_Det.programme_programma'!J69 -> 0 | H30: € HTVA
B31: Prix tout compris TVAC | E31: ='6_Det.prix éq_prijs uit. '!Z72 -> #DIV/0! | F31: =G31-E31 -> #DIV/0! | G31: ='3_Det.programme_programma'!L71 -> 0 | H31: € TVAC
B32: INDICATEURS DE PRIX PROPRES AU PROJET
B33: Prix entreprise HTVA / m² brut hors sol | G33: =G30/G27 -> #DIV/0! | H33: € HTVA/m² brut hors sol | J33: = Indicateur 4
B35: TOTAL (Logements + équipement)
B36: ESTIMATION DU PROJET
B37: Prix entreprise TOTAL HTVA (hors honoraires, hors impétrants) | E37: =E17+E30 -> #DIV/0! | F37: =G37-E37 -> #DIV/0! | G37: =G17+G30 -> #DIV/0! | H37: € HTVA
B38: Prix TOTAL TVAC | E38: =E18+E31 -> #DIV/0! | F38: =G38-E38 -> #DIV/0! | G38: =G18+G31 -> #DIV/0! | H38: € TVAC
B40: HONORAIRES forfaitisés à l'offre (Logements + équipement)
B41: Montant des honoraires (partie logement) | E41: ='5_Det.prix log_prijs won'!J66 -> #DIV/0! | G41: =E41 -> #DIV/0! | H41: € HTVA
B42: Montant des honoraires (partie équipement) | E42: ='6_Det.prix éq_prijs uit. '!X66 -> #DIV/0! | F42: =G42-E42 -> #DIV/0! | G42: ='6_Det.prix éq_prijs uit. '!J66 -> #DIV/0! | H42: € HTVA
B43: Montant des honoraires TOTAL (logement + équipement) | E43: =SUM(E41:E42) -> #DIV/0! | F43: =SUM(F41:F42) -> #DIV/0! | G43: =SUM(G41:G42) -> #DIV/0! | H43: € HTVA | J43: = Montant des honoraires forfaitisé à l'offre

Sheet 7_ Samenvattende tabel
B2: Samenvattende tabel
E4: SUBSIDIEERBAAR DEEL | F4: NIET-SUBSIDIEERBAAR DEEL | G4: TOTAAL
B6: WONINGEN
B7: ALGEMENE GEGEVENS
B8: Totaal aantal woningen | E8: ='3_Det.programme_programma'!F7 -> 0 | G8: =E8 -> 0 | H8: woningen
B9: waarvan | E9: ='3_Det.programme_programma'!C7 -> 0 | G9: =E9 -> 0 | H9: sociale woningen | J9: =G9/G8 -> #DIV/0!
B10: waarvan | E10: ='3_Det.programme_programma'!D7 -> 0 | G10: =E10 -> 0 | H10: middenklassewoningen | J10: =G10/G8 -> #DIV/0!
B11: Aantal parkeerplaatsen | E11: ='3_Det.programme_programma'!F35 -> 0 | G11: =E11 -> 0 | H11: plaatsen
B12: OPPERVLAKTEN
B13: Bruto bovengrondse bouwoppervlakte | E13: ='4_Det.surfaces_oppervlakten'!D6 -> 0 | G13: =E13 -> 0 | H13: m²
B14: Bruto ondergrondse bouwoppervlakte | E14: ='4_Det.surfaces_oppervlakten'!D11 -> 0 | G14: =E14 -> 0 | H14: m²
B15: Woningoppervlakte | E15: ='4_Det.surfaces_oppervlakten'!D15 -> 0 | G15: =E15 -> 0 | H15: m²
B16: RAMING VAN HET PROJECT
B17: Aannemingsprijs excl. BTW (excl. honoraria, nutsleidingen) | E17: ='5_Det.prix log_prijs won'!J70 -> #DIV/0! | G17: =E17 -> #DIV/0! | H17: € excl. BTW
B18: Prijs all in, incl. BTW | E18: ='5_Det.prix log_prijs won'!L72 -> #DIV/0! | G18: =E18 -> #DIV/0! | H18: € incl. BTW
B19: PRIJSINDICATOREN VAN HET PROJECT | J19: Indicatoren die in aanmerking worden genomen voor de beoordeling van het prijscriterium - zie bb
B20: Bovengrondse bouwprijs excl. BTW / bruto bovengrondse m² | E20: =('5_Det.prix log_prijs won'!J57+'5_Det.prix log_prijs won'!J58)/'4_Det.surfaces_oppervlakten'!D6 -> #DIV/0! | G20: =E20 -> #DIV/0! | H20: € excl. BTW / bruto bovengrondse m² | J20: = Indicator 1
B21: Aannemingsprijs excl. BTW / m² woningoppervlakte | E21: =E17/E15 -> #DIV/0! | G21: =E21 -> #DIV/0! | H21: € excl. BTW/m² woning | J21: = Indicator 2
B22: Aannemingsprijs excl. BTW / woning | E22: =E17/E9 -> #DIV/0! | G22: =E22 -> #DIV/0! | H22: € excl. BTW/woning | J22: = Indicator 3
B23: Aannemingsprijs excl. BTW / slaapkamer | E23: =E16/'3_Det.programme_programma'!F32 -> #DIV/0! | G23: =E23 -> #DIV/0! | H23: € excl. BTW/slaapkamer
B25: UITRUSTING | G25: Bestemming preciseren | H25: Afwerkingsniveau preciseren
B26: OPPERVLAKTEN
B27: Bruto bovengrondse bouwoppervlakte | E27: ='6_Det.prix éq_prijs uit. '!T57 -> 0 | F27: =G27-E27 -> 0 | G27: ='4_Det.surfaces_oppervlakten'!D30 -> 0 | H27: m²
B28: Bruto ondergrondse bouwoppervlakte | E28: 0 | F28: =G28-E28 -> 0 | G28: ='4_Det.surfaces_oppervlakten'!D35 -> 0 | H28: m²
B29: RAMING VAN HET PROJECT
B30: Aannemingsprijs excl. BTW (excl. honoraria, nutsleidingen) | E30: ='6_Det.prix éq_prijs uit. '!X57 -> 0 | F30: =G30-E30 -> 0 | G30: ='3_Det.programme_programma'!J69 -> 0 | H30: € excl. BTW
B31: Prijs all in incl. BTW | E31: ='6_Det.prix éq_prijs uit. '!Z72 -> #DIV/0! | F31: =G31-E31 -> #DIV/0! | G31: ='3_Det.programme_programma'!L71 -> 0 | H31: € incl. BTW
B32: PRIJSINDICATOREN VAN HET PROJECT
B33: Aannemingsprijs excl. BTW / bruto bovengrondse m² | G33: =G30/G27 -> #DIV/0! | H33: € excl. BTW / bruto bovengrondse m² | J33: = Indicator 4
B35: TOTAAL (woningen + uitrusting)
B36: RAMING VAN HET PROJECT
B37: Aannemingsprijs TOTAAL excl. BTW (excl. honoraria, nutsleidingen) | E37: =E17+E30 -> #DIV/0! | F37: =G37-E37 -> #DIV/0! | G37: =G17+G30 -> #DIV/0! | H37: € excl. BTW
B38: Prijs TOTAAL incl. BTW | E38: =E18+E31 -> #DIV/0! | F38: =G38-E38 -> #DIV/0! | G38: =G18+G31 -> #DIV/0! | H38: € incl. BTW
B40: Bij de offerte geforfaitariseerde HONORARIA (woningen + uitrusting)
B41: Honorariumbedrag (deel woningen) | E41: ='5_Det.prix log_prijs won'!J66 -> #DIV/0! | G41: =E41 -> #DIV/0! | H41: € HTVA
B42: Honorariumbedrag (deel uitrusting) | E42: ='6_Det.prix éq_prijs uit. '!X66 -> #DIV/0! | F42: =G42-E42 -> #DIV/0! | G42: ='6_Det.prix éq_prijs uit. '!J66 -> #DIV/0! | H42: € HTVA
B43: TOTAAL honorariumbedrag (woningen + uitrusting) | E43: =SUM(E41:E42) -> #DIV/0! | F43: =SUM(F41:F42) -> #DIV/0! | G43: =SUM(G41:G42) -> #DIV/0! | H43: € HTVA | J43: = Bedrag van de bij de offerte geforfaitariseerde honoraria
